{"text_format":"1","workbook":"xlsx","n_sheets":19,"sheets":["How To Use This Spreadsheet","My Wealth Plan Summary","Results + Summary","Property Set Up","Projection – Property #1","Projection – Property #2","Projection – Property #3","Property vs Alternatives","Assumptions","ChangeLog","Future Changes","Interest Rate Setup","Lists","Council Rates","TA Substitutes","Rents","Median Prices","Capital Growth Rates Suburb","Capital Growth Rates TA"],"not_rendered":{"charts":22,"images":7,"macros":1,"external_links":0,"defined_names":96,"comments":16,"pivot_tables":0},"unopened":[],"bounds":{"document_bytes":16777216,"sheet_cells":100000,"rows_first":2000,"rows_last":500,"rows_between":2000,"halvings":0,"cell_chars":16384,"cell_head_chars":4096},"cells_cut":0,"cells_raw":0,"read":"whole","date_system":"1900"}

{"sheet":"How To Use This Spreadsheet","index":0,"n_rows":14,"n_cols":14,"rows_kept":14,"cut":false,"hidden":false,"merged":[[6,9,6,10],[8,9,8,10],[11,9,11,10],[13,9,19,10]]}
[]
[]
[]
[]
[]
[]
[null,null,null,null,null,null,null,null,null,"Want help building your investment property portfolio?"]
[]
[null,null,null,null,null,null,null,null,null,"Click the red button below. You'll then see a form on our website, where you can send us your details. We'll then give you a buzz to book your free Portfolio Planning Session with our team here at Opes. "]
[null,null,null,null,null,null,null,null,null,null,null,null,null,"Keen for a free portfolio planning session?"]
[null,null,null,null,null,null,null,null,null,null,null,null,null,"<- ❶ Click this link"]
[]
[null,null,null,null,null,null,null,null,null,"Who are Opes Partners and what do you do?"]
[null,null,null,null,null,null,null,null,null,"Most Kiwis want to invest in property, but it's hard to get started. So at Opes we help you create a plan and find right properties for you. Ultimately this gives you the guts to give it a go and build your wealth through property."]

{"sheet":"My Wealth Plan Summary","index":1,"n_rows":27,"n_cols":10,"rows_kept":27,"cut":false,"hidden":false,"merged":[]}
[]
[]
[]
[]
[]
[]
[null,"My Wealth Plan Period",20,null,"Assets Needed",2500000,null,"Asset Gap",2000000,{"$f":"I7/F7","v":0.8}]
[null,"Default Number of Years",{"$f":"IF(ISBLANK(C7),15,C7)","v":20}]
[]
[]
[]
[null,null,{"$f":"'Property Set Up'!C12","v":"Property #1"},null,null,{"$f":"'Property Set Up'!D12","v":"Property #2"},null,null,{"$f":"'Property Set Up'!E12","v":"Property #3"}]
[]
[null,"MyWealth Plan Filled (%)",{"$f":"C18/$F7","v":0.30827060539249307},null,null,{"$f":"F18/$F7","v":{"$error":"#VALUE!"}},null,null,{"$f":"I18/$F7","v":{"$error":"#VALUE!"}}]
[null,"Equity",{"$f":"(INDEX('Projection – Property #1'!D39:AI39,C8+1)-INDEX('Projection – Property #1'!D40:AI40,C8+1))/(1+Assumptions!D9)^'My Wealth Plan Summary'!C8","v":741374.50042001519},null,null,{"$f":"(INDEX('Projection – Property #2'!D39:AI39,C8+1)-INDEX('Projection – Property #2'!D40:AI40,C8+1))/(1+Assumptions!E9)^'My Wealth Plan Summary'!C8","v":{"$error":"#VALUE!"}},null,null,{"$f":"(INDEX('Projection – Property #3'!D39:AI39,C8+1)-INDEX('Projection – Property #3'!D40:AI40,C8+1))/(1+Assumptions!F9)^'My Wealth Plan Summary'!C8","v":{"$error":"#VALUE!"}}]
[null,"Cashflow (Hidden Formula)",{"$f":"(INDEX('Projection – Property #1'!D147:AI147,C8))/(1+Assumptions!D9)^'My Wealth Plan Summary'!C8","v":29302.013061217509},null,null,{"$f":"(INDEX('Projection – Property #2'!D147:AI147,C8))/(1+Assumptions!E9)^'My Wealth Plan Summary'!C8","v":-113421.2535712446},null,null,{"$f":"(INDEX('Projection – Property #3'!D147:AI147,C8))/(1+Assumptions!F9)^'My Wealth Plan Summary'!C8","v":-122828.33077813798}]
[null,"Cash on Hand",{"$f":"IF(C16<0,0,C16)","v":29302.013061217509},null,null,{"$f":"IF(F16<0,0,F16)","v":0},null,null,{"$f":"IF(I16<0,0,I16)","v":0}]
[null,"Total Returns",{"$f":"C15+C17","v":770676.51348123269},null,null,{"$f":"F15+F17","v":{"$error":"#VALUE!"}},null,null,{"$f":"I15+I17","v":{"$error":"#VALUE!"}}]
[]
[null,"Pre-Tax Cashflow / Week Year 1",{"$f":"('Property Set Up'!C42*(52-'Property Set Up'!C43)-'Property Set Up'!C51-'Property Set Up'!C69)/52","v":-226.44831730769232},null,null,{"$f":"('Property Set Up'!D42*(52-'Property Set Up'!D43)-'Property Set Up'!D51-'Property Set Up'!D69)/52","v":-139.56730769230768},null,null,{"$f":"('Property Set Up'!E42*(52-'Property Set Up'!E43)-'Property Set Up'!E51-'Property Set Up'!E69)/52","v":-151.10576923076923}]
[]
[null,"Cumulative Cashflow Invested",{"$f":"C23/(1+Assumptions!D9)^'My Wealth Plan Summary'!C25","v":-41532.741216896233},null,null,{"$f":"F23/(1+Assumptions!E9)^'My Wealth Plan Summary'!F25","v":-77855.837263000096},null,null,{"$f":"I23/(1+Assumptions!F9)^I25","v":-84313.144417345029}]
[null,"Cumulative Cashflow Invested (Future Dollars)",{"$f":"IF(MIN('Projection – Property #1'!D150:AI150)<0,MIN('Projection – Property #1'!D150:AI150),0)","v":-49635.470382826243},null,null,{"$f":"IF(MIN('Projection – Property #2'!D150:AI150)<0,MIN('Projection – Property #2'!D150:AI150),0)","v":-115689.6786426695},null,null,{"$f":"IF(MIN('Projection – Property #3'!D150:AI150)<0,MIN('Projection – Property #3'!D150:AI150),0)","v":-125284.89739370075}]
[null,"Average Top-up Per Week",{"$f":"IFERROR(-C23/(C25*52),0)","v":106.05869739920138},null,null,{"$f":"IFERROR(-F23/(F25*52),0)","v":111.24007561795145},null,null,{"$f":"IFERROR(-I23/(I25*52),0)","v":120.46624749394303}]
[null,"Top-up Lasts For",{"$f":"IFERROR(MATCH(C23,'Projection – Property #1'!D150:AI150,0),0)","v":9},null,null,{"$f":"IFERROR(MATCH(F23,'Projection – Property #2'!D150:AI150,0),0)","v":20},null,null,{"$f":"IFERROR(MATCH(I23,'Projection – Property #3'!D150:AI150,0),0)","v":20}]
[]
[null,"Note: All figures in today's dollars (i.e.inflation adjusted)"]

{"sheet":"Results + Summary","index":2,"n_rows":105,"n_cols":7,"rows_kept":105,"cut":false,"hidden":false,"merged":[]}
[]
[]
[]
[]
[]
[null,null,{"$f":"'Property Set Up'!C12","v":"Property #1"},null,{"$f":"'Property Set Up'!D12","v":"Property #2"},null,{"$f":"'Property Set Up'!E12","v":"Property #3"}]
[]
[null,"RETURN ON INVESTMENT OVER 15 YEARS"]
[]
[]
[null,"Return Summary"]
[null,"Inflation Adjusted Capital Gains",{"$f":"'Projection – Property #1'!D9","v":521078.69443652302},null,{"$f":"'Projection – Property #2'!D9","v":{"$error":"#VALUE!"}},null,{"$f":"'Projection – Property #3'!D9","v":{"$error":"#VALUE!"}}]
[null,"Inflation Adjusted Instant Equity",{"$f":"'Projection – Property #1'!D10","v":22290.44189965558},null,{"$f":"'Projection – Property #2'!D10","v":0},null,{"$f":"'Projection – Property #3'!D10","v":0}]
[null,"Inflation Adjusted Debt Repayments",{"$f":"'Projection – Property #1'!D11","v":0},null,{"$f":"'Projection – Property #2'!D11","v":0},null,{"$f":"'Projection – Property #3'!D11","v":0}]
[null,"Inflation Adjusted Cashflow",{"$f":"'Projection – Property #1'!D12","v":20594.885762061844},null,{"$f":"'Projection – Property #2'!D12","v":0},null,{"$f":"'Projection – Property #3'!D12","v":0}]
[null,"Total Returns",{"$f":"'Projection – Property #1'!D13","v":563964.02209824044},null,{"$f":"'Projection – Property #2'!D13","v":{"$error":"#VALUE!"}},null,{"$f":"'Projection – Property #3'!D13","v":{"$error":"#VALUE!"}}]
[]
[null,"Investment Summary"]
[null,"Equity Investment",{"$f":"'Projection – Property #1'!D16","v":127000},null,{"$f":"'Projection – Property #2'!D16","v":3000},null,{"$f":"'Projection – Property #3'!D16","v":3000}]
[null,"Cashflow Investment",{"$f":"'Projection – Property #1'!D17","v":54914.819847927145},null,{"$f":"'Projection – Property #2'!D17","v":101385.81993927706},null,{"$f":"'Projection – Property #3'!D17","v":109785.81993927705}]
[null,"Total Investment",{"$f":"'Projection – Property #1'!D18","v":181914.81984792714},null,{"$f":"'Projection – Property #2'!D18","v":104385.81993927706},null,{"$f":"'Projection – Property #3'!D18","v":112785.81993927705}]
[]
[null,"Return on Investment",{"$f":"IFERROR('Projection – Property #1'!D20,0)","v":3.1001543610888316},null,{"$f":"IFERROR('Projection – Property #2'!D20,0)","v":0},null,{"$f":"IFERROR('Projection – Property #3'!D20,0)","v":0}]
[]
[null,"Average Top-up Per Week",{"$f":"IFERROR(-C26/(C27*52),0)","v":106.05869739920138},null,{"$f":"IFERROR(-E26/(E27*52),0)","v":114.63089245610165},null,{"$f":"IFERROR(-G26/(G27*52),0)","v":124.12964149148409}]
[null,"Cumulative Cashflow Invested",{"$f":"IF(MIN('Projection – Property #1'!D148:AI148)<0,MIN('Projection – Property #1'!D148:R148),0)","v":-49635.470382826243},null,{"$f":"IF(MIN('Projection – Property #2'!D150:AI150)<0,MIN('Projection – Property #2'!D148:R148),0)","v":-89412.096115759283},null,{"$f":"IF(MIN('Projection – Property #3'!D150:AI150)<0,MIN('Projection – Property #3'!D148:R148),0)","v":-96821.120363357593}]
[null,"Top-up Lasts For",{"$f":"IFERROR(MATCH(C26,'Projection – Property #1'!D148:R148,0),0)","v":9},null,{"$f":"IFERROR(MATCH(E26,'Projection – Property #2'!D148:R148,0),0)","v":15},null,{"$f":"IFERROR(MATCH(G26,'Projection – Property #3'!D148:R148,0),0)","v":15}]
[null,"Equivalent Savings Per Week",{"$f":"-PMT(Assumptions!D19/52,52*15,0,'Results + Summary'!C16*(1+Assumptions!D9)^15,0)","v":834.61170385492983},null,{"$f":"-PMT(Assumptions!E19/52,52*15,0,'Results + Summary'!E16*(1+Assumptions!E9)^15,0)","v":{"$error":"#VALUE!"}},null,{"$f":"-PMT(Assumptions!F19/52,52*15,0,'Results + Summary'!G16*(1+Assumptions!F9)^15,0)","v":{"$error":"#VALUE!"}}]
[]
[]
[null,"ASSETS + LIABILITIES"]
[]
[]
[]
[]
[]
[]
[]
[]
[]
[]
[]
[]
[]
[]
[]
[]
[]
[]
[]
[]
[]
[]
[]
[]
[]
[]
[]
[]
[]
[]
[]
[]
[]
[]
[]
[]
[]
[]
[]
[]
[]
[]
[]
[]
[null,"GROSS YIELD"]
[]
[]
[null,"Gross Yield ",{"$f":"'Property Set Up'!C42*52/'Property Set Up'!C23","v":4.2000000000000003E-2},null,{"$f":"'Property Set Up'!D42*52/'Property Set Up'!D23","v":{"$error":"#DIV/0!"}},null,{"$f":"'Property Set Up'!E42*52/'Property Set Up'!E23","v":{"$error":"#DIV/0!"}}]
[]
[]
[]
[null,"NET YIELD"]
[]
[]
[null,"Revenue",{"$f":"'Property Set Up'!C42*(52-'Property Set Up'!C43)","v":26250},null,{"$f":"'Property Set Up'!D42*(52-'Property Set Up'!D43)","v":0},null,{"$f":"'Property Set Up'!E42*(52-'Property Set Up'!E43)","v":0}]
[null,"Operating Costs",{"$f":"SUM('Property Set Up'!C60:C68)+'Property Set Up'!C57*1.15*'Results + Summary'!C96","v":11140.3125},null,{"$f":"SUM('Property Set Up'!D60:D68)+'Property Set Up'!D57*1.15*'Results + Summary'!E96","v":8272.5},null,{"$f":"SUM('Property Set Up'!E60:E68)+'Property Set Up'!E57*1.15*'Results + Summary'!G96","v":8872.5}]
[null,"Operating Profit",{"$f":"C86-C87","v":15109.6875},null,{"$f":"E86-E87","v":-8272.5},null,{"$f":"G86-G87","v":-8872.5}]
[null,"Net Yield",{"$f":"C88/'Property Set Up'!C23","v":2.3245673076923077E-2},null,{"$f":"E88/'Property Set Up'!D23","v":{"$error":"#DIV/0!"}},null,{"$f":"G88/'Property Set Up'!E23","v":{"$error":"#DIV/0!"}}]
[]
[]
[]
[null,"CASHFLOW YIELD"]
[]
[]
[null,"Revenue",{"$f":"'Property Set Up'!C42*(52-'Property Set Up'!C43)","v":26250},null,{"$f":"'Property Set Up'!D42*(52-'Property Set Up'!D43)","v":0},null,{"$f":"'Property Set Up'!E42*(52-'Property Set Up'!E43)","v":0}]
[null,"Operating Costs",{"$f":"SUM('Property Set Up'!C60:C68)+'Property Set Up'!C57*1.15*'Results + Summary'!C96","v":11140.3125},null,{"$f":"SUM('Property Set Up'!D60:D68)+'Property Set Up'!D57*1.15*'Results + Summary'!E96","v":8272.5},null,{"$f":"SUM('Property Set Up'!E60:E68)+'Property Set Up'!E57*1.15*'Results + Summary'!G96","v":8872.5}]
[null,"Financing Costs",{"$f":"'Property Set Up'!C51","v":28035},null,{"$f":"'Property Set Up'!D51","v":135},null,{"$f":"'Property Set Up'!E51","v":135}]
[null,"Tax",{"$f":"'Projection – Property #1'!D134","v":0},null,{"$f":"'Projection – Property #2'!D134","v":0},null,{"$f":"'Projection – Property #3'!D134","v":0}]
[null,"Pre-Tax Annual Cashflow  (1st Year)",{"$f":"C96-SUM(C97:C99)","v":-12925.3125},null,{"$f":"E96-SUM(E97:E99)","v":-8407.5},null,{"$f":"G96-SUM(G97:G99)","v":-9007.5}]
[null,"Pre-Tax Weekly Cashflow  (1st Year)",{"$f":"C100/52","v":-248.56370192307693},null,{"$f":"E100/52","v":-161.68269230769232},null,{"$f":"G100/52","v":-173.22115384615384}]
[null,"Cashflow Yield",{"$f":"C100/'Property Set Up'!C23","v":-1.9885096153846153E-2},null,{"$f":"E100/'Property Set Up'!D23","v":{"$error":"#DIV/0!"}},null,{"$f":"G100/'Property Set Up'!E23","v":{"$error":"#DIV/0!"}}]
[]
[]
[null,null,null," "]

{"sheet":"Property Set Up","index":3,"n_rows":109,"n_cols":5,"rows_kept":109,"cut":false,"hidden":false,"merged":[]}
[]
[]
[]
[]
[]
[null,"Date","2022-04-27"]
[null,"Version 3.3.1"]
[]
[null,"PROPERTY SET-UP"]
[]
[null,null,"Property #1","Property #2","Property #3"]
[null,"Street Address","Property #1","Property #2","Property #3"]
[null,"Council Area","Christchurch"]
[null,"Council Area (Substitute)",{"$f":"SUBSTITUTE(C13,\" \",\"_\")","v":"Christchurch"},{"$f":"SUBSTITUTE(D13,\" \",\"_\")","v":""},{"$f":"SUBSTITUTE(E13,\" \",\"_\")","v":""}]
[null,"Suburb","Addington"]
[null,"Investment Type","Growth"]
[null,"Investment Details"]
[]
[null,"Property Type","New Build","New Build","New Build"]
[null,"Acquired By Date","After March 27th 2021","Before March 27th 2021","After March 27th 2021"]
[null,"Tax Treatment",{"$f":"IF(C19=\"New Build\",\"NB\",IF(C20=\"Before March 27th 2021\",\"ST\",\"FULL\"))","v":"NB"},{"$f":"IF(D19=\"New Build\",\"NB\",IF(D20=\"Before March 27th 2021\",\"ST\",\"FULL\"))","v":"NB"},{"$f":"IF(E19=\"New Build\",\"NB\",IF(E20=\"Before March 27th 2021\",\"ST\",\"FULL\"))","v":"NB"}]
[]
[null,"Current Value",650000]
[null,"Purchase Price (if different)",620000]
[null,"Set Up Costs (Lawyer, Valuation, etc)",3000,3000,3000]
[null,"Cash Deposit (If Any)",0,0,0]
[null,"Minimum Deposit Required at Purchase",0.2,0.2,0.2]
[null,"Loan Amount ",{"$f":"IF(ISBLANK(C30),IF(ISBLANK(C24),C23+C25-C26,C24+C25-C26),C30)","v":623000},{"$f":"IF(ISBLANK(D30),IF(ISBLANK(D24),D23+D25-D26,D24+D25-D26),D30)","v":3000},{"$f":"IF(ISBLANK(E30),IF(ISBLANK(E24),E23+E25-E26,E24+E25-E26),E30)","v":3000}]
[]
[null,"Mortgage (Override)"]
[]
[null,"Property Market Information",{"$f":"'Median Prices'!H15","v":"The median house value in Addington was $462,350.00 on the 1st September 2021, according to CoreLogic."},{"$f":"'Median Prices'!H32","v":"The median value of the suburb that your property is in will display here. Scroll back up and select a council area and suburb to see information about the property market your property operates within."},{"$f":"'Median Prices'!H49","v":"The median value of the suburb that your property is in will display here. Scroll back up and select a council area and suburb to see information about the property market your property operates within."}]
[]
[]
[null,"FINANCING + TENANCY SET UP"]
[]
[]
[null,"Loan Type","Interest only","Interest only","Interest only"]
[null,"Loan Term",30,25,30]
[null,"Interest Rate",4.4999999999999998E-2,4.4999999999999998E-2,4.4999999999999998E-2]
[]
[null,"Rental Income (Today's Market)",525]
[null,"Vacancy ",2,2,2]
[]
[null,"Rental Market Information",{"$f":"Rents!L15","v":"The median rent in Addington is $380 according to MBIE data of 1506 bonds collected between Feb 2021 and July 2021. 25% of properties within the suburb rent for below $220. And 25% of properties rent for above $449."},{"$f":"Rents!L31","v":"Rental data for your property's area will display here. Scroll back up and select a council area and suburb to see information about the rental market your property operates within."},{"$f":"Rents!L47","v":"Rental data for your property's area will display here. Scroll back up and select a council area and suburb to see information about the rental market your property operates within."}]
[]
[]
[null,"FINANCING COSTS"]
[]
[]
[null,"Mortgage Costs (First Year)",{"$f":"IF(C38=\"interest only\",C28*C40,IF(C38=\"Principal & interest\",-PMT(C40/12,C39*12,C28,0)*12))","v":28035},{"$f":"IF(D38=\"interest only\",D28*D40,IF(D38=\"Principal & interest\",-PMT(D40/12,D39*12,D28,0)*12))","v":135},{"$f":"IF(E38=\"interest only\",E28*E40,IF(E38=\"Principal & interest\",-PMT(E40/12,E39*12,E28,0)*12))","v":135}]
[]
[]
[null,"OPERATING COSTS"]
[]
[]
[null,"Property Management",7.4999999999999997E-2,7.4999999999999997E-2,7.4999999999999997E-2]
[null,"Tenant Sourcing Fee Type","Weeks","Weeks","Weeks"]
[null,"Tenant Sourcing Fee Amount",1,1,1]
[null,"Tenant Sourcing Fee Amount (Calculated)",{"$f":"IF(C58=\"Fixed\",C59*1.15,C59*C42*1.15)","v":603.75},{"$f":"IF(D58=\"Fixed\",D59*1.15,D59*D42*1.15)","v":0},{"$f":"IF(E58=\"Fixed\",E59*1.15,E59*E42*1.15)","v":0}]
[null,"Rates",3000,3000,3000]
[null,"Insurance",1800,1800,1800]
[null,"Body Corporate",0,0,0]
[null,"Residents Association",500,500,700]
[null,"Maintenance ",500,500,500]
[null,"Accounting ",1150,1150,1150]
[null,"Accounting (Hidden)",{"$f":"C66*1.15","v":1322.5},{"$f":"D66*1.15","v":1322.5},{"$f":"E66*1.15","v":1322.5}]
[null,"Other Costs",0,0,400]
[null,"Operating Costs",{"$f":"SUM(C60:C65)+SUM(C67:C68)+C57*1.15*C42*(52-C43)","v":9990.3125},{"$f":"SUM(D60:D65)+SUM(D67:D68)+D57*1.15*D42*(52-D43)","v":7122.5},{"$f":"SUM(E60:E65)+SUM(E67:E68)+E57*1.15*E42*(52-E43)","v":7722.5}]
[]
[null,"Average Rates in Each Property's area",{"$f":"'Council Rates'!E8","v":"The average council rates paid in 2021 for Christchurch were $2,747. According to the NZ Tax Payers Union."},{"$f":"'Council Rates'!E18","v":"The average rates for your property's area will display here. Scroll back up and select a council area to see the average rates."},{"$f":"'Council Rates'!E28","v":"The average rates for your property's area will display here. Scroll back up and select a council area to see the average rates."}]
[]
[]
[null,"LONG TERM FORECASTING"]
[]
[]
[null,"General Inflation Rate",{"$f":"Assumptions!D9","v":0.02},{"$f":"Assumptions!E9","v":0.02},{"$f":"Assumptions!F9","v":0.02}]
[null,"Rental Inflation Rate",{"$f":"Assumptions!D10","v":4.7E-2},{"$f":"Assumptions!E10","v":4.7E-2},{"$f":"Assumptions!F10","v":4.7E-2}]
[null,"Location",{"$f":"IF(C13=\"Auckland\",\"Auckland\",IF(ISBLANK(C13),\"Not set above\",\"Outside Auckland\"))","v":"Outside Auckland"},{"$f":"IF(D13=\"Auckland\",\"Auckland\",IF(ISBLANK(D13),\"Not set above\",\"Outside Auckland\"))","v":"Not set above"},{"$f":"IF(E13=\"Auckland\",\"Auckland\",IF(ISBLANK(E13),\"Not set above\",\"Outside Auckland\"))","v":"Not set above"}]
[null,"Tax Treatment",{"$f":"IF(C19=\"New Build\",C19,IF(ISBLANK(C19),\"Not set above\",\"Does Not Have Tax Deductibility\"))","v":"New Build"},{"$f":"IF(D19=\"New Build\",D19,IF(ISBLANK(D19),\"Not set above\",\"Does Not Have Tax Deductibility\"))","v":"New Build"},{"$f":"IF(E19=\"New Build\",E19,IF(ISBLANK(E19),\"Not set above\",\"Does Not Have Tax Deductibility\"))","v":"New Build"}]
[null,"Investment Type",{"$f":"IF(ISBLANK(C16),\"Not set above\",C16)","v":"Growth"},{"$f":"IF(ISBLANK(D16),\"Not set above\",D16)","v":"Not set above"},{"$f":"IF(ISBLANK(E16),\"Not set above\",E16)","v":"Not set above"}]
[null,"All Assumptions Given (Hidden)",{"$f":"IF(OR(C79=\"Not set above\",C80=\"Not set above\",C81=\"Not set above\"),\"No\",\"Yes\")","v":"Yes"},{"$f":"IF(OR(D79=\"Not set above\",D80=\"Not set above\",D81=\"Not set above\"),\"No\",\"Yes\")","v":"No"},{"$f":"IF(OR(E79=\"Not set above\",E80=\"Not set above\",E81=\"Not set above\"),\"No\",\"Yes\")","v":"No"}]
[null,"Capital Growth – Location Test (Hidden)",{"$f":"IF(C79=\"Auckland\",Assumptions!$D$38,Assumptions!$D$39)","v":0.05},{"$f":"IF(D79=\"Auckland\",Assumptions!$D$38,Assumptions!$D$39)","v":0.05},{"$f":"IF(E79=\"Auckland\",Assumptions!$D$38,Assumptions!$D$39)","v":0.05}]
[null,"Capital Growth – Tax Treatment test (Hidden)",{"$f":"IF(C80=\"New Build\",0,Assumptions!$D$40)","v":0},{"$f":"IF(D80=\"New Build\",0,Assumptions!$D$40)","v":0},{"$f":"IF(E80=\"New Build\",0,Assumptions!$D$40)","v":0}]
[null,"Capital Growth – Property Type Test (Hidden)",{"$f":"IF(C81=\"Yield\",Assumptions!$D$41,0)","v":0},{"$f":"IF(D81=\"Yield\",Assumptions!$D$41,0)","v":0},{"$f":"IF(E81=\"Yield\",Assumptions!$D$41,0)","v":0}]
[]
[null,"Capital Growth Rate",{"$f":"IF(AND(C82=\"Yes\",C88=\"Yes\"),SUM(C83:C85),IF(AND(C88=\"No\",ISBLANK(C89)),\"Insert capital growth rate below\",IF(AND(C88=\"Yes\",C82=\"No\"),\"Please set assumptions as above\",C89)))","v":0.05},{"$f":"IF(AND(D82=\"Yes\",D88=\"Yes\"),SUM(D83:D85),IF(AND(D88=\"No\",ISBLANK(D89)),\"Insert capital growth rate below\",IF(AND(D88=\"Yes\",D82=\"No\"),\"Please set assumptions as above\",D89)))","v":"Please set assumptions as above"},{"$f":"IF(AND(E82=\"Yes\",E88=\"Yes\"),SUM(E83:E85),IF(AND(E88=\"No\",ISBLANK(E89)),\"Insert capital growth rate below\",IF(AND(E88=\"Yes\",E82=\"No\"),\"Please set assumptions as above\",E89)))","v":"Please set assumptions as above"}]
[null,"Use Opes' Capital Growth Assumptions?","Yes","Yes","Yes"]
[null,"Use Your Own Capital Growth Rate",0.06,0.05,0.05]
[]
[null,"Chattel Value",45000,45000,45000]
[null,"Diminishing Value Depreciation Rate",{"$f":"Assumptions!D16","v":0.22},{"$f":"Assumptions!E16","v":0.22},{"$f":"Assumptions!F16","v":0.22}]
[null,"Marginal Tax Rate",{"$f":"Assumptions!D18","v":0.33},{"$f":"Assumptions!E18","v":0.33},{"$f":"Assumptions!F18","v":0.33}]
[null,"Long Term Interest Rate (From Year 6 Onwards)",{"$f":"Assumptions!#REF!","v":{"$error":"#REF!"}},{"$f":"Assumptions!#REF!","v":{"$error":"#REF!"}},{"$f":"Assumptions!#REF!","v":{"$error":"#REF!"}}]
[null,"Long Run Risk Free Rate of Return",{"$f":"Assumptions!D19","v":0.02},{"$f":"Assumptions!E19","v":0.02},{"$f":"Assumptions!F19","v":0.02}]
[]
[null,"Average Capital Growth Rates",{"$f":"'Capital Growth Rates Suburb'!H14","v":"Between Jan 2000 and Sep 2021, Addington experienced an average annual capital growth rate of 6.28% according to Core Logic Data."},{"$f":"'Capital Growth Rates Suburb'!H30","v":"The average capital growth rate of the suburb that your property is in will display here. Scroll back up and select a council area and suburb to see information about the capital growth rate of the market that your property operates within."},{"$f":"'Capital Growth Rates Suburb'!H46","v":"The average capital growth rate of the suburb that your property is in will display here. Scroll back up and select a council area and suburb to see information about the capital growth rate of the market that your property operates within."}]
[]
[]
[null,"CONSTRUCTION"]
[]
[]
[null,"Is The Property Under Construction?","Yes","Yes","Yes"]
[null,"Months Until Completion",12,12,12]
[null,"Deposit Required During Construction",0.1,0.1,0.1]
[null,"Amount Borrowed For Construction Deposit",{"$f":"IF((C108-C26)>0,C108-C26,0)","v":62000},{"$f":"IF((D108-D26)>0,D108-D26,0)","v":0},{"$f":"IF((E108-E26)>0,E108-E26,0)","v":0}]
[null,"Deposit Interest Rate",2.3E-2,2.3E-2,2.3E-2]
[null,"Total Deposit Required",{"$f":"C24*C105","v":62000},{"$f":"D24*D105","v":0},{"$f":"E24*E105","v":0}]
[null,"Interest Per Month If Borrowed",{"$f":"C107*C106/12","v":118.83333333333333},{"$f":"D107*D106/12","v":0},{"$f":"E107*E106/12","v":0}]

{"sheet":"Projection – Property #1","index":4,"n_rows":168,"n_cols":35,"rows_kept":168,"cut":false,"hidden":false,"merged":[]}
[]
[]
[]
[]
[]
[null,{"$f":"UPPER(CONCATENATE('Property Set Up'!C12,\" Return on Investment\"))","v":"PROPERTY #1 RETURN ON INVESTMENT"}]
[]
[null,"Return Summary"]
[null,"Inflation Adjusted Capital Gains",null,{"$f":"(S39-D39)/(1+'Property Set Up'!$C$77)^S26","v":521078.69443652302},{"$f":"D9/$D$13","v":0.92395733418922432}]
[null,"Inflation Adjusted Instant Equity",null,{"$f":"IF(ISBLANK('Property Set Up'!C24),0,MAX(0,('Property Set Up'!C23-'Property Set Up'!C24)/(1+Assumptions!D9)^15))","v":22290.44189965558},{"$f":"D10/$D$13","v":3.9524581402770168E-2}]
[null,"Inflation Adjusted Debt Repayments",null,{"$f":"SUM(D41:R41)","v":0},{"$f":"D11/D13","v":0}]
[null,"Inflation Adjusted Cashflow",null,{"$f":"SUM(C146:R146)","v":20594.885762061844},{"$f":"D12/$D$13","v":3.6518084408005538E-2}]
[null,"Total Returns",null,{"$f":"SUM(D9:D12)","v":563964.02209824044}]
[]
[null,"Investment Summary"]
[null,"Equity Investment",null,{"$f":"MAX('Property Set Up'!$C$26,'Property Set Up'!$C$27*MIN('Property Set Up'!C23,'Property Set Up'!$C$24)+'Property Set Up'!$C$25)","v":127000},{"$f":"D16/D18","v":0.69812893807204091}]
[null,"Cashflow Investment",null,{"$f":"-SUM(C143:R143)","v":54914.819847927145},{"$f":"D17/D18","v":0.30187106192795915}]
[null,"Total Investment",null,{"$f":"SUM(D16:D17)","v":181914.81984792714}]
[]
[null,"Return on Investment",null,{"$f":"D13/D18","v":3.1001543610888316}]
[]
[]
[null,{"$f":"UPPER(CONCATENATE('Property Set Up'!C12,\" Cashflow Projection & Analysis\"))","v":"PROPERTY #1 CASHFLOW PROJECTION & ANALYSIS"}]
[]
[]
[null,"Inflation Adjusted Years",null,0,{"$f":"D26+1","v":1},2,3,4,5,6,7,8,9,10,11,12,13,14,15,{"$f":"S26+1","v":16},17,18,19,20,21,22,23,24,25,26,27,28,29,{"$f":"AG26+1","v":30},31]
[null,"P+I Starting Period (Months) – Construction",null,{"$f":"IF(D67>=12,0,1)","v":0},{"$f":"IF(E67=12,0,D28+1)","v":1},{"$f":"E28+1","v":13},{"$f":"F28+1","v":25},37,49,61,73,85,97,109,121,133,145,157,169,{"$f":"S28+1","v":181},193,205,217,229,241,253,265,277,289,301,313,325,337,349,361]
[null,"P+I Ending Period (Months) – Construction",null,{"$f":"IF(D27=0,0,12-D67)","v":0},{"$f":"IF(D28=0,12-E67,E27+11)","v":12},{"$f":"F27+11","v":24},36,48,60,72,84,96,108,120,132,144,156,168,180,{"$f":"T27+11","v":192},204,216,228,240,252,264,{"$f":"AA27+11","v":276},288,300,312,324,336,348,360,372]
[null,"Months Left on Principal",null,{"$f":"MAX(0,'Property Set Up'!$C39*12-'Projection – Property #1'!C28)","v":360},{"$f":"MAX(0,'Property Set Up'!$C39*12-'Projection – Property #1'!D28)","v":360},{"$f":"MAX(0,'Property Set Up'!$C39*12-'Projection – Property #1'!E28)","v":348},{"$f":"MAX(0,'Property Set Up'!$C39*12-'Projection – Property #1'!F28)","v":336},{"$f":"MAX(0,'Property Set Up'!$C39*12-'Projection – Property #1'!G28)","v":324},{"$f":"MAX(0,'Property Set Up'!$C39*12-'Projection – Property #1'!H28)","v":312},{"$f":"MAX(0,'Property Set Up'!$C39*12-'Projection – Property #1'!I28)","v":300},{"$f":"MAX(0,'Property Set Up'!$C39*12-'Projection – Property #1'!J28)","v":288},{"$f":"MAX(0,'Property Set Up'!$C39*12-'Projection – Property #1'!K28)","v":276},{"$f":"MAX(0,'Property Set Up'!$C39*12-'Projection – Property #1'!L28)","v":264},{"$f":"MAX(0,'Property Set Up'!$C39*12-'Projection – Property #1'!M28)","v":252},{"$f":"MAX(0,'Property Set Up'!$C39*12-'Projection – Property #1'!N28)","v":240},{"$f":"MAX(0,'Property Set Up'!$C39*12-'Projection – Property #1'!O28)","v":228},{"$f":"MAX(0,'Property Set Up'!$C39*12-'Projection – Property #1'!P28)","v":216},{"$f":"MAX(0,'Property Set Up'!$C39*12-'Projection – Property #1'!Q28)","v":204},{"$f":"MAX(0,'Property Set Up'!$C39*12-'Projection – Property #1'!R28)","v":192},{"$f":"MAX(0,'Property Set Up'!$C39*12-'Projection – Property #1'!S28)","v":180},{"$f":"MAX(0,'Property Set Up'!$C39*12-'Projection – Property #1'!T28)","v":168},{"$f":"MAX(0,'Property Set Up'!$C39*12-'Projection – Property #1'!U28)","v":156},{"$f":"MAX(0,'Property Set Up'!$C39*12-'Projection – Property #1'!V28)","v":144},{"$f":"MAX(0,'Property Set Up'!$C39*12-'Projection – Property #1'!W28)","v":132},{"$f":"MAX(0,'Property Set Up'!$C39*12-'Projection – Property #1'!X28)","v":120},{"$f":"MAX(0,'Property Set Up'!$C39*12-'Projection – Property #1'!Y28)","v":108},{"$f":"MAX(0,'Property Set Up'!$C39*12-'Projection – Property #1'!Z28)","v":96},{"$f":"MAX(0,'Property Set Up'!$C39*12-'Projection – Property #1'!AA28)","v":84},{"$f":"MAX(0,'Property Set Up'!$C39*12-'Projection – Property #1'!AB28)","v":72},{"$f":"MAX(0,'Property Set Up'!$C39*12-'Projection – Property #1'!AC28)","v":60},{"$f":"MAX(0,'Property Set Up'!$C39*12-'Projection – Property #1'!AD28)","v":48},{"$f":"MAX(0,'Property Set Up'!$C39*12-'Projection – Property #1'!AE28)","v":36},{"$f":"MAX(0,'Property Set Up'!$C39*12-'Projection – Property #1'!AF28)","v":24},{"$f":"MAX(0,'Property Set Up'!$C39*12-'Projection – Property #1'!AG28)","v":12},{"$f":"MAX(0,'Property Set Up'!$C39*12-'Projection – Property #1'!AH28)","v":0}]
[null,"Months Left on Principal (Years)",5,{"$f":"'Projection – Property #1'!D29/12","v":30},{"$f":"'Projection – Property #1'!E29/12","v":30},{"$f":"'Projection – Property #1'!F29/12","v":29},{"$f":"'Projection – Property #1'!G29/12","v":28},{"$f":"'Projection – Property #1'!H29/12","v":27},{"$f":"'Projection – Property #1'!I29/12","v":26},{"$f":"'Projection – Property #1'!J29/12","v":25},{"$f":"'Projection – Property #1'!K29/12","v":24},{"$f":"'Projection – Property #1'!L29/12","v":23},{"$f":"'Projection – Property #1'!M29/12","v":22},{"$f":"'Projection – Property #1'!N29/12","v":21},{"$f":"'Projection – Property #1'!O29/12","v":20},{"$f":"'Projection – Property #1'!P29/12","v":19},{"$f":"'Projection – Property #1'!Q29/12","v":18},{"$f":"'Projection – Property #1'!R29/12","v":17},{"$f":"'Projection – Property #1'!S29/12","v":16},{"$f":"'Projection – Property #1'!T29/12","v":15},{"$f":"'Projection – Property #1'!U29/12","v":14},{"$f":"'Projection – Property #1'!V29/12","v":13},{"$f":"'Projection – Property #1'!W29/12","v":12},{"$f":"'Projection – Property #1'!X29/12","v":11},{"$f":"'Projection – Property #1'!Y29/12","v":10},{"$f":"'Projection – Property #1'!Z29/12","v":9},{"$f":"'Projection – Property #1'!AA29/12","v":8},{"$f":"'Projection – Property #1'!AB29/12","v":7},{"$f":"'Projection – Property #1'!AC29/12","v":6},{"$f":"'Projection – Property #1'!AD29/12","v":5},{"$f":"'Projection – Property #1'!AE29/12","v":4},{"$f":"'Projection – Property #1'!AF29/12","v":3},{"$f":"'Projection – Property #1'!AG29/12","v":2},{"$f":"'Projection – Property #1'!AH29/12","v":1},{"$f":"'Projection – Property #1'!AI29/12","v":0}]
[null,"Principal Payments Denominator. Months of Year",null,{"$f":"IF('Property Set Up'!$C38=\"Interest Only\",2,IF(AND(D29>0,D29<=11),D29/12,IF(D29=0,0,1)))","v":2},{"$f":"IF('Property Set Up'!$C38=\"Interest Only\",2,IF(AND(E29>0,E29<=11),E29/12,IF(E29=0,0,1)))","v":2},{"$f":"IF('Property Set Up'!$C38=\"Interest Only\",2,IF(AND(F29>0,F29<=11),F29/12,IF(F29=0,0,1)))","v":2},{"$f":"IF('Property Set Up'!$C38=\"Interest Only\",2,IF(AND(G29>0,G29<=11),G29/12,IF(G29=0,0,1)))","v":2},{"$f":"IF('Property Set Up'!$C38=\"Interest Only\",2,IF(AND(H29>0,H29<=11),H29/12,IF(H29=0,0,1)))","v":2},{"$f":"IF('Property Set Up'!$C38=\"Interest Only\",2,IF(AND(I29>0,I29<=11),I29/12,IF(I29=0,0,1)))","v":2},{"$f":"IF('Property Set Up'!$C38=\"Interest Only\",2,IF(AND(J29>0,J29<=11),J29/12,IF(J29=0,0,1)))","v":2},{"$f":"IF('Property Set Up'!$C38=\"Interest Only\",2,IF(AND(K29>0,K29<=11),K29/12,IF(K29=0,0,1)))","v":2},{"$f":"IF('Property Set Up'!$C38=\"Interest Only\",2,IF(AND(L29>0,L29<=11),L29/12,IF(L29=0,0,1)))","v":2},{"$f":"IF('Property Set Up'!$C38=\"Interest Only\",2,IF(AND(M29>0,M29<=11),M29/12,IF(M29=0,0,1)))","v":2},{"$f":"IF('Property Set Up'!$C38=\"Interest Only\",2,IF(AND(N29>0,N29<=11),N29/12,IF(N29=0,0,1)))","v":2},{"$f":"IF('Property Set Up'!$C38=\"Interest Only\",2,IF(AND(O29>0,O29<=11),O29/12,IF(O29=0,0,1)))","v":2},{"$f":"IF('Property Set Up'!$C38=\"Interest Only\",2,IF(AND(P29>0,P29<=11),P29/12,IF(P29=0,0,1)))","v":2},{"$f":"IF('Property Set Up'!$C38=\"Interest Only\",2,IF(AND(Q29>0,Q29<=11),Q29/12,IF(Q29=0,0,1)))","v":2},{"$f":"IF('Property Set Up'!$C38=\"Interest Only\",2,IF(AND(R29>0,R29<=11),R29/12,IF(R29=0,0,1)))","v":2},{"$f":"IF('Property Set Up'!$C38=\"Interest Only\",2,IF(AND(S29>0,S29<=11),S29/12,IF(S29=0,0,1)))","v":2},{"$f":"IF('Property Set Up'!$C38=\"Interest Only\",2,IF(AND(T29>0,T29<=11),T29/12,IF(T29=0,0,1)))","v":2},{"$f":"IF('Property Set Up'!$C38=\"Interest Only\",2,IF(AND(U29>0,U29<=11),U29/12,IF(U29=0,0,1)))","v":2},{"$f":"IF('Property Set Up'!$C38=\"Interest Only\",2,IF(AND(V29>0,V29<=11),V29/12,IF(V29=0,0,1)))","v":2},{"$f":"IF('Property Set Up'!$C38=\"Interest Only\",2,IF(AND(W29>0,W29<=11),W29/12,IF(W29=0,0,1)))","v":2},{"$f":"IF('Property Set Up'!$C38=\"Interest Only\",2,IF(AND(X29>0,X29<=11),X29/12,IF(X29=0,0,1)))","v":2},{"$f":"IF('Property Set Up'!$C38=\"Interest Only\",2,IF(AND(Y29>0,Y29<=11),Y29/12,IF(Y29=0,0,1)))","v":2},{"$f":"IF('Property Set Up'!$C38=\"Interest Only\",2,IF(AND(Z29>0,Z29<=11),Z29/12,IF(Z29=0,0,1)))","v":2},{"$f":"IF('Property Set Up'!$C38=\"Interest Only\",2,IF(AND(AA29>0,AA29<=11),AA29/12,IF(AA29=0,0,1)))","v":2},{"$f":"IF('Property Set Up'!$C38=\"Interest Only\",2,IF(AND(AB29>0,AB29<=11),AB29/12,IF(AB29=0,0,1)))","v":2},{"$f":"IF('Property Set Up'!$C38=\"Interest Only\",2,IF(AND(AC29>0,AC29<=11),AC29/12,IF(AC29=0,0,1)))","v":2},{"$f":"IF('Property Set Up'!$C38=\"Interest Only\",2,IF(AND(AD29>0,AD29<=11),AD29/12,IF(AD29=0,0,1)))","v":2},{"$f":"IF('Property Set Up'!$C38=\"Interest Only\",2,IF(AND(AE29>0,AE29<=11),AE29/12,IF(AE29=0,0,1)))","v":2},{"$f":"IF('Property Set Up'!$C38=\"Interest Only\",2,IF(AND(AF29>0,AF29<=11),AF29/12,IF(AF29=0,0,1)))","v":2},{"$f":"IF('Property Set Up'!$C38=\"Interest Only\",2,IF(AND(AG29>0,AG29<=11),AG29/12,IF(AG29=0,0,1)))","v":2},{"$f":"IF('Property Set Up'!$C38=\"Interest Only\",2,IF(AND(AH29>0,AH29<=11),AH29/12,IF(AH29=0,0,1)))","v":2},{"$f":"IF('Property Set Up'!$C38=\"Interest Only\",2,IF(AND(AI29>0,AI29<=11),AI29/12,IF(AI29=0,0,1)))","v":2}]
[null,"Years","Now",1,2,3,4,5,6,7,8,9,10,11,12,13,14,15,16,17,18,19,20,21,22,23,24,25,26,27,28,29,30,31,32]
[null,null,null,{"$f":"CONCATENATE(TEXT(D85,\"mmm-yy\"),\" – \",TEXT(D86,\"mmm-yy\"))","v":"May-22 – Apr-23"},{"$f":"CONCATENATE(TEXT(E85,\"mmm-yy\"),\" – \",TEXT(E86,\"mmm-yy\"))","v":"May-23 – Apr-24"},"May-24 – Apr-25","May-25 – Apr-26","May-26 – Apr-27","May-27 – Apr-28","May-28 – Apr-29","May-29 – Apr-30","May-30 – Apr-31","May-31 – Apr-32","May-32 – Apr-33","May-33 – Apr-34","May-34 – Apr-35","May-35 – Apr-36","May-36 – Apr-37",{"$f":"CONCATENATE(TEXT(S85,\"mmm-yy\"),\" – \",TEXT(S86,\"mmm-yy\"))","v":"May-37 – Apr-38"},{"$f":"CONCATENATE(TEXT(T85,\"mmm-yy\"),\" – \",TEXT(T86,\"mmm-yy\"))","v":"May-38 – Apr-39"},{"$f":"CONCATENATE(TEXT(U85,\"mmm-yy\"),\" – \",TEXT(U86,\"mmm-yy\"))","v":"May-39 – Apr-40"},"May-40 – Apr-41","May-41 – Apr-42","May-42 – Apr-43","May-43 – Apr-44","May-44 – Apr-45",{"$f":"CONCATENATE(TEXT(AA85,\"mmm-yy\"),\" – \",TEXT(AA86,\"mmm-yy\"))","v":"May-45 – Apr-46"},"May-46 – Apr-47","May-47 – Apr-48","May-48 – Apr-49","May-49 – Apr-50","May-50 – Apr-51","May-51 – Apr-52","May-52 – Apr-53","May-53 – Apr-54"]
[]
[]
[null,"ASSETS AND LIABILITIES"]
[]
[]
[null,"Asset Value (Start of Year)",0,{"$f":"'Property Set Up'!$C$23*(1+'Property Set Up'!C87)^'Projection – Property #1'!D26","v":650000},{"$f":"D39*(1+'Property Set Up'!$C$87)","v":682500},{"$f":"E39*(1+'Property Set Up'!$C$87)","v":716625},{"$f":"F39*(1+'Property Set Up'!$C$87)","v":752456.25},{"$f":"G39*(1+'Property Set Up'!$C$87)","v":790079.0625},{"$f":"H39*(1+'Property Set Up'!$C$87)","v":829583.015625},{"$f":"I39*(1+'Property Set Up'!$C$87)","v":871062.16640625009},{"$f":"J39*(1+'Property Set Up'!$C$87)","v":914615.27472656267},{"$f":"K39*(1+'Property Set Up'!$C$87)","v":960346.03846289089},{"$f":"L39*(1+'Property Set Up'!$C$87)","v":1008363.3403860355},{"$f":"M39*(1+'Property Set Up'!$C$87)","v":1058781.5074053374},{"$f":"N39*(1+'Property Set Up'!$C$87)","v":1111720.5827756044},{"$f":"O39*(1+'Property Set Up'!$C$87)","v":1167306.6119143846},{"$f":"P39*(1+'Property Set Up'!$C$87)","v":1225671.942510104},{"$f":"Q39*(1+'Property Set Up'!$C$87)","v":1286955.5396356094},{"$f":"R39*(1+'Property Set Up'!$C$87)","v":1351303.3166173899},{"$f":"S39*(1+'Property Set Up'!$C$87)","v":1418868.4824482594},{"$f":"T39*(1+'Property Set Up'!$C$87)","v":1489811.9065706723},{"$f":"U39*(1+'Property Set Up'!$C$87)","v":1564302.5018992061},{"$f":"V39*(1+'Property Set Up'!$C$87)","v":1642517.6269941665},{"$f":"W39*(1+'Property Set Up'!$C$87)","v":1724643.5083438749},{"$f":"X39*(1+'Property Set Up'!$C$87)","v":1810875.6837610689},{"$f":"Y39*(1+'Property Set Up'!$C$87)","v":1901419.4679491224},{"$f":"Z39*(1+'Property Set Up'!$C$87)","v":1996490.4413465785},{"$f":"AA39*(1+'Property Set Up'!$C$87)","v":2096314.9634139074},{"$f":"AB39*(1+'Property Set Up'!$C$87)","v":2201130.7115846029},{"$f":"AC39*(1+'Property Set Up'!$C$87)","v":2311187.2471638331},{"$f":"AD39*(1+'Property Set Up'!$C$87)","v":2426746.6095220251},{"$f":"AE39*(1+'Property Set Up'!$C$87)","v":2548083.9399981266},{"$f":"AF39*(1+'Property Set Up'!$C$87)","v":2675488.1369980332},{"$f":"AG39*(1+'Property Set Up'!$C$87)","v":2809262.5438479348},{"$f":"AH39*(1+'Property Set Up'!$C$87)","v":2949725.6710403315}]
[null,"Mortgage (Start of Year)",0,{"$f":"'Property Set Up'!$C$28","v":623000},{"$f":"MAX(0,D40-D42)","v":623000},{"$f":"MAX(0,E40-E42)","v":623000},{"$f":"MAX(0,F40-F42)","v":623000},623000,623000,623000,623000,623000,623000,623000,623000,623000,623000,623000,623000,623000,623000,623000,623000,{"$f":"MAX(0,W40-W42)","v":623000},623000,623000,623000,623000,623000,623000,623000,623000,623000,623000,623000]
[null,"Inflation Adjusted Debt Repayments In The Year",0,{"$f":"($D$40-E40)/(1+'Property Set Up'!$C$77)^D26","v":0},{"$f":"(E40-F40)/(1+'Property Set Up'!$C$77)^E26","v":0},{"$f":"(F40-G40)/(1+'Property Set Up'!$C$77)^F26","v":0},{"$f":"(G40-H40)/(1+'Property Set Up'!$C$77)^G26","v":0},{"$f":"(H40-I40)/(1+'Property Set Up'!$C$77)^H26","v":0},{"$f":"(I40-J40)/(1+'Property Set Up'!$C$77)^I26","v":0},{"$f":"(J40-K40)/(1+'Property Set Up'!$C$77)^J26","v":0},{"$f":"(K40-L40)/(1+'Property Set Up'!$C$77)^K26","v":0},{"$f":"(L40-M40)/(1+'Property Set Up'!$C$77)^L26","v":0},{"$f":"(M40-N40)/(1+'Property Set Up'!$C$77)^M26","v":0},{"$f":"(N40-O40)/(1+'Property Set Up'!$C$77)^N26","v":0},{"$f":"(O40-P40)/(1+'Property Set Up'!$C$77)^O26","v":0},{"$f":"(P40-Q40)/(1+'Property Set Up'!$C$77)^P26","v":0},{"$f":"(Q40-R40)/(1+'Property Set Up'!$C$77)^Q26","v":0},{"$f":"(R40-S40)/(1+'Property Set Up'!$C$77)^R26","v":0},{"$f":"(S40-T40)/(1+'Property Set Up'!$C$77)^S26","v":0},{"$f":"(T40-U40)/(1+'Property Set Up'!$C$77)^T26","v":0},{"$f":"(U40-V40)/(1+'Property Set Up'!$C$77)^U26","v":0},{"$f":"(V40-W40)/(1+'Property Set Up'!$C$77)^V26","v":0},{"$f":"(W40-X40)/(1+'Property Set Up'!$C$77)^W26","v":0},{"$f":"(X40-Y40)/(1+'Property Set Up'!$C$77)^X26","v":0},{"$f":"(Y40-Z40)/(1+'Property Set Up'!$C$77)^Y26","v":0},{"$f":"(Z40-AA40)/(1+'Property Set Up'!$C$77)^Z26","v":0},{"$f":"(AA40-AB40)/(1+'Property Set Up'!$C$77)^AA26","v":0},{"$f":"(AB40-AC40)/(1+'Property Set Up'!$C$77)^AB26","v":0},{"$f":"(AC40-AD40)/(1+'Property Set Up'!$C$77)^AC26","v":0},{"$f":"(AD40-AE40)/(1+'Property Set Up'!$C$77)^AD26","v":0},{"$f":"(AE40-AF40)/(1+'Property Set Up'!$C$77)^AE26","v":0},{"$f":"(AF40-AG40)/(1+'Property Set Up'!$C$77)^AF26","v":0},{"$f":"(AG40-AH40)/(1+'Property Set Up'!$C$77)^AG26","v":0},{"$f":"(AH40-AI40)/(1+'Property Set Up'!$C$77)^AH26","v":0},{"$f":"(AI40-AJ40)/(1+'Property Set Up'!$C$77)^AI26","v":337196.23905341694}]
[null,"Hidden – Principal paid in year",null,{"$f":"IFERROR(IF(D45=\"Interest Only\",0,IF(D28=0,0,-CUMPRINC(D59/12,12*D46,D40,D27,D28,0))),0)","v":0},{"$f":"IFERROR(IF(E45=\"Interest Only\",0,IF(E28=0,0,-CUMPRINC(E59/12,12*E46,E40,E27,E28,0))),0)","v":0},{"$f":"IFERROR(IF(F45=\"Interest Only\",0,IF(F28=0,0,-CUMPRINC(F59/12,12*F46,F40,F27,F28,0))),0)","v":0},{"$f":"IFERROR(IF(G45=\"interest only\",0,-CUMPRINC(G59/12,12*G46,G40,1,12,0)),0)","v":0},0,0,0,0,0,0,0,0,0,0,0,0,0,0,0,0,0,0,0,0,0,0,0,0,0,0,0,0]
[null,"Net Equity",null,{"$f":"D39-D40","v":27000},59500,93625,129456.25,167079.0625,206583.015625,248062.16640625009,291615.27472656267,337346.03846289089,385363.3403860355,435781.50740533741,488720.58277560445,544306.61191438464,602671.94251010404,663955.53963560937,728303.31661738991,795868.48244825937,866811.90657067229,941302.50189920608,1019517.6269941665,1101643.5083438749,1187875.6837610689,1278419.4679491224,1373490.4413465785,1473314.9634139074,1578130.7115846029,1688187.2471638331,1803746.6095220251,1925083.9399981266,2052488.1369980332,2186262.5438479348,2326725.6710403315]
[]
[null,"Mortgage Type",null,{"$f":"IF('Property Set Up'!$C$38=\"Principal & interest\",\"P+I\",\"Interest Only\")","v":"Interest Only"},{"$f":"IF('Property Set Up'!$C$38=\"Principal & interest\",\"P+I\",\"Interest Only\")","v":"Interest Only"},{"$f":"IF('Property Set Up'!$C$38=\"Principal & interest\",\"P+I\",\"Interest Only\")","v":"Interest Only"},{"$f":"IF(ISBLANK(G48),F45,G48)","v":"Interest Only"},{"$f":"IF(ISBLANK(H48),G45,H48)","v":"Interest Only"},"Interest Only","Interest Only","Interest Only","Interest Only","Interest Only","Interest Only","Interest Only","Interest Only","Interest Only","Interest Only",{"$f":"IF(ISBLANK(S48),R45,S48)","v":"Interest Only"},{"$f":"IF(ISBLANK(T48),S45,T48)","v":"Interest Only"},{"$f":"IF(ISBLANK(U48),T45,U48)","v":"Interest Only"},{"$f":"IF(ISBLANK(V48),U45,V48)","v":"Interest Only"},{"$f":"IF(ISBLANK(W48),V45,W48)","v":"Interest Only"},{"$f":"IF(ISBLANK(X48),W45,X48)","v":"Interest Only"},{"$f":"IF(ISBLANK(Y48),X45,Y48)","v":"Interest Only"},{"$f":"IF(ISBLANK(Z48),Y45,Z48)","v":"Interest Only"},{"$f":"IF(ISBLANK(AA48),Z45,AA48)","v":"Interest Only"},{"$f":"IF(ISBLANK(AB48),AA45,AB48)","v":"Interest Only"},{"$f":"IF(ISBLANK(AC48),AB45,AC48)","v":"Interest Only"},{"$f":"IF(ISBLANK(AD48),AC45,AD48)","v":"Interest Only"},{"$f":"IF(ISBLANK(AE48),AD45,AE48)","v":"Interest Only"},{"$f":"IF(ISBLANK(AF48),AE45,AF48)","v":"Interest Only"},{"$f":"IF(ISBLANK(AG48),AF45,AG48)","v":"Interest Only"},{"$f":"IF(ISBLANK(AH48),AG45,AH48)","v":"Interest Only"},{"$f":"IF(ISBLANK(AI48),AH45,AI48)","v":"Interest Only"}]
[null,"Mortgage Term",null,{"$f":"IF(D45=\"P+I\",D30,\"N/A\")","v":"N/A"},{"$f":"IF(E45=\"P+I\",E30,\"N/A\")","v":"N/A"},{"$f":"IF(F45=\"P+I\",F30,\"N/A\")","v":"N/A"},{"$f":"IF(G45=\"Interest Only\",\"N/A\",IF(G45=F45,IF(F46<>\"N/A\",MAX(F46-1,0),F46),G49))","v":"N/A"},{"$f":"IF(H45=\"Interest Only\",\"N/A\",IF(H45=G45,IF(G46<>\"N/A\",MAX(G46-1,0),G46),H49))","v":"N/A"},"N/A","N/A","N/A","N/A","N/A","N/A","N/A","N/A","N/A","N/A",{"$f":"IF(S45=\"Interest Only\",\"N/A\",IF(S45=R45,IF(R46<>\"N/A\",MAX(R46-1,0),R46),S49))","v":"N/A"},{"$f":"IF(T45=\"Interest Only\",\"N/A\",IF(T45=S45,IF(S46<>\"N/A\",MAX(S46-1,0),S46),T49))","v":"N/A"},{"$f":"IF(U45=\"Interest Only\",\"N/A\",IF(U45=T45,IF(T46<>\"N/A\",MAX(T46-1,0),T46),U49))","v":"N/A"},{"$f":"IF(V45=\"Interest Only\",\"N/A\",IF(V45=U45,IF(U46<>\"N/A\",MAX(U46-1,0),U46),V49))","v":"N/A"},{"$f":"IF(W45=\"Interest Only\",\"N/A\",IF(W45=V45,IF(V46<>\"N/A\",MAX(V46-1,0),V46),W49))","v":"N/A"},{"$f":"IF(X45=\"Interest Only\",\"N/A\",IF(X45=W45,IF(W46<>\"N/A\",MAX(W46-1,0),W46),X49))","v":"N/A"},{"$f":"IF(Y45=\"Interest Only\",\"N/A\",IF(Y45=X45,IF(X46<>\"N/A\",MAX(X46-1,0),X46),Y49))","v":"N/A"},{"$f":"IF(Z45=\"Interest Only\",\"N/A\",IF(Z45=Y45,IF(Y46<>\"N/A\",MAX(Y46-1,0),Y46),Z49))","v":"N/A"},{"$f":"IF(AA45=\"Interest Only\",\"N/A\",IF(AA45=Z45,IF(Z46<>\"N/A\",MAX(Z46-1,0),Z46),AA49))","v":"N/A"},{"$f":"IF(AB45=\"Interest Only\",\"N/A\",IF(AB45=AA45,IF(AA46<>\"N/A\",MAX(AA46-1,0),AA46),AB49))","v":"N/A"},{"$f":"IF(AC45=\"Interest Only\",\"N/A\",IF(AC45=AB45,IF(AB46<>\"N/A\",MAX(AB46-1,0),AB46),AC49))","v":"N/A"},{"$f":"IF(AD45=\"Interest Only\",\"N/A\",IF(AD45=AC45,IF(AC46<>\"N/A\",MAX(AC46-1,0),AC46),AD49))","v":"N/A"},{"$f":"IF(AE45=\"Interest Only\",\"N/A\",IF(AE45=AD45,IF(AD46<>\"N/A\",MAX(AD46-1,0),AD46),AE49))","v":"N/A"},{"$f":"IF(AF45=\"Interest Only\",\"N/A\",IF(AF45=AE45,IF(AE46<>\"N/A\",MAX(AE46-1,0),AE46),AF49))","v":"N/A"},{"$f":"IF(AG45=\"Interest Only\",\"N/A\",IF(AG45=AF45,IF(AF46<>\"N/A\",MAX(AF46-1,0),AF46),AG49))","v":"N/A"},{"$f":"IF(AH45=\"Interest Only\",\"N/A\",IF(AH45=AG45,IF(AG46<>\"N/A\",MAX(AG46-1,0),AG46),AH49))","v":"N/A"},{"$f":"IF(AI45=\"Interest Only\",\"N/A\",IF(AI45=AH45,IF(AH46<>\"N/A\",MAX(AH46-1,0),AH46),AI49))","v":"N/A"}]
[]
[null,"Change Mortgage Type",null,"N/A","N/A","N/A"]
[null,"Change Mortgage Term",null,"N/A","N/A","N/A"]
[]
[]
[null,"PRE-TAX CASHFLOW"]
[]
[]
[null,"Rent Per Annum",null,{"$f":"IF(D67>=12,0,IF(D67>0,(12-D67)/12*D71,D71))","v":0},{"$f":"IF(E67>=12,0,IF(E67>0,(12-E67)/12*E71,E71))","v":27825},{"$f":"IF(F67>=12,0,IF(F67>0,(12-F67)/12*F71,F71))","v":29494.5},31264.170000000002,32733.58599,{"$f":"IF(I67>=12,0,IF(I67>0,(12-I67)/12*I71,I71))","v":34272.064531529999},35882.851564511904,37569.345588043958,39335.104830682023,41183.854757724075,43119.495931337107,45146.112240109949,47267.979515395113,49489.57455261868,51815.584556591755,{"$f":"R55*(1+R76)","v":54250.917030751567},56800.710131196887,59470.343507363134,62265.449652209194,65191.925785863023,68255.946297798582,71463.975773795115,74822.782635163487,78339.453419016165,82021.407729709914,85876.413893006276,89912.605345977572,94138.49779723851,98563.00719370872,103195.46853181302,108045.65555280822,113123.8013637902]
[null,"Financing Costs",null,{"$f":"SUM(D78:D79)","v":2790},{"$f":"SUM(E78:E79)","v":32707.5},{"$f":"SUM(F78:F79)","v":31150},28035,28035,28035,28035,28035,28035,{"$f":"SUM(M78:M79)","v":28035},28035,{"$f":"SUM(O78:O79)","v":28035},28035,28035,28035,{"$f":"SUM(S78:S79)","v":28035},28035,28035,28035,28035,28035,28035,28035,28035,28035,28035,28035,28035,28035,28035,28035,28035]
[null,"Operating Costs",null,{"$f":"IF(D67>=12,0,IF(D67>0,(12-D67)/12*(D72+D73),D72+D73))","v":0},{"$f":"IF(E67>=12,0,IF(E67>0,(12-E67)/12*(E72+E73),E72+E73))","v":10304.831249999999},10632.523125,10974.0645525,11285.7673290075,11608.038570861652,11941.293364630767,12285.9646733258,12642.504143940649,13011.382952293767,13393.092686911241,13788.146273772925,14197.078943828648,14620.449245280757,15058.840102722959,15512.859925323226,15983.143766341151,16470.354536377468,16975.184272865863,17498.355468434784,18040.622460890329,18602.772887700066,19185.629207992821,19790.050295230751,20416.933103858108,21067.21441338598,21741.872653534596,22441.929814224583,23168.45344438648,23922.558743743852,24705.410751920441,25518.226639425746]
[]
[null,"Interest Rate",null,{"$f":"Assumptions!I26","v":4.4999999999999998E-2},{"$f":"Assumptions!J26","v":5.2499999999999998E-2},{"$f":"Assumptions!K26","v":0.05},{"$f":"Assumptions!L26","v":4.4999999999999998E-2},{"$f":"Assumptions!M26","v":4.4999999999999998E-2},{"$f":"Assumptions!N26","v":4.4999999999999998E-2},{"$f":"Assumptions!O26","v":4.4999999999999998E-2},{"$f":"Assumptions!P26","v":4.4999999999999998E-2},{"$f":"Assumptions!Q26","v":4.4999999999999998E-2},{"$f":"Assumptions!R26","v":4.4999999999999998E-2},{"$f":"Assumptions!S26","v":4.4999999999999998E-2},{"$f":"Assumptions!T26","v":4.4999999999999998E-2},{"$f":"Assumptions!U26","v":4.4999999999999998E-2},{"$f":"Assumptions!V26","v":4.4999999999999998E-2},{"$f":"Assumptions!W26","v":4.4999999999999998E-2},{"$f":"Assumptions!X26","v":4.4999999999999998E-2},{"$f":"Assumptions!Y26","v":4.4999999999999998E-2},{"$f":"Assumptions!Z26","v":4.4999999999999998E-2},{"$f":"Assumptions!AA26","v":4.4999999999999998E-2},{"$f":"Assumptions!AB26","v":4.4999999999999998E-2},{"$f":"Assumptions!AC26","v":4.4999999999999998E-2},{"$f":"Assumptions!AD26","v":4.4999999999999998E-2},{"$f":"Assumptions!AE26","v":4.4999999999999998E-2},{"$f":"Assumptions!AF26","v":4.4999999999999998E-2},{"$f":"Assumptions!AG26","v":4.4999999999999998E-2},{"$f":"Assumptions!AH26","v":4.4999999999999998E-2},{"$f":"Assumptions!AI26","v":4.4999999999999998E-2},{"$f":"Assumptions!AJ26","v":4.4999999999999998E-2},{"$f":"Assumptions!AK26","v":4.4999999999999998E-2},{"$f":"Assumptions!AL26","v":4.4999999999999998E-2},{"$f":"Assumptions!AM26","v":4.4999999999999998E-2},{"$f":"Assumptions!AN26","v":4.4999999999999998E-2}]
[]
[null,"Annual Pre-Tax Cashflow",null,{"$f":"D55-SUM(D56:D57)","v":-2790},-15187.331250000003,-12288.023125,-7744.8945524999981,-6587.181339007504,-5370.9740393316533,-4093.4418001188606,-2751.6190852818399,-1342.3993132586256,137.47180543030845,1691.4032444258628,3322.9659663370257,5035.900571566468,6834.1253073379194,8721.7444538687996,10703.057105428343,12782.566364855738,14964.988970985665,17255.265379343327,19658.570317428239,22180.323836908254,24826.202886095052,27602.153427170662,30514.403123785414,33569.474625851806,36774.199479620293,40135.73269244298,43661.567983013927,47359.553749322236,51237.90978806917,55305.244800887784,59570.574724364458]
[]
[]
[null,"HIDDEN RENTAL INFLATION CALCULATIONS"]
[]
[]
[null,"Months Left in Contruction",null,{"$f":"IF('Property Set Up'!C103=\"Yes\",'Property Set Up'!C104,0)","v":12},{"$f":"D67-12","v":0},{"$f":"E67-12","v":-12},-24,-36,-48,-60,-72,-84,-96,-108,-120,-132,-144,-156,{"$f":"R67-12","v":-168},-180,-192,-204,-216,-228,-240,-252,-264,-276,-288,-300,-312,-324,-336,-348,-360]
[null,"Months in Construction",null,{"$f":"12-D69","v":12},{"$f":"12-E69","v":0},0,0,0,0,0,0,0,0,0,0,0,0,0,0,0,0,0,0,0,0,0,0,0,0,0,0,0,0,0,0]
[null,"Months Operating",null,{"$f":"MAX(MIN(12-D67,12),0)","v":0},{"$f":"MAX(MIN(12-E67,12),0)","v":12},12,12,12,12,12,12,12,12,12,12,12,12,12,{"$f":"MAX(MIN(12-S67,12),0)","v":12},12,12,12,12,12,12,12,12,12,12,12,12,12,12,12,12]
[null,"P+I Term",null,{"$f":"'Property Set Up'!$C39","v":30},{"$f":"'Property Set Up'!$C39","v":30},{"$f":"'Property Set Up'!$C39","v":30},{"$f":"'Property Set Up'!$C39","v":30},{"$f":"'Property Set Up'!$C39","v":30},{"$f":"'Property Set Up'!$C39","v":30},{"$f":"'Property Set Up'!$C39","v":30},{"$f":"'Property Set Up'!$C39","v":30},{"$f":"'Property Set Up'!$C39","v":30},{"$f":"'Property Set Up'!$C39","v":30},{"$f":"'Property Set Up'!$C39","v":30},{"$f":"'Property Set Up'!$C39","v":30},{"$f":"'Property Set Up'!$C39","v":30},{"$f":"'Property Set Up'!$C39","v":30},{"$f":"'Property Set Up'!$C39","v":30},{"$f":"'Property Set Up'!$C39","v":30},{"$f":"'Property Set Up'!$C39","v":30},{"$f":"'Property Set Up'!$C39","v":30},{"$f":"'Property Set Up'!$C39","v":30},{"$f":"'Property Set Up'!$C39","v":30},{"$f":"'Property Set Up'!$C39","v":30},{"$f":"'Property Set Up'!$C39","v":30},{"$f":"'Property Set Up'!$C39","v":30},{"$f":"'Property Set Up'!$C39","v":30},{"$f":"'Property Set Up'!$C39","v":30},{"$f":"'Property Set Up'!$C39","v":30},{"$f":"'Property Set Up'!$C39","v":30},{"$f":"'Property Set Up'!$C39","v":30},{"$f":"'Property Set Up'!$C39","v":30},{"$f":"'Property Set Up'!$C39","v":30},{"$f":"'Property Set Up'!$C39","v":30},{"$f":"'Property Set Up'!$C39","v":30}]
[null,"Full Sized Annual Rent",null,{"$f":"'Property Set Up'!$C$42*(52-'Property Set Up'!$C$43)","v":26250},{"$f":"D71*(1+D76)","v":27825},{"$f":"E71*(1+E76)","v":29494.5},31264.170000000002,32733.58599,34272.064531529999,35882.851564511904,37569.345588043958,39335.104830682023,41183.854757724075,43119.495931337107,45146.112240109949,47267.979515395113,49489.57455261868,51815.584556591755,{"$f":"R71*(1+R76)","v":54250.917030751567},56800.710131196887,59470.343507363134,62265.449652209194,65191.925785863023,68255.946297798582,71463.975773795115,74822.782635163487,78339.453419016165,82021.407729709914,85876.413893006276,89912.605345977572,94138.49779723851,98563.00719370872,103195.46853181302,108045.65555280822,113123.8013637902]
[null,"Full Sized Rental Inflation Based Operating Costs",null,{"$f":"IF('Property Set Up'!$C$58=\"Weeks\",'Projection – Property #1'!D71*(1/(52-'Property Set Up'!$C$43))*1.15+'Property Set Up'!$C$57*1.15*'Projection – Property #1'!D71,'Property Set Up'!$C$57*1.15*'Projection – Property #1'!D71)","v":2867.8125},{"$f":"IF('Property Set Up'!$C$58=\"Weeks\",'Projection – Property #1'!E71*(1/(52-'Property Set Up'!$C$43))*1.15+'Property Set Up'!$C$57*1.15*'Projection – Property #1'!E71,'Property Set Up'!$C$57*1.15*'Projection – Property #1'!E71)","v":3039.8812499999999},{"$f":"IF('Property Set Up'!$C$58=\"Weeks\",'Projection – Property #1'!F71*(1/(52-'Property Set Up'!$C$43))*1.15+'Property Set Up'!$C$57*1.15*'Projection – Property #1'!F71,'Property Set Up'!$C$57*1.15*'Projection – Property #1'!F71)","v":3222.2741249999999},{"$f":"IF('Property Set Up'!$C$58=\"Weeks\",'Projection – Property #1'!G71*(1/(52-'Property Set Up'!$C$43))*1.15+'Property Set Up'!$C$57*1.15*'Projection – Property #1'!G71,'Property Set Up'!$C$57*1.15*'Projection – Property #1'!G71)","v":3415.6105724999998},{"$f":"IF('Property Set Up'!$C$58=\"Weeks\",'Projection – Property #1'!H71*(1/(52-'Property Set Up'!$C$43))*1.15+'Property Set Up'!$C$57*1.15*'Projection – Property #1'!H71,'Property Set Up'!$C$57*1.15*'Projection – Property #1'!H71)","v":3576.1442694074999},{"$f":"IF('Property Set Up'!$C$58=\"Weeks\",'Projection – Property #1'!I71*(1/(52-'Property Set Up'!$C$43))*1.15+'Property Set Up'!$C$57*1.15*'Projection – Property #1'!I71,'Property Set Up'!$C$57*1.15*'Projection – Property #1'!I71)","v":3744.2230500696519},{"$f":"IF('Property Set Up'!$C$58=\"Weeks\",'Projection – Property #1'!J71*(1/(52-'Property Set Up'!$C$43))*1.15+'Property Set Up'!$C$57*1.15*'Projection – Property #1'!J71,'Property Set Up'!$C$57*1.15*'Projection – Property #1'!J71)","v":3920.201533422925},{"$f":"IF('Property Set Up'!$C$58=\"Weeks\",'Projection – Property #1'!K71*(1/(52-'Property Set Up'!$C$43))*1.15+'Property Set Up'!$C$57*1.15*'Projection – Property #1'!K71,'Property Set Up'!$C$57*1.15*'Projection – Property #1'!K71)","v":4104.4510054938019},{"$f":"IF('Property Set Up'!$C$58=\"Weeks\",'Projection – Property #1'!L71*(1/(52-'Property Set Up'!$C$43))*1.15+'Property Set Up'!$C$57*1.15*'Projection – Property #1'!L71,'Property Set Up'!$C$57*1.15*'Projection – Property #1'!L71)","v":4297.360202752011},{"$f":"IF('Property Set Up'!$C$58=\"Weeks\",'Projection – Property #1'!M71*(1/(52-'Property Set Up'!$C$43))*1.15+'Property Set Up'!$C$57*1.15*'Projection – Property #1'!M71,'Property Set Up'!$C$57*1.15*'Projection – Property #1'!M71)","v":4499.3361322813544},{"$f":"IF('Property Set Up'!$C$58=\"Weeks\",'Projection – Property #1'!N71*(1/(52-'Property Set Up'!$C$43))*1.15+'Property Set Up'!$C$57*1.15*'Projection – Property #1'!N71,'Property Set Up'!$C$57*1.15*'Projection – Property #1'!N71)","v":4710.8049304985789},{"$f":"IF('Property Set Up'!$C$58=\"Weeks\",'Projection – Property #1'!O71*(1/(52-'Property Set Up'!$C$43))*1.15+'Property Set Up'!$C$57*1.15*'Projection – Property #1'!O71,'Property Set Up'!$C$57*1.15*'Projection – Property #1'!O71)","v":4932.2127622320113},{"$f":"IF('Property Set Up'!$C$58=\"Weeks\",'Projection – Property #1'!P71*(1/(52-'Property Set Up'!$C$43))*1.15+'Property Set Up'!$C$57*1.15*'Projection – Property #1'!P71,'Property Set Up'!$C$57*1.15*'Projection – Property #1'!P71)","v":5164.0267620569157},{"$f":"IF('Property Set Up'!$C$58=\"Weeks\",'Projection – Property #1'!Q71*(1/(52-'Property Set Up'!$C$43))*1.15+'Property Set Up'!$C$57*1.15*'Projection – Property #1'!Q71,'Property Set Up'!$C$57*1.15*'Projection – Property #1'!Q71)","v":5406.7360198735905},{"$f":"IF('Property Set Up'!$C$58=\"Weeks\",'Projection – Property #1'!R71*(1/(52-'Property Set Up'!$C$43))*1.15+'Property Set Up'!$C$57*1.15*'Projection – Property #1'!R71,'Property Set Up'!$C$57*1.15*'Projection – Property #1'!R71)","v":5660.8526128076492},{"$f":"IF('Property Set Up'!$C$58=\"Weeks\",'Projection – Property #1'!S71*(1/(52-'Property Set Up'!$C$43))*1.15+'Property Set Up'!$C$57*1.15*'Projection – Property #1'!S71,'Property Set Up'!$C$57*1.15*'Projection – Property #1'!S71)","v":5926.9126856096082},{"$f":"IF('Property Set Up'!$C$58=\"Weeks\",'Projection – Property #1'!T71*(1/(52-'Property Set Up'!$C$43))*1.15+'Property Set Up'!$C$57*1.15*'Projection – Property #1'!T71,'Property Set Up'!$C$57*1.15*'Projection – Property #1'!T71)","v":6205.47758183326},{"$f":"IF('Property Set Up'!$C$58=\"Weeks\",'Projection – Property #1'!U71*(1/(52-'Property Set Up'!$C$43))*1.15+'Property Set Up'!$C$57*1.15*'Projection – Property #1'!U71,'Property Set Up'!$C$57*1.15*'Projection – Property #1'!U71)","v":6497.1350281794212},{"$f":"IF('Property Set Up'!$C$58=\"Weeks\",'Projection – Property #1'!V71*(1/(52-'Property Set Up'!$C$43))*1.15+'Property Set Up'!$C$57*1.15*'Projection – Property #1'!V71,'Property Set Up'!$C$57*1.15*'Projection – Property #1'!V71)","v":6802.5003745038539},{"$f":"IF('Property Set Up'!$C$58=\"Weeks\",'Projection – Property #1'!W71*(1/(52-'Property Set Up'!$C$43))*1.15+'Property Set Up'!$C$57*1.15*'Projection – Property #1'!W71,'Property Set Up'!$C$57*1.15*'Projection – Property #1'!W71)","v":7122.2178921055347},{"$f":"IF('Property Set Up'!$C$58=\"Weeks\",'Projection – Property #1'!X71*(1/(52-'Property Set Up'!$C$43))*1.15+'Property Set Up'!$C$57*1.15*'Projection – Property #1'!X71,'Property Set Up'!$C$57*1.15*'Projection – Property #1'!X71)","v":7456.9621330344944},{"$f":"IF('Property Set Up'!$C$58=\"Weeks\",'Projection – Property #1'!Y71*(1/(52-'Property Set Up'!$C$43))*1.15+'Property Set Up'!$C$57*1.15*'Projection – Property #1'!Y71,'Property Set Up'!$C$57*1.15*'Projection – Property #1'!Y71)","v":7807.4393532871154},{"$f":"IF('Property Set Up'!$C$58=\"Weeks\",'Projection – Property #1'!Z71*(1/(52-'Property Set Up'!$C$43))*1.15+'Property Set Up'!$C$57*1.15*'Projection – Property #1'!Z71,'Property Set Up'!$C$57*1.15*'Projection – Property #1'!Z71)","v":8174.3890028916103},{"$f":"IF('Property Set Up'!$C$58=\"Weeks\",'Projection – Property #1'!AA71*(1/(52-'Property Set Up'!$C$43))*1.15+'Property Set Up'!$C$57*1.15*'Projection – Property #1'!AA71,'Property Set Up'!$C$57*1.15*'Projection – Property #1'!AA71)","v":8558.5852860275154},{"$f":"IF('Property Set Up'!$C$58=\"Weeks\",'Projection – Property #1'!AB71*(1/(52-'Property Set Up'!$C$43))*1.15+'Property Set Up'!$C$57*1.15*'Projection – Property #1'!AB71,'Property Set Up'!$C$57*1.15*'Projection – Property #1'!AB71)","v":8960.8387944708065},{"$f":"IF('Property Set Up'!$C$58=\"Weeks\",'Projection – Property #1'!AC71*(1/(52-'Property Set Up'!$C$43))*1.15+'Property Set Up'!$C$57*1.15*'Projection – Property #1'!AC71,'Property Set Up'!$C$57*1.15*'Projection – Property #1'!AC71)","v":9381.9982178109349},{"$f":"IF('Property Set Up'!$C$58=\"Weeks\",'Projection – Property #1'!AD71*(1/(52-'Property Set Up'!$C$43))*1.15+'Property Set Up'!$C$57*1.15*'Projection – Property #1'!AD71,'Property Set Up'!$C$57*1.15*'Projection – Property #1'!AD71)","v":9822.9521340480496},{"$f":"IF('Property Set Up'!$C$58=\"Weeks\",'Projection – Property #1'!AE71*(1/(52-'Property Set Up'!$C$43))*1.15+'Property Set Up'!$C$57*1.15*'Projection – Property #1'!AE71,'Property Set Up'!$C$57*1.15*'Projection – Property #1'!AE71)","v":10284.630884348306},{"$f":"IF('Property Set Up'!$C$58=\"Weeks\",'Projection – Property #1'!AF71*(1/(52-'Property Set Up'!$C$43))*1.15+'Property Set Up'!$C$57*1.15*'Projection – Property #1'!AF71,'Property Set Up'!$C$57*1.15*'Projection – Property #1'!AF71)","v":10768.008535912677},{"$f":"IF('Property Set Up'!$C$58=\"Weeks\",'Projection – Property #1'!AG71*(1/(52-'Property Set Up'!$C$43))*1.15+'Property Set Up'!$C$57*1.15*'Projection – Property #1'!AG71,'Property Set Up'!$C$57*1.15*'Projection – Property #1'!AG71)","v":11274.104937100572},{"$f":"IF('Property Set Up'!$C$58=\"Weeks\",'Projection – Property #1'!AH71*(1/(52-'Property Set Up'!$C$43))*1.15+'Property Set Up'!$C$57*1.15*'Projection – Property #1'!AH71,'Property Set Up'!$C$57*1.15*'Projection – Property #1'!AH71)","v":11803.987869144297},{"$f":"IF('Property Set Up'!$C$58=\"Weeks\",'Projection – Property #1'!AI71*(1/(52-'Property Set Up'!$C$43))*1.15+'Property Set Up'!$C$57*1.15*'Projection – Property #1'!AI71,'Property Set Up'!$C$57*1.15*'Projection – Property #1'!AI71)","v":12358.775298994078}]
[null,"Full Sized Inflation Based Operating Costs",null,{"$f":"IF('Property Set Up'!C58=\"Weeks\",(SUM('Property Set Up'!$C$61:$C$68)-'Property Set Up'!C66)*(1+'Property Set Up'!C77)^'Projection – Property #1'!D26,(SUM('Property Set Up'!$C$60:$C$68)-'Property Set Up'!C66)*(1+'Property Set Up'!C77)^'Projection – Property #1'!D26)","v":7122.5},{"$f":"D73*(1+'Property Set Up'!$C$77)","v":7264.95},{"$f":"E73*(1+'Property Set Up'!$C$77)","v":7410.2489999999998},{"$f":"F73*(1+'Property Set Up'!$C$77)","v":7558.4539800000002},{"$f":"G73*(1+'Property Set Up'!$C$77)","v":7709.6230596000005},{"$f":"H73*(1+'Property Set Up'!$C$77)","v":7863.8155207920008},{"$f":"I73*(1+'Property Set Up'!$C$77)","v":8021.0918312078411},{"$f":"J73*(1+'Property Set Up'!$C$77)","v":8181.5136678319977},{"$f":"K73*(1+'Property Set Up'!$C$77)","v":8345.1439411886386},{"$f":"L73*(1+'Property Set Up'!$C$77)","v":8512.0468200124124},{"$f":"M73*(1+'Property Set Up'!$C$77)","v":8682.2877564126611},{"$f":"N73*(1+'Property Set Up'!$C$77)","v":8855.933511540914},{"$f":"O73*(1+'Property Set Up'!$C$77)","v":9033.0521817717326},{"$f":"P73*(1+'Property Set Up'!$C$77)","v":9213.7132254071676},{"$f":"Q73*(1+'Property Set Up'!$C$77)","v":9397.987489915311},{"$f":"R73*(1+'Property Set Up'!$C$77)","v":9585.9472397136178},{"$f":"S73*(1+'Property Set Up'!$C$77)","v":9777.6661845078906},{"$f":"T73*(1+'Property Set Up'!$C$77)","v":9973.2195081980481},{"$f":"U73*(1+'Property Set Up'!$C$77)","v":10172.683898362009},{"$f":"V73*(1+'Property Set Up'!$C$77)","v":10376.137576329249},{"$f":"W73*(1+'Property Set Up'!$C$77)","v":10583.660327855834},{"$f":"X73*(1+'Property Set Up'!$C$77)","v":10795.333534412952},{"$f":"Y73*(1+'Property Set Up'!$C$77)","v":11011.24020510121},{"$f":"Z73*(1+'Property Set Up'!$C$77)","v":11231.465009203235},{"$f":"AA73*(1+'Property Set Up'!$C$77)","v":11456.094309387299},{"$f":"AB73*(1+'Property Set Up'!$C$77)","v":11685.216195575045},{"$f":"AC73*(1+'Property Set Up'!$C$77)","v":11918.920519486546},{"$f":"AD73*(1+'Property Set Up'!$C$77)","v":12157.298929876277},{"$f":"AE73*(1+'Property Set Up'!$C$77)","v":12400.444908473803},{"$f":"AF73*(1+'Property Set Up'!$C$77)","v":12648.45380664328},{"$f":"AG73*(1+'Property Set Up'!$C$77)","v":12901.422882776145},{"$f":"AH73*(1+'Property Set Up'!$C$77)","v":13159.451340431668}]
[null,"Months Left At Short Term Rental Inflation Rate",null,{"$f":"Assumptions!D13*12","v":36},{"$f":"D74-D75","v":24},12,{"$f":"F74-F75","v":0},-12,-24,-36,-48,-60,-72,-84,-96,-108,-120,-132,{"$f":"R74-R75","v":-144},-157,-171,-186,-202,-219,-237,-256,-276,-297,-319,-342,-366,-391,-417,-444,-472]
[null,"Months in period",null,12,12,12,12,12,12,12,12,12,12,12,12,12,12,12,13,14,15,16,17,18,19,20,21,22,23,24,25,26,27,28,29]
[null,"Rental Inflation Rate In Period",null,{"$f":"IF(D77>0,Assumptions!$D$12,Assumptions!$D$10)","v":0.06},{"$f":"IF(E77>0,Assumptions!$D$12,Assumptions!$D$10)","v":0.06},{"$f":"IF(F77>0,Assumptions!$D$12,Assumptions!$D$10)","v":0.06},{"$f":"IF(G77>0,Assumptions!$D$12,Assumptions!$D$10)","v":4.7E-2},{"$f":"IF(H77>0,Assumptions!$D$12,Assumptions!$D$10)","v":4.7E-2},{"$f":"IF(I77>0,Assumptions!$D$12,Assumptions!$D$10)","v":4.7E-2},{"$f":"IF(J77>0,Assumptions!$D$12,Assumptions!$D$10)","v":4.7E-2},{"$f":"IF(K77>0,Assumptions!$D$12,Assumptions!$D$10)","v":4.7E-2},{"$f":"IF(L77>0,Assumptions!$D$12,Assumptions!$D$10)","v":4.7E-2},{"$f":"IF(M77>0,Assumptions!$D$12,Assumptions!$D$10)","v":4.7E-2},{"$f":"IF(N77>0,Assumptions!$D$12,Assumptions!$D$10)","v":4.7E-2},{"$f":"IF(O77>0,Assumptions!$D$12,Assumptions!$D$10)","v":4.7E-2},{"$f":"IF(P77>0,Assumptions!$D$12,Assumptions!$D$10)","v":4.7E-2},{"$f":"IF(Q77>0,Assumptions!$D$12,Assumptions!$D$10)","v":4.7E-2},{"$f":"IF(R77>0,Assumptions!$D$12,Assumptions!$D$10)","v":4.7E-2},{"$f":"IF(S74>=12,(1+Assumptions!$D12)^(1/Assumptions!$D13)-1,IF(AND(S74<12,S74>0),(1+Assumptions!$D14)^('Projection – Property #1'!S74)*(1+Assumptions!$D11)^(12-'Projection – Property #1'!S74)-1,Assumptions!$D10))","v":4.7E-2},{"$f":"IF(T74>=12,(1+Assumptions!$D12)^(1/Assumptions!$D13)-1,IF(AND(T74<12,T74>0),(1+Assumptions!$D14)^('Projection – Property #1'!T74)*(1+Assumptions!$D11)^(12-'Projection – Property #1'!T74)-1,Assumptions!$D10))","v":4.7E-2},{"$f":"IF(U74>=12,(1+Assumptions!$D12)^(1/Assumptions!$D13)-1,IF(AND(U74<12,U74>0),(1+Assumptions!$D14)^('Projection – Property #1'!U74)*(1+Assumptions!$D11)^(12-'Projection – Property #1'!U74)-1,Assumptions!$D10))","v":4.7E-2},{"$f":"IF(V74>=12,(1+Assumptions!$D12)^(1/Assumptions!$D13)-1,IF(AND(V74<12,V74>0),(1+Assumptions!$D14)^('Projection – Property #1'!V74)*(1+Assumptions!$D11)^(12-'Projection – Property #1'!V74)-1,Assumptions!$D10))","v":4.7E-2},{"$f":"IF(W74>=12,(1+Assumptions!$D12)^(1/Assumptions!$D13)-1,IF(AND(W74<12,W74>0),(1+Assumptions!$D14)^('Projection – Property #1'!W74)*(1+Assumptions!$D11)^(12-'Projection – Property #1'!W74)-1,Assumptions!$D10))","v":4.7E-2},{"$f":"IF(X74>=12,(1+Assumptions!$D12)^(1/Assumptions!$D13)-1,IF(AND(X74<12,X74>0),(1+Assumptions!$D14)^('Projection – Property #1'!X74)*(1+Assumptions!$D11)^(12-'Projection – Property #1'!X74)-1,Assumptions!$D10))","v":4.7E-2},{"$f":"IF(Y74>=12,(1+Assumptions!$D12)^(1/Assumptions!$D13)-1,IF(AND(Y74<12,Y74>0),(1+Assumptions!$D14)^('Projection – Property #1'!Y74)*(1+Assumptions!$D11)^(12-'Projection – Property #1'!Y74)-1,Assumptions!$D10))","v":4.7E-2},{"$f":"IF(Z74>=12,(1+Assumptions!$D12)^(1/Assumptions!$D13)-1,IF(AND(Z74<12,Z74>0),(1+Assumptions!$D14)^('Projection – Property #1'!Z74)*(1+Assumptions!$D11)^(12-'Projection – Property #1'!Z74)-1,Assumptions!$D10))","v":4.7E-2},{"$f":"IF(AA74>=12,(1+Assumptions!$D12)^(1/Assumptions!$D13)-1,IF(AND(AA74<12,AA74>0),(1+Assumptions!$D14)^('Projection – Property #1'!AA74)*(1+Assumptions!$D11)^(12-'Projection – Property #1'!AA74)-1,Assumptions!$D10))","v":4.7E-2},{"$f":"IF(AB74>=12,(1+Assumptions!$D12)^(1/Assumptions!$D13)-1,IF(AND(AB74<12,AB74>0),(1+Assumptions!$D14)^('Projection – Property #1'!AB74)*(1+Assumptions!$D11)^(12-'Projection – Property #1'!AB74)-1,Assumptions!$D10))","v":4.7E-2},{"$f":"IF(AC74>=12,(1+Assumptions!$D12)^(1/Assumptions!$D13)-1,IF(AND(AC74<12,AC74>0),(1+Assumptions!$D14)^('Projection – Property #1'!AC74)*(1+Assumptions!$D11)^(12-'Projection – Property #1'!AC74)-1,Assumptions!$D10))","v":4.7E-2},{"$f":"IF(AD74>=12,(1+Assumptions!$D12)^(1/Assumptions!$D13)-1,IF(AND(AD74<12,AD74>0),(1+Assumptions!$D14)^('Projection – Property #1'!AD74)*(1+Assumptions!$D11)^(12-'Projection – Property #1'!AD74)-1,Assumptions!$D10))","v":4.7E-2},{"$f":"IF(AE74>=12,(1+Assumptions!$D12)^(1/Assumptions!$D13)-1,IF(AND(AE74<12,AE74>0),(1+Assumptions!$D14)^('Projection – Property #1'!AE74)*(1+Assumptions!$D11)^(12-'Projection – Property #1'!AE74)-1,Assumptions!$D10))","v":4.7E-2},{"$f":"IF(AF74>=12,(1+Assumptions!$D12)^(1/Assumptions!$D13)-1,IF(AND(AF74<12,AF74>0),(1+Assumptions!$D14)^('Projection – Property #1'!AF74)*(1+Assumptions!$D11)^(12-'Projection – Property #1'!AF74)-1,Assumptions!$D10))","v":4.7E-2},{"$f":"IF(AG74>=12,(1+Assumptions!$D12)^(1/Assumptions!$D13)-1,IF(AND(AG74<12,AG74>0),(1+Assumptions!$D14)^('Projection – Property #1'!AG74)*(1+Assumptions!$D11)^(12-'Projection – Property #1'!AG74)-1,Assumptions!$D10))","v":4.7E-2},{"$f":"IF(AH74>=12,(1+Assumptions!$D12)^(1/Assumptions!$D13)-1,IF(AND(AH74<12,AH74>0),(1+Assumptions!$D14)^('Projection – Property #1'!AH74)*(1+Assumptions!$D11)^(12-'Projection – Property #1'!AH74)-1,Assumptions!$D10))","v":4.7E-2},{"$f":"IF(AI74>=12,(1+Assumptions!$D12)^(1/Assumptions!$D13)-1,IF(AND(AI74<12,AI74>0),(1+Assumptions!$D14)^('Projection – Property #1'!AI74)*(1+Assumptions!$D11)^(12-'Projection – Property #1'!AI74)-1,Assumptions!$D10))","v":4.7E-2}]
[null,"Years of Above average inflation",null,{"$f":"Assumptions!D13","v":3},{"$f":"MAX(D77-1,0)","v":2},{"$f":"MAX(E77-1,0)","v":1},0,0,0,0,0,0,0,0,0,0,0,0]
[null,"Construction Financing Costs",null,{"$f":"(D68/12)*(D59*'Property Set Up'!$C106)","v":2790},{"$f":"(E68/12)*(E59*'Property Set Up'!$C106)","v":0},{"$f":"(F68/12)*(F59*'Property Set Up'!$C106)","v":0},{"$f":"(G68/12)*(G59*'Property Set Up'!$C106)","v":0},{"$f":"(H68/12)*(H59*'Property Set Up'!$C106)","v":0},{"$f":"(I68/12)*(I59*'Property Set Up'!$C106)","v":0},{"$f":"(J68/12)*(J59*'Property Set Up'!$C106)","v":0},{"$f":"(K68/12)*(K59*'Property Set Up'!$C106)","v":0},{"$f":"(L68/12)*(L59*'Property Set Up'!$C106)","v":0},{"$f":"(M68/12)*(M59*'Property Set Up'!$C106)","v":0},{"$f":"(N68/12)*(N59*'Property Set Up'!$C106)","v":0},{"$f":"(O68/12)*(O59*'Property Set Up'!$C106)","v":0},{"$f":"(P68/12)*(P59*'Property Set Up'!$C106)","v":0},{"$f":"(Q68/12)*(Q59*'Property Set Up'!$C106)","v":0},{"$f":"(R68/12)*(R59*'Property Set Up'!$C106)","v":0},{"$f":"(S68/12)*(S59*'Property Set Up'!$C106)","v":0},{"$f":"(T68/12)*(T59*'Property Set Up'!$C106)","v":0},{"$f":"(U68/12)*(U59*'Property Set Up'!$C106)","v":0},{"$f":"(V68/12)*(V59*'Property Set Up'!$C106)","v":0},{"$f":"(W68/12)*(W59*'Property Set Up'!$C106)","v":0},{"$f":"(X68/12)*(X59*'Property Set Up'!$C106)","v":0},{"$f":"(Y68/12)*(Y59*'Property Set Up'!$C106)","v":0},{"$f":"(Z68/12)*(Z59*'Property Set Up'!$C106)","v":0},{"$f":"(AA68/12)*(AA59*'Property Set Up'!$C106)","v":0},{"$f":"(AB68/12)*(AB59*'Property Set Up'!$C106)","v":0},{"$f":"(AC68/12)*(AC59*'Property Set Up'!$C106)","v":0},{"$f":"(AD68/12)*(AD59*'Property Set Up'!$C106)","v":0},{"$f":"(AE68/12)*(AE59*'Property Set Up'!$C106)","v":0},{"$f":"(AF68/12)*(AF59*'Property Set Up'!$C106)","v":0},{"$f":"(AG68/12)*(AG59*'Property Set Up'!$C106)","v":0},{"$f":"(AH68/12)*(AH59*'Property Set Up'!$C106)","v":0},{"$f":"(AI68/12)*(AI59*'Property Set Up'!$C106)","v":0}]
[null,"Operating Financing Costs",null,{"$f":"IFERROR(IF(D45=\"Interest Only\",D40*D59/12,-PMT(D59/12,D46*12,D40,,0))*D69,0)","v":0},32707.5,31150,28035,28035,28035,28035,28035,28035,28035,28035,28035,28035,28035,28035,28035,28035,28035,28035,28035,28035,28035,28035,28035,28035,28035,28035,28035,28035,28035,28035,28035]
[]
[]
[null,"HIDDEN INTEREST DEDUCTIBILITY CALCULATIONS"]
[]
[]
[null,"Start Calendar Year",null,{"$f":"DATE(YEAR('Property Set Up'!C6),MONTH('Property Set Up'!C6)+1,1)","v":"2022-05-01"},{"$f":"D86+1","v":"2023-05-01"},"2024-05-01","2025-05-01","2026-05-01","2027-05-01","2028-05-01","2029-05-01","2030-05-01","2031-05-01","2032-05-01","2033-05-01","2034-05-01","2035-05-01","2036-05-01",{"$f":"R86+1","v":"2037-05-01"},"2038-05-01","2039-05-01","2040-05-01","2041-05-01","2042-05-01","2043-05-01","2044-05-01","2045-05-01","2046-05-01","2047-05-01","2048-05-01","2049-05-01","2050-05-01","2051-05-01","2052-05-01","2053-05-01"]
[null,"End Calendar Year",null,{"$f":"DATE(YEAR(D85)+1,MONTH(D85),DAY(D85)-1)","v":"2023-04-30"},"2024-04-30","2025-04-30","2026-04-30","2027-04-30","2028-04-30","2029-04-30","2030-04-30","2031-04-30","2032-04-30","2033-04-30","2034-04-30","2035-04-30","2036-04-30","2037-04-30",{"$f":"DATE(YEAR(S85)+1,MONTH(S85),DAY(S85)-1)","v":"2038-04-30"},"2039-04-30","2040-04-30","2041-04-30","2042-04-30","2043-04-30","2044-04-30","2045-04-30","2046-04-30","2047-04-30",{"$f":"DATE(YEAR(AC85)+1,MONTH(AC85),DAY(AC85)-1)","v":"2048-04-30"},"2049-04-30","2050-04-30","2051-04-30","2052-04-30","2053-04-30","2054-04-30"]
[]
[null,"Middle Tax Year",null,{"$f":"IF(MONTH(D85)>3,YEAR(D86),YEAR(D85))","v":2023},2024,2025,2026,2027,2028,2029,2030,2031,2032,2033,2034,2035,2036,2037,{"$f":"IF(MONTH(S85)>3,YEAR(S86),YEAR(S85))","v":2038},2039,2040,2041,2042,2043,2044,2045,2046,2047,2048,2049,2050,2051,2052,2053,2054]
[null,"Months in First Tax Period",null,{"$f":"IF(AND(YEAR(D85)=2021,MONTH(D85)<10),10-MONTH(D85),IF(MONTH(D85)>3,16-MONTH(D85),4-MONTH(D85)))","v":11},{"$f":"IF(MONTH(E85)>3,16-MONTH(E85),4-MONTH(E85))","v":11},11,11,11,11,11,11,11,11,11,11,11,11,11,{"$f":"IF(MONTH(S85)>3,16-MONTH(S85),4-MONTH(S85))","v":11},11,11,11,11,11,11,11,11,11,11,11,11,11,11,11,11]
[null,"Months in 2nd Tax Period",null,{"$f":"12-D89","v":1},1,1,1,1,1,1,1,1,1,1,1,1,1,1,{"$f":"12-S89","v":1},1,1,1,1,1,1,1,1,1,1,1,1,1,1,1,1]
[]
[null,"P+I Starting Period (Months) – First Tax Period",null,{"$f":"IF(D67>=D89,0,1)","v":0},{"$f":"IF(E67>=E89,0,D95+1)","v":1}]
[null,"P+I Ending Period (Months) – First Tax Period",null,{"$f":"IF(D89>=D67,D89-D67,0)","v":0},{"$f":"IF(E89>E67,E89-E67,0)","v":11}]
[null,"P+I Starting Period (Months) – Second Tax Period",null,{"$f":"IF(D67>=12,0,D93+1)","v":0},{"$f":"IF(E90=0,0,IF(E67=12,0,E93+1))","v":12}]
[null,"P+I Ending Period (Months) – Second Tax Period",null,{"$f":"IF(D67>=12,0,12-D67)","v":0},{"$f":"IF(E94=0,0,12-E67)","v":12}]
[]
[null,"Interest in first half of the tax year",null,{"$f":"IF('Property Set Up'!$C38=\"Interest Only\",D105+D106,D105+D107)","v":2557.5},{"$f":"IF('Property Set Up'!$C38=\"Interest Only\",E105+E106,E105+E107)","v":29981.875},{"$f":"IF('Property Set Up'!$C38=\"Interest only\",F59*'Property Set Up'!$C28*('Projection – Property #1'!F89/12),IFERROR(-CUMIPMT(F59/12,'Property Set Up'!$C39*12,'Property Set Up'!$C28,F27,F27+F89-1,0),0))","v":28554.166666666664},{"$f":"IFERROR(IF(G45=\"Interest Only\",(G40*G59)*G89/12,-CUMIPMT(G59/12,12*G46,G40,1,G89,0)),0)","v":25698.75},25698.75,25698.75,25698.75,25698.75,25698.75,25698.75,25698.75,25698.75,25698.75,25698.75,25698.75,25698.75,25698.75,25698.75,25698.75,25698.75,25698.75,25698.75,25698.75,25698.75,25698.75,25698.75,25698.75,25698.75,25698.75,25698.75,25698.75,25698.75]
[null,"Interest in second half of the tax year",null,{"$f":"IF('Property Set Up'!$C38=\"Interest Only\",D114+D115,D114+D116)","v":232.5},{"$f":"IF('Property Set Up'!$C38=\"Interest Only\",E114+E115,E114+E116)","v":2725.625},{"$f":"IF('Property Set Up'!$C38=\"Interest only\",F59*'Property Set Up'!$C28*(F90/12),IFERROR(-CUMIPMT(F59/12,'Property Set Up'!$C39*12,'Property Set Up'!$C28,F27+F89,F28,0),0))","v":2595.833333333333},{"$f":"IFERROR(IF(G45=\"Interest Only\",(G40*G59)*G90/12,IFERROR(-CUMIPMT(G59/12,12*G46,G40,G89+1,12,0),0)),0)","v":2336.25},2336.25,2336.25,2336.25,2336.25,2336.25,2336.25,2336.25,2336.25,2336.25,2336.25,2336.25,2336.25,2336.25,2336.25,2336.25,2336.25,2336.25,2336.25,2336.25,2336.25,2336.25,2336.25,2336.25,2336.25,2336.25,2336.25,2336.25,2336.25]
[]
[null,"1st Half Months in Period",null,{"$f":"D89","v":11},{"$f":"E89","v":11}]
[null,"1st Half Construction",null,{"$f":"IF(D103>=1,D100,D100+D103)","v":11},{"$f":"IF(D112>E100,E100,IF(D112=0,0,D112))","v":0}]
[null,"1st Half Operating",null,{"$f":"D100-D101","v":0},{"$f":"E100-E101","v":11}]
[null,"1st Half Residual",null,{"$f":"D67-D100","v":1},{"$f":"D112-E101","v":0}]
[]
[null,"1st Half (Interest Resulting From Construction)",null,{"$f":"'Property Set Up'!$C106*D59*(D101/12)","v":2557.5},{"$f":"'Property Set Up'!$C106*E59*(E101/12)","v":0}]
[null,"1st Half interest if i/o",null,{"$f":"(D102/12)*('Property Set Up'!$C28*D59)","v":0},{"$f":"(E102/12)*('Property Set Up'!$C28*E59)","v":29981.875}]
[null,"1st Half interest if P+I",null,{"$f":"IFERROR(-CUMIPMT(D59/12,'Property Set Up'!$C39*12,'Property Set Up'!$C28,D92,D93,0),0)","v":0},{"$f":"IFERROR(-CUMIPMT(E59/12,'Property Set Up'!$C39*12,'Property Set Up'!$C28,E92,E93,0),0)","v":29807.646663176482}]
[]
[null,"2nd Half Months in Period",null,{"$f":"D90","v":1},{"$f":"E90","v":1}]
[null,"2nd Half Construction",null,{"$f":"IF(D103>=D109,D109,IF(D103>0,D103,0))","v":1},{"$f":"E103","v":0}]
[null,"2nd Half Operating",null,{"$f":"D109-D110","v":0},{"$f":"E109-E110","v":1}]
[null,"2nd Half Residual",null,{"$f":"IF(D103-D109<1,0,D103-D109)","v":0},{"$f":"E109-SUM(E110:E111)","v":0}]
[]
[null,"2nd Half (Interest Resulting From Construction)",null,{"$f":"'Property Set Up'!$C106*D59*(D110/12)","v":232.5},{"$f":"'Property Set Up'!$C106*E59*(E110/12)","v":0}]
[null,"2nd Half interest if i/o",null,{"$f":"(D111/12)*('Property Set Up'!$C28*D59)","v":0},{"$f":"(E111/12)*('Property Set Up'!$C28*E59)","v":2725.625}]
[null,"2nd Half interest if P+I",null,{"$f":"IFERROR(-CUMIPMT(D59/12,'Property Set Up'!$C39*12,'Property Set Up'!$C28,D94,D95,0),0)","v":0},{"$f":"IFERROR(-CUMIPMT(E59/12,'Property Set Up'!$C39*12,'Property Set Up'!$C28,E94,E95,0),0)","v":2690.4724304298406}]
[]
[null,"Tax Treatment First Tax Year",null,{"$f":"IF('Property Set Up'!C21=\"NB\",100%,IF(AND(YEAR(D85)=2021,MONTH(D85)<10),100%,IF('Property Set Up'!C21=\"Full\",0,IF(D88=2022,100%,IF(D88=2023,75%,IF(D88=2024,50%,IF(D88=2025,25%,0%)))))))","v":1},{"$f":"IF('Property Set Up'!$C21=\"NB\",100%,IF('Property Set Up'!$C21=\"full\",0,IF(E88=2022,100%,IF(E88=2023,75%,IF(E88=2024,50%,IF(E88=2025,25%,0%))))))","v":1},{"$f":"IF('Property Set Up'!$C21=\"NB\",100%,IF('Property Set Up'!$C21=\"full\",0,IF(F88=2022,100%,IF(F88=2023,75%,IF(F88=2024,50%,IF(F88=2025,25%,0%))))))","v":1},{"$f":"IF('Property Set Up'!$C21=\"NB\",100%,IF('Property Set Up'!$C21=\"full\",0,IF(G88=2022,100%,IF(G88=2023,75%,IF(G88=2024,50%,IF(G88=2025,25%,0%))))))","v":1},{"$f":"IF('Property Set Up'!$C21=\"NB\",100%,IF('Property Set Up'!$C21=\"full\",0,IF(H88=2022,100%,IF(H88=2023,75%,IF(H88=2024,50%,IF(H88=2025,25%,0%))))))","v":1},{"$f":"IF('Property Set Up'!$C21=\"NB\",100%,IF('Property Set Up'!$C21=\"full\",0,IF(I88=2022,100%,IF(I88=2023,75%,IF(I88=2024,50%,IF(I88=2025,25%,0%))))))","v":1},{"$f":"IF('Property Set Up'!$C21=\"NB\",100%,IF('Property Set Up'!$C21=\"full\",0,IF(J88=2022,100%,IF(J88=2023,75%,IF(J88=2024,50%,IF(J88=2025,25%,0%))))))","v":1},{"$f":"IF('Property Set Up'!$C21=\"NB\",100%,IF('Property Set Up'!$C21=\"full\",0,IF(K88=2022,100%,IF(K88=2023,75%,IF(K88=2024,50%,IF(K88=2025,25%,0%))))))","v":1},{"$f":"IF('Property Set Up'!$C21=\"NB\",100%,IF('Property Set Up'!$C21=\"full\",0,IF(L88=2022,100%,IF(L88=2023,75%,IF(L88=2024,50%,IF(L88=2025,25%,0%))))))","v":1},{"$f":"IF('Property Set Up'!$C21=\"NB\",100%,IF('Property Set Up'!$C21=\"full\",0,IF(M88=2022,100%,IF(M88=2023,75%,IF(M88=2024,50%,IF(M88=2025,25%,0%))))))","v":1},{"$f":"IF('Property Set Up'!$C21=\"NB\",100%,IF('Property Set Up'!$C21=\"full\",0,IF(N88=2022,100%,IF(N88=2023,75%,IF(N88=2024,50%,IF(N88=2025,25%,0%))))))","v":1},{"$f":"IF('Property Set Up'!$C21=\"NB\",100%,IF('Property Set Up'!$C21=\"full\",0,IF(O88=2022,100%,IF(O88=2023,75%,IF(O88=2024,50%,IF(O88=2025,25%,0%))))))","v":1},{"$f":"IF('Property Set Up'!$C21=\"NB\",100%,IF('Property Set Up'!$C21=\"full\",0,IF(P88=2022,100%,IF(P88=2023,75%,IF(P88=2024,50%,IF(P88=2025,25%,0%))))))","v":1},{"$f":"IF('Property Set Up'!$C21=\"NB\",100%,IF('Property Set Up'!$C21=\"full\",0,IF(Q88=2022,100%,IF(Q88=2023,75%,IF(Q88=2024,50%,IF(Q88=2025,25%,0%))))))","v":1},{"$f":"IF('Property Set Up'!$C21=\"NB\",100%,IF('Property Set Up'!$C21=\"full\",0,IF(R88=2022,100%,IF(R88=2023,75%,IF(R88=2024,50%,IF(R88=2025,25%,0%))))))","v":1},{"$f":"IF('Property Set Up'!$C21=\"NB\",100%,IF('Property Set Up'!$C21=\"full\",0,IF(S88=2022,100%,IF(S88=2023,75%,IF(S88=2024,50%,IF(S88=2025,25%,0%))))))","v":1},{"$f":"IF('Property Set Up'!$C21=\"NB\",100%,IF('Property Set Up'!$C21=\"full\",0,IF(T88=2022,100%,IF(T88=2023,75%,IF(T88=2024,50%,IF(T88=2025,25%,0%))))))","v":1},{"$f":"IF('Property Set Up'!$C21=\"NB\",100%,IF('Property Set Up'!$C21=\"full\",0,IF(U88=2022,100%,IF(U88=2023,75%,IF(U88=2024,50%,IF(U88=2025,25%,0%))))))","v":1},{"$f":"IF('Property Set Up'!$C21=\"NB\",100%,IF('Property Set Up'!$C21=\"full\",0,IF(V88=2022,100%,IF(V88=2023,75%,IF(V88=2024,50%,IF(V88=2025,25%,0%))))))","v":1},{"$f":"IF('Property Set Up'!$C21=\"NB\",100%,IF('Property Set Up'!$C21=\"full\",0,IF(W88=2022,100%,IF(W88=2023,75%,IF(W88=2024,50%,IF(W88=2025,25%,0%))))))","v":1},{"$f":"IF('Property Set Up'!$C21=\"NB\",100%,IF('Property Set Up'!$C21=\"full\",0,IF(X88=2022,100%,IF(X88=2023,75%,IF(X88=2024,50%,IF(X88=2025,25%,0%))))))","v":1},{"$f":"IF('Property Set Up'!$C21=\"NB\",100%,IF('Property Set Up'!$C21=\"full\",0,IF(Y88=2022,100%,IF(Y88=2023,75%,IF(Y88=2024,50%,IF(Y88=2025,25%,0%))))))","v":1},{"$f":"IF('Property Set Up'!$C21=\"NB\",100%,IF('Property Set Up'!$C21=\"full\",0,IF(Z88=2022,100%,IF(Z88=2023,75%,IF(Z88=2024,50%,IF(Z88=2025,25%,0%))))))","v":1},{"$f":"IF('Property Set Up'!$C21=\"NB\",100%,IF('Property Set Up'!$C21=\"full\",0,IF(AA88=2022,100%,IF(AA88=2023,75%,IF(AA88=2024,50%,IF(AA88=2025,25%,0%))))))","v":1},{"$f":"IF('Property Set Up'!$C21=\"NB\",100%,IF('Property Set Up'!$C21=\"full\",0,IF(AB88=2022,100%,IF(AB88=2023,75%,IF(AB88=2024,50%,IF(AB88=2025,25%,0%))))))","v":1},{"$f":"IF('Property Set Up'!$C21=\"NB\",100%,IF('Property Set Up'!$C21=\"full\",0,IF(AC88=2022,100%,IF(AC88=2023,75%,IF(AC88=2024,50%,IF(AC88=2025,25%,0%))))))","v":1},{"$f":"IF('Property Set Up'!$C21=\"NB\",100%,IF('Property Set Up'!$C21=\"full\",0,IF(AD88=2022,100%,IF(AD88=2023,75%,IF(AD88=2024,50%,IF(AD88=2025,25%,0%))))))","v":1},{"$f":"IF('Property Set Up'!$C21=\"NB\",100%,IF('Property Set Up'!$C21=\"full\",0,IF(AE88=2022,100%,IF(AE88=2023,75%,IF(AE88=2024,50%,IF(AE88=2025,25%,0%))))))","v":1},{"$f":"IF('Property Set Up'!$C21=\"NB\",100%,IF('Property Set Up'!$C21=\"full\",0,IF(AF88=2022,100%,IF(AF88=2023,75%,IF(AF88=2024,50%,IF(AF88=2025,25%,0%))))))","v":1},{"$f":"IF('Property Set Up'!$C21=\"NB\",100%,IF('Property Set Up'!$C21=\"full\",0,IF(AG88=2022,100%,IF(AG88=2023,75%,IF(AG88=2024,50%,IF(AG88=2025,25%,0%))))))","v":1},{"$f":"IF('Property Set Up'!$C21=\"NB\",100%,IF('Property Set Up'!$C21=\"full\",0,IF(AH88=2022,100%,IF(AH88=2023,75%,IF(AH88=2024,50%,IF(AH88=2025,25%,0%))))))","v":1},{"$f":"IF('Property Set Up'!$C21=\"NB\",100%,IF('Property Set Up'!$C21=\"full\",0,IF(AI88=2022,100%,IF(AI88=2023,75%,IF(AI88=2024,50%,IF(AI88=2025,25%,0%))))))","v":1}]
[null,"Tax Treatment 2nd Tax Year",null,{"$f":"IF('Property Set Up'!C21=\"NB\",100%,IF('Property Set Up'!C21=\"Full\",0,IF(AND(YEAR(D85)=2021,MONTH(D85)<10),75%,IF(D88=2022,75%,IF(D88=2023,50%,IF(D88=2024,25%,IF(D88=2025,0%,0%)))))))","v":1},{"$f":"IF('Property Set Up'!$C21=\"NB\",100%,IF('Property Set Up'!$C21=\"Full\",0,IF(E88=2022,75%,IF(E88=2023,50%,IF(E88=2024,25%,0)))))","v":1},{"$f":"IF('Property Set Up'!$C21=\"NB\",100%,IF('Property Set Up'!$C21=\"Full\",0,IF(F88=2022,75%,IF(F88=2023,50%,IF(F88=2024,25%,0)))))","v":1},{"$f":"IF('Property Set Up'!$C21=\"NB\",100%,IF('Property Set Up'!$C21=\"Full\",0,IF(G88=2022,75%,IF(G88=2023,50%,IF(G88=2024,25%,0)))))","v":1},{"$f":"IF('Property Set Up'!$C21=\"NB\",100%,IF('Property Set Up'!$C21=\"Full\",0,IF(H88=2022,75%,IF(H88=2023,50%,IF(H88=2024,25%,0)))))","v":1},{"$f":"IF('Property Set Up'!$C21=\"NB\",100%,IF('Property Set Up'!$C21=\"Full\",0,IF(I88=2022,75%,IF(I88=2023,50%,IF(I88=2024,25%,0)))))","v":1},{"$f":"IF('Property Set Up'!$C21=\"NB\",100%,IF('Property Set Up'!$C21=\"Full\",0,IF(J88=2022,75%,IF(J88=2023,50%,IF(J88=2024,25%,0)))))","v":1},{"$f":"IF('Property Set Up'!$C21=\"NB\",100%,IF('Property Set Up'!$C21=\"Full\",0,IF(K88=2022,75%,IF(K88=2023,50%,IF(K88=2024,25%,0)))))","v":1},{"$f":"IF('Property Set Up'!$C21=\"NB\",100%,IF('Property Set Up'!$C21=\"Full\",0,IF(L88=2022,75%,IF(L88=2023,50%,IF(L88=2024,25%,0)))))","v":1},{"$f":"IF('Property Set Up'!$C21=\"NB\",100%,IF('Property Set Up'!$C21=\"Full\",0,IF(M88=2022,75%,IF(M88=2023,50%,IF(M88=2024,25%,0)))))","v":1},{"$f":"IF('Property Set Up'!$C21=\"NB\",100%,IF('Property Set Up'!$C21=\"Full\",0,IF(N88=2022,75%,IF(N88=2023,50%,IF(N88=2024,25%,0)))))","v":1},{"$f":"IF('Property Set Up'!$C21=\"NB\",100%,IF('Property Set Up'!$C21=\"Full\",0,IF(O88=2022,75%,IF(O88=2023,50%,IF(O88=2024,25%,0)))))","v":1},{"$f":"IF('Property Set Up'!$C21=\"NB\",100%,IF('Property Set Up'!$C21=\"Full\",0,IF(P88=2022,75%,IF(P88=2023,50%,IF(P88=2024,25%,0)))))","v":1},{"$f":"IF('Property Set Up'!$C21=\"NB\",100%,IF('Property Set Up'!$C21=\"Full\",0,IF(Q88=2022,75%,IF(Q88=2023,50%,IF(Q88=2024,25%,0)))))","v":1},{"$f":"IF('Property Set Up'!$C21=\"NB\",100%,IF('Property Set Up'!$C21=\"Full\",0,IF(R88=2022,75%,IF(R88=2023,50%,IF(R88=2024,25%,0)))))","v":1},{"$f":"IF('Property Set Up'!$C21=\"NB\",100%,IF('Property Set Up'!$C21=\"Full\",0,IF(S88=2022,75%,IF(S88=2023,50%,IF(S88=2024,25%,0)))))","v":1},{"$f":"IF('Property Set Up'!$C21=\"NB\",100%,IF('Property Set Up'!$C21=\"Full\",0,IF(T88=2022,75%,IF(T88=2023,50%,IF(T88=2024,25%,0)))))","v":1},{"$f":"IF('Property Set Up'!$C21=\"NB\",100%,IF('Property Set Up'!$C21=\"Full\",0,IF(U88=2022,75%,IF(U88=2023,50%,IF(U88=2024,25%,0)))))","v":1},{"$f":"IF('Property Set Up'!$C21=\"NB\",100%,IF('Property Set Up'!$C21=\"Full\",0,IF(V88=2022,75%,IF(V88=2023,50%,IF(V88=2024,25%,0)))))","v":1},{"$f":"IF('Property Set Up'!$C21=\"NB\",100%,IF('Property Set Up'!$C21=\"Full\",0,IF(W88=2022,75%,IF(W88=2023,50%,IF(W88=2024,25%,0)))))","v":1},{"$f":"IF('Property Set Up'!$C21=\"NB\",100%,IF('Property Set Up'!$C21=\"Full\",0,IF(X88=2022,75%,IF(X88=2023,50%,IF(X88=2024,25%,0)))))","v":1},{"$f":"IF('Property Set Up'!$C21=\"NB\",100%,IF('Property Set Up'!$C21=\"Full\",0,IF(Y88=2022,75%,IF(Y88=2023,50%,IF(Y88=2024,25%,0)))))","v":1},{"$f":"IF('Property Set Up'!$C21=\"NB\",100%,IF('Property Set Up'!$C21=\"Full\",0,IF(Z88=2022,75%,IF(Z88=2023,50%,IF(Z88=2024,25%,0)))))","v":1},{"$f":"IF('Property Set Up'!$C21=\"NB\",100%,IF('Property Set Up'!$C21=\"Full\",0,IF(AA88=2022,75%,IF(AA88=2023,50%,IF(AA88=2024,25%,0)))))","v":1},{"$f":"IF('Property Set Up'!$C21=\"NB\",100%,IF('Property Set Up'!$C21=\"Full\",0,IF(AB88=2022,75%,IF(AB88=2023,50%,IF(AB88=2024,25%,0)))))","v":1},{"$f":"IF('Property Set Up'!$C21=\"NB\",100%,IF('Property Set Up'!$C21=\"Full\",0,IF(AC88=2022,75%,IF(AC88=2023,50%,IF(AC88=2024,25%,0)))))","v":1},{"$f":"IF('Property Set Up'!$C21=\"NB\",100%,IF('Property Set Up'!$C21=\"Full\",0,IF(AD88=2022,75%,IF(AD88=2023,50%,IF(AD88=2024,25%,0)))))","v":1},{"$f":"IF('Property Set Up'!$C21=\"NB\",100%,IF('Property Set Up'!$C21=\"Full\",0,IF(AE88=2022,75%,IF(AE88=2023,50%,IF(AE88=2024,25%,0)))))","v":1},{"$f":"IF('Property Set Up'!$C21=\"NB\",100%,IF('Property Set Up'!$C21=\"Full\",0,IF(AF88=2022,75%,IF(AF88=2023,50%,IF(AF88=2024,25%,0)))))","v":1},{"$f":"IF('Property Set Up'!$C21=\"NB\",100%,IF('Property Set Up'!$C21=\"Full\",0,IF(AG88=2022,75%,IF(AG88=2023,50%,IF(AG88=2024,25%,0)))))","v":1},{"$f":"IF('Property Set Up'!$C21=\"NB\",100%,IF('Property Set Up'!$C21=\"Full\",0,IF(AH88=2022,75%,IF(AH88=2023,50%,IF(AH88=2024,25%,0)))))","v":1},{"$f":"IF('Property Set Up'!$C21=\"NB\",100%,IF('Property Set Up'!$C21=\"Full\",0,IF(AI88=2022,75%,IF(AI88=2023,50%,IF(AI88=2024,25%,0)))))","v":1}]
[]
[]
[null,"TAX"]
[]
[]
[null,"Tax Deductible Finance Costs",{"$f":"C56","v":0},{"$f":"(D97*D118)+(D98*D119)","v":2790},{"$f":"(E97*E118)+(E98*E119)","v":32707.5},31149.999999999996,28035,28035,28035,28035,28035,28035,28035,28035,28035,28035,28035,28035,{"$f":"(S97*S118)+(S98*S119)","v":28035},28035,28035,28035,28035,28035,28035,28035,28035,28035,28035,28035,28035,28035,28035,28035,28035]
[null,"Tax Deductible Operating Costs",0,{"$f":"D57","v":0},10304.831249999999,10632.523125,10974.0645525,11285.7673290075,11608.038570861652,11941.293364630767,12285.9646733258,12642.504143940649,13011.382952293767,13393.092686911241,13788.146273772925,14197.078943828648,14620.449245280757,15058.840102722959,15512.859925323226,15983.143766341151,16470.354536377468,16975.184272865863,17498.355468434784,18040.622460890329,18602.772887700066,19185.629207992821,19790.050295230751,20416.933103858108,21067.21441338598,21741.872653534596,22441.929814224583,23168.45344438648,23922.558743743852,24705.410751920441,25518.226639425746]
[]
[null,"Operating Months",null,{"$f":"IF((12-D67)<0,0,IF((12-D67)>12,12,12-D67))","v":0},12,12,12,12,12,12,12,12,12,12,12,12,12,12,12,12,12,12,12,12,12,12,12,12,12,12,12,12,12,12,12]
[null,"Chattel Value",0,{"$f":"IF(D128=0,0,'Property Set Up'!C91)","v":0},{"$f":"IF(D129>0,D129-D130,IF(E128>0,'Property Set Up'!C91,0))","v":45000},{"$f":"IF(E128=0,'Property Set Up'!C91,E129-E130)","v":35100.000000000015},{"$f":"F129-F130","v":27378.000000000025},21354.840000000029,16656.775200000029,12992.284656000029,10133.982031680027,7904.5059847104249,6165.5146680741345,4809.1014410978269,3751.0991240563067,2925.8573167639206,2282.1687070758589,1780.0915915191708,{"$f":"R129-R130","v":1388.4714413849538},1083.0077242802645,844.74602493860664,658.90189945211353,513.94348157264881,400.87591562666626,312.68321418879981,243.89290706726396,190.23646751246599,148.38444465972356,115.73986683458443,90.277096130975906,70.416134982161239,54.924585286085794,42.841176523146942,33.416117688054626,26.064571796682621]
[null,"Depreciation",0,{"$f":"D129-D129*(1-Assumptions!$D17)^'Projection – Property #1'!D128","v":0},{"$f":"E129-E129*(1-Assumptions!$D17)^'Projection – Property #1'!E128","v":9899.9999999999854},{"$f":"F129-F129*(1-Assumptions!$D17)^'Projection – Property #1'!F128","v":7721.9999999999891},{"$f":"G129-G129*(1-Assumptions!$D17)^'Projection – Property #1'!G128","v":6023.1599999999962},{"$f":"H129-H129*(1-Assumptions!$D17)^'Projection – Property #1'!H128","v":4698.0648000000001},{"$f":"I129-I129*(1-Assumptions!$D17)^'Projection – Property #1'!I128","v":3664.4905440000002},{"$f":"J129-J129*(1-Assumptions!$D17)^'Projection – Property #1'!J128","v":2858.302624320002},{"$f":"K129-K129*(1-Assumptions!$D17)^'Projection – Property #1'!K128","v":2229.4760469696021},{"$f":"L129-L129*(1-Assumptions!$D17)^'Projection – Property #1'!L128","v":1738.9913166362903},{"$f":"M129-M129*(1-Assumptions!$D17)^'Projection – Property #1'!M128","v":1356.4132269763077},{"$f":"N129-N129*(1-Assumptions!$D17)^'Projection – Property #1'!N128","v":1058.0023170415202},{"$f":"O129-O129*(1-Assumptions!$D17)^'Projection – Property #1'!O128","v":825.24180729238606},{"$f":"P129-P129*(1-Assumptions!$D17)^'Projection – Property #1'!P128","v":643.68860968806166},{"$f":"Q129-Q129*(1-Assumptions!$D17)^'Projection – Property #1'!Q128","v":502.07711555668811},{"$f":"R129-R129*(1-Assumptions!$D17)^'Projection – Property #1'!R128","v":391.62015013421706},{"$f":"S129-S129*(1-Assumptions!$D17)^'Projection – Property #1'!S128","v":305.46371710468929},{"$f":"T129-T129*(1-Assumptions!$D17)^'Projection – Property #1'!T128","v":238.26169934165785},{"$f":"U129-U129*(1-Assumptions!$D17)^'Projection – Property #1'!U128","v":185.84412548649311},{"$f":"V129-V129*(1-Assumptions!$D17)^'Projection – Property #1'!V128","v":144.95841787946472},{"$f":"W129-W129*(1-Assumptions!$D17)^'Projection – Property #1'!W128","v":113.06756594598255},{"$f":"X129-X129*(1-Assumptions!$D17)^'Projection – Property #1'!X128","v":88.192701437866447},{"$f":"Y129-Y129*(1-Assumptions!$D17)^'Projection – Property #1'!Y128","v":68.790307121535847},{"$f":"Z129-Z129*(1-Assumptions!$D17)^'Projection – Property #1'!Z128","v":53.65643955479797},{"$f":"AA129-AA129*(1-Assumptions!$D17)^'Projection – Property #1'!AA128","v":41.852022852742436},{"$f":"AB129-AB129*(1-Assumptions!$D17)^'Projection – Property #1'!AB128","v":32.644577825139123},{"$f":"AC129-AC129*(1-Assumptions!$D17)^'Projection – Property #1'!AC128","v":25.462770703608527},{"$f":"AD129-AD129*(1-Assumptions!$D17)^'Projection – Property #1'!AD128","v":19.860961148814667},{"$f":"AE129-AE129*(1-Assumptions!$D17)^'Projection – Property #1'!AE128","v":15.491549696075445},{"$f":"AF129-AF129*(1-Assumptions!$D17)^'Projection – Property #1'!AF128","v":12.083408762938852},{"$f":"AG129-AG129*(1-Assumptions!$D17)^'Projection – Property #1'!AG128","v":9.4250588350923152},{"$f":"AH129-AH129*(1-Assumptions!$D17)^'Projection – Property #1'!AH128","v":7.3515458913720053},{"$f":"AI129-AI129*(1-Assumptions!$D17)^'Projection – Property #1'!AI128","v":5.7342057952701673}]
[]
[null,"Taxable Profit",{"$f":"C55-C125-C126-C130","v":0},-2790,-25087.331249999985,{"$f":"F55-F125-F126-F130","v":-20010.023124999985},-13768.054552499994,-11285.2461390075,-9035.4645833316536,-6951.7444244388644,-4981.0951322514438,-3081.3906298949159,-1218.9414215459992,633.40092738434623,2497.7241590446379,4392.2119618784027,6332.0481917812349,8330.1243037345794,10397.593388323652,12544.304665514079,14779.144845499171,17110.306961463866,19545.502751482258,22092.131135470387,24757.412578973512,27548.496987615868,30472.551100932673,33536.83004802667,36748.736708916687,40115.871731294166,43646.076433317852,47347.470340559295,51228.484729234078,55297.893254996408,59564.840518569188]
[null,"Tax Losses Carried Forward",{"$f":"IF(C132<0,C132,0)","v":0},{"$f":"IF(D132+C133<0,D132+C133,0)-Assumptions!D15","v":-2790},{"$f":"IF(E132+D133<0,E132+D133,0)","v":-27877.331249999985},-47887.354374999966,-61655.408927499957,-72940.655066507461,-81976.119649839122,-88927.864074277983,-93908.959206529427,-96990.349836424342,-98209.291257970341,-97575.890330586,-95078.166171541365,-90685.954209662959,-84353.906017881731,-76023.781714147146,{"$f":"IF(S132+R133<0,S132+R133,0)","v":-65626.188325823488},-53081.88366030941,-38302.73881481024,-21192.431853346374,-1646.9291018641161,0,0,0,0,0,0,0,0,0,0,0,0]
[null,"Tax to Pay",{"$f":"IF(C132<0,0,IFERROR(C132*'Property Set Up'!B93,0))","v":0},{"$f":"IF(D132<0,0,D132*'Property Set Up'!C93)","v":0},{"$f":"IF((D133+E132)>0,(D133+E132)*'Property Set Up'!$C$93,0)","v":0},{"$f":"IF((E133+F132)>0,(E133+F132)*'Property Set Up'!$C$93,0)","v":0},{"$f":"IF((F133+G132)>0,(F133+G132)*'Property Set Up'!$C$93,0)","v":0},{"$f":"IF((G133+H132)>0,(G133+H132)*'Property Set Up'!$C$93,0)","v":0},{"$f":"IF((H133+I132)>0,(H133+I132)*'Property Set Up'!$C$93,0)","v":0},{"$f":"IF((I133+J132)>0,(I133+J132)*'Property Set Up'!$C$93,0)","v":0},{"$f":"IF((J133+K132)>0,(J133+K132)*'Property Set Up'!$C$93,0)","v":0},{"$f":"IF((K133+L132)>0,(K133+L132)*'Property Set Up'!$C$93,0)","v":0},{"$f":"IF((L133+M132)>0,(L133+M132)*'Property Set Up'!$C$93,0)","v":0},{"$f":"IF((M133+N132)>0,(M133+N132)*'Property Set Up'!$C$93,0)","v":0},{"$f":"IF((N133+O132)>0,(N133+O132)*'Property Set Up'!$C$93,0)","v":0},{"$f":"IF((O133+P132)>0,(O133+P132)*'Property Set Up'!$C$93,0)","v":0},{"$f":"IF((P133+Q132)>0,(P133+Q132)*'Property Set Up'!$C$93,0)","v":0},{"$f":"IF((Q133+R132)>0,(Q133+R132)*'Property Set Up'!$C$93,0)","v":0},{"$f":"IF((R133+S132)>0,(R133+S132)*'Property Set Up'!$C$93,0)","v":0},{"$f":"IF((S133+T132)>0,(S133+T132)*'Property Set Up'!$C$93,0)","v":0},{"$f":"IF((T133+U132)>0,(T133+U132)*'Property Set Up'!$C$93,0)","v":0},{"$f":"IF((U133+V132)>0,(U133+V132)*'Property Set Up'!$C$93,0)","v":0},{"$f":"IF((V133+W132)>0,(V133+W132)*'Property Set Up'!$C$93,0)","v":0},{"$f":"IF((W133+X132)>0,(W133+X132)*'Property Set Up'!$C$93,0)","v":6746.9166710900699},{"$f":"IF((X133+Y132)>0,(X133+Y132)*'Property Set Up'!$C$93,0)","v":8169.9461510612591},{"$f":"IF((Y133+Z132)>0,(Y133+Z132)*'Property Set Up'!$C$93,0)","v":9091.0040059132371},{"$f":"IF((Z133+AA132)>0,(Z133+AA132)*'Property Set Up'!$C$93,0)","v":10055.941863307782},{"$f":"IF((AA133+AB132)>0,(AA133+AB132)*'Property Set Up'!$C$93,0)","v":11067.153915848801},{"$f":"IF((AB133+AC132)>0,(AB133+AC132)*'Property Set Up'!$C$93,0)","v":12127.083113942508},{"$f":"IF((AC133+AD132)>0,(AC133+AD132)*'Property Set Up'!$C$93,0)","v":13238.237671327075},{"$f":"IF((AD133+AE132)>0,(AD133+AE132)*'Property Set Up'!$C$93,0)","v":14403.205222994891},{"$f":"IF((AE133+AF132)>0,(AE133+AF132)*'Property Set Up'!$C$93,0)","v":15624.665212384569},{"$f":"IF((AF133+AG132)>0,(AF133+AG132)*'Property Set Up'!$C$93,0)","v":16905.399960647246},{"$f":"IF((AG133+AH132)>0,(AG133+AH132)*'Property Set Up'!$C$93,0)","v":18248.304774148815},{"$f":"IF((AH133+AI132)>0,(AH133+AI132)*'Property Set Up'!$C$93,0)","v":19656.397371127834}]
[]
[]
[null,"POST-TAX CASHFLOW"]
[]
[]
[null,"Post Tax Cashflow",{"$f":"C61-C134","v":0},-2790,-15187.331250000003,-12288.023125,-7744.8945524999981,-6587.181339007504,-5370.9740393316533,-4093.4418001188606,-2751.6190852818399,-1342.3993132586256,137.47180543030845,1691.4032444258628,3322.9659663370257,5035.900571566468,6834.1253073379194,8721.7444538687996,10703.057105428343,12782.566364855738,14964.988970985665,17255.265379343327,19658.570317428239,15433.407165818184,16656.256735033792,18511.149421257425,20458.461260477634,22502.320710003005,24647.116365677786,26897.495021115905,29258.362760019038,31734.888536937666,34332.50982742192,37056.940026738972,39914.177353236621]
[null,"Inflation Adjusted Post Tax Cashflow",{"$f":"C140","v":0},{"$f":"D140/(1+'Property Set Up'!$C$77)^'Projection – Property #1'!D26","v":-2790},{"$f":"E140/(1+'Property Set Up'!$C$77)^'Projection – Property #1'!E26","v":-14889.540441176474},{"$f":"F140/(1+'Property Set Up'!$C$77)^'Projection – Property #1'!F26","v":-11810.864210880431},{"$f":"G140/(1+'Property Set Up'!$C$77)^'Projection – Property #1'!G26","v":-7298.1871155324861},{"$f":"H140/(1+'Property Set Up'!$C$77)^'Projection – Property #1'!H26","v":-6085.5373504492918},{"$f":"I140/(1+'Property Set Up'!$C$77)^'Projection – Property #1'!I26","v":-4864.6566662193127},{"$f":"J140/(1+'Property Set Up'!$C$77)^'Projection – Property #1'!J26","v":-3634.8591731502784},{"$f":"K140/(1+'Property Set Up'!$C$77)^'Projection – Property #1'!K26","v":-2395.4500023604132},{"$f":"L140/(1+'Property Set Up'!$C$77)^'Projection – Property #1'!L26","v":-1145.7248881584553},{"$f":"M140/(1+'Property Set Up'!$C$77)^'Projection – Property #1'!M26","v":115.03025710283212},{"$f":"N140/(1+'Property Set Up'!$C$77)^'Projection – Property #1'!N26","v":1387.5397759680782},{"$f":"O140/(1+'Property Set Up'!$C$77)^'Projection – Property #1'!O26","v":2672.5387068897862},{"$f":"P140/(1+'Property Set Up'!$C$77)^'Projection – Property #1'!P26","v":3970.7732335879227},{"$f":"Q140/(1+'Property Set Up'!$C$77)^'Projection – Property #1'!Q26","v":5283.0011430449413},{"$f":"R140/(1+'Property Set Up'!$C$77)^'Projection – Property #1'!R26","v":6609.9922924285938},{"$f":"S140/(1+'Property Set Up'!$C$77)^'Projection – Property #1'!S26","v":7952.5290852415428},{"$f":"T140/(1+'Property Set Up'!$C$77)^'Projection – Property #1'!T26","v":9311.4069570035426},{"$f":"U140/(1+'Property Set Up'!$C$77)^'Projection – Property #1'!U26","v":10687.434870778625},{"$f":"V140/(1+'Property Set Up'!$C$77)^'Projection – Property #1'!V26","v":12081.435822866983},{"$f":"W140/(1+'Property Set Up'!$C$77)^'Projection – Property #1'!W26","v":13494.247358988541},{"$f":"X140/(1+'Property Set Up'!$C$77)^'Projection – Property #1'!X26","v":10386.240594780114},{"$f":"Y140/(1+'Property Set Up'!$C$77)^'Projection – Property #1'!Y26","v":10989.395391731134},{"$f":"Z140/(1+'Property Set Up'!$C$77)^'Projection – Property #1'!Z26","v":11973.734047852808},{"$f":"AA140/(1+'Property Set Up'!$C$77)^'Projection – Property #1'!AA26","v":12973.85427531944},{"$f":"AB140/(1+'Property Set Up'!$C$77)^'Projection – Property #1'!AB26","v":13990.176313900152},{"$f":"AC140/(1+'Property Set Up'!$C$77)^'Projection – Property #1'!AC26","v":15023.17829438338},{"$f":"AD140/(1+'Property Set Up'!$C$77)^'Projection – Property #1'!AD26","v":16073.38583848121},{"$f":"AE140/(1+'Property Set Up'!$C$77)^'Projection – Property #1'!AE26","v":17141.364209291231},{"$f":"AF140/(1+'Property Set Up'!$C$77)^'Projection – Property #1'!AF26","v":18227.712414566726},{"$f":"AG140/(1+'Property Set Up'!$C$77)^'Projection – Property #1'!AG26","v":19333.058805763114},{"$f":"AH140/(1+'Property Set Up'!$C$77)^'Projection – Property #1'!AH26","v":20458.05782343707},{"$f":"AI140/(1+'Property Set Up'!$C$77)^'Projection – Property #1'!AI26","v":21603.387621865899}]
[null,"Inflation Adjusted Post Tax Cashflow (Per Week)",{"$f":"C140/52","v":0},{"$f":"(D140/52)/(1+Assumptions!$D$9)^'Projection – Property #1'!D26","v":-53.653846153846153},{"$f":"(E140/52)/(1+Assumptions!$D$9)^'Projection – Property #1'!E26","v":-286.33731617647061},{"$f":"(F140/52)/(1+Assumptions!$D$9)^'Projection – Property #1'!F26","v":-227.13200405539291},{"$f":"(G140/52)/(1+Assumptions!$D$9)^'Projection – Property #1'!G26","v":-140.3497522217786},{"$f":"(H140/52)/(1+Assumptions!$D$9)^'Projection – Property #1'!H26","v":-117.02956443171716},{"$f":"(I140/52)/(1+Assumptions!$D$9)^'Projection – Property #1'!I26","v":-93.551089734986789},{"$f":"(J140/52)/(1+Assumptions!$D$9)^'Projection – Property #1'!J26","v":-69.901137945197661},{"$f":"(K140/52)/(1+Assumptions!$D$9)^'Projection – Property #1'!K26","v":-46.066346199238708},{"$f":"(L140/52)/(1+Assumptions!$D$9)^'Projection – Property #1'!L26","v":-22.033170926124139},{"$f":"(M140/52)/(1+Assumptions!$D$9)^'Projection – Property #1'!M26","v":2.2121203289006175},{"$f":"(N140/52)/(1+Assumptions!$D$9)^'Projection – Property #1'!N26","v":26.683457230155351},{"$f":"(O140/52)/(1+Assumptions!$D$9)^'Projection – Property #1'!O26","v":51.394975132495887},{"$f":"(P140/52)/(1+Assumptions!$D$9)^'Projection – Property #1'!P26","v":76.361023722844664},{"$f":"(Q140/52)/(1+Assumptions!$D$9)^'Projection – Property #1'!Q26","v":101.59617582778733},{"$f":"(R140/52)/(1+Assumptions!$D$9)^'Projection – Property #1'!R26","v":127.11523639285758},{"$f":"S140/52","v":205.82802125823736},245.81858393953343,287.788249442032,331.83202652583321,378.04942918131229,296.7962916503497,320.3126295198806,355.98364271648893,393.4319473168776,432.73693673082704,473.98300703226511,517.25951963684429,562.66082230805841,610.28631801803203,660.24057360426764,712.63346205267248,767.58033371608883]
[null,"Negatively Geared Test For Investment",{"$f":"IF(C141<0,C141,0)","v":0},-2790,-14889.540441176474,-11810.864210880431,-7298.1871155324861,-6085.5373504492918,-4864.6566662193127,-3634.8591731502784,-2395.4500023604132,-1145.7248881584553,0,0,0,0,0,0,0,0,0,0,0,0,0,0,0,0,0,0,0,0,0,0,0]
[null,"Positively Geared Test For Investment",{"$f":"IF(C141>0,C141,0)","v":0},0,0,0,0,0,0,0,0,0,115.03025710283212,1387.5397759680782,2672.5387068897862,3970.7732335879227,5283.0011430449413,6609.9922924285938,7952.5290852415428,9311.4069570035426,10687.434870778625,12081.435822866983,13494.247358988541,10386.240594780114,10989.395391731134,11973.734047852808,12973.85427531944,13990.176313900152,15023.17829438338,16073.38583848121,17141.364209291231,18227.712414566726,19333.058805763114,20458.05782343707,21603.387621865899]
[null,"Positive Returns After adjusting for risk free rate (Not inflation adjusted)",{"$f":"IF(C144>0,C140*(1+'Property Set Up'!$C$95)^('Projection – Property #1'!$R26-'Projection – Property #1'!C26),0)","v":0},{"$f":"IF(D144>0,D140*(1+'Property Set Up'!$C$95)^('Projection – Property #1'!$R26-'Projection – Property #1'!D26),0)","v":0},{"$f":"IF(E144>0,E140*(1+'Property Set Up'!$C$95)^('Projection – Property #1'!$R26-'Projection – Property #1'!E26),0)","v":0},{"$f":"IF(F144>0,F140*(1+'Property Set Up'!$C$95)^('Projection – Property #1'!$R26-'Projection – Property #1'!F26),0)","v":0},{"$f":"IF(G144>0,G140*(1+'Property Set Up'!$C$95)^('Projection – Property #1'!$R26-'Projection – Property #1'!G26),0)","v":0},{"$f":"IF(H144>0,H140*(1+'Property Set Up'!$C$95)^('Projection – Property #1'!$R26-'Projection – Property #1'!H26),0)","v":0},{"$f":"IF(I144>0,I140*(1+'Property Set Up'!$C$95)^('Projection – Property #1'!$R26-'Projection – Property #1'!I26),0)","v":0},{"$f":"IF(J144>0,J140*(1+'Property Set Up'!$C$95)^('Projection – Property #1'!$R26-'Projection – Property #1'!J26),0)","v":0},{"$f":"IF(K144>0,K140*(1+'Property Set Up'!$C$95)^('Projection – Property #1'!$R26-'Projection – Property #1'!K26),0)","v":0},{"$f":"IF(L144>0,L140*(1+'Property Set Up'!$C$95)^('Projection – Property #1'!$R26-'Projection – Property #1'!L26),0)","v":0},{"$f":"IF(M144>0,M140*(1+'Property Set Up'!$C$95)^('Projection – Property #1'!$R26-'Projection – Property #1'!M26),0)","v":151.77998135684908},{"$f":"IF(N144>0,N140*(1+'Property Set Up'!$C$95)^('Projection – Property #1'!$R26-'Projection – Property #1'!N26),0)","v":1830.8292672948946},{"$f":"IF(O144>0,O140*(1+'Property Set Up'!$C$95)^('Projection – Property #1'!$R26-'Projection – Property #1'!O26),0)","v":3526.3580672045823},{"$f":"IF(P144>0,P140*(1+'Property Set Up'!$C$95)^('Projection – Property #1'!$R26-'Projection – Property #1'!P26),0)","v":5239.3509546577534},{"$f":"IF(Q144>0,Q140*(1+'Property Set Up'!$C$95)^('Projection – Property #1'!$R26-'Projection – Property #1'!Q26),0)","v":6970.8078134846783},{"$f":"IF(R144>0,R140*(1+'Property Set Up'!$C$95)^('Projection – Property #1'!$R26-'Projection – Property #1'!R26),0)","v":8721.7444538687996},{"$f":"IF(S144>0,S140*(1+'Property Set Up'!$C$95)^('Projection – Property #1'!$R26-'Projection – Property #1'!S26),0)","v":10493.193240616021},{"$f":"IF(T144>0,T140*(1+'Property Set Up'!$C$95)^('Projection – Property #1'!$R26-'Projection – Property #1'!T26),0)","v":12286.203734002056},{"$f":"IF(U144>0,U140*(1+'Property Set Up'!$C$95)^('Projection – Property #1'!$R26-'Projection – Property #1'!U26),0)","v":14101.843343609988},{"$f":"IF(V144>0,V140*(1+'Property Set Up'!$C$95)^('Projection – Property #1'!$R26-'Projection – Property #1'!V26),0)","v":15941.197995579998},{"$f":"IF(W144>0,W140*(1+'Property Set Up'!$C$95)^('Projection – Property #1'!$R26-'Projection – Property #1'!W26),0)","v":17805.372813702626},{"$f":"IF(X144>0,X140*(1+'Property Set Up'!$C$95)^('Projection – Property #1'!$R26-'Projection – Property #1'!X26),0)","v":13704.423892873852},{"$f":"IF(Y144>0,Y140*(1+'Property Set Up'!$C$95)^('Projection – Property #1'!$R26-'Projection – Property #1'!Y26),0)","v":14500.273838290224},{"$f":"IF(Z144>0,Z140*(1+'Property Set Up'!$C$95)^('Projection – Property #1'!$R26-'Projection – Property #1'!Z26),0)","v":15799.08779070462},{"$f":"IF(AA144>0,AA140*(1+'Property Set Up'!$C$95)^('Projection – Property #1'!$R26-'Projection – Property #1'!AA26),0)","v":17118.725191356447},{"$f":"IF(AB144>0,AB140*(1+'Property Set Up'!$C$95)^('Projection – Property #1'!$R26-'Projection – Property #1'!AB26),0)","v":18459.740537696463},{"$f":"IF(AC144>0,AC140*(1+'Property Set Up'!$C$95)^('Projection – Property #1'!$R26-'Projection – Property #1'!AC26),0)","v":19822.764713145974},{"$f":"IF(AD144>0,AD140*(1+'Property Set Up'!$C$95)^('Projection – Property #1'!$R26-'Projection – Property #1'!AD26),0)","v":21208.491264391472},{"$f":"IF(AE144>0,AE140*(1+'Property Set Up'!$C$95)^('Projection – Property #1'!$R26-'Projection – Property #1'!AE26),0)","v":22617.666044085774},{"$f":"IF(AF144>0,AF140*(1+'Property Set Up'!$C$95)^('Projection – Property #1'!$R26-'Projection – Property #1'!AF26),0)","v":24051.07943023826},{"$f":"IF(AG144>0,AG140*(1+'Property Set Up'!$C$95)^('Projection – Property #1'!$R26-'Projection – Property #1'!AG26),0)","v":25509.560519250081},{"$f":"IF(AH144>0,AH140*(1+'Property Set Up'!$C$95)^('Projection – Property #1'!$R26-'Projection – Property #1'!AH26),0)","v":26993.972831537456},{"$f":"IF(AI144>0,AI140*(1+'Property Set Up'!$C$95)^('Projection – Property #1'!$R26-'Projection – Property #1'!AI26),0)","v":28505.211177267371}]
[null,"Inflation adjusted Positive Returns after risk free rate",{"$f":"C145/(1+'Property Set Up'!$C$77)^('Projection – Property #1'!C26)","v":0},{"$f":"D145/(1+'Property Set Up'!$C$77)^('Projection – Property #1'!D26)","v":0},{"$f":"E145/(1+'Property Set Up'!$C$77)^('Projection – Property #1'!E26)","v":0},{"$f":"F145/(1+'Property Set Up'!$C$77)^('Projection – Property #1'!F26)","v":0},{"$f":"G145/(1+'Property Set Up'!$C$77)^('Projection – Property #1'!G26)","v":0},{"$f":"H145/(1+'Property Set Up'!$C$77)^('Projection – Property #1'!H26)","v":0},{"$f":"I145/(1+'Property Set Up'!$C$77)^('Projection – Property #1'!I26)","v":0},{"$f":"J145/(1+'Property Set Up'!$C$77)^('Projection – Property #1'!J26)","v":0},{"$f":"K145/(1+'Property Set Up'!$C$77)^('Projection – Property #1'!K26)","v":0},{"$f":"L145/(1+'Property Set Up'!$C$77)^('Projection – Property #1'!L26)","v":0},{"$f":"M145/(1+'Property Set Up'!$C$77)^('Projection – Property #1'!M26)","v":127.00269865439739},{"$f":"N145/(1+'Property Set Up'!$C$77)^('Projection – Property #1'!N26)","v":1501.9176767870431},{"$f":"O145/(1+'Property Set Up'!$C$77)^('Projection – Property #1'!O26)","v":2836.1194560610961},{"$f":"P145/(1+'Property Set Up'!$C$77)^('Projection – Property #1'!P26)","v":4131.192472224875},{"$f":"Q145/(1+'Property Set Up'!$C$77)^('Projection – Property #1'!Q26)","v":5388.6611659058399},{"$f":"R145/(1+'Property Set Up'!$C$77)^('Projection – Property #1'!R26)","v":6609.9922924285938},{"$f":"S145/(1+'Property Set Up'!$C$77)^('Projection – Property #1'!S26)","v":7796.5971423936689},{"$f":"T145/(1+'Property Set Up'!$C$77)^('Projection – Property #1'!T26)","v":8949.8336764739943},{"$f":"U145/(1+'Property Set Up'!$C$77)^('Projection – Property #1'!U26)","v":10071.008577751605},{"$f":"V145/(1+'Property Set Up'!$C$77)^('Projection – Property #1'!V26)","v":11161.379224788539},{"$f":"W145/(1+'Property Set Up'!$C$77)^('Projection – Property #1'!W26)","v":12222.155588501895},{"$f":"X145/(1+'Property Set Up'!$C$77)^('Projection – Property #1'!X26)","v":9222.6844166652354},{"$f":"Y145/(1+'Property Set Up'!$C$77)^('Projection – Property #1'!Y26)","v":9566.9300150843792},{"$f":"Z145/(1+'Property Set Up'!$C$77)^('Projection – Property #1'!Z26)","v":10219.466717033571},{"$f":"AA145/(1+'Property Set Up'!$C$77)^('Projection – Property #1'!AA26)","v":10855.940883538044},{"$f":"AB145/(1+'Property Set Up'!$C$77)^('Projection – Property #1'!AB26)","v":11476.817354061659},{"$f":"AC145/(1+'Property Set Up'!$C$77)^('Projection – Property #1'!AC26)","v":12082.587031881123},{"$f":"AD145/(1+'Property Set Up'!$C$77)^('Projection – Property #1'!AD26)","v":12673.755042133274},{"$f":"AE145/(1+'Property Set Up'!$C$77)^('Projection – Property #1'!AE26)","v":13250.832058025286},{"$f":"AF145/(1+'Property Set Up'!$C$77)^('Projection – Property #1'!AF26)","v":13814.327994378027},{"$f":"AG145/(1+'Property Set Up'!$C$77)^('Projection – Property #1'!AG26)","v":14364.747468416244},{"$f":"AH145/(1+'Property Set Up'!$C$77)^('Projection – Property #1'!AH26)","v":14902.586578206476},{"$f":"AI145/(1+'Property Set Up'!$C$77)^('Projection – Property #1'!AI26)","v":15428.330661955024}]
[null,"Uninflation Adjusted Cululative Cashflow",{"$f":"C140","v":0},{"$f":"IF(C147>0,(C147*(1+Assumptions!$D19)+'Projection – Property #1'!D140),(C147+'Projection – Property #1'!D140))","v":-2790},{"$f":"IF(D147>0,(D147*(1+Assumptions!$D19)+'Projection – Property #1'!E140),(D147+'Projection – Property #1'!E140))","v":-17977.331250000003},{"$f":"IF(E147>0,(E147*(1+Assumptions!$D19)+'Projection – Property #1'!F140),(E147+'Projection – Property #1'!F140))","v":-30265.354375000003},{"$f":"IF(F147>0,(F147*(1+Assumptions!$D19)+'Projection – Property #1'!G140),(F147+'Projection – Property #1'!G140))","v":-38010.248927499997},{"$f":"IF(G147>0,(G147*(1+Assumptions!$D19)+'Projection – Property #1'!H140),(G147+'Projection – Property #1'!H140))","v":-44597.430266507501},{"$f":"IF(H147>0,(H147*(1+Assumptions!$D19)+'Projection – Property #1'!I140),(H147+'Projection – Property #1'!I140))","v":-49968.404305839154},{"$f":"IF(I147>0,(I147*(1+Assumptions!$D19)+'Projection – Property #1'!J140),(I147+'Projection – Property #1'!J140))","v":-54061.846105958015},{"$f":"IF(J147>0,(J147*(1+Assumptions!$D19)+'Projection – Property #1'!K140),(J147+'Projection – Property #1'!K140))","v":-56813.465191239855},{"$f":"IF(K147>0,(K147*(1+Assumptions!$D19)+'Projection – Property #1'!L140),(K147+'Projection – Property #1'!L140))","v":-58155.864504498481},{"$f":"IF(L147>0,(L147*(1+Assumptions!$D19)+'Projection – Property #1'!M140),(L147+'Projection – Property #1'!M140))","v":-58018.392699068172},{"$f":"IF(M147>0,(M147*(1+Assumptions!$D19)+'Projection – Property #1'!N140),(M147+'Projection – Property #1'!N140))","v":-56326.989454642309},{"$f":"IF(N147>0,(N147*(1+Assumptions!$D19)+'Projection – Property #1'!O140),(N147+'Projection – Property #1'!O140))","v":-53004.023488305284},{"$f":"IF(O147>0,(O147*(1+Assumptions!$D19)+'Projection – Property #1'!P140),(O147+'Projection – Property #1'!P140))","v":-47968.122916738816},{"$f":"IF(P147>0,(P147*(1+Assumptions!$D19)+'Projection – Property #1'!Q140),(P147+'Projection – Property #1'!Q140))","v":-41133.997609400896},{"$f":"IF(Q147>0,(Q147*(1+Assumptions!$D19)+'Projection – Property #1'!R140),(Q147+'Projection – Property #1'!R140))","v":-32412.253155532097},{"$f":"IF(R147>0,(R147*(1+Assumptions!$D19)+'Projection – Property #1'!S140),(R147+'Projection – Property #1'!S140))","v":-21709.196050103754},{"$f":"IF(S147>0,(S147*(1+Assumptions!$D19)+'Projection – Property #1'!T140),(S147+'Projection – Property #1'!T140))","v":-8926.6296852480154},{"$f":"IF(T147>0,(T147*(1+Assumptions!$D19)+'Projection – Property #1'!U140),(T147+'Projection – Property #1'!U140))","v":6038.3592857376498},{"$f":"IF(U147>0,(U147*(1+Assumptions!$D19)+'Projection – Property #1'!V140),(U147+'Projection – Property #1'!V140))","v":23414.391850795731},{"$f":"IF(V147>0,(V147*(1+Assumptions!$D19)+'Projection – Property #1'!W140),(V147+'Projection – Property #1'!W140))","v":43541.250005239883},{"$f":"IF(W147>0,(W147*(1+Assumptions!$D19)+'Projection – Property #1'!X140),(W147+'Projection – Property #1'!X140))","v":59845.482171162868},{"$f":"IF(X147>0,(X147*(1+Assumptions!$D19)+'Projection – Property #1'!Y140),(X147+'Projection – Property #1'!Y140))","v":77698.648549619917},{"$f":"IF(Y147>0,(Y147*(1+Assumptions!$D19)+'Projection – Property #1'!Z140),(Y147+'Projection – Property #1'!Z140))","v":97763.770941869734},{"$f":"IF(Z147>0,(Z147*(1+Assumptions!$D19)+'Projection – Property #1'!AA140),(Z147+'Projection – Property #1'!AA140))","v":120177.50762118476},{"$f":"IF(AA147>0,(AA147*(1+Assumptions!$D19)+'Projection – Property #1'!AB140),(AA147+'Projection – Property #1'!AB140))","v":145083.37848361148},{"$f":"IF(AB147>0,(AB147*(1+Assumptions!$D19)+'Projection – Property #1'!AC140),(AB147+'Projection – Property #1'!AC140))","v":172632.1624189615},{"$f":"IF(AC147>0,(AC147*(1+Assumptions!$D19)+'Projection – Property #1'!AD140),(AC147+'Projection – Property #1'!AD140))","v":202982.30068845663},{"$f":"IF(AD147>0,(AD147*(1+Assumptions!$D19)+'Projection – Property #1'!AE140),(AD147+'Projection – Property #1'!AE140))","v":236300.3094622448},{"$f":"IF(AE147>0,(AE147*(1+Assumptions!$D19)+'Projection – Property #1'!AF140),(AE147+'Projection – Property #1'!AF140))","v":272761.20418842736},{"$f":"IF(AF147>0,(AF147*(1+Assumptions!$D19)+'Projection – Property #1'!AG140),(AF147+'Projection – Property #1'!AG140))","v":312548.93809961784},{"$f":"IF(AG147>0,(AG147*(1+Assumptions!$D19)+'Projection – Property #1'!AH140),(AG147+'Projection – Property #1'!AH140))","v":355856.85688834917},{"$f":"IF(AH147>0,(AH147*(1+Assumptions!$D19)+'Projection – Property #1'!AI140),(AH147+'Projection – Property #1'!AI140))","v":402888.1713793528}]
[null,"Inflation Adjusted Cululative Cashflow",{"$f":"C147/(1+Assumptions!$D9)^'Projection – Property #1'!C26","v":0},{"$f":"D147/(1+Assumptions!$D9)^'Projection – Property #1'!D26","v":-2790},{"$f":"E147/(1+Assumptions!$D9)^'Projection – Property #1'!E26","v":-17624.834558823532},{"$f":"F147/(1+Assumptions!$D9)^'Projection – Property #1'!F26","v":-29090.11377835448},{"$f":"G147/(1+Assumptions!$D9)^'Projection – Property #1'!G26","v":-35817.906506076091},{"$f":"H147/(1+Assumptions!$D9)^'Projection – Property #1'!H26","v":-41201.131964249384},{"$f":"I147/(1+Assumptions!$D9)^'Projection – Property #1'!I26","v":-45257.923297836351},{"$f":"J147/(1+Assumptions!$D9)^'Projection – Property #1'!J26","v":-48005.372210244743},{"$f":"K147/(1+Assumptions!$D9)^'Projection – Property #1'!K26","v":-49459.54040456115},{"$f":"L147/(1+Assumptions!$D9)^'Projection – Property #1'!L26","v":-49635.470382826243},{"$f":"M147/(1+Assumptions!$D9)^'Projection – Property #1'!M26","v":-48547.195608413094},{"$f":"N147/(1+Assumptions!$D9)^'Projection – Property #1'!N26","v":-46207.750036201622},{"$f":"O147/(1+Assumptions!$D9)^'Projection – Property #1'!O26","v":-42629.177014876514},{"$f":"P147/(1+Assumptions!$D9)^'Projection – Property #1'!P26","v":-37822.537565310617},{"$f":"Q147/(1+Assumptions!$D9)^'Projection – Property #1'!Q26","v":-31797.918038632135},{"$f":"R147/(1+Assumptions!$D9)^'Projection – Property #1'!R26","v":-24564.437157210752},{"$f":"S147/(1+Assumptions!$D9)^'Projection – Property #1'!S26","v":-16130.25244143567},{"$f":"T147/(1+Assumptions!$D9)^'Projection – Property #1'!T26","v":-6502.5660247961314},{"$f":"U147/(1+Assumptions!$D9)^'Projection – Property #1'!U26","v":4312.3701405863385},{"$f":"V147/(1+Assumptions!$D9)^'Projection – Property #1'!V26","v":16393.805963453324},{"$f":"W147/(1+Assumptions!$D9)^'Projection – Property #1'!W26","v":29888.053322441861},{"$f":"X147/(1+Assumptions!$D9)^'Projection – Property #1'!X26","v":40274.293917221978},{"$f":"Y147/(1+Assumptions!$D9)^'Projection – Property #1'!Y26","v":51263.689308953115},{"$f":"Z147/(1+Assumptions!$D9)^'Projection – Property #1'!Z26","v":63237.423356805913},{"$f":"AA147/(1+Assumptions!$D9)^'Projection – Property #1'!AA26","v":76211.277632125362},{"$f":"AB147/(1+Assumptions!$D9)^'Projection – Property #1'!AB26","v":90201.453946025518},{"$f":"AC147/(1+Assumptions!$D9)^'Projection – Property #1'!AC26","v":105224.6322404089},{"$f":"AD147/(1+Assumptions!$D9)^'Projection – Property #1'!AD26","v":121298.01807889011},{"$f":"AE147/(1+Assumptions!$D9)^'Projection – Property #1'!AE26","v":138439.38228818134},{"$f":"AF147/(1+Assumptions!$D9)^'Projection – Property #1'!AF26","v":156667.09470274806},{"$f":"AG147/(1+Assumptions!$D9)^'Projection – Property #1'!AG26","v":176000.1535085112},{"$f":"AH147/(1+Assumptions!$D9)^'Projection – Property #1'!AH26","v":196458.21133194826},{"$f":"AI147/(1+Assumptions!$D9)^'Projection – Property #1'!AI26","v":218061.59895381422}]
[null,"In Range For Minimum Cashflow Calculation?",null,{"$f":"IF('My Wealth Plan Summary'!$C8-'Projection – Property #1'!D32<0,\"No\",\"Yes\")","v":"Yes"},{"$f":"IF('My Wealth Plan Summary'!$C8-'Projection – Property #1'!E32<0,\"No\",\"Yes\")","v":"Yes"},{"$f":"IF('My Wealth Plan Summary'!$C8-'Projection – Property #1'!F32<0,\"No\",\"Yes\")","v":"Yes"},{"$f":"IF('My Wealth Plan Summary'!$C8-'Projection – Property #1'!G32<0,\"No\",\"Yes\")","v":"Yes"},{"$f":"IF('My Wealth Plan Summary'!$C8-'Projection – Property #1'!H32<0,\"No\",\"Yes\")","v":"Yes"},{"$f":"IF('My Wealth Plan Summary'!$C8-'Projection – Property #1'!I32<0,\"No\",\"Yes\")","v":"Yes"},{"$f":"IF('My Wealth Plan Summary'!$C8-'Projection – Property #1'!J32<0,\"No\",\"Yes\")","v":"Yes"},{"$f":"IF('My Wealth Plan Summary'!$C8-'Projection – Property #1'!K32<0,\"No\",\"Yes\")","v":"Yes"},{"$f":"IF('My Wealth Plan Summary'!$C8-'Projection – Property #1'!L32<0,\"No\",\"Yes\")","v":"Yes"},{"$f":"IF('My Wealth Plan Summary'!$C8-'Projection – Property #1'!M32<0,\"No\",\"Yes\")","v":"Yes"},{"$f":"IF('My Wealth Plan Summary'!$C8-'Projection – Property #1'!N32<0,\"No\",\"Yes\")","v":"Yes"},{"$f":"IF('My Wealth Plan Summary'!$C8-'Projection – Property #1'!O32<0,\"No\",\"Yes\")","v":"Yes"},{"$f":"IF('My Wealth Plan Summary'!$C8-'Projection – Property #1'!P32<0,\"No\",\"Yes\")","v":"Yes"},{"$f":"IF('My Wealth Plan Summary'!$C8-'Projection – Property #1'!Q32<0,\"No\",\"Yes\")","v":"Yes"},{"$f":"IF('My Wealth Plan Summary'!$C8-'Projection – Property #1'!R32<0,\"No\",\"Yes\")","v":"Yes"},{"$f":"IF('My Wealth Plan Summary'!$C8-'Projection – Property #1'!S32<0,\"No\",\"Yes\")","v":"Yes"},{"$f":"IF('My Wealth Plan Summary'!$C8-'Projection – Property #1'!T32<0,\"No\",\"Yes\")","v":"Yes"},{"$f":"IF('My Wealth Plan Summary'!$C8-'Projection – Property #1'!U32<0,\"No\",\"Yes\")","v":"Yes"},{"$f":"IF('My Wealth Plan Summary'!$C8-'Projection – Property #1'!V32<0,\"No\",\"Yes\")","v":"Yes"},{"$f":"IF('My Wealth Plan Summary'!$C8-'Projection – Property #1'!W32<0,\"No\",\"Yes\")","v":"Yes"},{"$f":"IF('My Wealth Plan Summary'!$C8-'Projection – Property #1'!X32<0,\"No\",\"Yes\")","v":"No"},{"$f":"IF('My Wealth Plan Summary'!$C8-'Projection – Property #1'!Y32<0,\"No\",\"Yes\")","v":"No"},{"$f":"IF('My Wealth Plan Summary'!$C8-'Projection – Property #1'!Z32<0,\"No\",\"Yes\")","v":"No"},{"$f":"IF('My Wealth Plan Summary'!$C8-'Projection – Property #1'!AA32<0,\"No\",\"Yes\")","v":"No"},{"$f":"IF('My Wealth Plan Summary'!$C8-'Projection – Property #1'!AB32<0,\"No\",\"Yes\")","v":"No"},{"$f":"IF('My Wealth Plan Summary'!$C8-'Projection – Property #1'!AC32<0,\"No\",\"Yes\")","v":"No"},{"$f":"IF('My Wealth Plan Summary'!$C8-'Projection – Property #1'!AD32<0,\"No\",\"Yes\")","v":"No"},{"$f":"IF('My Wealth Plan Summary'!$C8-'Projection – Property #1'!AE32<0,\"No\",\"Yes\")","v":"No"},{"$f":"IF('My Wealth Plan Summary'!$C8-'Projection – Property #1'!AF32<0,\"No\",\"Yes\")","v":"No"},{"$f":"IF('My Wealth Plan Summary'!$C8-'Projection – Property #1'!AG32<0,\"No\",\"Yes\")","v":"No"},{"$f":"IF('My Wealth Plan Summary'!$C8-'Projection – Property #1'!AH32<0,\"No\",\"Yes\")","v":"No"},{"$f":"IF('My Wealth Plan Summary'!$C8-'Projection – Property #1'!AI32<0,\"No\",\"Yes\")","v":"No"}]
[null,"Minimum Cashflow Position",null,{"$f":"IF(D149=\"Yes\",D148,0)","v":-2790},{"$f":"IF(E149=\"Yes\",E148,0)","v":-17624.834558823532},-29090.11377835448,-35817.906506076091,-41201.131964249384,-45257.923297836351,-48005.372210244743,-49459.54040456115,-49635.470382826243,-48547.195608413094,-46207.750036201622,-42629.177014876514,-37822.537565310617,-31797.918038632135,{"$f":"IF(R149=\"Yes\",R148,0)","v":-24564.437157210752},-16130.25244143567,-6502.5660247961314,4312.3701405863385,16393.805963453324,29888.053322441861,0,0,0,0,0,0,0,0,0,0,0,0]
[null,"Net Position (Equity + Cashflow)",null,{"$f":"D147+E39-E40","v":56710},{"$f":"E147+F39-F40","v":75647.668749999953},99190.895625000005,129068.81357250002,161985.58535849245,198093.76210041088,237553.42862060468,280532.57327165105,327207.47588153707,377763.11470626923,432393.59332096204,491302.58842607937,554703.8195933653,622821.54202620848,695891.06346185785,774159.28639815561,857885.27688542427,947340.8611849437,1042932.0188449624,1145184.7583491148,1247721.1659322318,1356118.1164987423,1471254.2122884484,1593492.4710350921,1723214.0900682146,1860819.4095827946,2006728.9102104818,2161384.2494603712,2325249.3411864606,2498811.4819475524,2682582.5279286806,{"$f":"AI148+AJ39-AJ40","v":218061.59895381422}]
[null,"Inflation Adjusted Post Tax Cashflow","Max Position",{"$f":"MATCH(MAX(C141:R141),C141:R141,0)","v":16},"Min Position",{"$f":"MATCH(MIN(C141:R141),C141:R141,0)","v":3},"Max/Min Bigger",{"$f":"IF(ABS(MIN(C141:R141))>ABS(MAX(C141:R141)),\"Min\",\"Max\")","v":"Min"},"Cumulative","Max Position",{"$f":"MATCH(MAX(C148:R148),C148:R148,0)","v":1},"Min Position",{"$f":"MATCH(MIN(C148:R148),C148:R148,0)","v":10},"Ratio",{"$f":"IF(H152=\"Max\",INDEX(C141:R141,D152)/INDEX(C148:R148,K152),INDEX(C141:R141,F152)/INDEX(C148:R148,M152))","v":0.29997782485664165},"Secondary",{"$f":"INDEX(C141:R141,F152)/O152","v":-49635.470382826243},{"$f":"INDEX(C141:R141,D152)/O152","v":22034.93640100726}]
[null,"Inflation Adjusted Gross Return Per Week",null,{"$f":"((MAX(0,D140)+(D40-E40)+(E39-D39))/(1+Assumptions!$D$9)^'Projection – Property #1'!D26)/52","v":625},{"$f":"((MAX(0,E140)+(E40-F40)+(F39-E39))/(1+Assumptions!$D$9)^'Projection – Property #1'!E26)/52","v":643.38235294117646},{"$f":"((MAX(0,F140)+(F40-G40)+(G39-F39))/(1+Assumptions!$D$9)^'Projection – Property #1'!F26)/52","v":662.30536332179929},{"$f":"((MAX(0,G140)+(G40-H40)+(H39-G39))/(1+Assumptions!$D$9)^'Projection – Property #1'!G26)/52","v":681.78493283126409},{"$f":"((MAX(0,H140)+(H40-I40)+(I39-H39))/(1+Assumptions!$D$9)^'Projection – Property #1'!H26)/52","v":701.83743085571291},{"$f":"((MAX(0,I140)+(I40-J40)+(J39-I39))/(1+Assumptions!$D$9)^'Projection – Property #1'!I26)/52","v":722.47970823382377},{"$f":"((MAX(0,J140)+(J40-K40)+(K39-J39))/(1+Assumptions!$D$9)^'Projection – Property #1'!J26)/52","v":743.72911141717111},{"$f":"((MAX(0,K140)+(K40-L40)+(L39-K39))/(1+Assumptions!$D$9)^'Projection – Property #1'!K26)/52","v":765.60349704708835},{"$f":"((MAX(0,L140)+(L40-M40)+(M39-L39))/(1+Assumptions!$D$9)^'Projection – Property #1'!L26)/52","v":788.12124696023761},{"$f":"((MAX(0,M140)+(M40-N40)+(N39-M39))/(1+Assumptions!$D$9)^'Projection – Property #1'!M26)/52","v":813.51340396444039},{"$f":"((MAX(0,N140)+(N40-O40)+(O39-N39))/(1+Assumptions!$D$9)^'Projection – Property #1'!N26)/52","v":861.84654332556431},{"$f":"((MAX(0,O140)+(O40-P40)+(P39-O39))/(1+Assumptions!$D$9)^'Projection – Property #1'!O26)/52","v":911.12168140717893},{"$f":"((MAX(0,P140)+(P40-Q40)+(Q39-P39))/(1+Assumptions!$D$9)^'Projection – Property #1'!P26)/52","v":961.3738095938445},{"$f":"((MAX(0,Q140)+(Q40-R40)+(R39-Q39))/(1+Assumptions!$D$9)^'Projection – Property #1'!Q26)/52","v":1012.6387495185221},{"$f":"((MAX(0,R140)+(R40-S40)+(S39-R39))/(1+Assumptions!$D$9)^'Projection – Property #1'!R26)/52","v":1064.9531798980247}]
[null,"Inflation Adjusted Input Per Week",null,{"$f":"MAX(-D142,0)","v":53.653846153846153},{"$f":"MAX(-E142,0)","v":286.33731617647061},227.13200405539291,140.3497522217786,117.02956443171716,93.551089734986789,69.901137945197661,46.066346199238708,22.033170926124139,0,0,0,0,0,0,0,0,0,0,0,0,0,0,0,0,0,0,0,0,0,0,0]
[]
[null,"Hidden Values"]
[null,"Name of 1st Chart",null,{"$f":"CONCATENATE('Property Set Up'!C12,\" Cashflow\")","v":"Property #1 Cashflow"}]
[null,"Name of 2nd Chart",null,{"$f":"CONCATENATE('Property Set Up'!C12,\" Return vs Cash Input\")","v":"Property #1 Return vs Cash Input"}]
[null,"Name of 3rd Chart",null,{"$f":"CONCATENATE('Property Set Up'!C12,\" Net Equity (Including Cashflow)\")","v":"Property #1 Net Equity (Including Cashflow)"}]
[null,"Name of 4th Chart",null,{"$f":"CONCATENATE('Property Set Up'!C12,\" Cumulative Cashflow\")","v":"Property #1 Cumulative Cashflow"}]
[]
[null,"REVOLVING CREDIT"]
[]
[]
[null,"Top Up Amount Per week",null,158]
[null,"Investor Top Up ",null,{"$f":"D165*52","v":8216},{"$f":"D166","v":8216},{"$f":"E166","v":8216},8216,8216,8216,8216,8216,8216,8216,8216,8216,8216,8216,8216]
[null,"Investment Cashflow Net of Investor Contribution",null,{"$f":"D140+D166","v":5426},{"$f":"E140+E166","v":-6971.3312500000029},-4072.0231249999997,471.1054475000019,1628.818660992496,2845.0259606683467,4122.5581998811394,5464.3809147181601,6873.6006867413744,8353.4718054303085,9907.4032444258628,11538.965966337026,13251.900571566468,15050.125307337919,16937.7444538688]
[null,"Revolving Credit Balance",null,{"$f":"D167","v":5426},{"$f":"D168+E167-IF((D168+E167)<0,500,0)","v":-2045.3312500000029},-6617.3543750000026,-6646.2489275000007,-5517.4302665075047,-3172.404305839158,950.1538940419814,6414.5348087601415,13288.135495501516,21641.607300931824,31549.010545357687,43087.976511694709,56339.877083261177,71390.002390599097,88327.746844467896,{"$f":"R168+S167","v":88327.746844467896},{"$f":"S168+T167","v":88327.746844467896},88327.746844467896,88327.746844467896,88327.746844467896,88327.746844467896,88327.746844467896,88327.746844467896,88327.746844467896,88327.746844467896,88327.746844467896,88327.746844467896,88327.746844467896,88327.746844467896,88327.746844467896,88327.746844467896,88327.746844467896]

{"sheet":"Projection – Property #2","index":5,"n_rows":171,"n_cols":35,"rows_kept":171,"cut":false,"hidden":false,"merged":[]}
[]
[]
[]
[]
[]
[null,{"$f":"UPPER(CONCATENATE('Property Set Up'!D12,\" Return on Investment\"))","v":"PROPERTY #2 RETURN ON INVESTMENT"}]
[]
[null,"Return Summary"]
[null,"Inflation Adjusted Capital Gains",null,{"$f":"(S39-D39)/(1+'Property Set Up'!$D$77)^S26","v":{"$error":"#VALUE!"}},{"$f":"D9/$D$13","v":{"$error":"#VALUE!"}}]
[null,"Inflation Adjusted Instant Equity",null,{"$f":"IF(ISBLANK('Property Set Up'!D24),0,MAX(0,('Property Set Up'!D23-'Property Set Up'!D24)/(1+Assumptions!E9)^15))","v":0},{"$f":"D10/$D$13","v":{"$error":"#VALUE!"}}]
[null,"Inflation Adjusted Debt Repayments",null,{"$f":"SUM(D41:R41)","v":0},{"$f":"D11/D13","v":{"$error":"#VALUE!"}}]
[null,"Inflation Adjusted Cashflow",null,{"$f":"SUM(C146:R146)","v":0},{"$f":"D12/$D$13","v":{"$error":"#VALUE!"}}]
[null,"Total Returns",null,{"$f":"SUM(D9:D12)","v":{"$error":"#VALUE!"}}]
[]
[null,"Investment Summary"]
[null,"Equity Investment",null,{"$f":"MAX('Property Set Up'!$D$26,'Property Set Up'!$D$27*MIN('Property Set Up'!D23,'Property Set Up'!$D$24)+'Property Set Up'!$D$25)","v":3000},{"$f":"D16/D18","v":2.8739535712275374E-2}]
[null,"Cashflow Investment",null,{"$f":"-SUM(C143:R143)","v":101385.81993927706},{"$f":"D17/D18","v":0.97126046428772461}]
[null,"Total Investment",null,{"$f":"SUM(D16:D17)","v":104385.81993927706}]
[]
[null,"Return on Investment",null,{"$f":"D13/D18","v":{"$error":"#VALUE!"}}]
[]
[]
[null,{"$f":"UPPER(CONCATENATE('Property Set Up'!D12,\" Cashflow Projection & Analysis\"))","v":"PROPERTY #2 CASHFLOW PROJECTION & ANALYSIS"}]
[]
[]
[null,"Inflation Adjusted Years",null,0,{"$f":"D26+1","v":1},{"$f":"E26+1","v":2},3,4,5,6,7,8,9,10,11,12,13,14,15,{"$f":"S26+1","v":16},17,18,19,20,21,22,23,24,25,26,27,28,29,30,31]
[null,"P+I Starting Period (Months) – Construction",null,{"$f":"IF(D67>=12,0,1)","v":0},{"$f":"IF(E67=12,0,D28+1)","v":1},{"$f":"E28+1","v":13},{"$f":"F28+1","v":25},37,49,61,73,85,97,109,121,133,145,157,169,{"$f":"S28+1","v":181},193,205,217,229,241,253,265,277,289,301,313,325,337,349,361]
[null,"P+I Ending Period (Months) – Construction",null,{"$f":"IF(D27=0,0,12-D67)","v":0},{"$f":"IF(D28=0,12-E67,E27+11)","v":12},{"$f":"F27+11","v":24},36,48,60,72,84,96,108,120,132,144,156,168,180,{"$f":"T27+11","v":192},204,216,228,240,252,264,276,{"$f":"AB27+11","v":288},300,312,324,336,348,360,372]
[null,"Months Left on Principal",null,{"$f":"MAX(0,'Property Set Up'!$D39*12-'Projection – Property #2'!C28)","v":300},{"$f":"MAX(0,'Property Set Up'!$D39*12-'Projection – Property #2'!D28)","v":300},{"$f":"MAX(0,'Property Set Up'!$D39*12-'Projection – Property #2'!E28)","v":288},{"$f":"MAX(0,'Property Set Up'!$D39*12-'Projection – Property #2'!F28)","v":276},{"$f":"MAX(0,'Property Set Up'!$D39*12-'Projection – Property #2'!G28)","v":264},{"$f":"MAX(0,'Property Set Up'!$D39*12-'Projection – Property #2'!H28)","v":252},{"$f":"MAX(0,'Property Set Up'!$D39*12-'Projection – Property #2'!I28)","v":240},{"$f":"MAX(0,'Property Set Up'!$D39*12-'Projection – Property #2'!J28)","v":228},{"$f":"MAX(0,'Property Set Up'!$D39*12-'Projection – Property #2'!K28)","v":216},{"$f":"MAX(0,'Property Set Up'!$D39*12-'Projection – Property #2'!L28)","v":204},{"$f":"MAX(0,'Property Set Up'!$D39*12-'Projection – Property #2'!M28)","v":192},{"$f":"MAX(0,'Property Set Up'!$D39*12-'Projection – Property #2'!N28)","v":180},{"$f":"MAX(0,'Property Set Up'!$D39*12-'Projection – Property #2'!O28)","v":168},{"$f":"MAX(0,'Property Set Up'!$D39*12-'Projection – Property #2'!P28)","v":156},{"$f":"MAX(0,'Property Set Up'!$D39*12-'Projection – Property #2'!Q28)","v":144},{"$f":"MAX(0,'Property Set Up'!$D39*12-'Projection – Property #2'!R28)","v":132},{"$f":"MAX(0,'Property Set Up'!$D39*12-'Projection – Property #2'!S28)","v":120},{"$f":"MAX(0,'Property Set Up'!$D39*12-'Projection – Property #2'!T28)","v":108},{"$f":"MAX(0,'Property Set Up'!$D39*12-'Projection – Property #2'!U28)","v":96},{"$f":"MAX(0,'Property Set Up'!$D39*12-'Projection – Property #2'!V28)","v":84},{"$f":"MAX(0,'Property Set Up'!$D39*12-'Projection – Property #2'!W28)","v":72},{"$f":"MAX(0,'Property Set Up'!$D39*12-'Projection – Property #2'!X28)","v":60},{"$f":"MAX(0,'Property Set Up'!$D39*12-'Projection – Property #2'!Y28)","v":48},{"$f":"MAX(0,'Property Set Up'!$D39*12-'Projection – Property #2'!Z28)","v":36},{"$f":"MAX(0,'Property Set Up'!$D39*12-'Projection – Property #2'!AA28)","v":24},{"$f":"MAX(0,'Property Set Up'!$D39*12-'Projection – Property #2'!AB28)","v":12},{"$f":"MAX(0,'Property Set Up'!$D39*12-'Projection – Property #2'!AC28)","v":0},{"$f":"MAX(0,'Property Set Up'!$D39*12-'Projection – Property #2'!AD28)","v":0},{"$f":"MAX(0,'Property Set Up'!$D39*12-'Projection – Property #2'!AE28)","v":0},{"$f":"MAX(0,'Property Set Up'!$D39*12-'Projection – Property #2'!AF28)","v":0},{"$f":"MAX(0,'Property Set Up'!$D39*12-'Projection – Property #2'!AG28)","v":0},{"$f":"MAX(0,'Property Set Up'!$D39*12-'Projection – Property #2'!AH28)","v":0}]
[null,"Months Left on Principal (Years)",5,{"$f":"'Projection – Property #2'!D29/12","v":25},{"$f":"'Projection – Property #2'!E29/12","v":25},{"$f":"'Projection – Property #2'!F29/12","v":24},{"$f":"'Projection – Property #2'!G29/12","v":23},{"$f":"'Projection – Property #2'!H29/12","v":22},{"$f":"'Projection – Property #2'!I29/12","v":21},{"$f":"'Projection – Property #2'!J29/12","v":20},{"$f":"'Projection – Property #2'!K29/12","v":19},{"$f":"'Projection – Property #2'!L29/12","v":18},{"$f":"'Projection – Property #2'!M29/12","v":17},{"$f":"'Projection – Property #2'!N29/12","v":16},{"$f":"'Projection – Property #2'!O29/12","v":15},{"$f":"'Projection – Property #2'!P29/12","v":14},{"$f":"'Projection – Property #2'!Q29/12","v":13},{"$f":"'Projection – Property #2'!R29/12","v":12},{"$f":"'Projection – Property #2'!S29/12","v":11},{"$f":"'Projection – Property #2'!T29/12","v":10},{"$f":"'Projection – Property #2'!U29/12","v":9},{"$f":"'Projection – Property #2'!V29/12","v":8},{"$f":"'Projection – Property #2'!W29/12","v":7},{"$f":"'Projection – Property #2'!X29/12","v":6},{"$f":"'Projection – Property #2'!Y29/12","v":5},{"$f":"'Projection – Property #2'!Z29/12","v":4},{"$f":"'Projection – Property #2'!AA29/12","v":3},{"$f":"'Projection – Property #2'!AB29/12","v":2},{"$f":"'Projection – Property #2'!AC29/12","v":1},{"$f":"'Projection – Property #2'!AD29/12","v":0},{"$f":"'Projection – Property #2'!AE29/12","v":0},{"$f":"'Projection – Property #2'!AF29/12","v":0},{"$f":"'Projection – Property #2'!AG29/12","v":0},{"$f":"'Projection – Property #2'!AH29/12","v":0},{"$f":"'Projection – Property #2'!AI29/12","v":0}]
[null,"Principal Payments Denominator. Months of Year",null,{"$f":"IF('Property Set Up'!$D38=\"Interest Only\",2,IF(AND(D29>0,D29<=11),D29/12,IF(D29=0,0,1)))","v":2},{"$f":"IF('Property Set Up'!$D38=\"Interest Only\",2,IF(AND(E29>0,E29<=11),E29/12,IF(E29=0,0,1)))","v":2},{"$f":"IF('Property Set Up'!$D38=\"Interest Only\",2,IF(AND(F29>0,F29<=11),F29/12,IF(F29=0,0,1)))","v":2},{"$f":"IF('Property Set Up'!$D38=\"Interest Only\",2,IF(AND(G29>0,G29<=11),G29/12,IF(G29=0,0,1)))","v":2},{"$f":"IF('Property Set Up'!$D38=\"Interest Only\",2,IF(AND(H29>0,H29<=11),H29/12,IF(H29=0,0,1)))","v":2},{"$f":"IF('Property Set Up'!$D38=\"Interest Only\",2,IF(AND(I29>0,I29<=11),I29/12,IF(I29=0,0,1)))","v":2},{"$f":"IF('Property Set Up'!$D38=\"Interest Only\",2,IF(AND(J29>0,J29<=11),J29/12,IF(J29=0,0,1)))","v":2},{"$f":"IF('Property Set Up'!$D38=\"Interest Only\",2,IF(AND(K29>0,K29<=11),K29/12,IF(K29=0,0,1)))","v":2},{"$f":"IF('Property Set Up'!$D38=\"Interest Only\",2,IF(AND(L29>0,L29<=11),L29/12,IF(L29=0,0,1)))","v":2},{"$f":"IF('Property Set Up'!$D38=\"Interest Only\",2,IF(AND(M29>0,M29<=11),M29/12,IF(M29=0,0,1)))","v":2},{"$f":"IF('Property Set Up'!$D38=\"Interest Only\",2,IF(AND(N29>0,N29<=11),N29/12,IF(N29=0,0,1)))","v":2},{"$f":"IF('Property Set Up'!$D38=\"Interest Only\",2,IF(AND(O29>0,O29<=11),O29/12,IF(O29=0,0,1)))","v":2},{"$f":"IF('Property Set Up'!$D38=\"Interest Only\",2,IF(AND(P29>0,P29<=11),P29/12,IF(P29=0,0,1)))","v":2},{"$f":"IF('Property Set Up'!$D38=\"Interest Only\",2,IF(AND(Q29>0,Q29<=11),Q29/12,IF(Q29=0,0,1)))","v":2},{"$f":"IF('Property Set Up'!$D38=\"Interest Only\",2,IF(AND(R29>0,R29<=11),R29/12,IF(R29=0,0,1)))","v":2},{"$f":"IF('Property Set Up'!$D38=\"Interest Only\",2,IF(AND(S29>0,S29<=11),S29/12,IF(S29=0,0,1)))","v":2},{"$f":"IF('Property Set Up'!$D38=\"Interest Only\",2,IF(AND(T29>0,T29<=11),T29/12,IF(T29=0,0,1)))","v":2},{"$f":"IF('Property Set Up'!$D38=\"Interest Only\",2,IF(AND(U29>0,U29<=11),U29/12,IF(U29=0,0,1)))","v":2},{"$f":"IF('Property Set Up'!$D38=\"Interest Only\",2,IF(AND(V29>0,V29<=11),V29/12,IF(V29=0,0,1)))","v":2},{"$f":"IF('Property Set Up'!$D38=\"Interest Only\",2,IF(AND(W29>0,W29<=11),W29/12,IF(W29=0,0,1)))","v":2},{"$f":"IF('Property Set Up'!$D38=\"Interest Only\",2,IF(AND(X29>0,X29<=11),X29/12,IF(X29=0,0,1)))","v":2},{"$f":"IF('Property Set Up'!$D38=\"Interest Only\",2,IF(AND(Y29>0,Y29<=11),Y29/12,IF(Y29=0,0,1)))","v":2},{"$f":"IF('Property Set Up'!$D38=\"Interest Only\",2,IF(AND(Z29>0,Z29<=11),Z29/12,IF(Z29=0,0,1)))","v":2},{"$f":"IF('Property Set Up'!$D38=\"Interest Only\",2,IF(AND(AA29>0,AA29<=11),AA29/12,IF(AA29=0,0,1)))","v":2},{"$f":"IF('Property Set Up'!$D38=\"Interest Only\",2,IF(AND(AB29>0,AB29<=11),AB29/12,IF(AB29=0,0,1)))","v":2},{"$f":"IF('Property Set Up'!$D38=\"Interest Only\",2,IF(AND(AC29>0,AC29<=11),AC29/12,IF(AC29=0,0,1)))","v":2},{"$f":"IF('Property Set Up'!$D38=\"Interest Only\",2,IF(AND(AD29>0,AD29<=11),AD29/12,IF(AD29=0,0,1)))","v":2},{"$f":"IF('Property Set Up'!$D38=\"Interest Only\",2,IF(AND(AE29>0,AE29<=11),AE29/12,IF(AE29=0,0,1)))","v":2},{"$f":"IF('Property Set Up'!$D38=\"Interest Only\",2,IF(AND(AF29>0,AF29<=11),AF29/12,IF(AF29=0,0,1)))","v":2},{"$f":"IF('Property Set Up'!$D38=\"Interest Only\",2,IF(AND(AG29>0,AG29<=11),AG29/12,IF(AG29=0,0,1)))","v":2},{"$f":"IF('Property Set Up'!$D38=\"Interest Only\",2,IF(AND(AH29>0,AH29<=11),AH29/12,IF(AH29=0,0,1)))","v":2},{"$f":"IF('Property Set Up'!$D38=\"Interest Only\",2,IF(AND(AI29>0,AI29<=11),AI29/12,IF(AI29=0,0,1)))","v":2}]
[null,"Years",null,1,2,3,4,5,6,7,8,9,10,11,12,13,14,15,16,17,18,19,20,21,22,23,24,25,26,27,28,29,30,31,32]
[null,null,null,{"$f":"CONCATENATE(TEXT(D85,\"mmm-yy\"),\" – \",TEXT(D86,\"mmm-yy\"))","v":"May-22 – Apr-23"},"May-23 – Apr-24","May-24 – Apr-25","May-25 – Apr-26","May-26 – Apr-27","May-27 – Apr-28","May-28 – Apr-29","May-29 – Apr-30","May-30 – Apr-31","May-31 – Apr-32","May-32 – Apr-33","May-33 – Apr-34","May-34 – Apr-35","May-35 – Apr-36","May-36 – Apr-37","May-37 – Apr-38","May-38 – Apr-39","May-39 – Apr-40","May-40 – Apr-41","May-41 – Apr-42","May-42 – Apr-43","May-43 – Apr-44","May-44 – Apr-45","May-45 – Apr-46","May-46 – Apr-47","May-47 – Apr-48","May-48 – Apr-49","May-49 – Apr-50","May-50 – Apr-51","May-51 – Apr-52","May-52 – Apr-53","May-53 – Apr-54"]
[]
[]
[null,"ASSETS AND LIABILITIES"]
[]
[]
[null,"Asset Value (Start of Year)",0,{"$f":"'Property Set Up'!$D$23*(1+'Property Set Up'!D87)^'Projection – Property #2'!D26","v":{"$error":"#VALUE!"}},{"$f":"D39*(1+'Property Set Up'!$D$87)","v":{"$error":"#VALUE!"}},{"$f":"E39*(1+'Property Set Up'!$D$87)","v":{"$error":"#VALUE!"}},{"$f":"F39*(1+'Property Set Up'!$D$87)","v":{"$error":"#VALUE!"}},{"$f":"G39*(1+'Property Set Up'!$D$87)","v":{"$error":"#VALUE!"}},{"$f":"H39*(1+'Property Set Up'!$D$87)","v":{"$error":"#VALUE!"}},{"$f":"I39*(1+'Property Set Up'!$D$87)","v":{"$error":"#VALUE!"}},{"$f":"J39*(1+'Property Set Up'!$D$87)","v":{"$error":"#VALUE!"}},{"$f":"K39*(1+'Property Set Up'!$D$87)","v":{"$error":"#VALUE!"}},{"$f":"L39*(1+'Property Set Up'!$D$87)","v":{"$error":"#VALUE!"}},{"$f":"M39*(1+'Property Set Up'!$D$87)","v":{"$error":"#VALUE!"}},{"$f":"N39*(1+'Property Set Up'!$D$87)","v":{"$error":"#VALUE!"}},{"$f":"O39*(1+'Property Set Up'!$D$87)","v":{"$error":"#VALUE!"}},{"$f":"P39*(1+'Property Set Up'!$D$87)","v":{"$error":"#VALUE!"}},{"$f":"Q39*(1+'Property Set Up'!$D$87)","v":{"$error":"#VALUE!"}},{"$f":"R39*(1+'Property Set Up'!$D$87)","v":{"$error":"#VALUE!"}},{"$f":"S39*(1+'Property Set Up'!$D$87)","v":{"$error":"#VALUE!"}},{"$f":"T39*(1+'Property Set Up'!$D$87)","v":{"$error":"#VALUE!"}},{"$f":"U39*(1+'Property Set Up'!$D$87)","v":{"$error":"#VALUE!"}},{"$f":"V39*(1+'Property Set Up'!$D$87)","v":{"$error":"#VALUE!"}},{"$f":"W39*(1+'Property Set Up'!$D$87)","v":{"$error":"#VALUE!"}},{"$f":"X39*(1+'Property Set Up'!$D$87)","v":{"$error":"#VALUE!"}},{"$f":"Y39*(1+'Property Set Up'!$D$87)","v":{"$error":"#VALUE!"}},{"$f":"Z39*(1+'Property Set Up'!$D$87)","v":{"$error":"#VALUE!"}},{"$f":"AA39*(1+'Property Set Up'!$D$87)","v":{"$error":"#VALUE!"}},{"$f":"AB39*(1+'Property Set Up'!$D$87)","v":{"$error":"#VALUE!"}},{"$f":"AC39*(1+'Property Set Up'!$D$87)","v":{"$error":"#VALUE!"}},{"$f":"AD39*(1+'Property Set Up'!$D$87)","v":{"$error":"#VALUE!"}},{"$f":"AE39*(1+'Property Set Up'!$D$87)","v":{"$error":"#VALUE!"}},{"$f":"AF39*(1+'Property Set Up'!$D$87)","v":{"$error":"#VALUE!"}},{"$f":"AG39*(1+'Property Set Up'!$D$87)","v":{"$error":"#VALUE!"}},{"$f":"AH39*(1+'Property Set Up'!$D$87)","v":{"$error":"#VALUE!"}}]
[null,"Mortgage (Start of Year)",0,{"$f":"'Property Set Up'!$D$28","v":3000},{"$f":"MAX(0,D40-D42)","v":3000},{"$f":"MAX(0,E40-E42)","v":3000},{"$f":"MAX(0,F40-F42)","v":3000},3000,3000,3000,3000,3000,3000,3000,3000,3000,3000,{"$f":"MAX(0,Q40-Q42)","v":3000},{"$f":"MAX(0,R40-R42)","v":3000},{"$f":"MAX(0,S40-S42)","v":3000},{"$f":"MAX(0,T40-T42)","v":3000},{"$f":"MAX(0,U40-U42)","v":3000},{"$f":"MAX(0,V40-V42)","v":3000},{"$f":"MAX(0,W40-W42)","v":3000},{"$f":"MAX(0,X40-X42)","v":3000},{"$f":"MAX(0,Y40-Y42)","v":3000},{"$f":"MAX(0,Z40-Z42)","v":3000},{"$f":"MAX(0,AA40-AA42)","v":3000},{"$f":"MAX(0,AB40-AB42)","v":3000},{"$f":"MAX(0,AC40-AC42)","v":3000},{"$f":"MAX(0,AD40-AD42)","v":3000},{"$f":"MAX(0,AE40-AE42)","v":3000},{"$f":"MAX(0,AF40-AF42)","v":3000},{"$f":"MAX(0,AG40-AG42)","v":3000},{"$f":"MAX(0,AH40-AH42)","v":3000}]
[null,"Inflation Adjusted Debt Repayments In The Year",0,{"$f":"(D40-E40)/(1+'Property Set Up'!$D$77)^D26","v":0},{"$f":"(E40-F40)/(1+'Property Set Up'!$D$77)^E26","v":0},{"$f":"(F40-G40)/(1+'Property Set Up'!$D$77)^F26","v":0},{"$f":"(G40-H40)/(1+'Property Set Up'!$D$77)^G26","v":0},{"$f":"(H40-I40)/(1+'Property Set Up'!$D$77)^H26","v":0},{"$f":"(I40-J40)/(1+'Property Set Up'!$D$77)^I26","v":0},{"$f":"(J40-K40)/(1+'Property Set Up'!$D$77)^J26","v":0},{"$f":"(K40-L40)/(1+'Property Set Up'!$D$77)^K26","v":0},{"$f":"(L40-M40)/(1+'Property Set Up'!$D$77)^L26","v":0},{"$f":"(M40-N40)/(1+'Property Set Up'!$D$77)^M26","v":0},{"$f":"(N40-O40)/(1+'Property Set Up'!$D$77)^N26","v":0},{"$f":"(O40-P40)/(1+'Property Set Up'!$D$77)^O26","v":0},{"$f":"(P40-Q40)/(1+'Property Set Up'!$D$77)^P26","v":0},{"$f":"(Q40-R40)/(1+'Property Set Up'!$D$77)^Q26","v":0},{"$f":"(R40-S40)/(1+'Property Set Up'!$D$77)^R26","v":0},{"$f":"(S40-T40)/(1+'Property Set Up'!$D$77)^S26","v":0},{"$f":"(T40-U40)/(1+'Property Set Up'!$D$77)^T26","v":0},{"$f":"(U40-V40)/(1+'Property Set Up'!$D$77)^U26","v":0},{"$f":"(V40-W40)/(1+'Property Set Up'!$D$77)^V26","v":0},{"$f":"(W40-X40)/(1+'Property Set Up'!$D$77)^W26","v":0},{"$f":"(X40-Y40)/(1+'Property Set Up'!$D$77)^X26","v":0},{"$f":"(Y40-Z40)/(1+'Property Set Up'!$D$77)^Y26","v":0},{"$f":"(Z40-AA40)/(1+'Property Set Up'!$D$77)^Z26","v":0},{"$f":"(AA40-AB40)/(1+'Property Set Up'!$D$77)^AA26","v":0},{"$f":"(AB40-AC40)/(1+'Property Set Up'!$D$77)^AB26","v":0},{"$f":"(AC40-AD40)/(1+'Property Set Up'!$D$77)^AC26","v":0},{"$f":"(AD40-AE40)/(1+'Property Set Up'!$D$77)^AD26","v":0},{"$f":"(AE40-AF40)/(1+'Property Set Up'!$D$77)^AE26","v":0},{"$f":"(AF40-AG40)/(1+'Property Set Up'!$D$77)^AF26","v":0},{"$f":"(AG40-AH40)/(1+'Property Set Up'!$D$77)^AG26","v":0},{"$f":"(AH40-AI40)/(1+'Property Set Up'!$D$77)^AH26","v":0},{"$f":"(AI40-AJ40)/(1+'Property Set Up'!$D$77)^AI26","v":1623.7379087644474}]
[null,"Hidden – Principal paid in year",null,{"$f":"IFERROR(IF(D45=\"Interest Only\",0,IF(D28=0,0,-CUMPRINC(D59/12,12*D46,D40,D27,D28,0))),0)","v":0},{"$f":"IFERROR(IF(E45=\"Interest Only\",0,IF(E28=0,0,-CUMPRINC(E59/12,12*E46,E40,E27,E28,0))),0)","v":0},{"$f":"IFERROR(IF(F45=\"Interest Only\",0,IF(F28=0,0,-CUMPRINC(F59/12,12*F46,F40,F27,F28,0))),0)","v":0},{"$f":"IFERROR(IF(G45=\"interest only\",0,-CUMPRINC(G59/12,12*G46,G40,1,12,0)),0)","v":0},0,0,0,0,0,0,0,0,0,0,0,0,0,0,0,0,0,0,0,0,0,0,0,0,0,0,0,0]
[null,"Net Equity",null,{"$f":"D39-D40","v":{"$error":"#VALUE!"}},{"$error":"#VALUE!"},{"$error":"#VALUE!"},{"$error":"#VALUE!"},{"$error":"#VALUE!"},{"$error":"#VALUE!"},{"$error":"#VALUE!"},{"$error":"#VALUE!"},{"$error":"#VALUE!"},{"$error":"#VALUE!"},{"$error":"#VALUE!"},{"$error":"#VALUE!"},{"$error":"#VALUE!"},{"$error":"#VALUE!"},{"$error":"#VALUE!"},{"$error":"#VALUE!"},{"$error":"#VALUE!"},{"$error":"#VALUE!"},{"$error":"#VALUE!"},{"$error":"#VALUE!"},{"$error":"#VALUE!"},{"$error":"#VALUE!"},{"$error":"#VALUE!"},{"$error":"#VALUE!"},{"$error":"#VALUE!"},{"$error":"#VALUE!"},{"$error":"#VALUE!"},{"$error":"#VALUE!"},{"$error":"#VALUE!"},{"$error":"#VALUE!"},{"$error":"#VALUE!"},{"$error":"#VALUE!"}]
[]
[null,"Mortgage Type",null,{"$f":"IF('Property Set Up'!$D$38=\"Principal & interest\",\"P+I\",\"Interest Only\")","v":"Interest Only"},{"$f":"IF('Property Set Up'!$D$38=\"Principal & interest\",\"P+I\",\"Interest Only\")","v":"Interest Only"},{"$f":"IF('Property Set Up'!$D$38=\"Principal & interest\",\"P+I\",\"Interest Only\")","v":"Interest Only"},{"$f":"IF(ISBLANK(G48),F45,G48)","v":"Interest Only"},{"$f":"IF(ISBLANK(H48),G45,H48)","v":"Interest Only"},"Interest Only","Interest Only","Interest Only","Interest Only","Interest Only","Interest Only","Interest Only","Interest Only","Interest Only","Interest Only",{"$f":"IF(ISBLANK(S48),R45,S48)","v":"Interest Only"},{"$f":"IF(ISBLANK(T48),S45,T48)","v":"Interest Only"},{"$f":"IF(ISBLANK(U48),T45,U48)","v":"Interest Only"},{"$f":"IF(ISBLANK(V48),U45,V48)","v":"Interest Only"},{"$f":"IF(ISBLANK(W48),V45,W48)","v":"Interest Only"},{"$f":"IF(ISBLANK(X48),W45,X48)","v":"Interest Only"},{"$f":"IF(ISBLANK(Y48),X45,Y48)","v":"Interest Only"},{"$f":"IF(ISBLANK(Z48),Y45,Z48)","v":"Interest Only"},{"$f":"IF(ISBLANK(AA48),Z45,AA48)","v":"Interest Only"},{"$f":"IF(ISBLANK(AB48),AA45,AB48)","v":"Interest Only"},{"$f":"IF(ISBLANK(AC48),AB45,AC48)","v":"Interest Only"},{"$f":"IF(ISBLANK(AD48),AC45,AD48)","v":"Interest Only"},{"$f":"IF(ISBLANK(AE48),AD45,AE48)","v":"Interest Only"},{"$f":"IF(ISBLANK(AF48),AE45,AF48)","v":"Interest Only"},{"$f":"IF(ISBLANK(AG48),AF45,AG48)","v":"Interest Only"},{"$f":"IF(ISBLANK(AH48),AG45,AH48)","v":"Interest Only"},{"$f":"IF(ISBLANK(AI48),AH45,AI48)","v":"Interest Only"}]
[null,"Mortgage Term",null,{"$f":"IF(D45=\"P+I\",D30,\"N/A\")","v":"N/A"},{"$f":"IF(E45=\"P+I\",E30,\"N/A\")","v":"N/A"},{"$f":"IF(F45=\"P+I\",F30,\"N/A\")","v":"N/A"},{"$f":"IF(G45=\"Interest Only\",\"N/A\",IF(G45=F45,IF(F46<>\"N/A\",MAX(F46-1,0),F46),G49))","v":"N/A"},{"$f":"IF(H45=\"Interest Only\",\"N/A\",IF(H45=G45,IF(G46<>\"N/A\",MAX(G46-1,0),G46),H49))","v":"N/A"},"N/A","N/A","N/A","N/A","N/A","N/A","N/A","N/A","N/A","N/A",{"$f":"IF(S45=\"Interest Only\",\"N/A\",IF(S45=R45,IF(R46<>\"N/A\",MAX(R46-1,0),R46),S49))","v":"N/A"},{"$f":"IF(T45=\"Interest Only\",\"N/A\",IF(T45=S45,IF(S46<>\"N/A\",MAX(S46-1,0),S46),T49))","v":"N/A"},{"$f":"IF(U45=\"Interest Only\",\"N/A\",IF(U45=T45,IF(T46<>\"N/A\",MAX(T46-1,0),T46),U49))","v":"N/A"},{"$f":"IF(V45=\"Interest Only\",\"N/A\",IF(V45=U45,IF(U46<>\"N/A\",MAX(U46-1,0),U46),V49))","v":"N/A"},{"$f":"IF(W45=\"Interest Only\",\"N/A\",IF(W45=V45,IF(V46<>\"N/A\",MAX(V46-1,0),V46),W49))","v":"N/A"},{"$f":"IF(X45=\"Interest Only\",\"N/A\",IF(X45=W45,IF(W46<>\"N/A\",MAX(W46-1,0),W46),X49))","v":"N/A"},{"$f":"IF(Y45=\"Interest Only\",\"N/A\",IF(Y45=X45,IF(X46<>\"N/A\",MAX(X46-1,0),X46),Y49))","v":"N/A"},{"$f":"IF(Z45=\"Interest Only\",\"N/A\",IF(Z45=Y45,IF(Y46<>\"N/A\",MAX(Y46-1,0),Y46),Z49))","v":"N/A"},{"$f":"IF(AA45=\"Interest Only\",\"N/A\",IF(AA45=Z45,IF(Z46<>\"N/A\",MAX(Z46-1,0),Z46),AA49))","v":"N/A"},{"$f":"IF(AB45=\"Interest Only\",\"N/A\",IF(AB45=AA45,IF(AA46<>\"N/A\",MAX(AA46-1,0),AA46),AB49))","v":"N/A"},{"$f":"IF(AC45=\"Interest Only\",\"N/A\",IF(AC45=AB45,IF(AB46<>\"N/A\",MAX(AB46-1,0),AB46),AC49))","v":"N/A"},{"$f":"IF(AD45=\"Interest Only\",\"N/A\",IF(AD45=AC45,IF(AC46<>\"N/A\",MAX(AC46-1,0),AC46),AD49))","v":"N/A"},{"$f":"IF(AE45=\"Interest Only\",\"N/A\",IF(AE45=AD45,IF(AD46<>\"N/A\",MAX(AD46-1,0),AD46),AE49))","v":"N/A"},{"$f":"IF(AF45=\"Interest Only\",\"N/A\",IF(AF45=AE45,IF(AE46<>\"N/A\",MAX(AE46-1,0),AE46),AF49))","v":"N/A"},{"$f":"IF(AG45=\"Interest Only\",\"N/A\",IF(AG45=AF45,IF(AF46<>\"N/A\",MAX(AF46-1,0),AF46),AG49))","v":"N/A"},{"$f":"IF(AH45=\"Interest Only\",\"N/A\",IF(AH45=AG45,IF(AG46<>\"N/A\",MAX(AG46-1,0),AG46),AH49))","v":"N/A"},{"$f":"IF(AI45=\"Interest Only\",\"N/A\",IF(AI45=AH45,IF(AH46<>\"N/A\",MAX(AH46-1,0),AH46),AI49))","v":"N/A"}]
[]
[null,"Change Mortgage Type",null,"N/A","N/A","N/A"]
[null,"Change Mortgage Term",null,"N/A","N/A","N/A"]
[]
[]
[null,"PRE-TAX CASHFLOW"]
[]
[]
[null,"Rent Per Annum",null,{"$f":"IF(D67>=12,0,IF(D67>0,(12-D67)/12*D71,D71))","v":0},{"$f":"IF(E67>=12,0,IF(E67>0,(12-E67)/12*E71,E71))","v":0},{"$f":"IF(F67>=12,0,IF(F67>0,(12-F67)/12*F71,F71))","v":0},0,0,0,0,0,0,0,0,0,0,0,0,0,0,0,0,0,0,0,0,0,0,0,0,0,0,0,0,0]
[null,"Financing Costs",null,{"$f":"SUM(D78:D79)","v":0},{"$f":"SUM(E78:E79)","v":157.5},150,135,135,135,135,135,135,135,135,135,135,135,135,135,135,135,135,135,135,135,135,135,135,135,135,135,135,135,135,135]
[null,"Operating Costs",null,{"$f":"IF(D67>=12,0,IF(D67>0,(12-D67)/12*(D72+D73),D72+D73))","v":0},{"$f":"IF(E67>=12,0,IF(E67>0,(12-E67)/12*(E72+E73),E72+E73))","v":7264.95},{"$f":"IF(F67>=12,0,IF(F67>0,(12-F67)/12*(F72+F73),F72+F73))","v":7410.2489999999998},{"$f":"IF(G67>=12,0,IF(G67>0,(12-G67)/12*(G72+G73),G72+G73))","v":7558.4539800000002},{"$f":"IF(H67>=12,0,IF(H67>0,(12-H67)/12*(H72+H73),H72+H73))","v":7709.6230596000005},7863.8155207920008,8021.0918312078411,8181.5136678319977,8345.1439411886386,8512.0468200124124,8682.2877564126611,8855.933511540914,9033.0521817717326,9213.7132254071676,9397.987489915311,{"$f":"IF(S67>=12,0,IF(S67>0,(12-S67)/12*(S72+S73),S72+S73))","v":9585.9472397136178},9777.6661845078906,9973.2195081980481,10172.683898362009,10376.137576329249,10583.660327855834,10795.333534412952,11011.24020510121,11231.465009203235,11456.094309387299,11685.216195575045,11918.920519486546,12157.298929876277,12400.444908473803,12648.45380664328,12901.422882776145,13159.451340431668]
[]
[null,"Interest Rate",null,{"$f":"Assumptions!I34","v":4.4999999999999998E-2},{"$f":"Assumptions!J34","v":5.2499999999999998E-2},{"$f":"Assumptions!K34","v":0.05},{"$f":"Assumptions!L34","v":4.4999999999999998E-2},{"$f":"Assumptions!M34","v":4.4999999999999998E-2},{"$f":"Assumptions!N34","v":4.4999999999999998E-2},{"$f":"Assumptions!O34","v":4.4999999999999998E-2},{"$f":"Assumptions!P34","v":4.4999999999999998E-2},{"$f":"Assumptions!Q34","v":4.4999999999999998E-2},{"$f":"Assumptions!R34","v":4.4999999999999998E-2},{"$f":"Assumptions!S34","v":4.4999999999999998E-2},{"$f":"Assumptions!T34","v":4.4999999999999998E-2},{"$f":"Assumptions!U34","v":4.4999999999999998E-2},{"$f":"Assumptions!V34","v":4.4999999999999998E-2},{"$f":"Assumptions!W34","v":4.4999999999999998E-2},{"$f":"Assumptions!X34","v":4.4999999999999998E-2},{"$f":"Assumptions!Y34","v":4.4999999999999998E-2},{"$f":"Assumptions!Z34","v":4.4999999999999998E-2},{"$f":"Assumptions!AA34","v":4.4999999999999998E-2},{"$f":"Assumptions!AB34","v":4.4999999999999998E-2},{"$f":"Assumptions!AC34","v":4.4999999999999998E-2},{"$f":"Assumptions!AD34","v":4.4999999999999998E-2},{"$f":"Assumptions!AE34","v":4.4999999999999998E-2},{"$f":"Assumptions!AF34","v":4.4999999999999998E-2},{"$f":"Assumptions!AG34","v":4.4999999999999998E-2},{"$f":"Assumptions!AH34","v":4.4999999999999998E-2},{"$f":"Assumptions!AI34","v":4.4999999999999998E-2},{"$f":"Assumptions!AJ34","v":4.4999999999999998E-2},{"$f":"Assumptions!AK34","v":4.4999999999999998E-2},{"$f":"Assumptions!AL34","v":4.4999999999999998E-2},{"$f":"Assumptions!AM34","v":4.4999999999999998E-2},{"$f":"Assumptions!AN34","v":4.4999999999999998E-2}]
[]
[null,"Annual Pre-Tax Cashflow",{"$f":"C55-SUM(C56:C56)","v":0},{"$f":"D55-SUM(D56:D57)","v":0},-7422.45,-7560.2489999999998,-7693.4539800000002,-7844.6230596000005,-7998.8155207920008,-8156.0918312078411,-8316.5136678319977,-8480.1439411886386,-8647.0468200124124,-8817.2877564126611,-8990.933511540914,-9168.0521817717326,-9348.7132254071676,-9532.987489915311,-9720.9472397136178,-9912.6661845078906,-10108.219508198048,-10307.683898362009,-10511.137576329249,-10718.660327855834,-10930.333534412952,-11146.24020510121,-11366.465009203235,-11591.094309387299,-11820.216195575045,-12053.920519486546,-12292.298929876277,-12535.444908473803,-12783.45380664328,-13036.422882776145,-13294.451340431668]
[]
[]
[null,"HIDDEN RENTAL INFLATION CALCULATIONS"]
[]
[]
[null,"Months Left in Construction",null,{"$f":"IF('Property Set Up'!D103=\"Yes\",'Property Set Up'!D104,0)","v":12},{"$f":"D67-12","v":0},{"$f":"E67-12","v":-12},-24,-36,-48,-60,-72,-84,-96,-108,-120,-132,-144,-156,{"$f":"R67-12","v":-168},-180,-192,-204,-216,-228,-240,-252,-264,-276,-288,-300,-312,-324,-336,-348,-360]
[null,"Months in Construction",null,{"$f":"12-D69","v":12},{"$f":"12-E69","v":0},0,0,0,0,0,0,0,0,0,0,0,0,0,0,0,0,0,0,0,0,0,0,0,0,0,0,0,0,0,0]
[null,"Months Operating",null,{"$f":"MAX(MIN(12-D67,12),0)","v":0},{"$f":"MAX(MIN(12-E67,12),0)","v":12},12,12,12,12,12,12,12,12,12,12,12,12,12,{"$f":"MAX(MIN(12-S67,12),0)","v":12},12,12,12,12,12,12,12,12,12,12,12,12,12,12,12,12]
[null,"P+I Term",null,{"$f":"'Property Set Up'!$D39","v":25},{"$f":"'Property Set Up'!$D39","v":25},{"$f":"'Property Set Up'!$D39","v":25},{"$f":"'Property Set Up'!$D39","v":25},{"$f":"'Property Set Up'!$D39","v":25},{"$f":"'Property Set Up'!$D39","v":25},{"$f":"'Property Set Up'!$D39","v":25},{"$f":"'Property Set Up'!$D39","v":25},{"$f":"'Property Set Up'!$D39","v":25},{"$f":"'Property Set Up'!$D39","v":25},{"$f":"'Property Set Up'!$D39","v":25},{"$f":"'Property Set Up'!$D39","v":25},{"$f":"'Property Set Up'!$D39","v":25},{"$f":"'Property Set Up'!$D39","v":25},{"$f":"'Property Set Up'!$D39","v":25},{"$f":"'Property Set Up'!$D39","v":25},{"$f":"'Property Set Up'!$D39","v":25},{"$f":"'Property Set Up'!$D39","v":25},{"$f":"'Property Set Up'!$D39","v":25},{"$f":"'Property Set Up'!$D39","v":25},{"$f":"'Property Set Up'!$D39","v":25},{"$f":"'Property Set Up'!$D39","v":25},{"$f":"'Property Set Up'!$D39","v":25},{"$f":"'Property Set Up'!$D39","v":25},{"$f":"'Property Set Up'!$D39","v":25},{"$f":"'Property Set Up'!$D39","v":25},{"$f":"'Property Set Up'!$D39","v":25},{"$f":"'Property Set Up'!$D39","v":25},{"$f":"'Property Set Up'!$D39","v":25},{"$f":"'Property Set Up'!$D39","v":25},{"$f":"'Property Set Up'!$D39","v":25},{"$f":"'Property Set Up'!$D39","v":25}]
[null,"Full Sized Annual Rent",null,{"$f":"'Property Set Up'!$D$42*(52-'Property Set Up'!$D$43)","v":0},{"$f":"D71*(1+D76)","v":0},{"$f":"E71*(1+E76)","v":0},0,0,0,0,0,0,0,0,0,0,0,0,{"$f":"R71*(1+R76)","v":0},0,0,0,0,0,0,0,0,0,0,0,0,0,0,0,0]
[null,"Full Sized Rental Inflation Based Operating Costs",null,{"$f":"IF('Property Set Up'!$D$58=\"Weeks\",'Projection – Property #2'!D71*(1/(52-'Property Set Up'!$D$43))*1.15+'Property Set Up'!$D$57*1.15*'Projection – Property #2'!D71,'Property Set Up'!$D$57*1.15*'Projection – Property #2'!D71)","v":0},{"$f":"IF('Property Set Up'!$D$58=\"Weeks\",'Projection – Property #2'!E71*(1/(52-'Property Set Up'!$D$43))*1.15+'Property Set Up'!$D$57*1.15*'Projection – Property #2'!E71,'Property Set Up'!$D$57*1.15*'Projection – Property #2'!E71)","v":0},{"$f":"IF('Property Set Up'!$D$58=\"Weeks\",'Projection – Property #2'!F71*(1/(52-'Property Set Up'!$D$43))*1.15+'Property Set Up'!$D$57*1.15*'Projection – Property #2'!F71,'Property Set Up'!$D$57*1.15*'Projection – Property #2'!F71)","v":0},{"$f":"IF('Property Set Up'!$D$58=\"Weeks\",'Projection – Property #2'!G71*(1/(52-'Property Set Up'!$D$43))*1.15+'Property Set Up'!$D$57*1.15*'Projection – Property #2'!G71,'Property Set Up'!$D$57*1.15*'Projection – Property #2'!G71)","v":0},{"$f":"IF('Property Set Up'!$D$58=\"Weeks\",'Projection – Property #2'!H71*(1/(52-'Property Set Up'!$D$43))*1.15+'Property Set Up'!$D$57*1.15*'Projection – Property #2'!H71,'Property Set Up'!$D$57*1.15*'Projection – Property #2'!H71)","v":0},{"$f":"IF('Property Set Up'!$D$58=\"Weeks\",'Projection – Property #2'!I71*(1/(52-'Property Set Up'!$D$43))*1.15+'Property Set Up'!$D$57*1.15*'Projection – Property #2'!I71,'Property Set Up'!$D$57*1.15*'Projection – Property #2'!I71)","v":0},{"$f":"IF('Property Set Up'!$D$58=\"Weeks\",'Projection – Property #2'!J71*(1/(52-'Property Set Up'!$D$43))*1.15+'Property Set Up'!$D$57*1.15*'Projection – Property #2'!J71,'Property Set Up'!$D$57*1.15*'Projection – Property #2'!J71)","v":0},{"$f":"IF('Property Set Up'!$D$58=\"Weeks\",'Projection – Property #2'!K71*(1/(52-'Property Set Up'!$D$43))*1.15+'Property Set Up'!$D$57*1.15*'Projection – Property #2'!K71,'Property Set Up'!$D$57*1.15*'Projection – Property #2'!K71)","v":0},{"$f":"IF('Property Set Up'!$D$58=\"Weeks\",'Projection – Property #2'!L71*(1/(52-'Property Set Up'!$D$43))*1.15+'Property Set Up'!$D$57*1.15*'Projection – Property #2'!L71,'Property Set Up'!$D$57*1.15*'Projection – Property #2'!L71)","v":0},{"$f":"IF('Property Set Up'!$D$58=\"Weeks\",'Projection – Property #2'!M71*(1/(52-'Property Set Up'!$D$43))*1.15+'Property Set Up'!$D$57*1.15*'Projection – Property #2'!M71,'Property Set Up'!$D$57*1.15*'Projection – Property #2'!M71)","v":0},{"$f":"IF('Property Set Up'!$D$58=\"Weeks\",'Projection – Property #2'!N71*(1/(52-'Property Set Up'!$D$43))*1.15+'Property Set Up'!$D$57*1.15*'Projection – Property #2'!N71,'Property Set Up'!$D$57*1.15*'Projection – Property #2'!N71)","v":0},{"$f":"IF('Property Set Up'!$D$58=\"Weeks\",'Projection – Property #2'!O71*(1/(52-'Property Set Up'!$D$43))*1.15+'Property Set Up'!$D$57*1.15*'Projection – Property #2'!O71,'Property Set Up'!$D$57*1.15*'Projection – Property #2'!O71)","v":0},{"$f":"IF('Property Set Up'!$D$58=\"Weeks\",'Projection – Property #2'!P71*(1/(52-'Property Set Up'!$D$43))*1.15+'Property Set Up'!$D$57*1.15*'Projection – Property #2'!P71,'Property Set Up'!$D$57*1.15*'Projection – Property #2'!P71)","v":0},{"$f":"IF('Property Set Up'!$D$58=\"Weeks\",'Projection – Property #2'!Q71*(1/(52-'Property Set Up'!$D$43))*1.15+'Property Set Up'!$D$57*1.15*'Projection – Property #2'!Q71,'Property Set Up'!$D$57*1.15*'Projection – Property #2'!Q71)","v":0},{"$f":"IF('Property Set Up'!$D$58=\"Weeks\",'Projection – Property #2'!R71*(1/(52-'Property Set Up'!$D$43))*1.15+'Property Set Up'!$D$57*1.15*'Projection – Property #2'!R71,'Property Set Up'!$D$57*1.15*'Projection – Property #2'!R71)","v":0},{"$f":"IF('Property Set Up'!$D$58=\"Weeks\",'Projection – Property #2'!S71*(1/(52-'Property Set Up'!$D$43))*1.15+'Property Set Up'!$D$57*1.15*'Projection – Property #2'!S71,'Property Set Up'!$D$57*1.15*'Projection – Property #2'!S71)","v":0},{"$f":"IF('Property Set Up'!$D$58=\"Weeks\",'Projection – Property #2'!T71*(1/(52-'Property Set Up'!$D$43))*1.15+'Property Set Up'!$D$57*1.15*'Projection – Property #2'!T71,'Property Set Up'!$D$57*1.15*'Projection – Property #2'!T71)","v":0},{"$f":"IF('Property Set Up'!$D$58=\"Weeks\",'Projection – Property #2'!U71*(1/(52-'Property Set Up'!$D$43))*1.15+'Property Set Up'!$D$57*1.15*'Projection – Property #2'!U71,'Property Set Up'!$D$57*1.15*'Projection – Property #2'!U71)","v":0},{"$f":"IF('Property Set Up'!$D$58=\"Weeks\",'Projection – Property #2'!V71*(1/(52-'Property Set Up'!$D$43))*1.15+'Property Set Up'!$D$57*1.15*'Projection – Property #2'!V71,'Property Set Up'!$D$57*1.15*'Projection – Property #2'!V71)","v":0},{"$f":"IF('Property Set Up'!$D$58=\"Weeks\",'Projection – Property #2'!W71*(1/(52-'Property Set Up'!$D$43))*1.15+'Property Set Up'!$D$57*1.15*'Projection – Property #2'!W71,'Property Set Up'!$D$57*1.15*'Projection – Property #2'!W71)","v":0},{"$f":"IF('Property Set Up'!$D$58=\"Weeks\",'Projection – Property #2'!X71*(1/(52-'Property Set Up'!$D$43))*1.15+'Property Set Up'!$D$57*1.15*'Projection – Property #2'!X71,'Property Set Up'!$D$57*1.15*'Projection – Property #2'!X71)","v":0},{"$f":"IF('Property Set Up'!$D$58=\"Weeks\",'Projection – Property #2'!Y71*(1/(52-'Property Set Up'!$D$43))*1.15+'Property Set Up'!$D$57*1.15*'Projection – Property #2'!Y71,'Property Set Up'!$D$57*1.15*'Projection – Property #2'!Y71)","v":0},{"$f":"IF('Property Set Up'!$D$58=\"Weeks\",'Projection – Property #2'!Z71*(1/(52-'Property Set Up'!$D$43))*1.15+'Property Set Up'!$D$57*1.15*'Projection – Property #2'!Z71,'Property Set Up'!$D$57*1.15*'Projection – Property #2'!Z71)","v":0},{"$f":"IF('Property Set Up'!$D$58=\"Weeks\",'Projection – Property #2'!AA71*(1/(52-'Property Set Up'!$D$43))*1.15+'Property Set Up'!$D$57*1.15*'Projection – Property #2'!AA71,'Property Set Up'!$D$57*1.15*'Projection – Property #2'!AA71)","v":0},{"$f":"IF('Property Set Up'!$D$58=\"Weeks\",'Projection – Property #2'!AB71*(1/(52-'Property Set Up'!$D$43))*1.15+'Property Set Up'!$D$57*1.15*'Projection – Property #2'!AB71,'Property Set Up'!$D$57*1.15*'Projection – Property #2'!AB71)","v":0},{"$f":"IF('Property Set Up'!$D$58=\"Weeks\",'Projection – Property #2'!AC71*(1/(52-'Property Set Up'!$D$43))*1.15+'Property Set Up'!$D$57*1.15*'Projection – Property #2'!AC71,'Property Set Up'!$D$57*1.15*'Projection – Property #2'!AC71)","v":0},{"$f":"IF('Property Set Up'!$D$58=\"Weeks\",'Projection – Property #2'!AD71*(1/(52-'Property Set Up'!$D$43))*1.15+'Property Set Up'!$D$57*1.15*'Projection – Property #2'!AD71,'Property Set Up'!$D$57*1.15*'Projection – Property #2'!AD71)","v":0},{"$f":"IF('Property Set Up'!$D$58=\"Weeks\",'Projection – Property #2'!AE71*(1/(52-'Property Set Up'!$D$43))*1.15+'Property Set Up'!$D$57*1.15*'Projection – Property #2'!AE71,'Property Set Up'!$D$57*1.15*'Projection – Property #2'!AE71)","v":0},{"$f":"IF('Property Set Up'!$D$58=\"Weeks\",'Projection – Property #2'!AF71*(1/(52-'Property Set Up'!$D$43))*1.15+'Property Set Up'!$D$57*1.15*'Projection – Property #2'!AF71,'Property Set Up'!$D$57*1.15*'Projection – Property #2'!AF71)","v":0},{"$f":"IF('Property Set Up'!$D$58=\"Weeks\",'Projection – Property #2'!AG71*(1/(52-'Property Set Up'!$D$43))*1.15+'Property Set Up'!$D$57*1.15*'Projection – Property #2'!AG71,'Property Set Up'!$D$57*1.15*'Projection – Property #2'!AG71)","v":0},{"$f":"IF('Property Set Up'!$D$58=\"Weeks\",'Projection – Property #2'!AH71*(1/(52-'Property Set Up'!$D$43))*1.15+'Property Set Up'!$D$57*1.15*'Projection – Property #2'!AH71,'Property Set Up'!$D$57*1.15*'Projection – Property #2'!AH71)","v":0},{"$f":"IF('Property Set Up'!$D$58=\"Weeks\",'Projection – Property #2'!AI71*(1/(52-'Property Set Up'!$D$43))*1.15+'Property Set Up'!$D$57*1.15*'Projection – Property #2'!AI71,'Property Set Up'!$D$57*1.15*'Projection – Property #2'!AI71)","v":0}]
[null,"Full Sized Inflation Based Operating Costs",null,{"$f":"IF('Property Set Up'!$D$58=\"Weeks\",(SUM('Property Set Up'!$D$61:$D$68)-'Property Set Up'!D66)*(1+'Property Set Up'!$D77)^'Projection – Property #2'!D26,(SUM('Property Set Up'!$D$60:$D$68)-'Property Set Up'!D66)*(1+'Property Set Up'!D77)^'Projection – Property #2'!D26)","v":7122.5},{"$f":"D73*(1+'Property Set Up'!$D$77)","v":7264.95},{"$f":"E73*(1+'Property Set Up'!$D$77)","v":7410.2489999999998},{"$f":"F73*(1+'Property Set Up'!$D$77)","v":7558.4539800000002},{"$f":"G73*(1+'Property Set Up'!$D$77)","v":7709.6230596000005},{"$f":"H73*(1+'Property Set Up'!$D$77)","v":7863.8155207920008},{"$f":"I73*(1+'Property Set Up'!$D$77)","v":8021.0918312078411},{"$f":"J73*(1+'Property Set Up'!$D$77)","v":8181.5136678319977},{"$f":"K73*(1+'Property Set Up'!$D$77)","v":8345.1439411886386},{"$f":"L73*(1+'Property Set Up'!$D$77)","v":8512.0468200124124},{"$f":"M73*(1+'Property Set Up'!$D$77)","v":8682.2877564126611},{"$f":"N73*(1+'Property Set Up'!$D$77)","v":8855.933511540914},{"$f":"O73*(1+'Property Set Up'!$D$77)","v":9033.0521817717326},{"$f":"P73*(1+'Property Set Up'!$D$77)","v":9213.7132254071676},{"$f":"Q73*(1+'Property Set Up'!$D$77)","v":9397.987489915311},{"$f":"R73*(1+'Property Set Up'!$D$77)","v":9585.9472397136178},{"$f":"S73*(1+'Property Set Up'!$D$77)","v":9777.6661845078906},{"$f":"T73*(1+'Property Set Up'!$D$77)","v":9973.2195081980481},{"$f":"U73*(1+'Property Set Up'!$D$77)","v":10172.683898362009},{"$f":"V73*(1+'Property Set Up'!$D$77)","v":10376.137576329249},{"$f":"W73*(1+'Property Set Up'!$D$77)","v":10583.660327855834},{"$f":"X73*(1+'Property Set Up'!$D$77)","v":10795.333534412952},{"$f":"Y73*(1+'Property Set Up'!$D$77)","v":11011.24020510121},{"$f":"Z73*(1+'Property Set Up'!$D$77)","v":11231.465009203235},{"$f":"AA73*(1+'Property Set Up'!$D$77)","v":11456.094309387299},{"$f":"AB73*(1+'Property Set Up'!$D$77)","v":11685.216195575045},{"$f":"AC73*(1+'Property Set Up'!$D$77)","v":11918.920519486546},{"$f":"AD73*(1+'Property Set Up'!$D$77)","v":12157.298929876277},{"$f":"AE73*(1+'Property Set Up'!$D$77)","v":12400.444908473803},{"$f":"AF73*(1+'Property Set Up'!$D$77)","v":12648.45380664328},{"$f":"AG73*(1+'Property Set Up'!$D$77)","v":12901.422882776145},{"$f":"AH73*(1+'Property Set Up'!$D$77)","v":13159.451340431668}]
[null,"Months Left At Short Term Rental Inflation Rate",null,{"$f":"Assumptions!E13*12","v":36},{"$f":"D74-D75","v":24},12,0,-12,-24,-36,-48,-60,-72,-84,-96,-108,-120,-132,{"$f":"R74-R75","v":-144},-157,-171,-186,-202,-219,-237,-256,-276,-297,-319,-342,-366,-391,-417,-444,-472]
[null,"Months in period",null,12,12,12,12,12,12,12,12,12,12,12,12,12,12,12,13,14,15,16,17,18,19,20,21,22,23,24,25,26,27,28,29]
[null,"Rental Inflation Rate In Period",null,{"$f":"IF(D77>0,Assumptions!$E$12,Assumptions!$E$10)","v":0.06},{"$f":"IF(E77>0,Assumptions!$E$12,Assumptions!$E$10)","v":0.06},{"$f":"IF(F77>0,Assumptions!$E$12,Assumptions!$E$10)","v":0.06},{"$f":"IF(G77>0,Assumptions!$E$12,Assumptions!$E$10)","v":4.7E-2},{"$f":"IF(H77>0,Assumptions!$E$12,Assumptions!$E$10)","v":4.7E-2},{"$f":"IF(I77>0,Assumptions!$E$12,Assumptions!$E$10)","v":4.7E-2},{"$f":"IF(J77>0,Assumptions!$E$12,Assumptions!$E$10)","v":4.7E-2},{"$f":"IF(K77>0,Assumptions!$E$12,Assumptions!$E$10)","v":4.7E-2},{"$f":"IF(L77>0,Assumptions!$E$12,Assumptions!$E$10)","v":4.7E-2},{"$f":"IF(M77>0,Assumptions!$E$12,Assumptions!$E$10)","v":4.7E-2},{"$f":"IF(N77>0,Assumptions!$E$12,Assumptions!$E$10)","v":4.7E-2},{"$f":"IF(O77>0,Assumptions!$E$12,Assumptions!$E$10)","v":4.7E-2},{"$f":"IF(P77>0,Assumptions!$E$12,Assumptions!$E$10)","v":4.7E-2},{"$f":"IF(Q77>0,Assumptions!$E$12,Assumptions!$E$10)","v":4.7E-2},{"$f":"IF(R77>0,Assumptions!$E$12,Assumptions!$E$10)","v":4.7E-2},{"$f":"IF(S74>=12,(1+Assumptions!$E12)^(1/Assumptions!$E13)-1,IF(AND(S74<12,S74>0),(1+Assumptions!$E14)^('Projection – Property #2'!S74)*(1+Assumptions!$E11)^(12-'Projection – Property #2'!S74)-1,Assumptions!$E10))","v":4.7E-2},{"$f":"IF(T74>=12,(1+Assumptions!$E12)^(1/Assumptions!$E13)-1,IF(AND(T74<12,T74>0),(1+Assumptions!$E14)^('Projection – Property #2'!T74)*(1+Assumptions!$E11)^(12-'Projection – Property #2'!T74)-1,Assumptions!$E10))","v":4.7E-2},{"$f":"IF(U74>=12,(1+Assumptions!$E12)^(1/Assumptions!$E13)-1,IF(AND(U74<12,U74>0),(1+Assumptions!$E14)^('Projection – Property #2'!U74)*(1+Assumptions!$E11)^(12-'Projection – Property #2'!U74)-1,Assumptions!$E10))","v":4.7E-2},{"$f":"IF(V74>=12,(1+Assumptions!$E12)^(1/Assumptions!$E13)-1,IF(AND(V74<12,V74>0),(1+Assumptions!$E14)^('Projection – Property #2'!V74)*(1+Assumptions!$E11)^(12-'Projection – Property #2'!V74)-1,Assumptions!$E10))","v":4.7E-2},{"$f":"IF(W74>=12,(1+Assumptions!$E12)^(1/Assumptions!$E13)-1,IF(AND(W74<12,W74>0),(1+Assumptions!$E14)^('Projection – Property #2'!W74)*(1+Assumptions!$E11)^(12-'Projection – Property #2'!W74)-1,Assumptions!$E10))","v":4.7E-2},{"$f":"IF(X74>=12,(1+Assumptions!$E12)^(1/Assumptions!$E13)-1,IF(AND(X74<12,X74>0),(1+Assumptions!$E14)^('Projection – Property #2'!X74)*(1+Assumptions!$E11)^(12-'Projection – Property #2'!X74)-1,Assumptions!$E10))","v":4.7E-2},{"$f":"IF(Y74>=12,(1+Assumptions!$E12)^(1/Assumptions!$E13)-1,IF(AND(Y74<12,Y74>0),(1+Assumptions!$E14)^('Projection – Property #2'!Y74)*(1+Assumptions!$E11)^(12-'Projection – Property #2'!Y74)-1,Assumptions!$E10))","v":4.7E-2},{"$f":"IF(Z74>=12,(1+Assumptions!$E12)^(1/Assumptions!$E13)-1,IF(AND(Z74<12,Z74>0),(1+Assumptions!$E14)^('Projection – Property #2'!Z74)*(1+Assumptions!$E11)^(12-'Projection – Property #2'!Z74)-1,Assumptions!$E10))","v":4.7E-2},{"$f":"IF(AA74>=12,(1+Assumptions!$E12)^(1/Assumptions!$E13)-1,IF(AND(AA74<12,AA74>0),(1+Assumptions!$E14)^('Projection – Property #2'!AA74)*(1+Assumptions!$E11)^(12-'Projection – Property #2'!AA74)-1,Assumptions!$E10))","v":4.7E-2},{"$f":"IF(AB74>=12,(1+Assumptions!$E12)^(1/Assumptions!$E13)-1,IF(AND(AB74<12,AB74>0),(1+Assumptions!$E14)^('Projection – Property #2'!AB74)*(1+Assumptions!$E11)^(12-'Projection – Property #2'!AB74)-1,Assumptions!$E10))","v":4.7E-2},{"$f":"IF(AC74>=12,(1+Assumptions!$E12)^(1/Assumptions!$E13)-1,IF(AND(AC74<12,AC74>0),(1+Assumptions!$E14)^('Projection – Property #2'!AC74)*(1+Assumptions!$E11)^(12-'Projection – Property #2'!AC74)-1,Assumptions!$E10))","v":4.7E-2},{"$f":"IF(AD74>=12,(1+Assumptions!$E12)^(1/Assumptions!$E13)-1,IF(AND(AD74<12,AD74>0),(1+Assumptions!$E14)^('Projection – Property #2'!AD74)*(1+Assumptions!$E11)^(12-'Projection – Property #2'!AD74)-1,Assumptions!$E10))","v":4.7E-2},{"$f":"IF(AE74>=12,(1+Assumptions!$E12)^(1/Assumptions!$E13)-1,IF(AND(AE74<12,AE74>0),(1+Assumptions!$E14)^('Projection – Property #2'!AE74)*(1+Assumptions!$E11)^(12-'Projection – Property #2'!AE74)-1,Assumptions!$E10))","v":4.7E-2},{"$f":"IF(AF74>=12,(1+Assumptions!$E12)^(1/Assumptions!$E13)-1,IF(AND(AF74<12,AF74>0),(1+Assumptions!$E14)^('Projection – Property #2'!AF74)*(1+Assumptions!$E11)^(12-'Projection – Property #2'!AF74)-1,Assumptions!$E10))","v":4.7E-2},{"$f":"IF(AG74>=12,(1+Assumptions!$E12)^(1/Assumptions!$E13)-1,IF(AND(AG74<12,AG74>0),(1+Assumptions!$E14)^('Projection – Property #2'!AG74)*(1+Assumptions!$E11)^(12-'Projection – Property #2'!AG74)-1,Assumptions!$E10))","v":4.7E-2},{"$f":"IF(AH74>=12,(1+Assumptions!$E12)^(1/Assumptions!$E13)-1,IF(AND(AH74<12,AH74>0),(1+Assumptions!$E14)^('Projection – Property #2'!AH74)*(1+Assumptions!$E11)^(12-'Projection – Property #2'!AH74)-1,Assumptions!$E10))","v":4.7E-2},{"$f":"IF(AI74>=12,(1+Assumptions!$E12)^(1/Assumptions!$E13)-1,IF(AND(AI74<12,AI74>0),(1+Assumptions!$E14)^('Projection – Property #2'!AI74)*(1+Assumptions!$E11)^(12-'Projection – Property #2'!AI74)-1,Assumptions!$E10))","v":4.7E-2}]
[null,"Years of Above average inflation",null,{"$f":"Assumptions!E13","v":3},{"$f":"MAX(D77-1,0)","v":2},{"$f":"MAX(E77-1,0)","v":1},0,0,0,0,0,0,0,0,0,0,0,0]
[null,"Construction Financing Costs",null,{"$f":"(D68/12)*(D59*'Property Set Up'!$D106)","v":0},{"$f":"(E68/12)*(E59*'Property Set Up'!$D106)","v":0},{"$f":"(F68/12)*(F59*'Property Set Up'!$D106)","v":0},{"$f":"(G68/12)*(G59*'Property Set Up'!$D106)","v":0},{"$f":"(H68/12)*(H59*'Property Set Up'!$D106)","v":0},{"$f":"(I68/12)*(I59*'Property Set Up'!$D106)","v":0},{"$f":"(J68/12)*(J59*'Property Set Up'!$D106)","v":0},{"$f":"(K68/12)*(K59*'Property Set Up'!$D106)","v":0},{"$f":"(L68/12)*(L59*'Property Set Up'!$D106)","v":0},{"$f":"(M68/12)*(M59*'Property Set Up'!$D106)","v":0},{"$f":"(N68/12)*(N59*'Property Set Up'!$D106)","v":0},{"$f":"(O68/12)*(O59*'Property Set Up'!$D106)","v":0},{"$f":"(P68/12)*(P59*'Property Set Up'!$D106)","v":0},{"$f":"(Q68/12)*(Q59*'Property Set Up'!$D106)","v":0},{"$f":"(R68/12)*(R59*'Property Set Up'!$D106)","v":0},{"$f":"(S68/12)*(S59*'Property Set Up'!$D106)","v":0},{"$f":"(T68/12)*(T59*'Property Set Up'!$D106)","v":0},{"$f":"(U68/12)*(U59*'Property Set Up'!$D106)","v":0},{"$f":"(V68/12)*(V59*'Property Set Up'!$D106)","v":0},{"$f":"(W68/12)*(W59*'Property Set Up'!$D106)","v":0},{"$f":"(X68/12)*(X59*'Property Set Up'!$D106)","v":0},{"$f":"(Y68/12)*(Y59*'Property Set Up'!$D106)","v":0},{"$f":"(Z68/12)*(Z59*'Property Set Up'!$D106)","v":0},{"$f":"(AA68/12)*(AA59*'Property Set Up'!$D106)","v":0},{"$f":"(AB68/12)*(AB59*'Property Set Up'!$D106)","v":0},{"$f":"(AC68/12)*(AC59*'Property Set Up'!$D106)","v":0},{"$f":"(AD68/12)*(AD59*'Property Set Up'!$D106)","v":0},{"$f":"(AE68/12)*(AE59*'Property Set Up'!$D106)","v":0},{"$f":"(AF68/12)*(AF59*'Property Set Up'!$D106)","v":0},{"$f":"(AG68/12)*(AG59*'Property Set Up'!$D106)","v":0},{"$f":"(AH68/12)*(AH59*'Property Set Up'!$D106)","v":0},{"$f":"(AI68/12)*(AI59*'Property Set Up'!$D106)","v":0}]
[null,"Operating Financing Costs",null,{"$f":"IFERROR(IF(D45=\"Interest Only\",D40*D59/12,-PMT(D59/12,D46*12,D40,,0))*D69,0)","v":0},157.5,150,135,135,135,135,135,135,135,135,135,135,135,135,135,135,135,135,135,135,135,135,135,135,135,135,135,135,135,135,135]
[]
[]
[null,"HIDDEN INTEREST DEDUCTIBILITY CALCULATIONS"]
[]
[]
[null,"Start Calendar Year",null,{"$f":"DATE(YEAR('Property Set Up'!C6),MONTH('Property Set Up'!C6)+1,1)","v":"2022-05-01"},{"$f":"D86+1","v":"2023-05-01"},"2024-05-01","2025-05-01","2026-05-01","2027-05-01","2028-05-01","2029-05-01","2030-05-01","2031-05-01","2032-05-01","2033-05-01","2034-05-01","2035-05-01","2036-05-01","2037-05-01","2038-05-01","2039-05-01","2040-05-01","2041-05-01","2042-05-01","2043-05-01","2044-05-01","2045-05-01","2046-05-01","2047-05-01","2048-05-01","2049-05-01","2050-05-01","2051-05-01","2052-05-01","2053-05-01"]
[null,"End Calendar Year",null,{"$f":"DATE(YEAR(D85)+1,MONTH(D85),DAY(D85)-1)","v":"2023-04-30"},"2024-04-30","2025-04-30","2026-04-30","2027-04-30","2028-04-30","2029-04-30","2030-04-30","2031-04-30","2032-04-30","2033-04-30","2034-04-30","2035-04-30","2036-04-30","2037-04-30","2038-04-30","2039-04-30","2040-04-30","2041-04-30","2042-04-30","2043-04-30","2044-04-30","2045-04-30","2046-04-30","2047-04-30","2048-04-30","2049-04-30","2050-04-30","2051-04-30","2052-04-30","2053-04-30","2054-04-30"]
[]
[null,"Middle Tax Year",null,{"$f":"IF(MONTH(D85)>3,YEAR(D86),YEAR(D85))","v":2023},2024,2025,2026,2027,2028,2029,2030,2031,2032,2033,2034,2035,2036,2037,2038,2039,2040,2041,2042,2043,2044,2045,2046,2047,2048,2049,2050,2051,2052,2053,2054]
[null,"Months in First Tax Period",null,{"$f":"IF(AND(YEAR(D85)=2021,MONTH(D85)<10),10-MONTH(D85),IF(MONTH(D85)>3,16-MONTH(D85),4-MONTH(D85)))","v":11},{"$f":"IF(MONTH(E85)>3,16-MONTH(E85),4-MONTH(E85))","v":11},11,11,11,11,11,11,11,11,11,11,11,11,11,11,11,11,11,11,11,11,11,11,11,11,11,11,11,11,11,11]
[null,"Months in 2nd Tax Period",null,{"$f":"12-D89","v":1},1,1,1,1,1,1,1,1,1,1,1,1,1,1,1,1,1,1,1,1,1,1,1,1,1,1,1,1,1,1,1]
[]
[null,"P+I Starting Period (Months) – First Tax Period",null,{"$f":"IF(D67>=D89,0,1)","v":0},{"$f":"IF(E67>=E89,0,D95+1)","v":1}]
[null,"P+I Ending Period (Months) – First Tax Period",null,{"$f":"IF(D89>=D67,D89-D67,0)","v":0},{"$f":"IF(E89>E67,E89-E67,0)","v":11}]
[null,"P+I Starting Period (Months) – Second Tax Period",null,{"$f":"IF(D67>=12,0,D93+1)","v":0},{"$f":"IF(E90=0,0,IF(E67=12,0,E93+1))","v":12}]
[null,"P+I Ending Period (Months) – Second Tax Period",null,{"$f":"IF(D67>=12,0,12-D67)","v":0},{"$f":"IF(E94=0,0,12-E67)","v":12}]
[]
[null,"Interest in first half of the tax year",null,{"$f":"IF('Property Set Up'!$D38=\"Interest Only\",D105+D106,D105+D107)","v":0},{"$f":"IF('Property Set Up'!$D38=\"Interest Only\",E105+E106,E105+E107)","v":144.375},{"$f":"IF('Property Set Up'!$D38=\"Interest only\",F59*'Property Set Up'!$D28*('Projection – Property #2'!F89/12),IFERROR(-CUMIPMT(F59/12,'Property Set Up'!$D39*12,'Property Set Up'!$D28,F27,F27+F89-1,0),0))","v":137.5},{"$f":"IFERROR(IF(G45=\"Interest Only\",(G40*G59)*G89/12,-CUMIPMT(G59/12,12*G46,G40,1,G89,0)),0)","v":123.75},123.75,123.75,123.75,123.75,123.75,123.75,123.75,123.75,123.75,123.75,123.75,123.75,123.75,123.75,123.75,123.75,123.75,123.75,123.75,123.75,123.75,123.75,123.75,123.75,123.75,123.75,123.75,123.75]
[null,"Interest in second half of the tax year",null,{"$f":"IF('Property Set Up'!$D38=\"Interest Only\",D114+D115,D114+D116)","v":0},{"$f":"IF('Property Set Up'!$D38=\"Interest Only\",E114+E115,E114+E116)","v":13.125},{"$f":"IF('Property Set Up'!$D38=\"Interest only\",F59*'Property Set Up'!$D28*(F90/12),IFERROR(-CUMIPMT(F59/12,'Property Set Up'!$D39*12,'Property Set Up'!$D28,F27+F89,F28,0),0))","v":12.5},{"$f":"IFERROR(IF(G45=\"Interest Only\",(G40*G59)*G90/12,IFERROR(-CUMIPMT(G59/12,12*G46,G40,G89+1,12,0),0)),0)","v":11.25},11.25,11.25,11.25,11.25,11.25,11.25,11.25,11.25,11.25,11.25,11.25,11.25,11.25,11.25,11.25,11.25,11.25,11.25,11.25,11.25,11.25,11.25,11.25,11.25,11.25,11.25,11.25,11.25]
[]
[null,"1st Half Months in Period",null,{"$f":"D89","v":11},{"$f":"E89","v":11}]
[null,"1st Half Construction",null,{"$f":"IF(D103>=1,D100,D100+D103)","v":11},{"$f":"IF(D112>E100,E100,IF(D112=0,0,D112))","v":0}]
[null,"1st Half Operating",null,{"$f":"D100-D101","v":0},{"$f":"E100-E101","v":11}]
[null,"1st Half Residual",null,{"$f":"D67-D100","v":1},{"$f":"D112-E101","v":0}]
[]
[null,"1st Half (Interest Resulting From Construction)",null,{"$f":"'Property Set Up'!$D106*D59*(D101/12)","v":0},{"$f":"'Property Set Up'!$D106*E59*(E101/12)","v":0}]
[null,"1st Half interest if i/o",null,{"$f":"(D102/12)*('Property Set Up'!$D28*D59)","v":0},{"$f":"(E102/12)*('Property Set Up'!$D28*E59)","v":144.375}]
[null,"1st Half interest if P+I",null,{"$f":"IFERROR(-CUMIPMT(D59/12,'Property Set Up'!$D39*12,'Property Set Up'!$D28,D92,D93,0),0)","v":0},{"$f":"IFERROR(-CUMIPMT(E59/12,'Property Set Up'!$D39*12,'Property Set Up'!$D28,E92,E93,0),0)","v":143.19192379855843}]
[]
[null,"2nd Half Months in Period",null,{"$f":"D90","v":1},{"$f":"E90","v":1}]
[null,"2nd Half Construction",null,{"$f":"IF(D103>=D109,D109,IF(D103>0,D103,0))","v":1},{"$f":"E103","v":0}]
[null,"2nd Half Operating",null,{"$f":"D109-D110","v":0},{"$f":"E109-E110","v":1}]
[null,"2nd Half Residual",null,{"$f":"IF(D103-D109<1,0,D103-D109)","v":0},{"$f":"E109-SUM(E110:E111)","v":0}]
[]
[null,"2nd Half (Interest Resulting From Construction)",null,{"$f":"'Property Set Up'!$D106*D59*(D110/12)","v":0},{"$f":"'Property Set Up'!$D106*E59*(E110/12)","v":0}]
[null,"2nd Half interest if i/o",null,{"$f":"(D111/12)*('Property Set Up'!$D28*D59)","v":0},{"$f":"(E111/12)*('Property Set Up'!$D28*E59)","v":13.125}]
[null,"2nd Half interest if P+I",null,{"$f":"IFERROR(-CUMIPMT(D59/12,'Property Set Up'!$D39*12,'Property Set Up'!$D28,D94,D95,0),0)","v":0},{"$f":"IFERROR(-CUMIPMT(E59/12,'Property Set Up'!$D39*12,'Property Set Up'!$D28,E94,E95,0),0)","v":12.886300777840162}]
[]
[null,"Tax Treatment First Tax Year",null,{"$f":"IF('Property Set Up'!D21=\"NB\",100%,IF(AND(YEAR(D85)=2021,MONTH(D85)<10),100%,IF('Property Set Up'!D21=\"Full\",0,IF(D88=2022,100%,IF(D88=2023,75%,IF(D88=2024,50%,IF(D88=2025,25%,0%)))))))","v":1},{"$f":"IF('Property Set Up'!$D21=\"NB\",100%,IF('Property Set Up'!$D21=\"full\",0,IF(E88=2022,100%,IF(E88=2023,75%,IF(E88=2024,50%,IF(E88=2025,25%,0%))))))","v":1},{"$f":"IF('Property Set Up'!$D21=\"NB\",100%,IF('Property Set Up'!$D21=\"full\",0,IF(F88=2022,100%,IF(F88=2023,75%,IF(F88=2024,50%,IF(F88=2025,25%,0%))))))","v":1},{"$f":"IF('Property Set Up'!$D21=\"NB\",100%,IF('Property Set Up'!$D21=\"full\",0,IF(G88=2022,100%,IF(G88=2023,75%,IF(G88=2024,50%,IF(G88=2025,25%,0%))))))","v":1},{"$f":"IF('Property Set Up'!$D21=\"NB\",100%,IF('Property Set Up'!$D21=\"full\",0,IF(H88=2022,100%,IF(H88=2023,75%,IF(H88=2024,50%,IF(H88=2025,25%,0%))))))","v":1},{"$f":"IF('Property Set Up'!$D21=\"NB\",100%,IF('Property Set Up'!$D21=\"full\",0,IF(I88=2022,100%,IF(I88=2023,75%,IF(I88=2024,50%,IF(I88=2025,25%,0%))))))","v":1},{"$f":"IF('Property Set Up'!$D21=\"NB\",100%,IF('Property Set Up'!$D21=\"full\",0,IF(J88=2022,100%,IF(J88=2023,75%,IF(J88=2024,50%,IF(J88=2025,25%,0%))))))","v":1},{"$f":"IF('Property Set Up'!$D21=\"NB\",100%,IF('Property Set Up'!$D21=\"full\",0,IF(K88=2022,100%,IF(K88=2023,75%,IF(K88=2024,50%,IF(K88=2025,25%,0%))))))","v":1},{"$f":"IF('Property Set Up'!$D21=\"NB\",100%,IF('Property Set Up'!$D21=\"full\",0,IF(L88=2022,100%,IF(L88=2023,75%,IF(L88=2024,50%,IF(L88=2025,25%,0%))))))","v":1},{"$f":"IF('Property Set Up'!$D21=\"NB\",100%,IF('Property Set Up'!$D21=\"full\",0,IF(M88=2022,100%,IF(M88=2023,75%,IF(M88=2024,50%,IF(M88=2025,25%,0%))))))","v":1},{"$f":"IF('Property Set Up'!$D21=\"NB\",100%,IF('Property Set Up'!$D21=\"full\",0,IF(N88=2022,100%,IF(N88=2023,75%,IF(N88=2024,50%,IF(N88=2025,25%,0%))))))","v":1},{"$f":"IF('Property Set Up'!$D21=\"NB\",100%,IF('Property Set Up'!$D21=\"full\",0,IF(O88=2022,100%,IF(O88=2023,75%,IF(O88=2024,50%,IF(O88=2025,25%,0%))))))","v":1},{"$f":"IF('Property Set Up'!$D21=\"NB\",100%,IF('Property Set Up'!$D21=\"full\",0,IF(P88=2022,100%,IF(P88=2023,75%,IF(P88=2024,50%,IF(P88=2025,25%,0%))))))","v":1},{"$f":"IF('Property Set Up'!$D21=\"NB\",100%,IF('Property Set Up'!$D21=\"full\",0,IF(Q88=2022,100%,IF(Q88=2023,75%,IF(Q88=2024,50%,IF(Q88=2025,25%,0%))))))","v":1},{"$f":"IF('Property Set Up'!$D21=\"NB\",100%,IF('Property Set Up'!$D21=\"full\",0,IF(R88=2022,100%,IF(R88=2023,75%,IF(R88=2024,50%,IF(R88=2025,25%,0%))))))","v":1},{"$f":"IF('Property Set Up'!$D21=\"NB\",100%,IF('Property Set Up'!$D21=\"full\",0,IF(S88=2022,100%,IF(S88=2023,75%,IF(S88=2024,50%,IF(S88=2025,25%,0%))))))","v":1},{"$f":"IF('Property Set Up'!$D21=\"NB\",100%,IF('Property Set Up'!$D21=\"full\",0,IF(T88=2022,100%,IF(T88=2023,75%,IF(T88=2024,50%,IF(T88=2025,25%,0%))))))","v":1},{"$f":"IF('Property Set Up'!$D21=\"NB\",100%,IF('Property Set Up'!$D21=\"full\",0,IF(U88=2022,100%,IF(U88=2023,75%,IF(U88=2024,50%,IF(U88=2025,25%,0%))))))","v":1},{"$f":"IF('Property Set Up'!$D21=\"NB\",100%,IF('Property Set Up'!$D21=\"full\",0,IF(V88=2022,100%,IF(V88=2023,75%,IF(V88=2024,50%,IF(V88=2025,25%,0%))))))","v":1},{"$f":"IF('Property Set Up'!$D21=\"NB\",100%,IF('Property Set Up'!$D21=\"full\",0,IF(W88=2022,100%,IF(W88=2023,75%,IF(W88=2024,50%,IF(W88=2025,25%,0%))))))","v":1},{"$f":"IF('Property Set Up'!$D21=\"NB\",100%,IF('Property Set Up'!$D21=\"full\",0,IF(X88=2022,100%,IF(X88=2023,75%,IF(X88=2024,50%,IF(X88=2025,25%,0%))))))","v":1},{"$f":"IF('Property Set Up'!$D21=\"NB\",100%,IF('Property Set Up'!$D21=\"full\",0,IF(Y88=2022,100%,IF(Y88=2023,75%,IF(Y88=2024,50%,IF(Y88=2025,25%,0%))))))","v":1},{"$f":"IF('Property Set Up'!$D21=\"NB\",100%,IF('Property Set Up'!$D21=\"full\",0,IF(Z88=2022,100%,IF(Z88=2023,75%,IF(Z88=2024,50%,IF(Z88=2025,25%,0%))))))","v":1},{"$f":"IF('Property Set Up'!$D21=\"NB\",100%,IF('Property Set Up'!$D21=\"full\",0,IF(AA88=2022,100%,IF(AA88=2023,75%,IF(AA88=2024,50%,IF(AA88=2025,25%,0%))))))","v":1},{"$f":"IF('Property Set Up'!$D21=\"NB\",100%,IF('Property Set Up'!$D21=\"full\",0,IF(AB88=2022,100%,IF(AB88=2023,75%,IF(AB88=2024,50%,IF(AB88=2025,25%,0%))))))","v":1},{"$f":"IF('Property Set Up'!$D21=\"NB\",100%,IF('Property Set Up'!$D21=\"full\",0,IF(AC88=2022,100%,IF(AC88=2023,75%,IF(AC88=2024,50%,IF(AC88=2025,25%,0%))))))","v":1},{"$f":"IF('Property Set Up'!$D21=\"NB\",100%,IF('Property Set Up'!$D21=\"full\",0,IF(AD88=2022,100%,IF(AD88=2023,75%,IF(AD88=2024,50%,IF(AD88=2025,25%,0%))))))","v":1},{"$f":"IF('Property Set Up'!$D21=\"NB\",100%,IF('Property Set Up'!$D21=\"full\",0,IF(AE88=2022,100%,IF(AE88=2023,75%,IF(AE88=2024,50%,IF(AE88=2025,25%,0%))))))","v":1},{"$f":"IF('Property Set Up'!$D21=\"NB\",100%,IF('Property Set Up'!$D21=\"full\",0,IF(AF88=2022,100%,IF(AF88=2023,75%,IF(AF88=2024,50%,IF(AF88=2025,25%,0%))))))","v":1},{"$f":"IF('Property Set Up'!$D21=\"NB\",100%,IF('Property Set Up'!$D21=\"full\",0,IF(AG88=2022,100%,IF(AG88=2023,75%,IF(AG88=2024,50%,IF(AG88=2025,25%,0%))))))","v":1},{"$f":"IF('Property Set Up'!$D21=\"NB\",100%,IF('Property Set Up'!$D21=\"full\",0,IF(AH88=2022,100%,IF(AH88=2023,75%,IF(AH88=2024,50%,IF(AH88=2025,25%,0%))))))","v":1},{"$f":"IF('Property Set Up'!$D21=\"NB\",100%,IF('Property Set Up'!$D21=\"full\",0,IF(AI88=2022,100%,IF(AI88=2023,75%,IF(AI88=2024,50%,IF(AI88=2025,25%,0%))))))","v":1}]
[null,"Tax Treatment 2nd Tax Year",null,{"$f":"IF('Property Set Up'!D21=\"NB\",100%,IF('Property Set Up'!D21=\"Full\",0,IF(AND(YEAR(D85)=2021,MONTH(D85)<10),75%,IF(D88=2022,75%,IF(D88=2023,50%,IF(D88=2024,25%,IF(D88=2025,0%,0%)))))))","v":1},{"$f":"IF('Property Set Up'!$D21=\"NB\",100%,IF('Property Set Up'!$D21=\"Full\",0,IF(E88=2022,75%,IF(E88=2023,50%,IF(E88=2024,25%,0)))))","v":1},{"$f":"IF('Property Set Up'!$D21=\"NB\",100%,IF('Property Set Up'!$D21=\"Full\",0,IF(F88=2022,75%,IF(F88=2023,50%,IF(F88=2024,25%,0)))))","v":1},{"$f":"IF('Property Set Up'!$D21=\"NB\",100%,IF('Property Set Up'!$D21=\"Full\",0,IF(G88=2022,75%,IF(G88=2023,50%,IF(G88=2024,25%,0)))))","v":1},{"$f":"IF('Property Set Up'!$D21=\"NB\",100%,IF('Property Set Up'!$D21=\"Full\",0,IF(H88=2022,75%,IF(H88=2023,50%,IF(H88=2024,25%,0)))))","v":1},{"$f":"IF('Property Set Up'!$D21=\"NB\",100%,IF('Property Set Up'!$D21=\"Full\",0,IF(I88=2022,75%,IF(I88=2023,50%,IF(I88=2024,25%,0)))))","v":1},{"$f":"IF('Property Set Up'!$D21=\"NB\",100%,IF('Property Set Up'!$D21=\"Full\",0,IF(J88=2022,75%,IF(J88=2023,50%,IF(J88=2024,25%,0)))))","v":1},{"$f":"IF('Property Set Up'!$D21=\"NB\",100%,IF('Property Set Up'!$D21=\"Full\",0,IF(K88=2022,75%,IF(K88=2023,50%,IF(K88=2024,25%,0)))))","v":1},{"$f":"IF('Property Set Up'!$D21=\"NB\",100%,IF('Property Set Up'!$D21=\"Full\",0,IF(L88=2022,75%,IF(L88=2023,50%,IF(L88=2024,25%,0)))))","v":1},{"$f":"IF('Property Set Up'!$D21=\"NB\",100%,IF('Property Set Up'!$D21=\"Full\",0,IF(M88=2022,75%,IF(M88=2023,50%,IF(M88=2024,25%,0)))))","v":1},{"$f":"IF('Property Set Up'!$D21=\"NB\",100%,IF('Property Set Up'!$D21=\"Full\",0,IF(N88=2022,75%,IF(N88=2023,50%,IF(N88=2024,25%,0)))))","v":1},{"$f":"IF('Property Set Up'!$D21=\"NB\",100%,IF('Property Set Up'!$D21=\"Full\",0,IF(O88=2022,75%,IF(O88=2023,50%,IF(O88=2024,25%,0)))))","v":1},{"$f":"IF('Property Set Up'!$D21=\"NB\",100%,IF('Property Set Up'!$D21=\"Full\",0,IF(P88=2022,75%,IF(P88=2023,50%,IF(P88=2024,25%,0)))))","v":1},{"$f":"IF('Property Set Up'!$D21=\"NB\",100%,IF('Property Set Up'!$D21=\"Full\",0,IF(Q88=2022,75%,IF(Q88=2023,50%,IF(Q88=2024,25%,0)))))","v":1},{"$f":"IF('Property Set Up'!$D21=\"NB\",100%,IF('Property Set Up'!$D21=\"Full\",0,IF(R88=2022,75%,IF(R88=2023,50%,IF(R88=2024,25%,0)))))","v":1},{"$f":"IF('Property Set Up'!$D21=\"NB\",100%,IF('Property Set Up'!$D21=\"Full\",0,IF(S88=2022,75%,IF(S88=2023,50%,IF(S88=2024,25%,0)))))","v":1},{"$f":"IF('Property Set Up'!$D21=\"NB\",100%,IF('Property Set Up'!$D21=\"Full\",0,IF(T88=2022,75%,IF(T88=2023,50%,IF(T88=2024,25%,0)))))","v":1},{"$f":"IF('Property Set Up'!$D21=\"NB\",100%,IF('Property Set Up'!$D21=\"Full\",0,IF(U88=2022,75%,IF(U88=2023,50%,IF(U88=2024,25%,0)))))","v":1},{"$f":"IF('Property Set Up'!$D21=\"NB\",100%,IF('Property Set Up'!$D21=\"Full\",0,IF(V88=2022,75%,IF(V88=2023,50%,IF(V88=2024,25%,0)))))","v":1},{"$f":"IF('Property Set Up'!$D21=\"NB\",100%,IF('Property Set Up'!$D21=\"Full\",0,IF(W88=2022,75%,IF(W88=2023,50%,IF(W88=2024,25%,0)))))","v":1},{"$f":"IF('Property Set Up'!$D21=\"NB\",100%,IF('Property Set Up'!$D21=\"Full\",0,IF(X88=2022,75%,IF(X88=2023,50%,IF(X88=2024,25%,0)))))","v":1},{"$f":"IF('Property Set Up'!$D21=\"NB\",100%,IF('Property Set Up'!$D21=\"Full\",0,IF(Y88=2022,75%,IF(Y88=2023,50%,IF(Y88=2024,25%,0)))))","v":1},{"$f":"IF('Property Set Up'!$D21=\"NB\",100%,IF('Property Set Up'!$D21=\"Full\",0,IF(Z88=2022,75%,IF(Z88=2023,50%,IF(Z88=2024,25%,0)))))","v":1},{"$f":"IF('Property Set Up'!$D21=\"NB\",100%,IF('Property Set Up'!$D21=\"Full\",0,IF(AA88=2022,75%,IF(AA88=2023,50%,IF(AA88=2024,25%,0)))))","v":1},{"$f":"IF('Property Set Up'!$D21=\"NB\",100%,IF('Property Set Up'!$D21=\"Full\",0,IF(AB88=2022,75%,IF(AB88=2023,50%,IF(AB88=2024,25%,0)))))","v":1},{"$f":"IF('Property Set Up'!$D21=\"NB\",100%,IF('Property Set Up'!$D21=\"Full\",0,IF(AC88=2022,75%,IF(AC88=2023,50%,IF(AC88=2024,25%,0)))))","v":1},{"$f":"IF('Property Set Up'!$D21=\"NB\",100%,IF('Property Set Up'!$D21=\"Full\",0,IF(AD88=2022,75%,IF(AD88=2023,50%,IF(AD88=2024,25%,0)))))","v":1},{"$f":"IF('Property Set Up'!$D21=\"NB\",100%,IF('Property Set Up'!$D21=\"Full\",0,IF(AE88=2022,75%,IF(AE88=2023,50%,IF(AE88=2024,25%,0)))))","v":1},{"$f":"IF('Property Set Up'!$D21=\"NB\",100%,IF('Property Set Up'!$D21=\"Full\",0,IF(AF88=2022,75%,IF(AF88=2023,50%,IF(AF88=2024,25%,0)))))","v":1},{"$f":"IF('Property Set Up'!$D21=\"NB\",100%,IF('Property Set Up'!$D21=\"Full\",0,IF(AG88=2022,75%,IF(AG88=2023,50%,IF(AG88=2024,25%,0)))))","v":1},{"$f":"IF('Property Set Up'!$D21=\"NB\",100%,IF('Property Set Up'!$D21=\"Full\",0,IF(AH88=2022,75%,IF(AH88=2023,50%,IF(AH88=2024,25%,0)))))","v":1},{"$f":"IF('Property Set Up'!$D21=\"NB\",100%,IF('Property Set Up'!$D21=\"Full\",0,IF(AI88=2022,75%,IF(AI88=2023,50%,IF(AI88=2024,25%,0)))))","v":1}]
[]
[]
[null,"TAX"]
[]
[]
[null,"Tax Deductible Finance Costs",{"$f":"C56","v":0},{"$f":"(D97*D118)+(D98*D119)","v":0},157.5,150,135,135,135,135,135,135,135,135,135,135,135,135,135,135,135,135,135,135,135,135,135,135,135,135,135,135,135,135,135]
[null,"Tax Deductible Operating Costs",0,{"$f":"D57","v":0},7264.95,7410.2489999999998,7558.4539800000002,7709.6230596000005,7863.8155207920008,8021.0918312078411,8181.5136678319977,8345.1439411886386,8512.0468200124124,8682.2877564126611,8855.933511540914,9033.0521817717326,9213.7132254071676,9397.987489915311,9585.9472397136178,9777.6661845078906,9973.2195081980481,10172.683898362009,10376.137576329249,10583.660327855834,10795.333534412952,11011.24020510121,11231.465009203235,11456.094309387299,11685.216195575045,11918.920519486546,12157.298929876277,12400.444908473803,12648.45380664328,12901.422882776145,13159.451340431668]
[]
[null,"Operating Months",null,{"$f":"IF((12-D67)<0,0,IF((12-D67)>12,12,12-D67))","v":0},{"$f":"IF((12-E67)<0,0,IF((12-E67)>12,12,12-E67))","v":12},{"$f":"IF((12-F67)<0,0,IF((12-F67)>12,12,12-F67))","v":12},12,12,12,12,12,12,12,12,12,12,12,12,{"$f":"IF((12-S67)<0,0,IF((12-S67)>12,12,12-S67))","v":12},12,12,12,12,12,12,12,12,12,12,12,12,12,12,12,12]
[null,"Chattel Value",0,{"$f":"IF(D128=0,0,'Property Set Up'!D91)","v":0},{"$f":"IF(D129>0,D129-D130,IF(E128>0,'Property Set Up'!D91,0))","v":45000},{"$f":"IF(E128=0,'Property Set Up'!D91,E129-E130)","v":35100.000000000015},{"$f":"F129-F130","v":27378.000000000025},21354.840000000029,16656.775200000029,12992.284656000029,10133.982031680027,7904.5059847104249,6165.5146680741345,4809.1014410978269,3751.0991240563067,2925.8573167639206,2282.1687070758589,1780.0915915191708,{"$f":"R129-R130","v":1388.4714413849538},1083.0077242802645,844.74602493860664,658.90189945211353,513.94348157264881,400.87591562666626,312.68321418879981,243.89290706726396,190.23646751246599,148.38444465972356,115.73986683458443,90.277096130975906,70.416134982161239,54.924585286085794,42.841176523146942,33.416117688054626,26.064571796682621]
[null,"Depreciation",0,{"$f":"D129-D129*(1-Assumptions!$E17)^'Projection – Property #2'!D128","v":0},{"$f":"E129-E129*(1-Assumptions!$E17)^'Projection – Property #2'!E128","v":9899.9999999999854},{"$f":"F129-F129*(1-Assumptions!$E17)^'Projection – Property #2'!F128","v":7721.9999999999891},{"$f":"G129-G129*(1-Assumptions!$E17)^'Projection – Property #2'!G128","v":6023.1599999999962},{"$f":"H129-H129*(1-Assumptions!$E17)^'Projection – Property #2'!H128","v":4698.0648000000001},{"$f":"I129-I129*(1-Assumptions!$E17)^'Projection – Property #2'!I128","v":3664.4905440000002},{"$f":"J129-J129*(1-Assumptions!$E17)^'Projection – Property #2'!J128","v":2858.302624320002},{"$f":"K129-K129*(1-Assumptions!$E17)^'Projection – Property #2'!K128","v":2229.4760469696021},{"$f":"L129-L129*(1-Assumptions!$E17)^'Projection – Property #2'!L128","v":1738.9913166362903},{"$f":"M129-M129*(1-Assumptions!$E17)^'Projection – Property #2'!M128","v":1356.4132269763077},{"$f":"N129-N129*(1-Assumptions!$E17)^'Projection – Property #2'!N128","v":1058.0023170415202},{"$f":"O129-O129*(1-Assumptions!$E17)^'Projection – Property #2'!O128","v":825.24180729238606},{"$f":"P129-P129*(1-Assumptions!$E17)^'Projection – Property #2'!P128","v":643.68860968806166},{"$f":"Q129-Q129*(1-Assumptions!$E17)^'Projection – Property #2'!Q128","v":502.07711555668811},{"$f":"R129-R129*(1-Assumptions!$E17)^'Projection – Property #2'!R128","v":391.62015013421706},{"$f":"S129-S129*(1-Assumptions!$E17)^'Projection – Property #2'!S128","v":305.46371710468929},{"$f":"T129-T129*(1-Assumptions!$E17)^'Projection – Property #2'!T128","v":238.26169934165785},{"$f":"U129-U129*(1-Assumptions!$E17)^'Projection – Property #2'!U128","v":185.84412548649311},{"$f":"V129-V129*(1-Assumptions!$E17)^'Projection – Property #2'!V128","v":144.95841787946472},{"$f":"W129-W129*(1-Assumptions!$E17)^'Projection – Property #2'!W128","v":113.06756594598255},{"$f":"X129-X129*(1-Assumptions!$E17)^'Projection – Property #2'!X128","v":88.192701437866447},{"$f":"Y129-Y129*(1-Assumptions!$E17)^'Projection – Property #2'!Y128","v":68.790307121535847},{"$f":"Z129-Z129*(1-Assumptions!$E17)^'Projection – Property #2'!Z128","v":53.65643955479797},{"$f":"AA129-AA129*(1-Assumptions!$E17)^'Projection – Property #2'!AA128","v":41.852022852742436},{"$f":"AB129-AB129*(1-Assumptions!$E17)^'Projection – Property #2'!AB128","v":32.644577825139123},{"$f":"AC129-AC129*(1-Assumptions!$E17)^'Projection – Property #2'!AC128","v":25.462770703608527},{"$f":"AD129-AD129*(1-Assumptions!$E17)^'Projection – Property #2'!AD128","v":19.860961148814667},{"$f":"AE129-AE129*(1-Assumptions!$E17)^'Projection – Property #2'!AE128","v":15.491549696075445},{"$f":"AF129-AF129*(1-Assumptions!$E17)^'Projection – Property #2'!AF128","v":12.083408762938852},{"$f":"AG129-AG129*(1-Assumptions!$E17)^'Projection – Property #2'!AG128","v":9.4250588350923152},{"$f":"AH129-AH129*(1-Assumptions!$E17)^'Projection – Property #2'!AH128","v":7.3515458913720053},{"$f":"AI129-AI129*(1-Assumptions!$E17)^'Projection – Property #2'!AI128","v":5.7342057952701673}]
[]
[null,"Taxable Profit",{"$f":"C55-C125-C126-C130","v":0},0,-17322.449999999986,-15282.248999999989,-13716.613979999996,-12542.687859600001,-11663.306064792001,-11014.394455527843,-10545.989714801599,-10219.135257824928,-10003.460046988719,-9875.2900734541818,-9816.1753188333005,-9811.7407914597934,-9850.7903409638566,-9924.6076400495276,-10026.410956818307,-10150.927883849548,-10294.063633684542,-10452.642316241474,-10624.205142275232,-10806.853029293701,-10999.123841534487,-11199.896644656008,-11408.317032055978,-11623.738887212439,-11845.678966278654,-12073.781480635362,-12307.790479572352,-12547.528317236742,-12792.878865478371,-13043.774428667517,-13300.185546226938]
[null,"Tax Losses Carried Forward",{"$f":"IF(C132<0,C132,0)","v":0},{"$f":"IF(D132<0,D132,0)-Assumptions!E15","v":0},{"$f":"IF(E132+D133<0,E132+D133,0)","v":-17322.449999999986},-32604.698999999975,-46321.312979999973,-58864.000839599976,-70527.306904391982,-81541.701359919825,-92087.691074721428,-102306.82633254636,-112310.28637953509,-122185.57645298926,-132001.75177182257,-141813.49256328237,-151664.28290424624,-161588.89054429578,-171615.3015011141,-181766.22938496363,-192060.29301864817,-202512.93533488965,-213137.14047716488,-223943.99350645859,-234943.11734799307,-246143.0139926491,-257551.33102470508,-269175.0699119175,-281020.74887819617,-293094.53035883151,-305402.32083840389,-317949.84915564064,-330742.72802111902,-343786.50244978652,-357086.68799601344]
[null,"Tax to Pay",{"$f":"IF(C132<0,0,IFERROR(C132*'Property Set Up'!B93,0))","v":0},{"$f":"IF(D132<0,0,D132*'Property Set Up'!D93)","v":0},{"$f":"IF((D133+E132)>0,(D133+E132)*'Property Set Up'!$D$93,0)","v":0},{"$f":"IF((E133+F132)>0,(E133+F132)*'Property Set Up'!$D$93,0)","v":0},{"$f":"IF((F133+G132)>0,(F133+G132)*'Property Set Up'!$D$93,0)","v":0},{"$f":"IF((G133+H132)>0,(G133+H132)*'Property Set Up'!$D$93,0)","v":0},{"$f":"IF((H133+I132)>0,(H133+I132)*'Property Set Up'!$D$93,0)","v":0},{"$f":"IF((I133+J132)>0,(I133+J132)*'Property Set Up'!$D$93,0)","v":0},{"$f":"IF((J133+K132)>0,(J133+K132)*'Property Set Up'!$D$93,0)","v":0},{"$f":"IF((K133+L132)>0,(K133+L132)*'Property Set Up'!$D$93,0)","v":0},{"$f":"IF((L133+M132)>0,(L133+M132)*'Property Set Up'!$D$93,0)","v":0},{"$f":"IF((M133+N132)>0,(M133+N132)*'Property Set Up'!$D$93,0)","v":0},{"$f":"IF((N133+O132)>0,(N133+O132)*'Property Set Up'!$D$93,0)","v":0},{"$f":"IF((O133+P132)>0,(O133+P132)*'Property Set Up'!$D$93,0)","v":0},{"$f":"IF((P133+Q132)>0,(P133+Q132)*'Property Set Up'!$D$93,0)","v":0},{"$f":"IF((Q133+R132)>0,(Q133+R132)*'Property Set Up'!$D$93,0)","v":0},{"$f":"IF((R133+S132)>0,(R133+S132)*'Property Set Up'!$D$93,0)","v":0},{"$f":"IF((S133+T132)>0,(S133+T132)*'Property Set Up'!$D$93,0)","v":0},{"$f":"IF((T133+U132)>0,(T133+U132)*'Property Set Up'!$D$93,0)","v":0},{"$f":"IF((U133+V132)>0,(U133+V132)*'Property Set Up'!$D$93,0)","v":0},{"$f":"IF((V133+W132)>0,(V133+W132)*'Property Set Up'!$D$93,0)","v":0},{"$f":"IF((W133+X132)>0,(W133+X132)*'Property Set Up'!$D$93,0)","v":0},{"$f":"IF((X133+Y132)>0,(X133+Y132)*'Property Set Up'!$D$93,0)","v":0},{"$f":"IF((Y133+Z132)>0,(Y133+Z132)*'Property Set Up'!$D$93,0)","v":0},{"$f":"IF((Z133+AA132)>0,(Z133+AA132)*'Property Set Up'!$D$93,0)","v":0},{"$f":"IF((AA133+AB132)>0,(AA133+AB132)*'Property Set Up'!$D$93,0)","v":0},{"$f":"IF((AB133+AC132)>0,(AB133+AC132)*'Property Set Up'!$D$93,0)","v":0},{"$f":"IF((AC133+AD132)>0,(AC133+AD132)*'Property Set Up'!$D$93,0)","v":0},{"$f":"IF((AD133+AE132)>0,(AD133+AE132)*'Property Set Up'!$D$93,0)","v":0},{"$f":"IF((AE133+AF132)>0,(AE133+AF132)*'Property Set Up'!$D$93,0)","v":0},{"$f":"IF((AF133+AG132)>0,(AF133+AG132)*'Property Set Up'!$D$93,0)","v":0},{"$f":"IF((AG133+AH132)>0,(AG133+AH132)*'Property Set Up'!$D$93,0)","v":0},{"$f":"IF((AH133+AI132)>0,(AH133+AI132)*'Property Set Up'!$D$93,0)","v":0}]
[]
[]
[null,"POST-TAX CASHFLOW"]
[]
[]
[null,"Post Tax Cashflow",{"$f":"C61-C134","v":0},{"$f":"D61-D134","v":0},{"$f":"E61-E134","v":-7422.45},-7560.2489999999998,-7693.4539800000002,-7844.6230596000005,-7998.8155207920008,-8156.0918312078411,-8316.5136678319977,-8480.1439411886386,-8647.0468200124124,-8817.2877564126611,-8990.933511540914,-9168.0521817717326,-9348.7132254071676,-9532.987489915311,-9720.9472397136178,-9912.6661845078906,-10108.219508198048,-10307.683898362009,-10511.137576329249,-10718.660327855834,-10930.333534412952,-11146.24020510121,-11366.465009203235,-11591.094309387299,-11820.216195575045,-12053.920519486546,-12292.298929876277,-12535.444908473803,-12783.45380664328,-13036.422882776145,-13294.451340431668]
[null,"Inflation Discounted Post Tax Cashflow",{"$f":"C140","v":0},{"$f":"D140/(1+'Property Set Up'!$D$77)^'Projection – Property #2'!D26","v":0},{"$f":"E140/(1+'Property Set Up'!$D$77)^'Projection – Property #2'!E26","v":-7276.911764705882},{"$f":"F140/(1+'Property Set Up'!$D$77)^'Projection – Property #2'!F26","v":-7266.6753171856981},{"$f":"G140/(1+'Property Set Up'!$D$77)^'Projection – Property #2'!G26","v":-7249.7135151638513},{"$f":"H140/(1+'Property Set Up'!$D$77)^'Projection – Property #2'!H26","v":-7247.21913251358},{"$f":"I140/(1+'Property Set Up'!$D$77)^'Projection – Property #2'!I26","v":-7244.7736593270392},{"$f":"J140/(1+'Property Set Up'!$D$77)^'Projection – Property #2'!J26","v":-7242.3761365951368},{"$f":"K140/(1+'Property Set Up'!$D$77)^'Projection – Property #2'!K26","v":-7240.02562411288},{"$f":"L140/(1+'Property Set Up'!$D$77)^'Projection – Property #2'!L26","v":-7237.7212001106673},{"$f":"M140/(1+'Property Set Up'!$D$77)^'Projection – Property #2'!M26","v":-7235.4619608928115},{"$f":"N140/(1+'Property Set Up'!$D$77)^'Projection – Property #2'!N26","v":-7233.2470204831488},{"$f":"O140/(1+'Property Set Up'!$D$77)^'Projection – Property #2'!O26","v":-7231.0755102775984},{"$f":"P140/(1+'Property Set Up'!$D$77)^'Projection – Property #2'!P26","v":-7228.9465787035269},{"$f":"Q140/(1+'Property Set Up'!$D$77)^'Projection – Property #2'!Q26","v":-7226.8593908858111},{"$f":"R140/(1+'Property Set Up'!$D$77)^'Projection – Property #2'!R26","v":-7224.8131283194225},{"$f":"S140/(1+'Property Set Up'!$D$77)^'Projection – Property #2'!S26","v":-7222.8069885484556},{"$f":"T140/(1+'Property Set Up'!$D$77)^'Projection – Property #2'!T26","v":-7220.8401848514259},{"$f":"U140/(1+'Property Set Up'!$D$77)^'Projection – Property #2'!U26","v":-7218.9119459327703},{"$f":"V140/(1+'Property Set Up'!$D$77)^'Projection – Property #2'!V26","v":-7217.021515620364},{"$f":"W140/(1+'Property Set Up'!$D$77)^'Projection – Property #2'!W26","v":-7215.1681525689846},{"$f":"X140/(1+'Property Set Up'!$D$77)^'Projection – Property #2'!X26","v":-7213.351129969592},{"$f":"Y140/(1+'Property Set Up'!$D$77)^'Projection – Property #2'!Y26","v":-7211.5697352643074},{"$f":"Z140/(1+'Property Set Up'!$D$77)^'Projection – Property #2'!Z26","v":-7209.8232698669672},{"$f":"AA140/(1+'Property Set Up'!$D$77)^'Projection – Property #2'!AA26","v":-7208.1110488891854},{"$f":"AB140/(1+'Property Set Up'!$D$77)^'Projection – Property #2'!AB26","v":-7206.4324008717495},{"$f":"AC140/(1+'Property Set Up'!$D$77)^'Projection – Property #2'!AC26","v":-7204.7866675213236},{"$f":"AD140/(1+'Property Set Up'!$D$77)^'Projection – Property #2'!AD26","v":-7203.1732034522774},{"$f":"AE140/(1+'Property Set Up'!$D$77)^'Projection – Property #2'!AE26","v":-7201.5913759336063},{"$f":"AF140/(1+'Property Set Up'!$D$77)^'Projection – Property #2'!AF26","v":-7200.0405646407889},{"$f":"AG140/(1+'Property Set Up'!$D$77)^'Projection – Property #2'!AG26","v":-7198.5201614125399},{"$f":"AH140/(1+'Property Set Up'!$D$77)^'Projection – Property #2'!AH26","v":-7197.0295700122942},{"$f":"AI140/(1+'Property Set Up'!$D$77)^'Projection – Property #2'!AI26","v":-7195.5682058944067}]
[null,"Post Tax Cashflow (Per Week)",{"$f":"C140/52","v":0},0,-142.73942307692306,-145.38940384615384,-147.95103807692308,-150.85813576153848,-153.82337539984616,-156.84791983092003,-159.93295515061533,-163.07969117670459,-166.28936192331562,-169.56322608485885,-172.90256752963296,-176.30869580330256,-179.78294664244552,-183.32668249837135,-186.94129307141571,-190.62819585592098,-194.3888366961163,-198.22469035311556,-202.1372610832548,-206.1280832279968,-210.19872181563369,-214.35077317502328,-218.58586556160068,-222.9056597959096,-227.31184991490471,-231.80616383627972,-236.39036403608225,-241.06624823988082,-245.83565012775537,-250.70044005338741,-255.66252577753207]
[null,"Negatively Geared Test For Investment",{"$f":"IF(C141<0,C141,0)","v":0},{"$f":"IF(D141<0,D141,0)","v":0},-7276.911764705882,-7266.6753171856981,-7249.7135151638513,-7247.21913251358,-7244.7736593270392,-7242.3761365951368,-7240.02562411288,-7237.7212001106673,-7235.4619608928115,-7233.2470204831488,-7231.0755102775984,-7228.9465787035269,-7226.8593908858111,-7224.8131283194225,-7222.8069885484556,-7220.8401848514259,-7218.9119459327703,-7217.021515620364,-7215.1681525689846,-7213.351129969592,-7211.5697352643074,-7209.8232698669672,-7208.1110488891854,-7206.4324008717495,-7204.7866675213236,-7203.1732034522774,-7201.5913759336063,-7200.0405646407889,-7198.5201614125399,-7197.0295700122942,-7195.5682058944067]
[null,"Positively Geared Test For Investment",{"$f":"IF(C141>0,C141,0)","v":0},{"$f":"IF(D141>0,D141,0)","v":0},0,0,0,0,{"$f":"IF(I141>0,I141,0)","v":0},0,0,0,0,0,0,0,0,0,0,0,0,0,0,0,0,0,0,0,0,0,0,0,0,0,0]
[null,"Positive Returns After adjusting for risk free rate",{"$f":"IF(C144>0,C140*(1+'Property Set Up'!$D95)^('Projection – Property #2'!$R26-'Projection – Property #2'!C26),0)","v":0},{"$f":"IF(D144>0,D140*(1+'Property Set Up'!$D$95)^('Projection – Property #2'!$R26-'Projection – Property #2'!D26),0)","v":0},{"$f":"IF(E144>0,E140*(1+'Property Set Up'!$D$95)^('Projection – Property #2'!$R26-'Projection – Property #2'!E26),0)","v":0},{"$f":"IF(F144>0,F140*(1+'Property Set Up'!$D$95)^('Projection – Property #2'!$R26-'Projection – Property #2'!F26),0)","v":0},{"$f":"IF(G144>0,G140*(1+'Property Set Up'!$D$95)^('Projection – Property #2'!$R26-'Projection – Property #2'!G26),0)","v":0},{"$f":"IF(H144>0,H140*(1+'Property Set Up'!$D$95)^('Projection – Property #2'!$R26-'Projection – Property #2'!H26),0)","v":0},{"$f":"IF(I144>0,I140*(1+'Property Set Up'!$D$95)^('Projection – Property #2'!$R26-'Projection – Property #2'!I26),0)","v":0},{"$f":"IF(J144>0,J140*(1+'Property Set Up'!$D$95)^('Projection – Property #2'!$R26-'Projection – Property #2'!J26),0)","v":0},{"$f":"IF(K144>0,K140*(1+'Property Set Up'!$D$95)^('Projection – Property #2'!$R26-'Projection – Property #2'!K26),0)","v":0},{"$f":"IF(L144>0,L140*(1+'Property Set Up'!$D$95)^('Projection – Property #2'!$R26-'Projection – Property #2'!L26),0)","v":0},{"$f":"IF(M144>0,M140*(1+'Property Set Up'!$D$95)^('Projection – Property #2'!$R26-'Projection – Property #2'!M26),0)","v":0},{"$f":"IF(N144>0,N140*(1+'Property Set Up'!$D$95)^('Projection – Property #2'!$R26-'Projection – Property #2'!N26),0)","v":0},{"$f":"IF(O144>0,O140*(1+'Property Set Up'!$D$95)^('Projection – Property #2'!$R26-'Projection – Property #2'!O26),0)","v":0},{"$f":"IF(P144>0,P140*(1+'Property Set Up'!$D$95)^('Projection – Property #2'!$R26-'Projection – Property #2'!P26),0)","v":0},{"$f":"IF(Q144>0,Q140*(1+'Property Set Up'!$D$95)^('Projection – Property #2'!$R26-'Projection – Property #2'!Q26),0)","v":0},{"$f":"IF(R144>0,R140*(1+'Property Set Up'!$D$95)^('Projection – Property #2'!$R26-'Projection – Property #2'!R26),0)","v":0},{"$f":"IF(S144>0,S140*(1+'Property Set Up'!$D$95)^('Projection – Property #2'!$R26-'Projection – Property #2'!S26),0)","v":0},{"$f":"IF(T144>0,T140*(1+'Property Set Up'!$D$95)^('Projection – Property #2'!$R26-'Projection – Property #2'!T26),0)","v":0},{"$f":"IF(U144>0,U140*(1+'Property Set Up'!$D$95)^('Projection – Property #2'!$R26-'Projection – Property #2'!U26),0)","v":0},{"$f":"IF(V144>0,V140*(1+'Property Set Up'!$D$95)^('Projection – Property #2'!$R26-'Projection – Property #2'!V26),0)","v":0},{"$f":"IF(W144>0,W140*(1+'Property Set Up'!$D95)^('Projection – Property #2'!$R26-'Projection – Property #2'!W26),0)","v":0},{"$f":"IF(X144>0,X140*(1+'Property Set Up'!$D95)^('Projection – Property #2'!$R26-'Projection – Property #2'!X26),0)","v":0},{"$f":"IF(Y144>0,Y140*(1+'Property Set Up'!$D95)^('Projection – Property #2'!$R26-'Projection – Property #2'!Y26),0)","v":0},{"$f":"IF(Z144>0,Z140*(1+'Property Set Up'!$D95)^('Projection – Property #2'!$R26-'Projection – Property #2'!Z26),0)","v":0},{"$f":"IF(AA144>0,AA140*(1+'Property Set Up'!$D95)^('Projection – Property #2'!$R26-'Projection – Property #2'!AA26),0)","v":0},{"$f":"IF(AB144>0,AB140*(1+'Property Set Up'!$D95)^('Projection – Property #2'!$R26-'Projection – Property #2'!AB26),0)","v":0},{"$f":"IF(AC144>0,AC140*(1+'Property Set Up'!$D95)^('Projection – Property #2'!$R26-'Projection – Property #2'!AC26),0)","v":0},{"$f":"IF(AD144>0,AD140*(1+'Property Set Up'!$D95)^('Projection – Property #2'!$R26-'Projection – Property #2'!AD26),0)","v":0},{"$f":"IF(AE144>0,AE140*(1+'Property Set Up'!$D95)^('Projection – Property #2'!$R26-'Projection – Property #2'!AE26),0)","v":0},{"$f":"IF(AF144>0,AF140*(1+'Property Set Up'!$D95)^('Projection – Property #2'!$R26-'Projection – Property #2'!AF26),0)","v":0},{"$f":"IF(AG144>0,AG140*(1+'Property Set Up'!$D95)^('Projection – Property #2'!$R26-'Projection – Property #2'!AG26),0)","v":0},{"$f":"IF(AH144>0,AH140*(1+'Property Set Up'!$D95)^('Projection – Property #2'!$R26-'Projection – Property #2'!AH26),0)","v":0},{"$f":"IF(AI144>0,AI140*(1+'Property Set Up'!$D95)^('Projection – Property #2'!$R26-'Projection – Property #2'!AI26),0)","v":0}]
[null,"Inflation adjusted Positive Returns after risk free rate",{"$f":"C145/(1+'Property Set Up'!$D$77)^'Projection – Property #2'!C26","v":0},{"$f":"D145/(1+'Property Set Up'!$D$77)^'Projection – Property #2'!D26","v":0},{"$f":"E145/(1+'Property Set Up'!$D$77)^'Projection – Property #2'!E26","v":0},{"$f":"F145/(1+'Property Set Up'!$D$77)^'Projection – Property #2'!F26","v":0},{"$f":"G145/(1+'Property Set Up'!$D$77)^'Projection – Property #2'!G26","v":0},{"$f":"H145/(1+'Property Set Up'!$D$77)^'Projection – Property #2'!H26","v":0},{"$f":"I145/(1+'Property Set Up'!$D$77)^'Projection – Property #2'!I26","v":0},{"$f":"J145/(1+'Property Set Up'!$D$77)^'Projection – Property #2'!J26","v":0},{"$f":"K145/(1+'Property Set Up'!$D$77)^'Projection – Property #2'!K26","v":0},{"$f":"L145/(1+'Property Set Up'!$D$77)^'Projection – Property #2'!L26","v":0},{"$f":"M145/(1+'Property Set Up'!$D$77)^'Projection – Property #2'!M26","v":0},{"$f":"N145/(1+'Property Set Up'!$D$77)^'Projection – Property #2'!N26","v":0},{"$f":"O145/(1+'Property Set Up'!$D$77)^'Projection – Property #2'!O26","v":0},{"$f":"P145/(1+'Property Set Up'!$D$77)^'Projection – Property #2'!P26","v":0},{"$f":"Q145/(1+'Property Set Up'!$D$77)^'Projection – Property #2'!Q26","v":0},{"$f":"R145/(1+'Property Set Up'!$D$77)^'Projection – Property #2'!R26","v":0},{"$f":"S145/(1+'Property Set Up'!$D$77)^'Projection – Property #2'!S26","v":0},{"$f":"T145/(1+'Property Set Up'!$D$77)^'Projection – Property #2'!T26","v":0},{"$f":"U145/(1+'Property Set Up'!$D$77)^'Projection – Property #2'!U26","v":0},{"$f":"V145/(1+'Property Set Up'!$D$77)^'Projection – Property #2'!V26","v":0},{"$f":"W145/(1+'Property Set Up'!$D$77)^'Projection – Property #2'!W26","v":0},{"$f":"X145/(1+'Property Set Up'!$D$77)^'Projection – Property #2'!X26","v":0},{"$f":"Y145/(1+'Property Set Up'!$D$77)^'Projection – Property #2'!Y26","v":0},{"$f":"Z145/(1+'Property Set Up'!$D$77)^'Projection – Property #2'!Z26","v":0},{"$f":"AA145/(1+'Property Set Up'!$D$77)^'Projection – Property #2'!AA26","v":0},{"$f":"AB145/(1+'Property Set Up'!$D$77)^'Projection – Property #2'!AB26","v":0},{"$f":"AC145/(1+'Property Set Up'!$D$77)^'Projection – Property #2'!AC26","v":0},{"$f":"AD145/(1+'Property Set Up'!$D$77)^'Projection – Property #2'!AD26","v":0},{"$f":"AE145/(1+'Property Set Up'!$D$77)^'Projection – Property #2'!AE26","v":0},{"$f":"AF145/(1+'Property Set Up'!$D$77)^'Projection – Property #2'!AF26","v":0},{"$f":"AG145/(1+'Property Set Up'!$D$77)^'Projection – Property #2'!AG26","v":0},{"$f":"AH145/(1+'Property Set Up'!$D$77)^'Projection – Property #2'!AH26","v":0},{"$f":"AI145/(1+'Property Set Up'!$D$77)^'Projection – Property #2'!AI26","v":0}]
[null,"Uninflation Adjusted Cululative Cashflow",{"$f":"C140","v":0},{"$f":"IF(C147>0,(C147*(1+Assumptions!$E19)+'Projection – Property #2'!D140),(C147+'Projection – Property #2'!D140))","v":0},{"$f":"IF(D147>0,(D147*(1+Assumptions!$E19)+'Projection – Property #2'!E140),(D147+'Projection – Property #2'!E140))","v":-7422.45},{"$f":"IF(E147>0,(E147*(1+Assumptions!$E19)+'Projection – Property #2'!F140),(E147+'Projection – Property #2'!F140))","v":-14982.699000000001},{"$f":"IF(F147>0,(F147*(1+Assumptions!$E19)+'Projection – Property #2'!G140),(F147+'Projection – Property #2'!G140))","v":-22676.152979999999},{"$f":"IF(G147>0,(G147*(1+Assumptions!$E19)+'Projection – Property #2'!H140),(G147+'Projection – Property #2'!H140))","v":-30520.776039600001},{"$f":"IF(H147>0,(H147*(1+Assumptions!$E19)+'Projection – Property #2'!I140),(H147+'Projection – Property #2'!I140))","v":-38519.591560392},{"$f":"IF(I147>0,(I147*(1+Assumptions!$E19)+'Projection – Property #2'!J140),(I147+'Projection – Property #2'!J140))","v":-46675.683391599843},{"$f":"IF(J147>0,(J147*(1+Assumptions!$E19)+'Projection – Property #2'!K140),(J147+'Projection – Property #2'!K140))","v":-54992.197059431841},{"$f":"IF(K147>0,(K147*(1+Assumptions!$E19)+'Projection – Property #2'!L140),(K147+'Projection – Property #2'!L140))","v":-63472.341000620479},{"$f":"IF(L147>0,(L147*(1+Assumptions!$E19)+'Projection – Property #2'!M140),(L147+'Projection – Property #2'!M140))","v":-72119.387820632895},{"$f":"IF(M147>0,(M147*(1+Assumptions!$E19)+'Projection – Property #2'!N140),(M147+'Projection – Property #2'!N140))","v":-80936.675577045564},{"$f":"IF(N147>0,(N147*(1+Assumptions!$E19)+'Projection – Property #2'!O140),(N147+'Projection – Property #2'!O140))","v":-89927.609088586483},{"$f":"IF(O147>0,(O147*(1+Assumptions!$E19)+'Projection – Property #2'!P140),(O147+'Projection – Property #2'!P140))","v":-99095.661270358221},{"$f":"IF(P147>0,(P147*(1+Assumptions!$E19)+'Projection – Property #2'!Q140),(P147+'Projection – Property #2'!Q140))","v":-108444.37449576538},{"$f":"IF(Q147>0,(Q147*(1+Assumptions!$E19)+'Projection – Property #2'!R140),(Q147+'Projection – Property #2'!R140))","v":-117977.36198568069},{"$f":"IF(R147>0,(R147*(1+Assumptions!$E19)+'Projection – Property #2'!S140),(R147+'Projection – Property #2'!S140))","v":-127698.3092253943},{"$f":"IF(S147>0,(S147*(1+Assumptions!$E19)+'Projection – Property #2'!T140),(S147+'Projection – Property #2'!T140))","v":-137610.9754099022},{"$f":"IF(T147>0,(T147*(1+Assumptions!$E19)+'Projection – Property #2'!U140),(T147+'Projection – Property #2'!U140))","v":-147719.19491810026},{"$f":"IF(U147>0,(U147*(1+Assumptions!$E19)+'Projection – Property #2'!V140),(U147+'Projection – Property #2'!V140))","v":-158026.87881646227},{"$f":"IF(V147>0,(V147*(1+Assumptions!$E19)+'Projection – Property #2'!W140),(V147+'Projection – Property #2'!W140))","v":-168538.01639279153},{"$f":"IF(W147>0,(W147*(1+Assumptions!$E19)+'Projection – Property #2'!X140),(W147+'Projection – Property #2'!X140))","v":-179256.67672064737},{"$f":"IF(X147>0,(X147*(1+Assumptions!$E19)+'Projection – Property #2'!Y140),(X147+'Projection – Property #2'!Y140))","v":-190187.01025506033},{"$f":"IF(Y147>0,(Y147*(1+Assumptions!$E19)+'Projection – Property #2'!Z140),(Y147+'Projection – Property #2'!Z140))","v":-201333.25046016154},{"$f":"IF(Z147>0,(Z147*(1+Assumptions!$E19)+'Projection – Property #2'!AA140),(Z147+'Projection – Property #2'!AA140))","v":-212699.71546936478},{"$f":"IF(AA147>0,(AA147*(1+Assumptions!$E19)+'Projection – Property #2'!AB140),(AA147+'Projection – Property #2'!AB140))","v":-224290.80977875207},{"$f":"IF(AB147>0,(AB147*(1+Assumptions!$E19)+'Projection – Property #2'!AC140),(AB147+'Projection – Property #2'!AC140))","v":-236111.02597432712},{"$f":"IF(AC147>0,(AC147*(1+Assumptions!$E19)+'Projection – Property #2'!AD140),(AC147+'Projection – Property #2'!AD140))","v":-248164.94649381365},{"$f":"IF(AD147>0,(AD147*(1+Assumptions!$E19)+'Projection – Property #2'!AE140),(AD147+'Projection – Property #2'!AE140))","v":-260457.24542368992},{"$f":"IF(AE147>0,(AE147*(1+Assumptions!$E19)+'Projection – Property #2'!AF140),(AE147+'Projection – Property #2'!AF140))","v":-272992.69033216371},{"$f":"IF(AF147>0,(AF147*(1+Assumptions!$E19)+'Projection – Property #2'!AG140),(AF147+'Projection – Property #2'!AG140))","v":-285776.14413880697},{"$f":"IF(AG147>0,(AG147*(1+Assumptions!$E19)+'Projection – Property #2'!AH140),(AG147+'Projection – Property #2'!AH140))","v":-298812.56702158309},{"$f":"IF(AH147>0,(AH147*(1+Assumptions!$E19)+'Projection – Property #2'!AI140),(AH147+'Projection – Property #2'!AI140))","v":-312107.01836201479}]
[null,"Inflation Adjusted Cululative Cashflow",{"$f":"C147/(1+Assumptions!$E9)^'Projection – Property #2'!C26","v":0},{"$f":"D147/(1+Assumptions!$E9)^'Projection – Property #2'!D26","v":0},{"$f":"E147/(1+Assumptions!$E9)^'Projection – Property #2'!E26","v":-7276.911764705882},{"$f":"F147/(1+Assumptions!$E9)^'Projection – Property #2'!F26","v":-14400.902537485583},{"$f":"G147/(1+Assumptions!$E9)^'Projection – Property #2'!G26","v":-21368.245414659519},{"$f":"H147/(1+Assumptions!$E9)^'Projection – Property #2'!H26","v":-28196.479342964092},{"$f":"I147/(1+Assumptions!$E9)^'Projection – Property #2'!I26","v":-34888.380858311437},{"$f":"J147/(1+Assumptions!$E9)^'Projection – Property #2'!J26","v":-41446.671095723999},{"$f":"K147/(1+Assumptions!$E9)^'Projection – Property #2'!K26","v":-47874.016894430533},{"$f":"L147/(1+Assumptions!$E9)^'Projection – Property #2'!L26","v":-54173.031880924915},{"$f":"M147/(1+Assumptions!$E9)^'Projection – Property #2'!M26","v":-60346.27753042704},{"$f":"N147/(1+Assumptions!$E9)^'Projection – Property #2'!N26","v":-66396.264207176326},{"$f":"O147/(1+Assumptions!$E9)^'Projection – Property #2'!O26","v":-72325.452183979898},{"$f":"P147/(1+Assumptions!$E9)^'Projection – Property #2'!P26","v":-78136.252641428917},{"$f":"Q147/(1+Assumptions!$E9)^'Projection – Property #2'!Q26","v":-83831.028647188665},{"$f":"R147/(1+Assumptions!$E9)^'Projection – Property #2'!R26","v":-89412.096115759283},{"$f":"S147/(1+Assumptions!$E9)^'Projection – Property #2'!S26","v":-94881.724749096786},{"$f":"T147/(1+Assumptions!$E9)^'Projection – Property #2'!T26","v":-100242.13895847571},{"$f":"U147/(1+Assumptions!$E9)^'Projection – Property #2'!U26","v":-105495.51876796779},{"$f":"V147/(1+Assumptions!$E9)^'Projection – Property #2'!V26","v":-110644.00069990252},{"$f":"W147/(1+Assumptions!$E9)^'Projection – Property #2'!W26","v":-115689.6786426695},{"$f":"X147/(1+Assumptions!$E9)^'Projection – Property #2'!X26","v":-120634.60470121421},{"$f":"Y147/(1+Assumptions!$E9)^'Projection – Property #2'!Y26","v":-125480.79003057236},{"$f":"Z147/(1+Assumptions!$E9)^'Projection – Property #2'!Z26","v":-130230.20565278103},{"$f":"AA147/(1+Assumptions!$E9)^'Projection – Property #2'!AA26","v":-134884.78325749806},{"$f":"AB147/(1+Assumptions!$E9)^'Projection – Property #2'!AB26","v":-139446.41598665417},{"$f":"AC147/(1+Assumptions!$E9)^'Projection – Property #2'!AC26","v":-143916.95920345679},{"$f":"AD147/(1+Assumptions!$E9)^'Projection – Property #2'!AD26","v":-148298.23124605694},{"$f":"AE147/(1+Assumptions!$E9)^'Projection – Property #2'!AE26","v":-152592.01416618552},{"$f":"AF147/(1+Assumptions!$E9)^'Projection – Property #2'!AF26","v":-156800.05445305794},{"$f":"AG147/(1+Assumptions!$E9)^'Projection – Property #2'!AG26","v":-160924.06374284188},{"$f":"AH147/(1+Assumptions!$E9)^'Projection – Property #2'!AH26","v":-164965.71951397491},{"$f":"AI147/(1+Assumptions!$E9)^'Projection – Property #2'!AI26","v":-168926.66576861497}]
[null,"In Range For Minimum Cashflow Calculation?",null,{"$f":"IF('My Wealth Plan Summary'!$C8-'Projection – Property #2'!D32<0,\"No\",\"Yes\")","v":"Yes"},{"$f":"IF('My Wealth Plan Summary'!$C8-'Projection – Property #2'!E32<0,\"No\",\"Yes\")","v":"Yes"},{"$f":"IF('My Wealth Plan Summary'!$C8-'Projection – Property #2'!F32<0,\"No\",\"Yes\")","v":"Yes"},{"$f":"IF('My Wealth Plan Summary'!$C8-'Projection – Property #2'!G32<0,\"No\",\"Yes\")","v":"Yes"},{"$f":"IF('My Wealth Plan Summary'!$C8-'Projection – Property #2'!H32<0,\"No\",\"Yes\")","v":"Yes"},{"$f":"IF('My Wealth Plan Summary'!$C8-'Projection – Property #2'!I32<0,\"No\",\"Yes\")","v":"Yes"},{"$f":"IF('My Wealth Plan Summary'!$C8-'Projection – Property #2'!J32<0,\"No\",\"Yes\")","v":"Yes"},{"$f":"IF('My Wealth Plan Summary'!$C8-'Projection – Property #2'!K32<0,\"No\",\"Yes\")","v":"Yes"},{"$f":"IF('My Wealth Plan Summary'!$C8-'Projection – Property #2'!L32<0,\"No\",\"Yes\")","v":"Yes"},{"$f":"IF('My Wealth Plan Summary'!$C8-'Projection – Property #2'!M32<0,\"No\",\"Yes\")","v":"Yes"},{"$f":"IF('My Wealth Plan Summary'!$C8-'Projection – Property #2'!N32<0,\"No\",\"Yes\")","v":"Yes"},{"$f":"IF('My Wealth Plan Summary'!$C8-'Projection – Property #2'!O32<0,\"No\",\"Yes\")","v":"Yes"},{"$f":"IF('My Wealth Plan Summary'!$C8-'Projection – Property #2'!P32<0,\"No\",\"Yes\")","v":"Yes"},{"$f":"IF('My Wealth Plan Summary'!$C8-'Projection – Property #2'!Q32<0,\"No\",\"Yes\")","v":"Yes"},{"$f":"IF('My Wealth Plan Summary'!$C8-'Projection – Property #2'!R32<0,\"No\",\"Yes\")","v":"Yes"},{"$f":"IF('My Wealth Plan Summary'!$C8-'Projection – Property #2'!S32<0,\"No\",\"Yes\")","v":"Yes"},{"$f":"IF('My Wealth Plan Summary'!$C8-'Projection – Property #2'!T32<0,\"No\",\"Yes\")","v":"Yes"},{"$f":"IF('My Wealth Plan Summary'!$C8-'Projection – Property #2'!U32<0,\"No\",\"Yes\")","v":"Yes"},{"$f":"IF('My Wealth Plan Summary'!$C8-'Projection – Property #2'!V32<0,\"No\",\"Yes\")","v":"Yes"},{"$f":"IF('My Wealth Plan Summary'!$C8-'Projection – Property #2'!W32<0,\"No\",\"Yes\")","v":"Yes"},{"$f":"IF('My Wealth Plan Summary'!$C8-'Projection – Property #2'!X32<0,\"No\",\"Yes\")","v":"No"},{"$f":"IF('My Wealth Plan Summary'!$C8-'Projection – Property #2'!Y32<0,\"No\",\"Yes\")","v":"No"},{"$f":"IF('My Wealth Plan Summary'!$C8-'Projection – Property #2'!Z32<0,\"No\",\"Yes\")","v":"No"},{"$f":"IF('My Wealth Plan Summary'!$C8-'Projection – Property #2'!AA32<0,\"No\",\"Yes\")","v":"No"},{"$f":"IF('My Wealth Plan Summary'!$C8-'Projection – Property #2'!AB32<0,\"No\",\"Yes\")","v":"No"},{"$f":"IF('My Wealth Plan Summary'!$C8-'Projection – Property #2'!AC32<0,\"No\",\"Yes\")","v":"No"},{"$f":"IF('My Wealth Plan Summary'!$C8-'Projection – Property #2'!AD32<0,\"No\",\"Yes\")","v":"No"},{"$f":"IF('My Wealth Plan Summary'!$C8-'Projection – Property #2'!AE32<0,\"No\",\"Yes\")","v":"No"},{"$f":"IF('My Wealth Plan Summary'!$C8-'Projection – Property #2'!AF32<0,\"No\",\"Yes\")","v":"No"},{"$f":"IF('My Wealth Plan Summary'!$C8-'Projection – Property #2'!AG32<0,\"No\",\"Yes\")","v":"No"},{"$f":"IF('My Wealth Plan Summary'!$C8-'Projection – Property #2'!AH32<0,\"No\",\"Yes\")","v":"No"},{"$f":"IF('My Wealth Plan Summary'!$C8-'Projection – Property #2'!AI32<0,\"No\",\"Yes\")","v":"No"}]
[null,"Minimum Cashflow Position",null,{"$f":"IF(D149=\"Yes\",D148,0)","v":0},-7276.911764705882,-14400.902537485583,-21368.245414659519,-28196.479342964092,-34888.380858311437,-41446.671095723999,-47874.016894430533,-54173.031880924915,-60346.27753042704,-66396.264207176326,-72325.452183979898,-78136.252641428917,-83831.028647188665,-89412.096115759283,-94881.724749096786,-100242.13895847571,-105495.51876796779,-110644.00069990252,-115689.6786426695,0,{"$f":"IF(Y149=\"Yes\",Y148,0)","v":0},0,0,0,0,0,0,0,0,0,0]
[null,"Net Position (Equity + Cashflow)",null,{"$f":"D147+E39-E40","v":{"$error":"#VALUE!"}},{"$error":"#VALUE!"},{"$error":"#VALUE!"},{"$error":"#VALUE!"},{"$error":"#VALUE!"},{"$error":"#VALUE!"},{"$error":"#VALUE!"},{"$error":"#VALUE!"},{"$error":"#VALUE!"},{"$error":"#VALUE!"},{"$error":"#VALUE!"},{"$error":"#VALUE!"},{"$error":"#VALUE!"},{"$error":"#VALUE!"},{"$error":"#VALUE!"},{"$error":"#VALUE!"},{"$error":"#VALUE!"},{"$error":"#VALUE!"},{"$error":"#VALUE!"},{"$error":"#VALUE!"},{"$error":"#VALUE!"},{"$error":"#VALUE!"},{"$error":"#VALUE!"},{"$error":"#VALUE!"},{"$error":"#VALUE!"},{"$error":"#VALUE!"},{"$error":"#VALUE!"},{"$error":"#VALUE!"},{"$error":"#VALUE!"},{"$error":"#VALUE!"},{"$error":"#VALUE!"},-312107.01836201479]
[null,"Inflation Adjusted Post Tax Cashflow","Max Position",{"$f":"MATCH(MAX(C141:R141),C141:R141,0)","v":1},"Min Position",{"$f":"MATCH(MIN(C141:R141),C141:R141,0)","v":3},"Max/Min Bigger",{"$f":"IF(ABS(MIN(C141:R141))>ABS(MAX(C141:R141)),\"Min\",\"Max\")","v":"Min"},"Cumulative","Max Position",{"$f":"MATCH(MAX(C148:R148),C148:R148,0)","v":1},"Min Position",{"$f":"MATCH(MIN(C148:R148),C148:R148,0)","v":16},"Ratio",{"$f":"IF(H152=\"Max\",INDEX(C141:R141,D152)/INDEX(C148:R148,K152),INDEX(C141:R141,F152)/INDEX(C148:R148,M152))","v":8.1386211495194927E-2},"Secondary",{"$f":"INDEX(C141:R141,F152)/O152","v":-89412.096115759283}]
[null,"Inflation Adjusted Gross Return",null,{"$f":"((MAX(0,D140)+(D40-E40)+(E39-D39))/(1+Assumptions!$E$9)^'Projection – Property #2'!D26)/52","v":{"$error":"#VALUE!"}},{"$f":"((MAX(0,E140)+(E40-F40)+(F39-E39))/(1+Assumptions!$E$9)^'Projection – Property #2'!E26)/52","v":{"$error":"#VALUE!"}},{"$f":"((MAX(0,F140)+(F40-G40)+(G39-F39))/(1+Assumptions!$E$9)^'Projection – Property #2'!F26)/52","v":{"$error":"#VALUE!"}},{"$f":"((MAX(0,G140)+(G40-H40)+(H39-G39))/(1+Assumptions!$E$9)^'Projection – Property #2'!G26)/52","v":{"$error":"#VALUE!"}},{"$f":"((MAX(0,H140)+(H40-I40)+(I39-H39))/(1+Assumptions!$E$9)^'Projection – Property #2'!H26)/52","v":{"$error":"#VALUE!"}},{"$f":"((MAX(0,I140)+(I40-J40)+(J39-I39))/(1+Assumptions!$E$9)^'Projection – Property #2'!I26)/52","v":{"$error":"#VALUE!"}},{"$f":"((MAX(0,J140)+(J40-K40)+(K39-J39))/(1+Assumptions!$E$9)^'Projection – Property #2'!J26)/52","v":{"$error":"#VALUE!"}},{"$f":"((MAX(0,K140)+(K40-L40)+(L39-K39))/(1+Assumptions!$E$9)^'Projection – Property #2'!K26)/52","v":{"$error":"#VALUE!"}},{"$f":"((MAX(0,L140)+(L40-M40)+(M39-L39))/(1+Assumptions!$E$9)^'Projection – Property #2'!L26)/52","v":{"$error":"#VALUE!"}},{"$f":"((MAX(0,M140)+(M40-N40)+(N39-M39))/(1+Assumptions!$E$9)^'Projection – Property #2'!M26)/52","v":{"$error":"#VALUE!"}},{"$f":"((MAX(0,N140)+(N40-O40)+(O39-N39))/(1+Assumptions!$E$9)^'Projection – Property #2'!N26)/52","v":{"$error":"#VALUE!"}},{"$f":"((MAX(0,O140)+(O40-P40)+(P39-O39))/(1+Assumptions!$E$9)^'Projection – Property #2'!O26)/52","v":{"$error":"#VALUE!"}},{"$f":"((MAX(0,P140)+(P40-Q40)+(Q39-P39))/(1+Assumptions!$E$9)^'Projection – Property #2'!P26)/52","v":{"$error":"#VALUE!"}},{"$f":"((MAX(0,Q140)+(Q40-R40)+(R39-Q39))/(1+Assumptions!$E$9)^'Projection – Property #2'!Q26)/52","v":{"$error":"#VALUE!"}},{"$f":"((MAX(0,R140)+(R40-S40)+(S39-R39))/(1+Assumptions!$E$9)^'Projection – Property #2'!R26)/52","v":{"$error":"#VALUE!"}}]
[null,"Inflation adjusted input per week",null,{"$f":"MAX(-D142,0)","v":0},{"$f":"MAX(-E142,0)","v":142.73942307692306},145.38940384615384,147.95103807692308,150.85813576153848,153.82337539984616,156.84791983092003,159.93295515061533,163.07969117670459,166.28936192331562,169.56322608485885,172.90256752963296,176.30869580330256,{"$f":"MAX(-Q142,0)","v":179.78294664244552},{"$f":"MAX(-R142,0)","v":183.32668249837135}]
[]
[]
[]
[null,"Hidden Values"]
[null,"Name of 1st Chart",null,{"$f":"CONCATENATE('Property Set Up'!D12,\" Cashflow\")","v":"Property #2 Cashflow"}]
[null,"Name of 2nd Chart",null,{"$f":"CONCATENATE('Property Set Up'!D12,\" Return vs Cash Input\")","v":"Property #2 Return vs Cash Input"}]
[null,"Name of 3rd Chart",null,{"$f":"CONCATENATE('Property Set Up'!D12,\" Net Equity (Including Cashflow)\")","v":"Property #2 Net Equity (Including Cashflow)"}]
[null,"Name of 4th Chart",null,{"$f":"CONCATENATE('Property Set Up'!D12,\" Cumulative Cashflow\")","v":"Property #2 Cumulative Cashflow"}]
[]
[]
[null,"REVOLVING CREDIT"]
[]
[]
[null,"Top Up Amount Per week"]
[null,"Investor Top Up ",null,{"$f":"D168*52","v":0},{"$f":"D169","v":0},{"$f":"E169","v":0},0,0,0,0,0,0,0,0,0,0,0,0]
[null,"Investment Cashflow Net of Investor Contribution",null,{"$f":"D140+D169","v":0},{"$f":"E140+E169","v":-7422.45},-7560.2489999999998,-7693.4539800000002,-7844.6230596000005,-7998.8155207920008,-8156.0918312078411,-8316.5136678319977,-8480.1439411886386,-8647.0468200124124,-8817.2877564126611,-8990.933511540914,-9168.0521817717326,-9348.7132254071676,-9532.987489915311]
[null,"Revolving Credit Balance",null,{"$f":"D170","v":0},{"$f":"D171+E170-IF((D171+E170)<0,500,0)","v":-7922.45},-15982.699000000001,-24176.152979999999,-32520.776039600001,-41019.591560392,-49675.683391599843,-58492.197059431841,-67472.341000620479,-76619.387820632895,-85936.675577045564,-95427.609088586483,-105095.66127035822,-114944.37449576538,-124977.36198568069,{"$f":"R171+S170","v":-124977.36198568069},{"$f":"S171+T170","v":-124977.36198568069},-124977.36198568069,-124977.36198568069,-124977.36198568069,-124977.36198568069,-124977.36198568069,-124977.36198568069,-124977.36198568069,-124977.36198568069,-124977.36198568069,-124977.36198568069,-124977.36198568069,-124977.36198568069,-124977.36198568069,-124977.36198568069,-124977.36198568069]

{"sheet":"Projection – Property #3","index":6,"n_rows":170,"n_cols":35,"rows_kept":170,"cut":false,"hidden":false,"merged":[]}
[]
[]
[]
[]
[]
[null,{"$f":"UPPER(CONCATENATE('Property Set Up'!E12,\" Return on INvestment\"))","v":"PROPERTY #3 RETURN ON INVESTMENT"}]
[]
[null,"Return Summary"]
[null,"Inflation Adjusted Capital Gains",null,{"$f":"(S39-D39)/(1+'Property Set Up'!$E$77)^S26","v":{"$error":"#VALUE!"}},{"$f":"D9/$D$13","v":{"$error":"#VALUE!"}}]
[null,"Inflation Adjusted Instant Equity",null,{"$f":"IF(ISBLANK('Property Set Up'!E24),0,MAX(0,('Property Set Up'!E23-'Property Set Up'!E24)/(1+Assumptions!F9)^15))","v":0},{"$f":"D10/$D$13","v":{"$error":"#VALUE!"}}]
[null,"Inflation Adjusted Debt Repayments",null,{"$f":"SUM(D41:R41)","v":0},{"$f":"D11/D13","v":{"$error":"#VALUE!"}}]
[null,"Inflation Adjusted Cashflow",null,{"$f":"SUM(C146:R146)","v":0},{"$f":"D12/$D$13","v":{"$error":"#VALUE!"}}]
[null,"Total Returns",null,{"$f":"SUM(D9:D12)","v":{"$error":"#VALUE!"}}]
[]
[null,"Investment Summary"]
[null,"Equity Investment",null,{"$f":"MAX('Property Set Up'!$E$26,'Property Set Up'!$E$27*MIN('Property Set Up'!E23,'Property Set Up'!$E$24)+'Property Set Up'!$E$25)","v":3000},{"$f":"D16/D18","v":2.6599088445827455E-2}]
[null,"Cashflow Investment",null,{"$f":"-SUM(C143:R143)","v":109785.81993927705},{"$f":"D17/D18","v":0.97340091155417252}]
[null,"Total Investment",null,{"$f":"SUM(D16:D17)","v":112785.81993927705}]
[]
[null,"Return on Investment",null,{"$f":"D13/D18","v":{"$error":"#VALUE!"}}]
[]
[]
[null,{"$f":"UPPER(CONCATENATE('Property Set Up'!E12,\" Cashflow Projection & Analysis\"))","v":"PROPERTY #3 CASHFLOW PROJECTION & ANALYSIS"}]
[]
[]
[null,"Inflation Adjusted Years",null,0,{"$f":"D26+1","v":1},{"$f":"E26+1","v":2},3,4,5,6,7,8,9,10,11,12,13,14,{"$f":"R26+1","v":15},16,17,18,19,20,21,22,23,24,25,26,27,28,29,30,31]
[null,"P+I Starting Period (Months) – Construction",null,{"$f":"IF(D67>=12,0,1)","v":0},{"$f":"IF(E67=12,0,D28+1)","v":1},{"$f":"E28+1","v":13},{"$f":"F28+1","v":25},37,49,61,73,85,97,109,121,133,145,157,{"$f":"R28+1","v":169},181,193,205,217,229,241,253,265,277,289,301,313,325,337,349,361]
[null,"P+I Ending Period (Months) – Construction",null,{"$f":"IF(D27=0,0,12-D67)","v":0},{"$f":"IF(D28=0,12-E67,E27+11)","v":12},{"$f":"F27+11","v":24},36,48,60,72,84,96,108,120,132,144,156,168,{"$f":"S27+11","v":180},192,204,216,228,240,252,264,276,288,300,312,324,336,348,{"$f":"AH27+11","v":360},{"$f":"AI27+11","v":372}]
[null,"Months Left on Principal",null,{"$f":"MAX(0,'Property Set Up'!$E39*12-'Projection – Property #3'!C28)","v":360},{"$f":"MAX(0,'Property Set Up'!$E39*12-'Projection – Property #3'!D28)","v":360},{"$f":"MAX(0,'Property Set Up'!$E39*12-'Projection – Property #3'!E28)","v":348},{"$f":"MAX(0,'Property Set Up'!$E39*12-'Projection – Property #3'!F28)","v":336},{"$f":"MAX(0,'Property Set Up'!$E39*12-'Projection – Property #3'!G28)","v":324},{"$f":"MAX(0,'Property Set Up'!$E39*12-'Projection – Property #3'!H28)","v":312},{"$f":"MAX(0,'Property Set Up'!$E39*12-'Projection – Property #3'!I28)","v":300},{"$f":"MAX(0,'Property Set Up'!$E39*12-'Projection – Property #3'!J28)","v":288},{"$f":"MAX(0,'Property Set Up'!$E39*12-'Projection – Property #3'!K28)","v":276},{"$f":"MAX(0,'Property Set Up'!$E39*12-'Projection – Property #3'!L28)","v":264},{"$f":"MAX(0,'Property Set Up'!$E39*12-'Projection – Property #3'!M28)","v":252},{"$f":"MAX(0,'Property Set Up'!$E39*12-'Projection – Property #3'!N28)","v":240},{"$f":"MAX(0,'Property Set Up'!$E39*12-'Projection – Property #3'!O28)","v":228},{"$f":"MAX(0,'Property Set Up'!$E39*12-'Projection – Property #3'!P28)","v":216},{"$f":"MAX(0,'Property Set Up'!$E39*12-'Projection – Property #3'!Q28)","v":204},{"$f":"MAX(0,'Property Set Up'!$E39*12-'Projection – Property #3'!R28)","v":192},{"$f":"MAX(0,'Property Set Up'!$E39*12-'Projection – Property #3'!S28)","v":180},{"$f":"MAX(0,'Property Set Up'!$E39*12-'Projection – Property #3'!T28)","v":168},{"$f":"MAX(0,'Property Set Up'!$E39*12-'Projection – Property #3'!U28)","v":156},{"$f":"MAX(0,'Property Set Up'!$E39*12-'Projection – Property #3'!V28)","v":144},{"$f":"MAX(0,'Property Set Up'!$E39*12-'Projection – Property #3'!W28)","v":132},{"$f":"MAX(0,'Property Set Up'!$E39*12-'Projection – Property #3'!X28)","v":120},{"$f":"MAX(0,'Property Set Up'!$E39*12-'Projection – Property #3'!Y28)","v":108},{"$f":"MAX(0,'Property Set Up'!$E39*12-'Projection – Property #3'!Z28)","v":96},{"$f":"MAX(0,'Property Set Up'!$E39*12-'Projection – Property #3'!AA28)","v":84},{"$f":"MAX(0,'Property Set Up'!$E39*12-'Projection – Property #3'!AB28)","v":72},{"$f":"MAX(0,'Property Set Up'!$E39*12-'Projection – Property #3'!AC28)","v":60},{"$f":"MAX(0,'Property Set Up'!$E39*12-'Projection – Property #3'!AD28)","v":48},{"$f":"MAX(0,'Property Set Up'!$E39*12-'Projection – Property #3'!AE28)","v":36},{"$f":"MAX(0,'Property Set Up'!$E39*12-'Projection – Property #3'!AF28)","v":24},{"$f":"MAX(0,'Property Set Up'!$E39*12-'Projection – Property #3'!AG28)","v":12},{"$f":"MAX(0,'Property Set Up'!$E39*12-'Projection – Property #3'!AH28)","v":0}]
[null,"Months Left on Principal (Years)",null,{"$f":"D29/12","v":30},{"$f":"E29/12","v":30},29,28,27,26,25,24,23,22,21,20,19,18,17,16,15,14,13,12,11,10,9,8,7,6,5,4,3,2,1,0]
[null,"Principal Payments Denominator. Months of Year",null,{"$f":"IF('Property Set Up'!$E38=\"Interest Only\",2,IF(AND(D29>0,D29<=11),D29/12,IF(D29=0,0,1)))","v":2},{"$f":"IF('Property Set Up'!$E38=\"Interest Only\",2,IF(AND(E29>0,E29<=11),E29/12,IF(E29=0,0,1)))","v":2},{"$f":"IF('Property Set Up'!$E38=\"Interest Only\",2,IF(AND(F29>0,F29<=11),F29/12,IF(F29=0,0,1)))","v":2},{"$f":"IF('Property Set Up'!$E38=\"Interest Only\",2,IF(AND(G29>0,G29<=11),G29/12,IF(G29=0,0,1)))","v":2},{"$f":"IF('Property Set Up'!$E38=\"Interest Only\",2,IF(AND(H29>0,H29<=11),H29/12,IF(H29=0,0,1)))","v":2},{"$f":"IF('Property Set Up'!$E38=\"Interest Only\",2,IF(AND(I29>0,I29<=11),I29/12,IF(I29=0,0,1)))","v":2},{"$f":"IF('Property Set Up'!$E38=\"Interest Only\",2,IF(AND(J29>0,J29<=11),J29/12,IF(J29=0,0,1)))","v":2},{"$f":"IF('Property Set Up'!$E38=\"Interest Only\",2,IF(AND(K29>0,K29<=11),K29/12,IF(K29=0,0,1)))","v":2},{"$f":"IF('Property Set Up'!$E38=\"Interest Only\",2,IF(AND(L29>0,L29<=11),L29/12,IF(L29=0,0,1)))","v":2},{"$f":"IF('Property Set Up'!$E38=\"Interest Only\",2,IF(AND(M29>0,M29<=11),M29/12,IF(M29=0,0,1)))","v":2},{"$f":"IF('Property Set Up'!$E38=\"Interest Only\",2,IF(AND(N29>0,N29<=11),N29/12,IF(N29=0,0,1)))","v":2},{"$f":"IF('Property Set Up'!$E38=\"Interest Only\",2,IF(AND(O29>0,O29<=11),O29/12,IF(O29=0,0,1)))","v":2},{"$f":"IF('Property Set Up'!$E38=\"Interest Only\",2,IF(AND(P29>0,P29<=11),P29/12,IF(P29=0,0,1)))","v":2},{"$f":"IF('Property Set Up'!$E38=\"Interest Only\",2,IF(AND(Q29>0,Q29<=11),Q29/12,IF(Q29=0,0,1)))","v":2},{"$f":"IF('Property Set Up'!$E38=\"Interest Only\",2,IF(AND(R29>0,R29<=11),R29/12,IF(R29=0,0,1)))","v":2},{"$f":"IF('Property Set Up'!$E38=\"Interest Only\",2,IF(AND(S29>0,S29<=11),S29/12,IF(S29=0,0,1)))","v":2},{"$f":"IF('Property Set Up'!$E38=\"Interest Only\",2,IF(AND(T29>0,T29<=11),T29/12,IF(T29=0,0,1)))","v":2},{"$f":"IF('Property Set Up'!$E38=\"Interest Only\",2,IF(AND(U29>0,U29<=11),U29/12,IF(U29=0,0,1)))","v":2},{"$f":"IF('Property Set Up'!$E38=\"Interest Only\",2,IF(AND(V29>0,V29<=11),V29/12,IF(V29=0,0,1)))","v":2},{"$f":"IF('Property Set Up'!$E38=\"Interest Only\",2,IF(AND(W29>0,W29<=11),W29/12,IF(W29=0,0,1)))","v":2},{"$f":"IF('Property Set Up'!$E38=\"Interest Only\",2,IF(AND(X29>0,X29<=11),X29/12,IF(X29=0,0,1)))","v":2},{"$f":"IF('Property Set Up'!$E38=\"Interest Only\",2,IF(AND(Y29>0,Y29<=11),Y29/12,IF(Y29=0,0,1)))","v":2},{"$f":"IF('Property Set Up'!$E38=\"Interest Only\",2,IF(AND(Z29>0,Z29<=11),Z29/12,IF(Z29=0,0,1)))","v":2},{"$f":"IF('Property Set Up'!$E38=\"Interest Only\",2,IF(AND(AA29>0,AA29<=11),AA29/12,IF(AA29=0,0,1)))","v":2},{"$f":"IF('Property Set Up'!$E38=\"Interest Only\",2,IF(AND(AB29>0,AB29<=11),AB29/12,IF(AB29=0,0,1)))","v":2},{"$f":"IF('Property Set Up'!$E38=\"Interest Only\",2,IF(AND(AC29>0,AC29<=11),AC29/12,IF(AC29=0,0,1)))","v":2},{"$f":"IF('Property Set Up'!$E38=\"Interest Only\",2,IF(AND(AD29>0,AD29<=11),AD29/12,IF(AD29=0,0,1)))","v":2},{"$f":"IF('Property Set Up'!$E38=\"Interest Only\",2,IF(AND(AE29>0,AE29<=11),AE29/12,IF(AE29=0,0,1)))","v":2},{"$f":"IF('Property Set Up'!$E38=\"Interest Only\",2,IF(AND(AF29>0,AF29<=11),AF29/12,IF(AF29=0,0,1)))","v":2},{"$f":"IF('Property Set Up'!$E38=\"Interest Only\",2,IF(AND(AG29>0,AG29<=11),AG29/12,IF(AG29=0,0,1)))","v":2},{"$f":"IF('Property Set Up'!$E38=\"Interest Only\",2,IF(AND(AH29>0,AH29<=11),AH29/12,IF(AH29=0,0,1)))","v":2},{"$f":"IF('Property Set Up'!$E38=\"Interest Only\",2,IF(AND(AI29>0,AI29<=11),AI29/12,IF(AI29=0,0,1)))","v":2}]
[null,"Years",null,1,2,3,4,5,6,7,8,9,10,11,12,13,14,15,16,17,18,19,20,21,22,23,24,25,26,27,28,29,30,31,32]
[null,null,null,{"$f":"CONCATENATE(TEXT(D85,\"mmm-yy\"),\" – \",TEXT(D86,\"mmm-yy\"))","v":"May-22 – Apr-23"},{"$f":"CONCATENATE(TEXT(E85,\"mmm-yy\"),\" – \",TEXT(E86,\"mmm-yy\"))","v":"May-23 – Apr-24"},"May-24 – Apr-25","May-25 – Apr-26","May-26 – Apr-27","May-27 – Apr-28","May-28 – Apr-29","May-29 – Apr-30","May-30 – Apr-31","May-31 – Apr-32","May-32 – Apr-33","May-33 – Apr-34","May-34 – Apr-35","May-35 – Apr-36","May-36 – Apr-37",{"$f":"CONCATENATE(TEXT(S85,\"mmm-yy\"),\" – \",TEXT(S86,\"mmm-yy\"))","v":"May-37 – Apr-38"},"May-38 – Apr-39","May-39 – Apr-40","May-40 – Apr-41","May-41 – Apr-42","May-42 – Apr-43","May-43 – Apr-44","May-44 – Apr-45","May-45 – Apr-46","May-46 – Apr-47","May-47 – Apr-48","May-48 – Apr-49","May-49 – Apr-50","May-50 – Apr-51","May-51 – Apr-52",{"$f":"CONCATENATE(TEXT(AH85,\"mmm-yy\"),\" – \",TEXT(AH86,\"mmm-yy\"))","v":"May-52 – Apr-53"},{"$f":"CONCATENATE(TEXT(AI85,\"mmm-yy\"),\" – \",TEXT(AI86,\"mmm-yy\"))","v":"May-53 – Apr-54"}]
[]
[]
[null,"ASSETS AND LIABILITIES"]
[]
[]
[null,"Asset Value (Start of Year)",0,{"$f":"'Property Set Up'!$E$23*(1+'Property Set Up'!E87)^'Projection – Property #3'!D26","v":{"$error":"#VALUE!"}},{"$f":"D39*(1+'Property Set Up'!$E$87)","v":{"$error":"#VALUE!"}},{"$f":"E39*(1+'Property Set Up'!$E$87)","v":{"$error":"#VALUE!"}},{"$f":"F39*(1+'Property Set Up'!$E$87)","v":{"$error":"#VALUE!"}},{"$f":"G39*(1+'Property Set Up'!$E$87)","v":{"$error":"#VALUE!"}},{"$f":"H39*(1+'Property Set Up'!$E$87)","v":{"$error":"#VALUE!"}},{"$f":"I39*(1+'Property Set Up'!$E$87)","v":{"$error":"#VALUE!"}},{"$f":"J39*(1+'Property Set Up'!$E$87)","v":{"$error":"#VALUE!"}},{"$f":"K39*(1+'Property Set Up'!$E$87)","v":{"$error":"#VALUE!"}},{"$f":"L39*(1+'Property Set Up'!$E$87)","v":{"$error":"#VALUE!"}},{"$f":"M39*(1+'Property Set Up'!$E$87)","v":{"$error":"#VALUE!"}},{"$f":"N39*(1+'Property Set Up'!$E$87)","v":{"$error":"#VALUE!"}},{"$f":"O39*(1+'Property Set Up'!$E$87)","v":{"$error":"#VALUE!"}},{"$f":"P39*(1+'Property Set Up'!$E$87)","v":{"$error":"#VALUE!"}},{"$f":"Q39*(1+'Property Set Up'!$E$87)","v":{"$error":"#VALUE!"}},{"$f":"R39*(1+'Property Set Up'!$E$87)","v":{"$error":"#VALUE!"}},{"$f":"S39*(1+'Property Set Up'!$E$87)","v":{"$error":"#VALUE!"}},{"$f":"T39*(1+'Property Set Up'!$E$87)","v":{"$error":"#VALUE!"}},{"$f":"U39*(1+'Property Set Up'!$E$87)","v":{"$error":"#VALUE!"}},{"$f":"V39*(1+'Property Set Up'!$E$87)","v":{"$error":"#VALUE!"}},{"$f":"W39*(1+'Property Set Up'!$E$87)","v":{"$error":"#VALUE!"}},{"$f":"X39*(1+'Property Set Up'!$E$87)","v":{"$error":"#VALUE!"}},{"$f":"Y39*(1+'Property Set Up'!$E$87)","v":{"$error":"#VALUE!"}},{"$f":"Z39*(1+'Property Set Up'!$E$87)","v":{"$error":"#VALUE!"}},{"$f":"AA39*(1+'Property Set Up'!$E$87)","v":{"$error":"#VALUE!"}},{"$f":"AB39*(1+'Property Set Up'!$E$87)","v":{"$error":"#VALUE!"}},{"$f":"AC39*(1+'Property Set Up'!$E$87)","v":{"$error":"#VALUE!"}},{"$f":"AD39*(1+'Property Set Up'!$E$87)","v":{"$error":"#VALUE!"}},{"$f":"AE39*(1+'Property Set Up'!$E$87)","v":{"$error":"#VALUE!"}},{"$f":"AF39*(1+'Property Set Up'!$E$87)","v":{"$error":"#VALUE!"}},{"$f":"AG39*(1+'Property Set Up'!$E$87)","v":{"$error":"#VALUE!"}},{"$f":"AH39*(1+'Property Set Up'!$E$87)","v":{"$error":"#VALUE!"}}]
[null,"Mortgage (Start of Year)",0,{"$f":"'Property Set Up'!$E$28","v":3000},{"$f":"MAX(0,D40-D42)","v":3000},{"$f":"MAX(0,E40-E42)","v":3000},{"$f":"MAX(0,F40-F42)","v":3000},3000,3000,3000,3000,3000,3000,3000,3000,3000,3000,{"$f":"MAX(0,Q40-Q42)","v":3000},{"$f":"MAX(0,R40-R42)","v":3000},{"$f":"MAX(0,S40-S42)","v":3000},{"$f":"MAX(0,T40-T42)","v":3000},{"$f":"MAX(0,U40-U42)","v":3000},{"$f":"MAX(0,V40-V42)","v":3000},{"$f":"MAX(0,W40-W42)","v":3000},{"$f":"MAX(0,X40-X42)","v":3000},{"$f":"MAX(0,Y40-Y42)","v":3000},{"$f":"MAX(0,Z40-Z42)","v":3000},{"$f":"MAX(0,AA40-AA42)","v":3000},{"$f":"MAX(0,AB40-AB42)","v":3000},{"$f":"MAX(0,AC40-AC42)","v":3000},{"$f":"MAX(0,AD40-AD42)","v":3000},{"$f":"MAX(0,AE40-AE42)","v":3000},{"$f":"MAX(0,AF40-AF42)","v":3000},{"$f":"MAX(0,AG40-AG42)","v":3000},{"$f":"MAX(0,AH40-AH42)","v":3000}]
[null,"Inflation Adjusted Debt Repayments In The Year",0,{"$f":"(D40-E40)/(1+'Property Set Up'!$E$77)^D26","v":0},{"$f":"(E40-F40)/(1+'Property Set Up'!$E$77)^E26","v":0},{"$f":"(F40-G40)/(1+'Property Set Up'!$E$77)^F26","v":0},{"$f":"(G40-H40)/(1+'Property Set Up'!$E$77)^G26","v":0},{"$f":"(H40-I40)/(1+'Property Set Up'!$E$77)^H26","v":0},{"$f":"(I40-J40)/(1+'Property Set Up'!$E$77)^I26","v":0},{"$f":"(J40-K40)/(1+'Property Set Up'!$E$77)^J26","v":0},{"$f":"(K40-L40)/(1+'Property Set Up'!$E$77)^K26","v":0},{"$f":"(L40-M40)/(1+'Property Set Up'!$E$77)^L26","v":0},{"$f":"(M40-N40)/(1+'Property Set Up'!$E$77)^M26","v":0},{"$f":"(N40-O40)/(1+'Property Set Up'!$E$77)^N26","v":0},{"$f":"(O40-P40)/(1+'Property Set Up'!$E$77)^O26","v":0},{"$f":"(P40-Q40)/(1+'Property Set Up'!$E$77)^P26","v":0},{"$f":"(Q40-R40)/(1+'Property Set Up'!$E$77)^Q26","v":0},{"$f":"(R40-S40)/(1+'Property Set Up'!$E$77)^R26","v":0},{"$f":"($D$40-T40)/(1+'Property Set Up'!$E$77)^S26","v":0},{"$f":"($D$40-U40)/(1+'Property Set Up'!$E$77)^T26","v":0},{"$f":"($D$40-V40)/(1+'Property Set Up'!$E$77)^U26","v":0},{"$f":"($D$40-W40)/(1+'Property Set Up'!$E$77)^V26","v":0},{"$f":"($D$40-X40)/(1+'Property Set Up'!$E$77)^W26","v":0},{"$f":"($D$40-Y40)/(1+'Property Set Up'!$E$77)^X26","v":0},{"$f":"($D$40-Z40)/(1+'Property Set Up'!$E$77)^Y26","v":0},{"$f":"($D$40-AA40)/(1+'Property Set Up'!$E$77)^Z26","v":0},{"$f":"($D$40-AB40)/(1+'Property Set Up'!$E$77)^AA26","v":0},{"$f":"($D$40-AC40)/(1+'Property Set Up'!$E$77)^AB26","v":0},{"$f":"($D$40-AD40)/(1+'Property Set Up'!$E$77)^AC26","v":0},{"$f":"($D$40-AE40)/(1+'Property Set Up'!$E$77)^AD26","v":0},{"$f":"($D$40-AF40)/(1+'Property Set Up'!$E$77)^AE26","v":0},{"$f":"($D$40-AG40)/(1+'Property Set Up'!$E$77)^AF26","v":0},{"$f":"($D$40-AH40)/(1+'Property Set Up'!$E$77)^AG26","v":0},{"$f":"($D$40-AI40)/(1+'Property Set Up'!$E$77)^AH26","v":0},{"$f":"($D$40-AJ40)/(1+'Property Set Up'!$E$77)^AI26","v":1623.7379087644474}]
[null,"Hidden – Principal paid in year",null,{"$f":"IFERROR(IF(D45=\"Interest Only\",0,IF(D28=0,0,-CUMPRINC(D59/12,12*D46,D40,D27,D28,0))),0)","v":0},{"$f":"IFERROR(IF(E45=\"Interest Only\",0,IF(E28=0,0,-CUMPRINC(E59/12,12*E46,E40,E27,E28,0))),0)","v":0},{"$f":"IFERROR(IF(F45=\"Interest Only\",0,IF(F28=0,0,-CUMPRINC(F59/12,12*F46,F40,F27,F28,0))),0)","v":0},{"$f":"IFERROR(IF(G45=\"interest only\",0,-CUMPRINC(G59/12,12*G46,G40,1,12,0)),0)","v":0},0,0,0,0,0,0,0,0,0,0,0,0,0,0,0,0,0,0,0,0,0,0,0,0,0,0,0,0]
[null,"Net Equity",null,{"$f":"D39-D40","v":{"$error":"#VALUE!"}},{"$error":"#VALUE!"},{"$error":"#VALUE!"},{"$error":"#VALUE!"},{"$error":"#VALUE!"},{"$error":"#VALUE!"},{"$error":"#VALUE!"},{"$error":"#VALUE!"},{"$error":"#VALUE!"},{"$error":"#VALUE!"},{"$error":"#VALUE!"},{"$error":"#VALUE!"},{"$error":"#VALUE!"},{"$error":"#VALUE!"},{"$error":"#VALUE!"},{"$error":"#VALUE!"},{"$error":"#VALUE!"},{"$error":"#VALUE!"},{"$error":"#VALUE!"},{"$error":"#VALUE!"},{"$error":"#VALUE!"},{"$error":"#VALUE!"},{"$error":"#VALUE!"},{"$error":"#VALUE!"},{"$error":"#VALUE!"},{"$error":"#VALUE!"},{"$error":"#VALUE!"},{"$error":"#VALUE!"},{"$error":"#VALUE!"},{"$error":"#VALUE!"},{"$error":"#VALUE!"},{"$error":"#VALUE!"}]
[]
[null,"Mortgage Type",null,{"$f":"IF('Property Set Up'!$E$38=\"Principal & interest\",\"P+I\",\"Interest Only\")","v":"Interest Only"},{"$f":"IF('Property Set Up'!$E$38=\"Principal & interest\",\"P+I\",\"Interest Only\")","v":"Interest Only"},{"$f":"IF('Property Set Up'!$E$38=\"Principal & interest\",\"P+I\",\"Interest Only\")","v":"Interest Only"},{"$f":"IF(ISBLANK(G48),F45,G48)","v":"Interest Only"},{"$f":"IF(ISBLANK(H48),G45,H48)","v":"Interest Only"},"Interest Only","Interest Only","Interest Only","Interest Only","Interest Only","Interest Only","Interest Only","Interest Only","Interest Only",{"$f":"IF(ISBLANK(R48),Q45,R48)","v":"Interest Only"},{"$f":"IF(ISBLANK(S48),R45,S48)","v":"Interest Only"},{"$f":"IF(ISBLANK(T48),S45,T48)","v":"Interest Only"},{"$f":"IF(ISBLANK(U48),T45,U48)","v":"Interest Only"},{"$f":"IF(ISBLANK(V48),U45,V48)","v":"Interest Only"},{"$f":"IF(ISBLANK(W48),V45,W48)","v":"Interest Only"},{"$f":"IF(ISBLANK(X48),W45,X48)","v":"Interest Only"},{"$f":"IF(ISBLANK(Y48),X45,Y48)","v":"Interest Only"},{"$f":"IF(ISBLANK(Z48),Y45,Z48)","v":"Interest Only"},{"$f":"IF(ISBLANK(AA48),Z45,AA48)","v":"Interest Only"},{"$f":"IF(ISBLANK(AB48),AA45,AB48)","v":"Interest Only"},{"$f":"IF(ISBLANK(AC48),AB45,AC48)","v":"Interest Only"},{"$f":"IF(ISBLANK(AD48),AC45,AD48)","v":"Interest Only"},{"$f":"IF(ISBLANK(AE48),AD45,AE48)","v":"Interest Only"},{"$f":"IF(ISBLANK(AF48),AE45,AF48)","v":"Interest Only"},{"$f":"IF(ISBLANK(AG48),AF45,AG48)","v":"Interest Only"},{"$f":"IF(ISBLANK(AH48),AG45,AH48)","v":"Interest Only"},{"$f":"IF(ISBLANK(AI48),AH45,AI48)","v":"Interest Only"}]
[null,"Mortgage Term",null,{"$f":"IF(D45=\"P+I\",D30,\"N/A\")","v":"N/A"},{"$f":"IF(E45=\"P+I\",E30,\"N/A\")","v":"N/A"},{"$f":"IF(F45=\"P+I\",F30,\"N/A\")","v":"N/A"},{"$f":"IF(G45=\"Interest Only\",\"N/A\",IF(G45=F45,IF(F46<>\"N/A\",MAX(F46-1,0),F46),G49))","v":"N/A"},{"$f":"IF(H45=\"Interest Only\",\"N/A\",IF(H45=G45,IF(G46<>\"N/A\",MAX(G46-1,0),G46),H49))","v":"N/A"},"N/A","N/A","N/A","N/A","N/A","N/A","N/A","N/A","N/A",{"$f":"IF(R45=\"Interest Only\",\"N/A\",IF(R45=Q45,IF(Q46<>\"N/A\",MAX(Q46-1,0),Q46),R49))","v":"N/A"},{"$f":"IF(S45=\"Interest Only\",\"N/A\",IF(S45=R45,IF(R46<>\"N/A\",MAX(R46-1,0),R46),S49))","v":"N/A"},{"$f":"IF(T45=\"Interest Only\",\"N/A\",IF(T45=S45,IF(S46<>\"N/A\",MAX(S46-1,0),S46),T49))","v":"N/A"},{"$f":"IF(U45=\"Interest Only\",\"N/A\",IF(U45=T45,IF(T46<>\"N/A\",MAX(T46-1,0),T46),U49))","v":"N/A"},{"$f":"IF(V45=\"Interest Only\",\"N/A\",IF(V45=U45,IF(U46<>\"N/A\",MAX(U46-1,0),U46),V49))","v":"N/A"},{"$f":"IF(W45=\"Interest Only\",\"N/A\",IF(W45=V45,IF(V46<>\"N/A\",MAX(V46-1,0),V46),W49))","v":"N/A"},{"$f":"IF(X45=\"Interest Only\",\"N/A\",IF(X45=W45,IF(W46<>\"N/A\",MAX(W46-1,0),W46),X49))","v":"N/A"},{"$f":"IF(Y45=\"Interest Only\",\"N/A\",IF(Y45=X45,IF(X46<>\"N/A\",MAX(X46-1,0),X46),Y49))","v":"N/A"},{"$f":"IF(Z45=\"Interest Only\",\"N/A\",IF(Z45=Y45,IF(Y46<>\"N/A\",MAX(Y46-1,0),Y46),Z49))","v":"N/A"},{"$f":"IF(AA45=\"Interest Only\",\"N/A\",IF(AA45=Z45,IF(Z46<>\"N/A\",MAX(Z46-1,0),Z46),AA49))","v":"N/A"},{"$f":"IF(AB45=\"Interest Only\",\"N/A\",IF(AB45=AA45,IF(AA46<>\"N/A\",MAX(AA46-1,0),AA46),AB49))","v":"N/A"},{"$f":"IF(AC45=\"Interest Only\",\"N/A\",IF(AC45=AB45,IF(AB46<>\"N/A\",MAX(AB46-1,0),AB46),AC49))","v":"N/A"},{"$f":"IF(AD45=\"Interest Only\",\"N/A\",IF(AD45=AC45,IF(AC46<>\"N/A\",MAX(AC46-1,0),AC46),AD49))","v":"N/A"},{"$f":"IF(AE45=\"Interest Only\",\"N/A\",IF(AE45=AD45,IF(AD46<>\"N/A\",MAX(AD46-1,0),AD46),AE49))","v":"N/A"},{"$f":"IF(AF45=\"Interest Only\",\"N/A\",IF(AF45=AE45,IF(AE46<>\"N/A\",MAX(AE46-1,0),AE46),AF49))","v":"N/A"},{"$f":"IF(AG45=\"Interest Only\",\"N/A\",IF(AG45=AF45,IF(AF46<>\"N/A\",MAX(AF46-1,0),AF46),AG49))","v":"N/A"},{"$f":"IF(AH45=\"Interest Only\",\"N/A\",IF(AH45=AG45,IF(AG46<>\"N/A\",MAX(AG46-1,0),AG46),AH49))","v":"N/A"},{"$f":"IF(AI45=\"Interest Only\",\"N/A\",IF(AI45=AH45,IF(AH46<>\"N/A\",MAX(AH46-1,0),AH46),AI49))","v":"N/A"}]
[]
[null,"Change Mortgage Type",null,"N/A","N/A","N/A"]
[null,"Change Mortgage Term",null,"N/A","N/A","N/A"]
[]
[]
[null,"PRE-TAX CASHFLOW"]
[]
[]
[null,"Rent Per Annum",null,{"$f":"IF(D67>=12,0,IF(D67>0,(12-D67)/12*D71,D71))","v":0},{"$f":"IF(E67>=12,0,IF(E67>0,(12-E67)/12*E71,E71))","v":0},{"$f":"IF(F67>=12,0,IF(F67>0,(12-F67)/12*F71,F71))","v":0},0,0,0,0,0,0,0,0,0,0,0,0,{"$f":"IF(S67>=12,0,IF(S67>0,(12-S67)/12*S71,S71))","v":0},0,0,0,0,0,0,0,0,0,0,0,0,0,0,{"$f":"IF(AH67>=12,0,IF(AH67>0,(12-AH67)/12*AH71,AH71))","v":0},{"$f":"IF(AI67>=12,0,IF(AI67>0,(12-AI67)/12*AI71,AI71))","v":0}]
[null,"Financing Costs",null,{"$f":"SUM(D78:D79)","v":0},{"$f":"SUM(E78:E79)","v":157.5},150,135,135,{"$f":"SUM(I78:I79)","v":135},135,135,135,135,135,135,135,135,135,135,135,135,135,135,135,135,135,135,135,135,135,135,135,135,135,135]
[null,"Operating Costs",null,{"$f":"IF(D67>=12,0,IF(D67>0,(12-D67)/12*(D72+D73),D72+D73))","v":0},{"$f":"IF(E67>=12,0,IF(E67>0,(12-E67)/12*(E72+E73),E72+E73))","v":7876.95},{"$f":"IF(F67>=12,0,IF(F67>0,(12-F67)/12*(F72+F73),F72+F73))","v":8034.4889999999996},8195.1787800000002,8359.0823555999996,8526.2640027119996,8696.7892827662399,8870.7250684215651,9048.139569789997,9229.1023611857963,9413.6844084095119,9601.9580965777022,9793.9972585092564,9989.8772036794417,10189.67474775303,{"$f":"IF(S67>=12,0,IF(S67>0,(12-S67)/12*(S72+S73),S72+S73))","v":10393.46824270809},10601.337607562251,10813.364359713496,11029.631646907766,11250.224279845923,11475.228765442842,11704.733340751698,11938.828007566732,12177.604567718066,12421.156659072429,12669.579792253877,12922.971388098955,13181.430815860935,13445.059432178154,13713.960620821717,{"$f":"IF(AH67>=12,0,IF(AH67>0,(12-AH67)/12*(AH72+AH73),AH72+AH73))","v":13988.239833238153},{"$f":"IF(AI67>=12,0,IF(AI67>0,(12-AI67)/12*(AI72+AI73),AI72+AI73))","v":14268.004629902916}]
[]
[null,"Interest Rate",null,{"$f":"Assumptions!I38","v":4.4999999999999998E-2},{"$f":"Assumptions!J38","v":5.2499999999999998E-2},{"$f":"Assumptions!K38","v":0.05},{"$f":"Assumptions!L38","v":4.4999999999999998E-2},{"$f":"Assumptions!M38","v":4.4999999999999998E-2},{"$f":"Assumptions!N38","v":4.4999999999999998E-2},{"$f":"Assumptions!O38","v":4.4999999999999998E-2},{"$f":"Assumptions!P38","v":4.4999999999999998E-2},{"$f":"Assumptions!Q38","v":4.4999999999999998E-2},{"$f":"Assumptions!R38","v":4.4999999999999998E-2},{"$f":"Assumptions!S38","v":4.4999999999999998E-2},{"$f":"Assumptions!T38","v":4.4999999999999998E-2},{"$f":"Assumptions!U38","v":4.4999999999999998E-2},{"$f":"Assumptions!V38","v":4.4999999999999998E-2},{"$f":"Assumptions!W38","v":4.4999999999999998E-2},{"$f":"Assumptions!X38","v":4.4999999999999998E-2},{"$f":"Assumptions!Y38","v":4.4999999999999998E-2},{"$f":"Assumptions!Z38","v":4.4999999999999998E-2},{"$f":"Assumptions!AA38","v":4.4999999999999998E-2},{"$f":"Assumptions!AB38","v":4.4999999999999998E-2},{"$f":"Assumptions!AC38","v":4.4999999999999998E-2},{"$f":"Assumptions!AD38","v":4.4999999999999998E-2},{"$f":"Assumptions!AE38","v":4.4999999999999998E-2},{"$f":"Assumptions!AF38","v":4.4999999999999998E-2},{"$f":"Assumptions!AG38","v":4.4999999999999998E-2},{"$f":"Assumptions!AH38","v":4.4999999999999998E-2},{"$f":"Assumptions!AI38","v":4.4999999999999998E-2},{"$f":"Assumptions!AJ38","v":4.4999999999999998E-2},{"$f":"Assumptions!AK38","v":4.4999999999999998E-2},{"$f":"Assumptions!AL38","v":4.4999999999999998E-2},{"$f":"Assumptions!AM38","v":4.4999999999999998E-2},{"$f":"Assumptions!AN38","v":4.4999999999999998E-2}]
[]
[null,"Annual Pre-Tax Cashflow",{"$f":"C55-SUM(C56:C56)","v":0},{"$f":"D55-SUM(D56:D57)","v":0},-8034.45,-8184.4889999999996,-8330.1787800000002,-8494.0823555999996,-8661.2640027119996,-8831.7892827662399,-9005.7250684215651,-9183.139569789997,-9364.1023611857963,-9548.6844084095119,-9736.9580965777022,-9928.9972585092564,-10124.877203679442,-10324.67474775303,-10528.46824270809,-10736.337607562251,-10948.364359713496,-11164.631646907766,-11385.224279845923,-11610.228765442842,-11839.733340751698,-12073.828007566732,-12312.604567718066,-12556.156659072429,-12804.579792253877,-13057.971388098955,-13316.430815860935,-13580.059432178154,-13848.960620821717,-14123.239833238153,-14403.004629902916]
[]
[]
[null,"HIDDEN RENTAL INFLATION CALCULATIONS"]
[]
[]
[null,"Months Left in Construction",null,{"$f":"IF('Property Set Up'!E103=\"Yes\",'Property Set Up'!E104,0)","v":12},{"$f":"D67-12","v":0},{"$f":"E67-12","v":-12},-24,-36,-48,-60,-72,-84,-96,-108,-120,-132,-144,-156,{"$f":"R67-12","v":-168},-180,-192,-204,-216,-228,-240,-252,-264,-276,-288,-300,-312,-324,-336,-348,-360]
[null,"Months in Construction",null,{"$f":"12-D69","v":12},{"$f":"12-E69","v":0},0,0,0,0,0,0,0,0,0,0,0,0,0,0,0,0,0,0,0,0,0,0,0,0,0,0,0,0,0,0]
[null,"Months Operating",null,{"$f":"MAX(MIN(12-D67,12),0)","v":0},{"$f":"MAX(MIN(12-E67,12),0)","v":12},12,12,12,12,12,12,12,12,12,12,12,12,12,12,12,12,12,12,12,12,12,12,12,12,12,12,12,12,12,12]
[null,"P+I Term",null,{"$f":"'Property Set Up'!$E39","v":30},{"$f":"'Property Set Up'!$E39","v":30},{"$f":"'Property Set Up'!$E39","v":30},{"$f":"'Property Set Up'!$E39","v":30},{"$f":"'Property Set Up'!$E39","v":30},{"$f":"'Property Set Up'!$E39","v":30},{"$f":"'Property Set Up'!$E39","v":30},{"$f":"'Property Set Up'!$E39","v":30},{"$f":"'Property Set Up'!$E39","v":30},{"$f":"'Property Set Up'!$E39","v":30},{"$f":"'Property Set Up'!$E39","v":30},{"$f":"'Property Set Up'!$E39","v":30},{"$f":"'Property Set Up'!$E39","v":30},{"$f":"'Property Set Up'!$E39","v":30},{"$f":"'Property Set Up'!$E39","v":30},{"$f":"'Property Set Up'!$E39","v":30},{"$f":"'Property Set Up'!$E39","v":30},{"$f":"'Property Set Up'!$E39","v":30},{"$f":"'Property Set Up'!$E39","v":30},{"$f":"'Property Set Up'!$E39","v":30},{"$f":"'Property Set Up'!$E39","v":30},{"$f":"'Property Set Up'!$E39","v":30},{"$f":"'Property Set Up'!$E39","v":30},{"$f":"'Property Set Up'!$E39","v":30},{"$f":"'Property Set Up'!$E39","v":30},{"$f":"'Property Set Up'!$E39","v":30},{"$f":"'Property Set Up'!$E39","v":30},{"$f":"'Property Set Up'!$E39","v":30},{"$f":"'Property Set Up'!$E39","v":30},{"$f":"'Property Set Up'!$E39","v":30},{"$f":"'Property Set Up'!$E39","v":30},{"$f":"'Property Set Up'!$E39","v":30}]
[null,"Full Sized Annual Rent",null,{"$f":"'Property Set Up'!$E$42*(52-'Property Set Up'!$E$43)","v":0},{"$f":"D71*(1+D76)","v":0},{"$f":"E71*(1+E76)","v":0},0,0,0,0,0,0,0,0,0,0,0,0,{"$f":"R71*(1+R76)","v":0},0,0,0,0,0,0,0,0,0,0,0,0,0,0,0,0]
[null,"Full Sized Rental Inflation Based Operating Costs",null,{"$f":"IF('Property Set Up'!$E$58=\"Weeks\",'Projection – Property #3'!D71*(1/(52-'Property Set Up'!$E$43))*1.15+'Property Set Up'!$E$57*1.15*'Projection – Property #3'!D71,'Property Set Up'!$E$57*1.15*'Projection – Property #3'!D71)","v":0},{"$f":"IF('Property Set Up'!$E$58=\"Weeks\",'Projection – Property #3'!E71*(1/(52-'Property Set Up'!$E$43))*1.15+'Property Set Up'!$E$57*1.15*'Projection – Property #3'!E71,'Property Set Up'!$E$57*1.15*'Projection – Property #3'!E71)","v":0},{"$f":"IF('Property Set Up'!$E$58=\"Weeks\",'Projection – Property #3'!F71*(1/(52-'Property Set Up'!$E$43))*1.15+'Property Set Up'!$E$57*1.15*'Projection – Property #3'!F71,'Property Set Up'!$E$57*1.15*'Projection – Property #3'!F71)","v":0},{"$f":"IF('Property Set Up'!$E$58=\"Weeks\",'Projection – Property #3'!G71*(1/(52-'Property Set Up'!$E$43))*1.15+'Property Set Up'!$E$57*1.15*'Projection – Property #3'!G71,'Property Set Up'!$E$57*1.15*'Projection – Property #3'!G71)","v":0},{"$f":"IF('Property Set Up'!$E$58=\"Weeks\",'Projection – Property #3'!H71*(1/(52-'Property Set Up'!$E$43))*1.15+'Property Set Up'!$E$57*1.15*'Projection – Property #3'!H71,'Property Set Up'!$E$57*1.15*'Projection – Property #3'!H71)","v":0},{"$f":"IF('Property Set Up'!$E$58=\"Weeks\",'Projection – Property #3'!I71*(1/(52-'Property Set Up'!$E$43))*1.15+'Property Set Up'!$E$57*1.15*'Projection – Property #3'!I71,'Property Set Up'!$E$57*1.15*'Projection – Property #3'!I71)","v":0},{"$f":"IF('Property Set Up'!$E$58=\"Weeks\",'Projection – Property #3'!J71*(1/(52-'Property Set Up'!$E$43))*1.15+'Property Set Up'!$E$57*1.15*'Projection – Property #3'!J71,'Property Set Up'!$E$57*1.15*'Projection – Property #3'!J71)","v":0},{"$f":"IF('Property Set Up'!$E$58=\"Weeks\",'Projection – Property #3'!K71*(1/(52-'Property Set Up'!$E$43))*1.15+'Property Set Up'!$E$57*1.15*'Projection – Property #3'!K71,'Property Set Up'!$E$57*1.15*'Projection – Property #3'!K71)","v":0},{"$f":"IF('Property Set Up'!$E$58=\"Weeks\",'Projection – Property #3'!L71*(1/(52-'Property Set Up'!$E$43))*1.15+'Property Set Up'!$E$57*1.15*'Projection – Property #3'!L71,'Property Set Up'!$E$57*1.15*'Projection – Property #3'!L71)","v":0},{"$f":"IF('Property Set Up'!$E$58=\"Weeks\",'Projection – Property #3'!M71*(1/(52-'Property Set Up'!$E$43))*1.15+'Property Set Up'!$E$57*1.15*'Projection – Property #3'!M71,'Property Set Up'!$E$57*1.15*'Projection – Property #3'!M71)","v":0},{"$f":"IF('Property Set Up'!$E$58=\"Weeks\",'Projection – Property #3'!N71*(1/(52-'Property Set Up'!$E$43))*1.15+'Property Set Up'!$E$57*1.15*'Projection – Property #3'!N71,'Property Set Up'!$E$57*1.15*'Projection – Property #3'!N71)","v":0},{"$f":"IF('Property Set Up'!$E$58=\"Weeks\",'Projection – Property #3'!O71*(1/(52-'Property Set Up'!$E$43))*1.15+'Property Set Up'!$E$57*1.15*'Projection – Property #3'!O71,'Property Set Up'!$E$57*1.15*'Projection – Property #3'!O71)","v":0},{"$f":"IF('Property Set Up'!$E$58=\"Weeks\",'Projection – Property #3'!P71*(1/(52-'Property Set Up'!$E$43))*1.15+'Property Set Up'!$E$57*1.15*'Projection – Property #3'!P71,'Property Set Up'!$E$57*1.15*'Projection – Property #3'!P71)","v":0},{"$f":"IF('Property Set Up'!$E$58=\"Weeks\",'Projection – Property #3'!Q71*(1/(52-'Property Set Up'!$E$43))*1.15+'Property Set Up'!$E$57*1.15*'Projection – Property #3'!Q71,'Property Set Up'!$E$57*1.15*'Projection – Property #3'!Q71)","v":0},{"$f":"IF('Property Set Up'!$E$58=\"Weeks\",'Projection – Property #3'!R71*(1/(52-'Property Set Up'!$E$43))*1.15+'Property Set Up'!$E$57*1.15*'Projection – Property #3'!R71,'Property Set Up'!$E$57*1.15*'Projection – Property #3'!R71)","v":0},{"$f":"IF('Property Set Up'!$E$58=\"Weeks\",'Projection – Property #3'!S71*(1/(52-'Property Set Up'!$E$43))*1.15+'Property Set Up'!$E$57*1.15*'Projection – Property #3'!S71,'Property Set Up'!$E$57*1.15*'Projection – Property #3'!S71)","v":0},{"$f":"IF('Property Set Up'!$E$58=\"Weeks\",'Projection – Property #3'!T71*(1/(52-'Property Set Up'!$E$43))*1.15+'Property Set Up'!$E$57*1.15*'Projection – Property #3'!T71,'Property Set Up'!$E$57*1.15*'Projection – Property #3'!T71)","v":0},{"$f":"IF('Property Set Up'!$E$58=\"Weeks\",'Projection – Property #3'!U71*(1/(52-'Property Set Up'!$E$43))*1.15+'Property Set Up'!$E$57*1.15*'Projection – Property #3'!U71,'Property Set Up'!$E$57*1.15*'Projection – Property #3'!U71)","v":0},{"$f":"IF('Property Set Up'!$E$58=\"Weeks\",'Projection – Property #3'!V71*(1/(52-'Property Set Up'!$E$43))*1.15+'Property Set Up'!$E$57*1.15*'Projection – Property #3'!V71,'Property Set Up'!$E$57*1.15*'Projection – Property #3'!V71)","v":0},{"$f":"IF('Property Set Up'!$E$58=\"Weeks\",'Projection – Property #3'!W71*(1/(52-'Property Set Up'!$E$43))*1.15+'Property Set Up'!$E$57*1.15*'Projection – Property #3'!W71,'Property Set Up'!$E$57*1.15*'Projection – Property #3'!W71)","v":0},{"$f":"IF('Property Set Up'!$E$58=\"Weeks\",'Projection – Property #3'!X71*(1/(52-'Property Set Up'!$E$43))*1.15+'Property Set Up'!$E$57*1.15*'Projection – Property #3'!X71,'Property Set Up'!$E$57*1.15*'Projection – Property #3'!X71)","v":0},{"$f":"IF('Property Set Up'!$E$58=\"Weeks\",'Projection – Property #3'!Y71*(1/(52-'Property Set Up'!$E$43))*1.15+'Property Set Up'!$E$57*1.15*'Projection – Property #3'!Y71,'Property Set Up'!$E$57*1.15*'Projection – Property #3'!Y71)","v":0},{"$f":"IF('Property Set Up'!$E$58=\"Weeks\",'Projection – Property #3'!Z71*(1/(52-'Property Set Up'!$E$43))*1.15+'Property Set Up'!$E$57*1.15*'Projection – Property #3'!Z71,'Property Set Up'!$E$57*1.15*'Projection – Property #3'!Z71)","v":0},{"$f":"IF('Property Set Up'!$E$58=\"Weeks\",'Projection – Property #3'!AA71*(1/(52-'Property Set Up'!$E$43))*1.15+'Property Set Up'!$E$57*1.15*'Projection – Property #3'!AA71,'Property Set Up'!$E$57*1.15*'Projection – Property #3'!AA71)","v":0},{"$f":"IF('Property Set Up'!$E$58=\"Weeks\",'Projection – Property #3'!AB71*(1/(52-'Property Set Up'!$E$43))*1.15+'Property Set Up'!$E$57*1.15*'Projection – Property #3'!AB71,'Property Set Up'!$E$57*1.15*'Projection – Property #3'!AB71)","v":0},{"$f":"IF('Property Set Up'!$E$58=\"Weeks\",'Projection – Property #3'!AC71*(1/(52-'Property Set Up'!$E$43))*1.15+'Property Set Up'!$E$57*1.15*'Projection – Property #3'!AC71,'Property Set Up'!$E$57*1.15*'Projection – Property #3'!AC71)","v":0},{"$f":"IF('Property Set Up'!$E$58=\"Weeks\",'Projection – Property #3'!AD71*(1/(52-'Property Set Up'!$E$43))*1.15+'Property Set Up'!$E$57*1.15*'Projection – Property #3'!AD71,'Property Set Up'!$E$57*1.15*'Projection – Property #3'!AD71)","v":0},{"$f":"IF('Property Set Up'!$E$58=\"Weeks\",'Projection – Property #3'!AE71*(1/(52-'Property Set Up'!$E$43))*1.15+'Property Set Up'!$E$57*1.15*'Projection – Property #3'!AE71,'Property Set Up'!$E$57*1.15*'Projection – Property #3'!AE71)","v":0},{"$f":"IF('Property Set Up'!$E$58=\"Weeks\",'Projection – Property #3'!AF71*(1/(52-'Property Set Up'!$E$43))*1.15+'Property Set Up'!$E$57*1.15*'Projection – Property #3'!AF71,'Property Set Up'!$E$57*1.15*'Projection – Property #3'!AF71)","v":0},{"$f":"IF('Property Set Up'!$E$58=\"Weeks\",'Projection – Property #3'!AG71*(1/(52-'Property Set Up'!$E$43))*1.15+'Property Set Up'!$E$57*1.15*'Projection – Property #3'!AG71,'Property Set Up'!$E$57*1.15*'Projection – Property #3'!AG71)","v":0},{"$f":"IF('Property Set Up'!$E$58=\"Weeks\",'Projection – Property #3'!AH71*(1/(52-'Property Set Up'!$E$43))*1.15+'Property Set Up'!$E$57*1.15*'Projection – Property #3'!AH71,'Property Set Up'!$E$57*1.15*'Projection – Property #3'!AH71)","v":0},{"$f":"IF('Property Set Up'!$E$58=\"Weeks\",'Projection – Property #3'!AI71*(1/(52-'Property Set Up'!$E$43))*1.15+'Property Set Up'!$E$57*1.15*'Projection – Property #3'!AI71,'Property Set Up'!$E$57*1.15*'Projection – Property #3'!AI71)","v":0}]
[null,"Full Sized Inflation Based Operating Costs",null,{"$f":"IF('Property Set Up'!$E$58=\"Weeks\",(SUM('Property Set Up'!$E$61:$E$68)-'Property Set Up'!E66)*(1+'Property Set Up'!$E77)^'Projection – Property #3'!D26,(SUM('Property Set Up'!$E$60:$E$68)-'Property Set Up'!E66)*(1+'Property Set Up'!E77)^'Projection – Property #3'!D26)","v":7722.5},{"$f":"D73*(1+'Property Set Up'!$E$77)","v":7876.95},{"$f":"E73*(1+'Property Set Up'!$E$77)","v":8034.4889999999996},{"$f":"F73*(1+'Property Set Up'!$E$77)","v":8195.1787800000002},{"$f":"G73*(1+'Property Set Up'!$E$77)","v":8359.0823555999996},{"$f":"H73*(1+'Property Set Up'!$E$77)","v":8526.2640027119996},{"$f":"I73*(1+'Property Set Up'!$E$77)","v":8696.7892827662399},{"$f":"J73*(1+'Property Set Up'!$E$77)","v":8870.7250684215651},{"$f":"K73*(1+'Property Set Up'!$E$77)","v":9048.139569789997},{"$f":"L73*(1+'Property Set Up'!$E$77)","v":9229.1023611857963},{"$f":"M73*(1+'Property Set Up'!$E$77)","v":9413.6844084095119},{"$f":"N73*(1+'Property Set Up'!$E$77)","v":9601.9580965777022},{"$f":"O73*(1+'Property Set Up'!$E$77)","v":9793.9972585092564},{"$f":"P73*(1+'Property Set Up'!$E$77)","v":9989.8772036794417},{"$f":"Q73*(1+'Property Set Up'!$E$77)","v":10189.67474775303},{"$f":"R73*(1+'Property Set Up'!$E$77)","v":10393.46824270809},{"$f":"S73*(1+'Property Set Up'!$E$77)","v":10601.337607562251},{"$f":"T73*(1+'Property Set Up'!$E$77)","v":10813.364359713496},{"$f":"U73*(1+'Property Set Up'!$E$77)","v":11029.631646907766},{"$f":"V73*(1+'Property Set Up'!$E$77)","v":11250.224279845923},{"$f":"W73*(1+'Property Set Up'!$E$77)","v":11475.228765442842},{"$f":"X73*(1+'Property Set Up'!$E$77)","v":11704.733340751698},{"$f":"Y73*(1+'Property Set Up'!$E$77)","v":11938.828007566732},{"$f":"Z73*(1+'Property Set Up'!$E$77)","v":12177.604567718066},{"$f":"AA73*(1+'Property Set Up'!$E$77)","v":12421.156659072429},{"$f":"AB73*(1+'Property Set Up'!$E$77)","v":12669.579792253877},{"$f":"AC73*(1+'Property Set Up'!$E$77)","v":12922.971388098955},{"$f":"AD73*(1+'Property Set Up'!$E$77)","v":13181.430815860935},{"$f":"AE73*(1+'Property Set Up'!$E$77)","v":13445.059432178154},{"$f":"AF73*(1+'Property Set Up'!$E$77)","v":13713.960620821717},{"$f":"AG73*(1+'Property Set Up'!$E$77)","v":13988.239833238153},{"$f":"AH73*(1+'Property Set Up'!$E$77)","v":14268.004629902916}]
[null,"Months Left At Short Term Rental Inflation Rate",null,{"$f":"Assumptions!F13*12","v":36},{"$f":"D74-D75","v":24},12,0,-12,-24,-36,-48,-60,-72,-84,-96,-108,-120,-132,{"$f":"R74-R75","v":-144},-157,-171,-186,-202,-219,-237,-256,-276,-297,-319,-342,-366,-391,-417,-444,-472]
[null,"Months in period",null,12,12,12,12,12,12,12,12,12,12,12,12,12,12,12,13,14,15,16,17,18,19,20,21,22,23,24,25,26,27,28,29]
[null,"Rental Inflation Rate In Period",null,{"$f":"IF(D77>0,Assumptions!$F$12,Assumptions!$F$10)","v":0.06},{"$f":"IF(E77>0,Assumptions!$F$12,Assumptions!$F$10)","v":0.06},{"$f":"IF(F77>0,Assumptions!$F$12,Assumptions!$F$10)","v":0.06},{"$f":"IF(G77>0,Assumptions!$F$12,Assumptions!$F$10)","v":4.7E-2},{"$f":"IF(H77>0,Assumptions!$F$12,Assumptions!$F$10)","v":4.7E-2},{"$f":"IF(I77>0,Assumptions!$F$12,Assumptions!$F$10)","v":4.7E-2},{"$f":"IF(J77>0,Assumptions!$F$12,Assumptions!$F$10)","v":4.7E-2},{"$f":"IF(K77>0,Assumptions!$F$12,Assumptions!$F$10)","v":4.7E-2},{"$f":"IF(L77>0,Assumptions!$F$12,Assumptions!$F$10)","v":4.7E-2},{"$f":"IF(M77>0,Assumptions!$F$12,Assumptions!$F$10)","v":4.7E-2},{"$f":"IF(N77>0,Assumptions!$F$12,Assumptions!$F$10)","v":4.7E-2},{"$f":"IF(O77>0,Assumptions!$F$12,Assumptions!$F$10)","v":4.7E-2},{"$f":"IF(P77>0,Assumptions!$F$12,Assumptions!$F$10)","v":4.7E-2},{"$f":"IF(Q77>0,Assumptions!$F$12,Assumptions!$F$10)","v":4.7E-2},{"$f":"IF(R77>0,Assumptions!$F$12,Assumptions!$F$10)","v":4.7E-2},{"$f":"IF(S74>=12,(1+Assumptions!$F12)^(1/Assumptions!$F13)-1,IF(AND(S74<12,S74>0),(1+Assumptions!$F14)^('Projection – Property #3'!S74)*(1+Assumptions!$F11)^(12-'Projection – Property #3'!S74)-1,Assumptions!$F10))","v":4.7E-2},{"$f":"IF(T74>=12,(1+Assumptions!$F12)^(1/Assumptions!$F13)-1,IF(AND(T74<12,T74>0),(1+Assumptions!$F14)^('Projection – Property #3'!T74)*(1+Assumptions!$F11)^(12-'Projection – Property #3'!T74)-1,Assumptions!$F10))","v":4.7E-2},{"$f":"IF(U74>=12,(1+Assumptions!$F12)^(1/Assumptions!$F13)-1,IF(AND(U74<12,U74>0),(1+Assumptions!$F14)^('Projection – Property #3'!U74)*(1+Assumptions!$F11)^(12-'Projection – Property #3'!U74)-1,Assumptions!$F10))","v":4.7E-2},{"$f":"IF(V74>=12,(1+Assumptions!$F12)^(1/Assumptions!$F13)-1,IF(AND(V74<12,V74>0),(1+Assumptions!$F14)^('Projection – Property #3'!V74)*(1+Assumptions!$F11)^(12-'Projection – Property #3'!V74)-1,Assumptions!$F10))","v":4.7E-2},{"$f":"IF(W74>=12,(1+Assumptions!$F12)^(1/Assumptions!$F13)-1,IF(AND(W74<12,W74>0),(1+Assumptions!$F14)^('Projection – Property #3'!W74)*(1+Assumptions!$F11)^(12-'Projection – Property #3'!W74)-1,Assumptions!$F10))","v":4.7E-2},{"$f":"IF(X74>=12,(1+Assumptions!$F12)^(1/Assumptions!$F13)-1,IF(AND(X74<12,X74>0),(1+Assumptions!$F14)^('Projection – Property #3'!X74)*(1+Assumptions!$F11)^(12-'Projection – Property #3'!X74)-1,Assumptions!$F10))","v":4.7E-2},{"$f":"IF(Y74>=12,(1+Assumptions!$F12)^(1/Assumptions!$F13)-1,IF(AND(Y74<12,Y74>0),(1+Assumptions!$F14)^('Projection – Property #3'!Y74)*(1+Assumptions!$F11)^(12-'Projection – Property #3'!Y74)-1,Assumptions!$F10))","v":4.7E-2},{"$f":"IF(Z74>=12,(1+Assumptions!$F12)^(1/Assumptions!$F13)-1,IF(AND(Z74<12,Z74>0),(1+Assumptions!$F14)^('Projection – Property #3'!Z74)*(1+Assumptions!$F11)^(12-'Projection – Property #3'!Z74)-1,Assumptions!$F10))","v":4.7E-2},{"$f":"IF(AA74>=12,(1+Assumptions!$F12)^(1/Assumptions!$F13)-1,IF(AND(AA74<12,AA74>0),(1+Assumptions!$F14)^('Projection – Property #3'!AA74)*(1+Assumptions!$F11)^(12-'Projection – Property #3'!AA74)-1,Assumptions!$F10))","v":4.7E-2},{"$f":"IF(AB74>=12,(1+Assumptions!$F12)^(1/Assumptions!$F13)-1,IF(AND(AB74<12,AB74>0),(1+Assumptions!$F14)^('Projection – Property #3'!AB74)*(1+Assumptions!$F11)^(12-'Projection – Property #3'!AB74)-1,Assumptions!$F10))","v":4.7E-2},{"$f":"IF(AC74>=12,(1+Assumptions!$F12)^(1/Assumptions!$F13)-1,IF(AND(AC74<12,AC74>0),(1+Assumptions!$F14)^('Projection – Property #3'!AC74)*(1+Assumptions!$F11)^(12-'Projection – Property #3'!AC74)-1,Assumptions!$F10))","v":4.7E-2},{"$f":"IF(AD74>=12,(1+Assumptions!$F12)^(1/Assumptions!$F13)-1,IF(AND(AD74<12,AD74>0),(1+Assumptions!$F14)^('Projection – Property #3'!AD74)*(1+Assumptions!$F11)^(12-'Projection – Property #3'!AD74)-1,Assumptions!$F10))","v":4.7E-2},{"$f":"IF(AE74>=12,(1+Assumptions!$F12)^(1/Assumptions!$F13)-1,IF(AND(AE74<12,AE74>0),(1+Assumptions!$F14)^('Projection – Property #3'!AE74)*(1+Assumptions!$F11)^(12-'Projection – Property #3'!AE74)-1,Assumptions!$F10))","v":4.7E-2},{"$f":"IF(AF74>=12,(1+Assumptions!$F12)^(1/Assumptions!$F13)-1,IF(AND(AF74<12,AF74>0),(1+Assumptions!$F14)^('Projection – Property #3'!AF74)*(1+Assumptions!$F11)^(12-'Projection – Property #3'!AF74)-1,Assumptions!$F10))","v":4.7E-2},{"$f":"IF(AG74>=12,(1+Assumptions!$F12)^(1/Assumptions!$F13)-1,IF(AND(AG74<12,AG74>0),(1+Assumptions!$F14)^('Projection – Property #3'!AG74)*(1+Assumptions!$F11)^(12-'Projection – Property #3'!AG74)-1,Assumptions!$F10))","v":4.7E-2},{"$f":"IF(AH74>=12,(1+Assumptions!$F12)^(1/Assumptions!$F13)-1,IF(AND(AH74<12,AH74>0),(1+Assumptions!$F14)^('Projection – Property #3'!AH74)*(1+Assumptions!$F11)^(12-'Projection – Property #3'!AH74)-1,Assumptions!$F10))","v":4.7E-2},{"$f":"IF(AI74>=12,(1+Assumptions!$F12)^(1/Assumptions!$F13)-1,IF(AND(AI74<12,AI74>0),(1+Assumptions!$F14)^('Projection – Property #3'!AI74)*(1+Assumptions!$F11)^(12-'Projection – Property #3'!AI74)-1,Assumptions!$F10))","v":4.7E-2}]
[null,"Years of Above average inflation",null,{"$f":"Assumptions!F13","v":3},{"$f":"MAX(D77-1,0)","v":2},{"$f":"MAX(E77-1,0)","v":1},0,0,0,0,0,0,0,0,0,0,0,0]
[null,"Construction Financing Costs",null,{"$f":"(D68/12)*(D59*'Property Set Up'!$E106)","v":0},{"$f":"(E68/12)*(E59*'Property Set Up'!$E106)","v":0},{"$f":"(F68/12)*(F59*'Property Set Up'!$E106)","v":0},{"$f":"(G68/12)*(G59*'Property Set Up'!$E106)","v":0},{"$f":"(H68/12)*(H59*'Property Set Up'!$E106)","v":0},{"$f":"(I68/12)*(I59*'Property Set Up'!$E106)","v":0},{"$f":"(J68/12)*(J59*'Property Set Up'!$E106)","v":0},{"$f":"(K68/12)*(K59*'Property Set Up'!$E106)","v":0},{"$f":"(L68/12)*(L59*'Property Set Up'!$E106)","v":0},{"$f":"(M68/12)*(M59*'Property Set Up'!$E106)","v":0},{"$f":"(N68/12)*(N59*'Property Set Up'!$E106)","v":0},{"$f":"(O68/12)*(O59*'Property Set Up'!$E106)","v":0},{"$f":"(P68/12)*(P59*'Property Set Up'!$E106)","v":0},{"$f":"(Q68/12)*(Q59*'Property Set Up'!$E106)","v":0},{"$f":"(R68/12)*(R59*'Property Set Up'!$E106)","v":0},{"$f":"(S68/12)*(S59*'Property Set Up'!$E106)","v":0},{"$f":"(T68/12)*(T59*'Property Set Up'!$E106)","v":0},{"$f":"(U68/12)*(U59*'Property Set Up'!$E106)","v":0},{"$f":"(V68/12)*(V59*'Property Set Up'!$E106)","v":0},{"$f":"(W68/12)*(W59*'Property Set Up'!$E106)","v":0},{"$f":"(X68/12)*(X59*'Property Set Up'!$E106)","v":0},{"$f":"(Y68/12)*(Y59*'Property Set Up'!$E106)","v":0},{"$f":"(Z68/12)*(Z59*'Property Set Up'!$E106)","v":0},{"$f":"(AA68/12)*(AA59*'Property Set Up'!$E106)","v":0},{"$f":"(AB68/12)*(AB59*'Property Set Up'!$E106)","v":0},{"$f":"(AC68/12)*(AC59*'Property Set Up'!$E106)","v":0},{"$f":"(AD68/12)*(AD59*'Property Set Up'!$E106)","v":0},{"$f":"(AE68/12)*(AE59*'Property Set Up'!$E106)","v":0},{"$f":"(AF68/12)*(AF59*'Property Set Up'!$E106)","v":0},{"$f":"(AG68/12)*(AG59*'Property Set Up'!$E106)","v":0},{"$f":"(AH68/12)*(AH59*'Property Set Up'!$E106)","v":0},{"$f":"(AI68/12)*(AI59*'Property Set Up'!$E106)","v":0}]
[null,"Operating Financing Costs",null,{"$f":"IFERROR(IF(D45=\"Interest Only\",D40*D59/12,-PMT(D59/12,D46*12,D40,,0))*D69,0)","v":0},157.5,150,135,135,135,135,135,135,135,135,135,135,135,135,135,135,135,135,135,135,135,135,135,135,135,135,135,135,135,135,135]
[]
[]
[null,"HIDDEN INTEREST DEDUCTIBILITY CALCULATIONS"]
[]
[]
[null,"Start Calendar Year",null,{"$f":"DATE(YEAR('Property Set Up'!C6),MONTH('Property Set Up'!C6)+1,1)","v":"2022-05-01"},{"$f":"D86+1","v":"2023-05-01"},"2024-05-01","2025-05-01","2026-05-01","2027-05-01","2028-05-01","2029-05-01","2030-05-01","2031-05-01","2032-05-01","2033-05-01","2034-05-01","2035-05-01","2036-05-01",{"$f":"R86+1","v":"2037-05-01"},"2038-05-01","2039-05-01","2040-05-01","2041-05-01","2042-05-01","2043-05-01","2044-05-01","2045-05-01","2046-05-01","2047-05-01","2048-05-01","2049-05-01","2050-05-01","2051-05-01","2052-05-01","2053-05-01"]
[null,"End Calendar Year",null,{"$f":"DATE(YEAR(D85)+1,MONTH(D85),DAY(D85)-1)","v":"2023-04-30"},"2024-04-30","2025-04-30","2026-04-30","2027-04-30","2028-04-30","2029-04-30","2030-04-30","2031-04-30","2032-04-30","2033-04-30","2034-04-30","2035-04-30","2036-04-30","2037-04-30",{"$f":"DATE(YEAR(S85)+1,MONTH(S85),DAY(S85)-1)","v":"2038-04-30"},"2039-04-30","2040-04-30","2041-04-30","2042-04-30","2043-04-30","2044-04-30","2045-04-30","2046-04-30","2047-04-30","2048-04-30","2049-04-30","2050-04-30","2051-04-30","2052-04-30",{"$f":"DATE(YEAR(AH85)+1,MONTH(AH85),DAY(AH85)-1)","v":"2053-04-30"},{"$f":"DATE(YEAR(AI85)+1,MONTH(AI85),DAY(AI85)-1)","v":"2054-04-30"}]
[]
[null,"Middle Tax Year",null,{"$f":"IF(MONTH(D85)>3,YEAR(D86),YEAR(D85))","v":2023},2024,2025,2026,2027,2028,2029,2030,2031,2032,2033,2034,2035,2036,2037,{"$f":"IF(MONTH(S85)>3,YEAR(S86),YEAR(S85))","v":2038},2039,2040,2041,2042,2043,2044,2045,2046,2047,2048,2049,2050,2051,2052,{"$f":"IF(MONTH(AH85)>3,YEAR(AH86),YEAR(AH85))","v":2053},{"$f":"IF(MONTH(AI85)>3,YEAR(AI86),YEAR(AI85))","v":2054}]
[null,"Months in First Tax Period",null,{"$f":"IF(AND(YEAR(D85)=2021,MONTH(D85)<10),10-MONTH(D85),IF(MONTH(D85)>3,16-MONTH(D85),4-MONTH(D85)))","v":11},{"$f":"IF(MONTH(E85)>3,16-MONTH(E85),4-MONTH(E85))","v":11},11,11,11,11,11,11,11,11,11,11,11,11,11,{"$f":"IF(MONTH(S85)>3,16-MONTH(S85),4-MONTH(S85))","v":11},11,11,11,11,11,11,11,11,11,11,11,11,11,11,{"$f":"IF(MONTH(AH85)>3,16-MONTH(AH85),4-MONTH(AH85))","v":11},{"$f":"IF(MONTH(AI85)>3,16-MONTH(AI85),4-MONTH(AI85))","v":11}]
[null,"Months in 2nd Tax Period",null,{"$f":"12-D89","v":1},{"$f":"12-E89","v":1},1,1,1,1,1,1,1,1,1,1,1,1,1,{"$f":"12-S89","v":1},1,1,1,1,1,1,1,1,1,1,1,1,1,1,{"$f":"12-AH89","v":1},{"$f":"12-AI89","v":1}]
[]
[null,"P+I Starting Period (Months) – First Tax Period",null,{"$f":"IF(D67>=D89,0,1)","v":0},{"$f":"IF(E67>=E89,0,D95+1)","v":1}]
[null,"P+I Ending Period (Months) – First Tax Period",null,{"$f":"IF(D89>=D67,D89-D67,0)","v":0},{"$f":"IF(E89>E67,E89-E67,0)","v":11}]
[null,"P+I Starting Period (Months) – Second Tax Period",null,{"$f":"IF(D67>=12,0,D93+1)","v":0},{"$f":"IF(E90=0,0,IF(E67=12,0,E93+1))","v":12}]
[null,"P+I Ending Period (Months) – Second Tax Period",null,{"$f":"IF(D67>=12,0,12-D67)","v":0},{"$f":"IF(E94=0,0,12-E67)","v":12}]
[]
[null,"Interest in first half of the tax year",null,{"$f":"IF('Property Set Up'!$E38=\"Interest Only\",D105+D106,D105+D107)","v":0},{"$f":"IF('Property Set Up'!$E38=\"Interest Only\",E105+E106,E105+E107)","v":144.375},{"$f":"IF('Property Set Up'!$E38=\"Interest only\",F59*'Property Set Up'!$E28*('Projection – Property #3'!F89/12),IFERROR(-CUMIPMT(F59/12,'Property Set Up'!$E39*12,'Property Set Up'!$E28,F27,F27+F89-1,0),0))","v":137.5},{"$f":"IFERROR(IF(G45=\"Interest Only\",(G40*G59)*G89/12,-CUMIPMT(G59/12,12*G46,G40,1,G89,0)),0)","v":123.75},123.75,123.75,123.75,123.75,123.75,123.75,123.75,123.75,123.75,123.75,123.75,123.75,123.75,123.75,123.75,123.75,123.75,123.75,123.75,123.75,123.75,123.75,123.75,123.75,123.75,123.75,123.75,123.75]
[null,"Interest in second half of the tax year",null,{"$f":"IF('Property Set Up'!$E38=\"Interest Only\",D114+D115,D114+D116)","v":0},{"$f":"IF('Property Set Up'!$E38=\"Interest Only\",E114+E115,E114+E116)","v":13.125},{"$f":"IF('Property Set Up'!$E38=\"Interest only\",F59*'Property Set Up'!$E28*(F90/12),IFERROR(-CUMIPMT(F59/12,'Property Set Up'!$E39*12,'Property Set Up'!$E28,F27+F89,F28,0),0))","v":12.5},{"$f":"IFERROR(IF(G45=\"Interest Only\",(G40*G59)*G90/12,IFERROR(-CUMIPMT(G59/12,12*G46,G40,G89+1,12,0),0)),0)","v":11.25},11.25,11.25,11.25,11.25,11.25,11.25,11.25,11.25,11.25,11.25,11.25,11.25,11.25,11.25,11.25,11.25,11.25,11.25,11.25,11.25,11.25,11.25,11.25,11.25,11.25,11.25,11.25,11.25]
[]
[null,"1st Half Months in Period",null,{"$f":"D89","v":11},{"$f":"E89","v":11}]
[null,"1st Half Construction",null,{"$f":"IF(D103>=1,D100,D100+D103)","v":11},{"$f":"IF(D112>E100,E100,IF(D112=0,0,D112))","v":0}]
[null,"1st Half Operating",null,{"$f":"D100-D101","v":0},{"$f":"E100-E101","v":11}]
[null,"1st Half Residual",null,{"$f":"D67-D100","v":1},{"$f":"D112-E101","v":0}]
[]
[null,"1st Half (Interest Resulting From Construction)",null,{"$f":"'Property Set Up'!$E106*D59*(D101/12)","v":0},{"$f":"'Property Set Up'!$E106*E59*(E101/12)","v":0}]
[null,"1st Half interest if i/o",null,{"$f":"(D102/12)*('Property Set Up'!$E28*D59)","v":0},{"$f":"(E102/12)*('Property Set Up'!$E28*E59)","v":144.375}]
[null,"1st Half interest if P+I",null,{"$f":"IFERROR(-CUMIPMT(D59/12,'Property Set Up'!$E39*12,'Property Set Up'!$E28,D92,D93,0),0)","v":0},{"$f":"IFERROR(-CUMIPMT(E59/12,'Property Set Up'!$E39*12,'Property Set Up'!$E28,E92,E93,0),0)","v":143.53601924483061}]
[]
[null,"2nd Half Months in Period",null,{"$f":"D90","v":1},{"$f":"E90","v":1}]
[null,"2nd Half Construction",null,{"$f":"IF(D103>=D109,D109,IF(D103>0,D103,0))","v":1},{"$f":"E103","v":0}]
[null,"2nd Half Operating",null,{"$f":"D109-D110","v":0},{"$f":"E109-E110","v":1}]
[null,"2nd Half Residual",null,{"$f":"IF(D103-D109<1,0,D103-D109)","v":0},{"$f":"E109-SUM(E110:E111)","v":0}]
[]
[null,"2nd Half (Interest Resulting From Construction)",null,{"$f":"'Property Set Up'!$E106*D59*(D110/12)","v":0},{"$f":"'Property Set Up'!$E106*E59*(E110/12)","v":0}]
[null,"2nd Half interest if i/o",null,{"$f":"(D111/12)*('Property Set Up'!$E28*D59)","v":0},{"$f":"(E111/12)*('Property Set Up'!$E28*E59)","v":13.125}]
[null,"2nd Half interest if P+I",null,{"$f":"IFERROR(-CUMIPMT(D59/12,'Property Set Up'!$E39*12,'Property Set Up'!$E28,D94,D95,0),0)","v":0},{"$f":"IFERROR(-CUMIPMT(E59/12,'Property Set Up'!$E39*12,'Property Set Up'!$E28,E94,E95,0),0)","v":12.955725989228768}]
[]
[null,"Tax Treatment First Tax Year",null,{"$f":"IF('Property Set Up'!E21=\"NB\",100%,IF(AND(YEAR(D85)=2021,MONTH(D85)<10),100%,IF('Property Set Up'!E21=\"Full\",0,IF(D88=2022,100%,IF(D88=2023,75%,IF(D88=2024,50%,IF(D88=2025,25%,0%)))))))","v":1},{"$f":"IF('Property Set Up'!$E21=\"NB\",100%,IF('Property Set Up'!$E21=\"full\",0,IF(E88=2022,100%,IF(E88=2023,75%,IF(E88=2024,50%,IF(E88=2025,25%,0%))))))","v":1},{"$f":"IF('Property Set Up'!$E21=\"NB\",100%,IF('Property Set Up'!$E21=\"full\",0,IF(F88=2022,100%,IF(F88=2023,75%,IF(F88=2024,50%,IF(F88=2025,25%,0%))))))","v":1},{"$f":"IF('Property Set Up'!$E21=\"NB\",100%,IF('Property Set Up'!$E21=\"full\",0,IF(G88=2022,100%,IF(G88=2023,75%,IF(G88=2024,50%,IF(G88=2025,25%,0%))))))","v":1},{"$f":"IF('Property Set Up'!$E21=\"NB\",100%,IF('Property Set Up'!$E21=\"full\",0,IF(H88=2022,100%,IF(H88=2023,75%,IF(H88=2024,50%,IF(H88=2025,25%,0%))))))","v":1},{"$f":"IF('Property Set Up'!$E21=\"NB\",100%,IF('Property Set Up'!$E21=\"full\",0,IF(I88=2022,100%,IF(I88=2023,75%,IF(I88=2024,50%,IF(I88=2025,25%,0%))))))","v":1},{"$f":"IF('Property Set Up'!$E21=\"NB\",100%,IF('Property Set Up'!$E21=\"full\",0,IF(J88=2022,100%,IF(J88=2023,75%,IF(J88=2024,50%,IF(J88=2025,25%,0%))))))","v":1},{"$f":"IF('Property Set Up'!$E21=\"NB\",100%,IF('Property Set Up'!$E21=\"full\",0,IF(K88=2022,100%,IF(K88=2023,75%,IF(K88=2024,50%,IF(K88=2025,25%,0%))))))","v":1},{"$f":"IF('Property Set Up'!$E21=\"NB\",100%,IF('Property Set Up'!$E21=\"full\",0,IF(L88=2022,100%,IF(L88=2023,75%,IF(L88=2024,50%,IF(L88=2025,25%,0%))))))","v":1},{"$f":"IF('Property Set Up'!$E21=\"NB\",100%,IF('Property Set Up'!$E21=\"full\",0,IF(M88=2022,100%,IF(M88=2023,75%,IF(M88=2024,50%,IF(M88=2025,25%,0%))))))","v":1},{"$f":"IF('Property Set Up'!$E21=\"NB\",100%,IF('Property Set Up'!$E21=\"full\",0,IF(N88=2022,100%,IF(N88=2023,75%,IF(N88=2024,50%,IF(N88=2025,25%,0%))))))","v":1},{"$f":"IF('Property Set Up'!$E21=\"NB\",100%,IF('Property Set Up'!$E21=\"full\",0,IF(O88=2022,100%,IF(O88=2023,75%,IF(O88=2024,50%,IF(O88=2025,25%,0%))))))","v":1},{"$f":"IF('Property Set Up'!$E21=\"NB\",100%,IF('Property Set Up'!$E21=\"full\",0,IF(P88=2022,100%,IF(P88=2023,75%,IF(P88=2024,50%,IF(P88=2025,25%,0%))))))","v":1},{"$f":"IF('Property Set Up'!$E21=\"NB\",100%,IF('Property Set Up'!$E21=\"full\",0,IF(Q88=2022,100%,IF(Q88=2023,75%,IF(Q88=2024,50%,IF(Q88=2025,25%,0%))))))","v":1},{"$f":"IF('Property Set Up'!$E21=\"NB\",100%,IF('Property Set Up'!$E21=\"full\",0,IF(R88=2022,100%,IF(R88=2023,75%,IF(R88=2024,50%,IF(R88=2025,25%,0%))))))","v":1},{"$f":"IF('Property Set Up'!$E21=\"NB\",100%,IF('Property Set Up'!$E21=\"full\",0,IF(S88=2022,100%,IF(S88=2023,75%,IF(S88=2024,50%,IF(S88=2025,25%,0%))))))","v":1},{"$f":"IF('Property Set Up'!$E21=\"NB\",100%,IF('Property Set Up'!$E21=\"full\",0,IF(T88=2022,100%,IF(T88=2023,75%,IF(T88=2024,50%,IF(T88=2025,25%,0%))))))","v":1},{"$f":"IF('Property Set Up'!$E21=\"NB\",100%,IF('Property Set Up'!$E21=\"full\",0,IF(U88=2022,100%,IF(U88=2023,75%,IF(U88=2024,50%,IF(U88=2025,25%,0%))))))","v":1},{"$f":"IF('Property Set Up'!$E21=\"NB\",100%,IF('Property Set Up'!$E21=\"full\",0,IF(V88=2022,100%,IF(V88=2023,75%,IF(V88=2024,50%,IF(V88=2025,25%,0%))))))","v":1},{"$f":"IF('Property Set Up'!$E21=\"NB\",100%,IF('Property Set Up'!$E21=\"full\",0,IF(W88=2022,100%,IF(W88=2023,75%,IF(W88=2024,50%,IF(W88=2025,25%,0%))))))","v":1},{"$f":"IF('Property Set Up'!$E21=\"NB\",100%,IF('Property Set Up'!$E21=\"full\",0,IF(X88=2022,100%,IF(X88=2023,75%,IF(X88=2024,50%,IF(X88=2025,25%,0%))))))","v":1},{"$f":"IF('Property Set Up'!$E21=\"NB\",100%,IF('Property Set Up'!$E21=\"full\",0,IF(Y88=2022,100%,IF(Y88=2023,75%,IF(Y88=2024,50%,IF(Y88=2025,25%,0%))))))","v":1},{"$f":"IF('Property Set Up'!$E21=\"NB\",100%,IF('Property Set Up'!$E21=\"full\",0,IF(Z88=2022,100%,IF(Z88=2023,75%,IF(Z88=2024,50%,IF(Z88=2025,25%,0%))))))","v":1},{"$f":"IF('Property Set Up'!$E21=\"NB\",100%,IF('Property Set Up'!$E21=\"full\",0,IF(AA88=2022,100%,IF(AA88=2023,75%,IF(AA88=2024,50%,IF(AA88=2025,25%,0%))))))","v":1},{"$f":"IF('Property Set Up'!$E21=\"NB\",100%,IF('Property Set Up'!$E21=\"full\",0,IF(AB88=2022,100%,IF(AB88=2023,75%,IF(AB88=2024,50%,IF(AB88=2025,25%,0%))))))","v":1},{"$f":"IF('Property Set Up'!$E21=\"NB\",100%,IF('Property Set Up'!$E21=\"full\",0,IF(AC88=2022,100%,IF(AC88=2023,75%,IF(AC88=2024,50%,IF(AC88=2025,25%,0%))))))","v":1},{"$f":"IF('Property Set Up'!$E21=\"NB\",100%,IF('Property Set Up'!$E21=\"full\",0,IF(AD88=2022,100%,IF(AD88=2023,75%,IF(AD88=2024,50%,IF(AD88=2025,25%,0%))))))","v":1},{"$f":"IF('Property Set Up'!$E21=\"NB\",100%,IF('Property Set Up'!$E21=\"full\",0,IF(AE88=2022,100%,IF(AE88=2023,75%,IF(AE88=2024,50%,IF(AE88=2025,25%,0%))))))","v":1},{"$f":"IF('Property Set Up'!$E21=\"NB\",100%,IF('Property Set Up'!$E21=\"full\",0,IF(AF88=2022,100%,IF(AF88=2023,75%,IF(AF88=2024,50%,IF(AF88=2025,25%,0%))))))","v":1},{"$f":"IF('Property Set Up'!$E21=\"NB\",100%,IF('Property Set Up'!$E21=\"full\",0,IF(AG88=2022,100%,IF(AG88=2023,75%,IF(AG88=2024,50%,IF(AG88=2025,25%,0%))))))","v":1},{"$f":"IF('Property Set Up'!$E21=\"NB\",100%,IF('Property Set Up'!$E21=\"full\",0,IF(AH88=2022,100%,IF(AH88=2023,75%,IF(AH88=2024,50%,IF(AH88=2025,25%,0%))))))","v":1},{"$f":"IF('Property Set Up'!$E21=\"NB\",100%,IF('Property Set Up'!$E21=\"full\",0,IF(AI88=2022,100%,IF(AI88=2023,75%,IF(AI88=2024,50%,IF(AI88=2025,25%,0%))))))","v":1}]
[null,"Tax Treatment 2nd Tax Year",null,{"$f":"IF('Property Set Up'!E21=\"NB\",100%,IF('Property Set Up'!E21=\"Full\",0,IF(AND(YEAR(D85)=2021,MONTH(D85)<10),75%,IF(D88=2022,75%,IF(D88=2023,50%,IF(D88=2024,25%,IF(D88=2025,0%,0%)))))))","v":1},{"$f":"IF('Property Set Up'!$E21=\"NB\",100%,IF('Property Set Up'!$E21=\"Full\",0,IF(E88=2022,75%,IF(E88=2023,50%,IF(E88=2024,25%,0)))))","v":1},{"$f":"IF('Property Set Up'!$E21=\"NB\",100%,IF('Property Set Up'!$E21=\"Full\",0,IF(F88=2022,75%,IF(F88=2023,50%,IF(F88=2024,25%,0)))))","v":1},{"$f":"IF('Property Set Up'!$E21=\"NB\",100%,IF('Property Set Up'!$E21=\"Full\",0,IF(G88=2022,75%,IF(G88=2023,50%,IF(G88=2024,25%,0)))))","v":1},{"$f":"IF('Property Set Up'!$E21=\"NB\",100%,IF('Property Set Up'!$E21=\"Full\",0,IF(H88=2022,75%,IF(H88=2023,50%,IF(H88=2024,25%,0)))))","v":1},{"$f":"IF('Property Set Up'!$E21=\"NB\",100%,IF('Property Set Up'!$E21=\"Full\",0,IF(I88=2022,75%,IF(I88=2023,50%,IF(I88=2024,25%,0)))))","v":1},{"$f":"IF('Property Set Up'!$E21=\"NB\",100%,IF('Property Set Up'!$E21=\"Full\",0,IF(J88=2022,75%,IF(J88=2023,50%,IF(J88=2024,25%,0)))))","v":1},{"$f":"IF('Property Set Up'!$E21=\"NB\",100%,IF('Property Set Up'!$E21=\"Full\",0,IF(K88=2022,75%,IF(K88=2023,50%,IF(K88=2024,25%,0)))))","v":1},{"$f":"IF('Property Set Up'!$E21=\"NB\",100%,IF('Property Set Up'!$E21=\"Full\",0,IF(L88=2022,75%,IF(L88=2023,50%,IF(L88=2024,25%,0)))))","v":1},{"$f":"IF('Property Set Up'!$E21=\"NB\",100%,IF('Property Set Up'!$E21=\"Full\",0,IF(M88=2022,75%,IF(M88=2023,50%,IF(M88=2024,25%,0)))))","v":1},{"$f":"IF('Property Set Up'!$E21=\"NB\",100%,IF('Property Set Up'!$E21=\"Full\",0,IF(N88=2022,75%,IF(N88=2023,50%,IF(N88=2024,25%,0)))))","v":1},{"$f":"IF('Property Set Up'!$E21=\"NB\",100%,IF('Property Set Up'!$E21=\"Full\",0,IF(O88=2022,75%,IF(O88=2023,50%,IF(O88=2024,25%,0)))))","v":1},{"$f":"IF('Property Set Up'!$E21=\"NB\",100%,IF('Property Set Up'!$E21=\"Full\",0,IF(P88=2022,75%,IF(P88=2023,50%,IF(P88=2024,25%,0)))))","v":1},{"$f":"IF('Property Set Up'!$E21=\"NB\",100%,IF('Property Set Up'!$E21=\"Full\",0,IF(Q88=2022,75%,IF(Q88=2023,50%,IF(Q88=2024,25%,0)))))","v":1},{"$f":"IF('Property Set Up'!$E21=\"NB\",100%,IF('Property Set Up'!$E21=\"Full\",0,IF(R88=2022,75%,IF(R88=2023,50%,IF(R88=2024,25%,0)))))","v":1},{"$f":"IF('Property Set Up'!$E21=\"NB\",100%,IF('Property Set Up'!$E21=\"Full\",0,IF(S88=2022,75%,IF(S88=2023,50%,IF(S88=2024,25%,0)))))","v":1},{"$f":"IF('Property Set Up'!$E21=\"NB\",100%,IF('Property Set Up'!$E21=\"Full\",0,IF(T88=2022,75%,IF(T88=2023,50%,IF(T88=2024,25%,0)))))","v":1},{"$f":"IF('Property Set Up'!$E21=\"NB\",100%,IF('Property Set Up'!$E21=\"Full\",0,IF(U88=2022,75%,IF(U88=2023,50%,IF(U88=2024,25%,0)))))","v":1},{"$f":"IF('Property Set Up'!$E21=\"NB\",100%,IF('Property Set Up'!$E21=\"Full\",0,IF(V88=2022,75%,IF(V88=2023,50%,IF(V88=2024,25%,0)))))","v":1},{"$f":"IF('Property Set Up'!$E21=\"NB\",100%,IF('Property Set Up'!$E21=\"Full\",0,IF(W88=2022,75%,IF(W88=2023,50%,IF(W88=2024,25%,0)))))","v":1},{"$f":"IF('Property Set Up'!$E21=\"NB\",100%,IF('Property Set Up'!$E21=\"Full\",0,IF(X88=2022,75%,IF(X88=2023,50%,IF(X88=2024,25%,0)))))","v":1},{"$f":"IF('Property Set Up'!$E21=\"NB\",100%,IF('Property Set Up'!$E21=\"Full\",0,IF(Y88=2022,75%,IF(Y88=2023,50%,IF(Y88=2024,25%,0)))))","v":1},{"$f":"IF('Property Set Up'!$E21=\"NB\",100%,IF('Property Set Up'!$E21=\"Full\",0,IF(Z88=2022,75%,IF(Z88=2023,50%,IF(Z88=2024,25%,0)))))","v":1},{"$f":"IF('Property Set Up'!$E21=\"NB\",100%,IF('Property Set Up'!$E21=\"Full\",0,IF(AA88=2022,75%,IF(AA88=2023,50%,IF(AA88=2024,25%,0)))))","v":1},{"$f":"IF('Property Set Up'!$E21=\"NB\",100%,IF('Property Set Up'!$E21=\"Full\",0,IF(AB88=2022,75%,IF(AB88=2023,50%,IF(AB88=2024,25%,0)))))","v":1},{"$f":"IF('Property Set Up'!$E21=\"NB\",100%,IF('Property Set Up'!$E21=\"Full\",0,IF(AC88=2022,75%,IF(AC88=2023,50%,IF(AC88=2024,25%,0)))))","v":1},{"$f":"IF('Property Set Up'!$E21=\"NB\",100%,IF('Property Set Up'!$E21=\"Full\",0,IF(AD88=2022,75%,IF(AD88=2023,50%,IF(AD88=2024,25%,0)))))","v":1},{"$f":"IF('Property Set Up'!$E21=\"NB\",100%,IF('Property Set Up'!$E21=\"Full\",0,IF(AE88=2022,75%,IF(AE88=2023,50%,IF(AE88=2024,25%,0)))))","v":1},{"$f":"IF('Property Set Up'!$E21=\"NB\",100%,IF('Property Set Up'!$E21=\"Full\",0,IF(AF88=2022,75%,IF(AF88=2023,50%,IF(AF88=2024,25%,0)))))","v":1},{"$f":"IF('Property Set Up'!$E21=\"NB\",100%,IF('Property Set Up'!$E21=\"Full\",0,IF(AG88=2022,75%,IF(AG88=2023,50%,IF(AG88=2024,25%,0)))))","v":1},{"$f":"IF('Property Set Up'!$E21=\"NB\",100%,IF('Property Set Up'!$E21=\"Full\",0,IF(AH88=2022,75%,IF(AH88=2023,50%,IF(AH88=2024,25%,0)))))","v":1},{"$f":"IF('Property Set Up'!$E21=\"NB\",100%,IF('Property Set Up'!$E21=\"Full\",0,IF(AI88=2022,75%,IF(AI88=2023,50%,IF(AI88=2024,25%,0)))))","v":1}]
[]
[]
[null,"TAX"]
[]
[]
[null,"Tax Deductible Finance Costs",{"$f":"C56","v":0},{"$f":"(D97*D118)+(D98*D119)","v":0},{"$f":"(E97*E118)+(E98*E119)","v":157.5},150,135,135,{"$f":"(I97*I118)+(I98*I119)","v":135},135,135,135,135,135,135,135,135,135,{"$f":"(S97*S118)+(S98*S119)","v":135},135,135,135,135,135,135,135,135,135,135,135,135,135,135,{"$f":"(AH97*AH118)+(AH98*AH119)","v":135},{"$f":"(AI97*AI118)+(AI98*AI119)","v":135}]
[null,"Tax Deductible Operating Costs",0,{"$f":"D57","v":0},7876.95,8034.4889999999996,8195.1787800000002,8359.0823555999996,8526.2640027119996,8696.7892827662399,8870.7250684215651,9048.139569789997,9229.1023611857963,9413.6844084095119,9601.9580965777022,9793.9972585092564,9989.8772036794417,10189.67474775303,10393.46824270809,10601.337607562251,10813.364359713496,11029.631646907766,11250.224279845923,11475.228765442842,11704.733340751698,11938.828007566732,12177.604567718066,12421.156659072429,12669.579792253877,12922.971388098955,13181.430815860935,13445.059432178154,13713.960620821717,13988.239833238153,14268.004629902916]
[]
[null,"Operating Months",null,{"$f":"IF((12-D67)<0,0,IF((12-D67)>12,12,12-D67))","v":0},{"$f":"IF((12-E67)<0,0,IF((12-E67)>12,12,12-E67))","v":12},{"$f":"IF((12-F67)<0,0,IF((12-F67)>12,12,12-F67))","v":12},12,12,12,12,12,12,12,12,12,12,12,12,{"$f":"IF((12-S67)<0,0,IF((12-S67)>12,12,12-S67))","v":12},12,12,12,12,12,12,12,12,12,12,12,12,12,12,{"$f":"IF((12-AH67)<0,0,IF((12-AH67)>12,12,12-AH67))","v":12},{"$f":"IF((12-AI67)<0,0,IF((12-AI67)>12,12,12-AI67))","v":12}]
[null,"Chattel Value",0,{"$f":"IF(D128=0,0,'Property Set Up'!E91)","v":0},{"$f":"IF(D129>0,D129-D130,IF(E128>0,'Property Set Up'!E91,0))","v":45000},{"$f":"IF(E128=0,'Property Set Up'!E91,E129-E130)","v":35100.000000000015},{"$f":"F129-F130","v":27378.000000000025},21354.840000000029,16656.775200000029,12992.284656000029,10133.982031680027,7904.5059847104249,6165.5146680741345,4809.1014410978269,3751.0991240563067,2925.8573167639206,2282.1687070758589,1780.0915915191708,{"$f":"R129-R130","v":1388.4714413849538},1083.0077242802645,844.74602493860664,658.90189945211353,513.94348157264881,400.87591562666626,312.68321418879981,243.89290706726396,190.23646751246599,148.38444465972356,115.73986683458443,90.277096130975906,70.416134982161239,54.924585286085794,42.841176523146942,33.416117688054626,26.064571796682621]
[null,"Depreciation",0,{"$f":"D129-D129*(1-Assumptions!$F17)^'Projection – Property #3'!D128","v":0},{"$f":"E129-E129*(1-Assumptions!$F17)^'Projection – Property #3'!E128","v":9899.9999999999854},{"$f":"F129-F129*(1-Assumptions!$F17)^'Projection – Property #3'!F128","v":7721.9999999999891},{"$f":"G129-G129*(1-Assumptions!$F17)^'Projection – Property #3'!G128","v":6023.1599999999962},{"$f":"H129-H129*(1-Assumptions!$F17)^'Projection – Property #3'!H128","v":4698.0648000000001},{"$f":"I129-I129*(1-Assumptions!$F17)^'Projection – Property #3'!I128","v":3664.4905440000002},{"$f":"J129-J129*(1-Assumptions!$F17)^'Projection – Property #3'!J128","v":2858.302624320002},{"$f":"K129-K129*(1-Assumptions!$F17)^'Projection – Property #3'!K128","v":2229.4760469696021},{"$f":"L129-L129*(1-Assumptions!$F17)^'Projection – Property #3'!L128","v":1738.9913166362903},{"$f":"M129-M129*(1-Assumptions!$F17)^'Projection – Property #3'!M128","v":1356.4132269763077},{"$f":"N129-N129*(1-Assumptions!$F17)^'Projection – Property #3'!N128","v":1058.0023170415202},{"$f":"O129-O129*(1-Assumptions!$F17)^'Projection – Property #3'!O128","v":825.24180729238606},{"$f":"P129-P129*(1-Assumptions!$F17)^'Projection – Property #3'!P128","v":643.68860968806166},{"$f":"Q129-Q129*(1-Assumptions!$F17)^'Projection – Property #3'!Q128","v":502.07711555668811},{"$f":"R129-R129*(1-Assumptions!$F17)^'Projection – Property #3'!R128","v":391.62015013421706},{"$f":"S129-S129*(1-Assumptions!$F17)^'Projection – Property #3'!S128","v":305.46371710468929},{"$f":"T129-T129*(1-Assumptions!$F17)^'Projection – Property #3'!T128","v":238.26169934165785},{"$f":"U129-U129*(1-Assumptions!$F17)^'Projection – Property #3'!U128","v":185.84412548649311},{"$f":"V129-V129*(1-Assumptions!$F17)^'Projection – Property #3'!V128","v":144.95841787946472},{"$f":"W129-W129*(1-Assumptions!$F17)^'Projection – Property #3'!W128","v":113.06756594598255},{"$f":"X129-X129*(1-Assumptions!$F17)^'Projection – Property #3'!X128","v":88.192701437866447},{"$f":"Y129-Y129*(1-Assumptions!$F17)^'Projection – Property #3'!Y128","v":68.790307121535847},{"$f":"Z129-Z129*(1-Assumptions!$F17)^'Projection – Property #3'!Z128","v":53.65643955479797},{"$f":"AA129-AA129*(1-Assumptions!$F17)^'Projection – Property #3'!AA128","v":41.852022852742436},{"$f":"AB129-AB129*(1-Assumptions!$F17)^'Projection – Property #3'!AB128","v":32.644577825139123},{"$f":"AC129-AC129*(1-Assumptions!$F17)^'Projection – Property #3'!AC128","v":25.462770703608527},{"$f":"AD129-AD129*(1-Assumptions!$F17)^'Projection – Property #3'!AD128","v":19.860961148814667},{"$f":"AE129-AE129*(1-Assumptions!$F17)^'Projection – Property #3'!AE128","v":15.491549696075445},{"$f":"AF129-AF129*(1-Assumptions!$F17)^'Projection – Property #3'!AF128","v":12.083408762938852},{"$f":"AG129-AG129*(1-Assumptions!$F17)^'Projection – Property #3'!AG128","v":9.4250588350923152},{"$f":"AH129-AH129*(1-Assumptions!$F17)^'Projection – Property #3'!AH128","v":7.3515458913720053},{"$f":"AI129-AI129*(1-Assumptions!$F17)^'Projection – Property #3'!AI128","v":5.7342057952701673}]
[]
[null,"Taxable Profit",{"$f":"C55-C125-C126-C130","v":0},0,-17934.449999999986,-15906.488999999989,-14353.338779999996,-13192.1471556,-12325.754546712,-11690.091907086242,-11235.201115391166,-10922.130886426286,-10720.515588162103,-10606.686725451033,-10562.199903870089,-10572.685868197317,-10626.954319236131,-10716.294897887246,-10833.931959812779,-10974.599306903909,-11134.20848519999,-11309.590064787231,-11498.291845791906,-11698.421466880709,-11908.523647873233,-12127.484447121529,-12354.45659057081,-12588.801236897569,-12830.042562957486,-13077.83234924777,-13331.922365557009,-13592.142840941093,-13858.385679656809,-14130.591379129524,-14408.738835698186]
[null,"Tax Losses Carried Forward",{"$f":"IF(C132<0,C132,0)","v":0},{"$f":"IF(D132<0,D132,0)-Assumptions!F15","v":0},{"$f":"IF(E132+D133<0,E132+D133,0)","v":-17934.449999999986},{"$f":"IF(F132+E133<0,F132+E133,0)","v":-33840.938999999977},-48194.277779999975,-61386.424935599978,-73712.179482311971,-85402.271389398215,-96637.472504789388,-107559.60339121567,-118280.11897937777,-128886.8057048288,-139449.00560869888,-150021.6914768962,-160648.64579613233,-171364.94069401958,{"$f":"IF(S132+R133<0,S132+R133,0)","v":-182198.87265383237},-193173.47196073626,-204307.68044593625,-215617.27051072347,-227115.56235651538,-238813.98382339609,-250722.50747126932,-262849.99191839085,-275204.44850896165,-287793.24974585924,-300623.29230881674,-313701.12465806451,-327033.0470236215,-340625.18986456259,-354483.57554421941,-368614.16692334891,-383022.90575904708]
[null,"Tax to Pay",{"$f":"IF(C132<0,0,IFERROR(C132*'Property Set Up'!E93,0))","v":0},{"$f":"IF(D132<0,0,D132*'Property Set Up'!E93)","v":0},{"$f":"IF((D133+E132)>0,(D133+E132)*'Property Set Up'!$E$93,0)","v":0},{"$f":"IF((E133+F132)>0,(E133+F132)*'Property Set Up'!$E$93,0)","v":0},{"$f":"IF((F133+G132)>0,(F133+G132)*'Property Set Up'!$E$93,0)","v":0},{"$f":"IF((G133+H132)>0,(G133+H132)*'Property Set Up'!$E$93,0)","v":0},{"$f":"IF((H133+I132)>0,(H133+I132)*'Property Set Up'!$E$93,0)","v":0},{"$f":"IF((I133+J132)>0,(I133+J132)*'Property Set Up'!$E$93,0)","v":0},{"$f":"IF((J133+K132)>0,(J133+K132)*'Property Set Up'!$E$93,0)","v":0},{"$f":"IF((K133+L132)>0,(K133+L132)*'Property Set Up'!$E$93,0)","v":0},{"$f":"IF((L133+M132)>0,(L133+M132)*'Property Set Up'!$E$93,0)","v":0},{"$f":"IF((M133+N132)>0,(M133+N132)*'Property Set Up'!$E$93,0)","v":0},{"$f":"IF((N133+O132)>0,(N133+O132)*'Property Set Up'!$E$93,0)","v":0},{"$f":"IF((O133+P132)>0,(O133+P132)*'Property Set Up'!$E$93,0)","v":0},{"$f":"IF((P133+Q132)>0,(P133+Q132)*'Property Set Up'!$E$93,0)","v":0},{"$f":"IF((Q133+R132)>0,(Q133+R132)*'Property Set Up'!$E$93,0)","v":0},{"$f":"IF((R133+S132)>0,(R133+S132)*'Property Set Up'!$E$93,0)","v":0},{"$f":"IF((S133+T132)>0,(S133+T132)*'Property Set Up'!$E$93,0)","v":0},{"$f":"IF((T133+U132)>0,(T133+U132)*'Property Set Up'!$E$93,0)","v":0},{"$f":"IF((U133+V132)>0,(U133+V132)*'Property Set Up'!$E$93,0)","v":0},{"$f":"IF((V133+W132)>0,(V133+W132)*'Property Set Up'!$E$93,0)","v":0},{"$f":"IF((W133+X132)>0,(W133+X132)*'Property Set Up'!$E$93,0)","v":0},{"$f":"IF((X133+Y132)>0,(X133+Y132)*'Property Set Up'!$E$93,0)","v":0},{"$f":"IF((Y133+Z132)>0,(Y133+Z132)*'Property Set Up'!$E$93,0)","v":0},{"$f":"IF((Z133+AA132)>0,(Z133+AA132)*'Property Set Up'!$E$93,0)","v":0},{"$f":"IF((AA133+AB132)>0,(AA133+AB132)*'Property Set Up'!$E$93,0)","v":0},{"$f":"IF((AB133+AC132)>0,(AB133+AC132)*'Property Set Up'!$E$93,0)","v":0},{"$f":"IF((AC133+AD132)>0,(AC133+AD132)*'Property Set Up'!$E$93,0)","v":0},{"$f":"IF((AD133+AE132)>0,(AD133+AE132)*'Property Set Up'!$E$93,0)","v":0},{"$f":"IF((AE133+AF132)>0,(AE133+AF132)*'Property Set Up'!$E$93,0)","v":0},{"$f":"IF((AF133+AG132)>0,(AF133+AG132)*'Property Set Up'!$E$93,0)","v":0},{"$f":"IF((AG133+AH132)>0,(AG133+AH132)*'Property Set Up'!$E$93,0)","v":0},{"$f":"IF((AH133+AI132)>0,(AH133+AI132)*'Property Set Up'!$E$93,0)","v":0}]
[]
[]
[null,"POST-TAX CASHFLOW"]
[]
[]
[null,"Post Tax Cashflow",{"$f":"C61-C134","v":0},0,-8034.45,-8184.4889999999996,-8330.1787800000002,-8494.0823555999996,-8661.2640027119996,-8831.7892827662399,-9005.7250684215651,-9183.139569789997,-9364.1023611857963,-9548.6844084095119,-9736.9580965777022,-9928.9972585092564,-10124.877203679442,-10324.67474775303,{"$f":"S61-S134","v":-10528.46824270809},-10736.337607562251,-10948.364359713496,-11164.631646907766,-11385.224279845923,-11610.228765442842,-11839.733340751698,-12073.828007566732,-12312.604567718066,-12556.156659072429,-12804.579792253877,-13057.971388098955,-13316.430815860935,-13580.059432178154,-13848.960620821717,{"$f":"AH61-AH134","v":-14123.239833238153},{"$f":"AI61-AI134","v":-14403.004629902916}]
[null,"Inflation Discounted Post Tax Cashflow",{"$f":"C140","v":0},{"$f":"D140/(1+'Property Set Up'!$E$77)^'Projection – Property #3'!D26","v":0},{"$f":"E140/(1+'Property Set Up'!$E$77)^'Projection – Property #3'!E26","v":-7876.911764705882},{"$f":"F140/(1+'Property Set Up'!$E$77)^'Projection – Property #3'!F26","v":-7866.6753171856972},{"$f":"G140/(1+'Property Set Up'!$E$77)^'Projection – Property #3'!G26","v":-7849.7135151638513},{"$f":"H140/(1+'Property Set Up'!$E$77)^'Projection – Property #3'!H26","v":-7847.2191325135791},{"$f":"I140/(1+'Property Set Up'!$E$77)^'Projection – Property #3'!I26","v":-7844.7736593270383},{"$f":"J140/(1+'Property Set Up'!$E$77)^'Projection – Property #3'!J26","v":-7842.376136595135},{"$f":"K140/(1+'Property Set Up'!$E$77)^'Projection – Property #3'!K26","v":-7840.02562411288},{"$f":"L140/(1+'Property Set Up'!$E$77)^'Projection – Property #3'!L26","v":-7837.7212001106664},{"$f":"M140/(1+'Property Set Up'!$E$77)^'Projection – Property #3'!M26","v":-7835.4619608928097},{"$f":"N140/(1+'Property Set Up'!$E$77)^'Projection – Property #3'!N26","v":-7833.2470204831461},{"$f":"O140/(1+'Property Set Up'!$E$77)^'Projection – Property #3'!O26","v":-7831.0755102775956},{"$f":"P140/(1+'Property Set Up'!$E$77)^'Projection – Property #3'!P26","v":-7828.9465787035242},{"$f":"Q140/(1+'Property Set Up'!$E$77)^'Projection – Property #3'!Q26","v":-7826.8593908858084},{"$f":"R140/(1+'Property Set Up'!$E$77)^'Projection – Property #3'!R26","v":-7824.8131283194189},{"$f":"S140/(1+'Property Set Up'!$E$77)^'Projection – Property #3'!S26","v":-7822.806988548451},{"$f":"T140/(1+'Property Set Up'!$E$77)^'Projection – Property #3'!T26","v":-7820.8401848514213},{"$f":"U140/(1+'Property Set Up'!$E$77)^'Projection – Property #3'!U26","v":-7818.9119459327658},{"$f":"V140/(1+'Property Set Up'!$E$77)^'Projection – Property #3'!V26","v":-7817.0215156203594},{"$f":"W140/(1+'Property Set Up'!$E$77)^'Projection – Property #3'!W26","v":-7815.168152568981},{"$f":"X140/(1+'Property Set Up'!$E$77)^'Projection – Property #3'!X26","v":-7813.3511299695883},{"$f":"Y140/(1+'Property Set Up'!$E$77)^'Projection – Property #3'!Y26","v":-7811.5697352643028},{"$f":"Z140/(1+'Property Set Up'!$E$77)^'Projection – Property #3'!Z26","v":-7809.8232698669626},{"$f":"AA140/(1+'Property Set Up'!$E$77)^'Projection – Property #3'!AA26","v":-7808.1110488891809},{"$f":"AB140/(1+'Property Set Up'!$E$77)^'Projection – Property #3'!AB26","v":-7806.4324008717458},{"$f":"AC140/(1+'Property Set Up'!$E$77)^'Projection – Property #3'!AC26","v":-7804.786667521319},{"$f":"AD140/(1+'Property Set Up'!$E$77)^'Projection – Property #3'!AD26","v":-7803.1732034522738},{"$f":"AE140/(1+'Property Set Up'!$E$77)^'Projection – Property #3'!AE26","v":-7801.5913759336036},{"$f":"AF140/(1+'Property Set Up'!$E$77)^'Projection – Property #3'!AF26","v":-7800.0405646407862},{"$f":"AG140/(1+'Property Set Up'!$E$77)^'Projection – Property #3'!AG26","v":-7798.5201614125372},{"$f":"AH140/(1+'Property Set Up'!$E$77)^'Projection – Property #3'!AH26","v":-7797.0295700122915},{"$f":"AI140/(1+'Property Set Up'!$E$77)^'Projection – Property #3'!AI26","v":-7795.5682058944049}]
[null,"Post Tax Cashflow (Per Week)",{"$f":"C140/52","v":0},{"$f":"D140/52","v":0},{"$f":"E140/52","v":-154.50865384615383},-157.39401923076923,-160.19574576923077,-163.3477376076923,-166.56276928292306,-169.84210159165846,-173.18702054656856,-176.59883788057687,-180.07889156126532,-183.62854631556755,-187.24919416495581,-190.94225497133186,-194.70917699383543,-198.55143745678905,{"$f":"S140/52","v":-202.47054312900173},-206.46803091465867,-210.54546845602877,-214.70445474822628,-218.94662076626776,-223.27363010467005,-227.68717962984036,-232.18900014551406,-236.78085707150129,-241.46455113600825,-246.24191908180532,-251.11483438651837,-256.08520799732565,-261.15498908034908,-266.32616578503303,{"$f":"AH140/52","v":-271.60076602381065},{"$f":"AI140/52","v":-276.98085826736377}]
[null,"Negatively Geared Test For Investment",{"$f":"IF(C141<0,C141,0)","v":0},0,-7876.911764705882,-7866.6753171856972,-7849.7135151638513,-7847.2191325135791,-7844.7736593270383,-7842.376136595135,-7840.02562411288,-7837.7212001106664,-7835.4619608928097,-7833.2470204831461,-7831.0755102775956,-7828.9465787035242,-7826.8593908858084,-7824.8131283194189,{"$f":"IF(S141<0,S141,0)","v":-7822.806988548451},-7820.8401848514213,-7818.9119459327658,-7817.0215156203594,-7815.168152568981,-7813.3511299695883,-7811.5697352643028,-7809.8232698669626,-7808.1110488891809,-7806.4324008717458,-7804.786667521319,-7803.1732034522738,-7801.5913759336036,-7800.0405646407862,-7798.5201614125372,{"$f":"IF(AH141<0,AH141,0)","v":-7797.0295700122915},{"$f":"IF(AI141<0,AI141,0)","v":-7795.5682058944049}]
[null,"Positively Geared Test For Investment",{"$f":"IF(C141>0,C141,0)","v":0},0,0,0,0,0,0,0,0,0,0,0,0,0,0,0,{"$f":"IF(S141>0,S141,0)","v":0},0,0,0,0,0,0,0,0,0,0,0,0,0,0,{"$f":"IF(AH141>0,AH141,0)","v":0},{"$f":"IF(AI141>0,AI141,0)","v":0}]
[null,"Positive Returns After adjusting for risk free rate",{"$f":"IF(C144>0,C140*(1+'Property Set Up'!$D95)^('Projection – Property #3'!$R26-'Projection – Property #3'!C26),0)","v":0},{"$f":"IF(D144>0,D140*(1+'Property Set Up'!$E95)^('Projection – Property #3'!$R26-'Projection – Property #3'!D26),0)","v":0},{"$f":"IF(E144>0,E140*(1+'Property Set Up'!$E95)^('Projection – Property #3'!$R26-'Projection – Property #3'!E26),0)","v":0},{"$f":"IF(F144>0,F140*(1+'Property Set Up'!$E95)^('Projection – Property #3'!$R26-'Projection – Property #3'!F26),0)","v":0},{"$f":"IF(G144>0,G140*(1+'Property Set Up'!$E95)^('Projection – Property #3'!$R26-'Projection – Property #3'!G26),0)","v":0},{"$f":"IF(H144>0,H140*(1+'Property Set Up'!$E95)^('Projection – Property #3'!$R26-'Projection – Property #3'!H26),0)","v":0},{"$f":"IF(I144>0,I140*(1+'Property Set Up'!$E95)^('Projection – Property #3'!$R26-'Projection – Property #3'!I26),0)","v":0},{"$f":"IF(J144>0,J140*(1+'Property Set Up'!$E95)^('Projection – Property #3'!$R26-'Projection – Property #3'!J26),0)","v":0},{"$f":"IF(K144>0,K140*(1+'Property Set Up'!$E95)^('Projection – Property #3'!$R26-'Projection – Property #3'!K26),0)","v":0},{"$f":"IF(L144>0,L140*(1+'Property Set Up'!$E95)^('Projection – Property #3'!$R26-'Projection – Property #3'!L26),0)","v":0},{"$f":"IF(M144>0,M140*(1+'Property Set Up'!$E95)^('Projection – Property #3'!$R26-'Projection – Property #3'!M26),0)","v":0},{"$f":"IF(N144>0,N140*(1+'Property Set Up'!$E95)^('Projection – Property #3'!$R26-'Projection – Property #3'!N26),0)","v":0},{"$f":"IF(O144>0,O140*(1+'Property Set Up'!$E95)^('Projection – Property #3'!$R26-'Projection – Property #3'!O26),0)","v":0},{"$f":"IF(P144>0,P140*(1+'Property Set Up'!$E95)^('Projection – Property #3'!$R26-'Projection – Property #3'!P26),0)","v":0},{"$f":"IF(Q144>0,Q140*(1+'Property Set Up'!$E95)^('Projection – Property #3'!$R26-'Projection – Property #3'!Q26),0)","v":0},{"$f":"IF(R144>0,R140*(1+'Property Set Up'!$E95)^('Projection – Property #3'!$R26-'Projection – Property #3'!R26),0)","v":0},{"$f":"IF(S144>0,S140*(1+'Property Set Up'!$E95)^('Projection – Property #3'!$R26-'Projection – Property #3'!S26),0)","v":0},{"$f":"IF(T144>0,T140*(1+'Property Set Up'!$E95)^('Projection – Property #3'!$R26-'Projection – Property #3'!T26),0)","v":0},{"$f":"IF(U144>0,U140*(1+'Property Set Up'!$E95)^('Projection – Property #3'!$R26-'Projection – Property #3'!U26),0)","v":0},{"$f":"IF(V144>0,V140*(1+'Property Set Up'!$E95)^('Projection – Property #3'!$R26-'Projection – Property #3'!V26),0)","v":0},{"$f":"IF(W144>0,W140*(1+'Property Set Up'!$E95)^('Projection – Property #3'!$R26-'Projection – Property #3'!W26),0)","v":0},{"$f":"IF(X144>0,X140*(1+'Property Set Up'!$E95)^('Projection – Property #3'!$R26-'Projection – Property #3'!X26),0)","v":0},{"$f":"IF(Y144>0,Y140*(1+'Property Set Up'!$E95)^('Projection – Property #3'!$R26-'Projection – Property #3'!Y26),0)","v":0},{"$f":"IF(Z144>0,Z140*(1+'Property Set Up'!$E95)^('Projection – Property #3'!$R26-'Projection – Property #3'!Z26),0)","v":0},{"$f":"IF(AA144>0,AA140*(1+'Property Set Up'!$E95)^('Projection – Property #3'!$R26-'Projection – Property #3'!AA26),0)","v":0},{"$f":"IF(AB144>0,AB140*(1+'Property Set Up'!$E95)^('Projection – Property #3'!$R26-'Projection – Property #3'!AB26),0)","v":0},{"$f":"IF(AC144>0,AC140*(1+'Property Set Up'!$E95)^('Projection – Property #3'!$R26-'Projection – Property #3'!AC26),0)","v":0},{"$f":"IF(AD144>0,AD140*(1+'Property Set Up'!$E95)^('Projection – Property #3'!$R26-'Projection – Property #3'!AD26),0)","v":0},{"$f":"IF(AE144>0,AE140*(1+'Property Set Up'!$E95)^('Projection – Property #3'!$R26-'Projection – Property #3'!AE26),0)","v":0},{"$f":"IF(AF144>0,AF140*(1+'Property Set Up'!$E95)^('Projection – Property #3'!$R26-'Projection – Property #3'!AF26),0)","v":0},{"$f":"IF(AG144>0,AG140*(1+'Property Set Up'!$E95)^('Projection – Property #3'!$R26-'Projection – Property #3'!AG26),0)","v":0},{"$f":"IF(AH144>0,AH140*(1+'Property Set Up'!$E95)^('Projection – Property #3'!$R26-'Projection – Property #3'!AH26),0)","v":0},{"$f":"IF(AI144>0,AI140*(1+'Property Set Up'!$E95)^('Projection – Property #3'!$R26-'Projection – Property #3'!AI26),0)","v":0}]
[null,"Inflation adjusted Positive Returns after risk free rate",{"$f":"C145/(1+'Property Set Up'!$D$77)^'Projection – Property #3'!C26","v":0},{"$f":"D145/(1+'Property Set Up'!$E$77)^'Projection – Property #3'!D26","v":0},{"$f":"E145/(1+'Property Set Up'!$E$77)^'Projection – Property #3'!E26","v":0},{"$f":"F145/(1+'Property Set Up'!$E$77)^'Projection – Property #3'!F26","v":0},{"$f":"G145/(1+'Property Set Up'!$E$77)^'Projection – Property #3'!G26","v":0},{"$f":"H145/(1+'Property Set Up'!$E$77)^'Projection – Property #3'!H26","v":0},{"$f":"I145/(1+'Property Set Up'!$E$77)^'Projection – Property #3'!I26","v":0},{"$f":"J145/(1+'Property Set Up'!$E$77)^'Projection – Property #3'!J26","v":0},{"$f":"K145/(1+'Property Set Up'!$E$77)^'Projection – Property #3'!K26","v":0},{"$f":"L145/(1+'Property Set Up'!$E$77)^'Projection – Property #3'!L26","v":0},{"$f":"M145/(1+'Property Set Up'!$E$77)^'Projection – Property #3'!M26","v":0},{"$f":"N145/(1+'Property Set Up'!$E$77)^'Projection – Property #3'!N26","v":0},{"$f":"O145/(1+'Property Set Up'!$E$77)^'Projection – Property #3'!O26","v":0},{"$f":"P145/(1+'Property Set Up'!$E$77)^'Projection – Property #3'!P26","v":0},{"$f":"Q145/(1+'Property Set Up'!$E$77)^'Projection – Property #3'!Q26","v":0},{"$f":"R145/(1+'Property Set Up'!$E$77)^'Projection – Property #3'!R26","v":0},{"$f":"S145/(1+'Property Set Up'!$E$77)^'Projection – Property #3'!S26","v":0},{"$f":"T145/(1+'Property Set Up'!$E$77)^'Projection – Property #3'!T26","v":0},{"$f":"U145/(1+'Property Set Up'!$E$77)^'Projection – Property #3'!U26","v":0},{"$f":"V145/(1+'Property Set Up'!$E$77)^'Projection – Property #3'!V26","v":0},{"$f":"W145/(1+'Property Set Up'!$E$77)^'Projection – Property #3'!W26","v":0},{"$f":"X145/(1+'Property Set Up'!$E$77)^'Projection – Property #3'!X26","v":0},{"$f":"Y145/(1+'Property Set Up'!$E$77)^'Projection – Property #3'!Y26","v":0},{"$f":"Z145/(1+'Property Set Up'!$E$77)^'Projection – Property #3'!Z26","v":0},{"$f":"AA145/(1+'Property Set Up'!$E$77)^'Projection – Property #3'!AA26","v":0},{"$f":"AB145/(1+'Property Set Up'!$E$77)^'Projection – Property #3'!AB26","v":0},{"$f":"AC145/(1+'Property Set Up'!$E$77)^'Projection – Property #3'!AC26","v":0},{"$f":"AD145/(1+'Property Set Up'!$E$77)^'Projection – Property #3'!AD26","v":0},{"$f":"AE145/(1+'Property Set Up'!$E$77)^'Projection – Property #3'!AE26","v":0},{"$f":"AF145/(1+'Property Set Up'!$E$77)^'Projection – Property #3'!AF26","v":0},{"$f":"AG145/(1+'Property Set Up'!$E$77)^'Projection – Property #3'!AG26","v":0},{"$f":"AH145/(1+'Property Set Up'!$E$77)^'Projection – Property #3'!AH26","v":0},{"$f":"AI145/(1+'Property Set Up'!$E$77)^'Projection – Property #3'!AI26","v":0}]
[null,"Uninflation Adjusted Cululative Cashflow",null,{"$f":"IF(C147>0,(C147*(1+Assumptions!$F19)+'Projection – Property #3'!D140),(C147+'Projection – Property #3'!D140))","v":0},{"$f":"IF(D147>0,(D147*(1+Assumptions!$F19)+'Projection – Property #3'!E140),(D147+'Projection – Property #3'!E140))","v":-8034.45},{"$f":"IF(E147>0,(E147*(1+Assumptions!$F19)+'Projection – Property #3'!F140),(E147+'Projection – Property #3'!F140))","v":-16218.938999999998},{"$f":"IF(F147>0,(F147*(1+Assumptions!$F19)+'Projection – Property #3'!G140),(F147+'Projection – Property #3'!G140))","v":-24549.11778},{"$f":"IF(G147>0,(G147*(1+Assumptions!$F19)+'Projection – Property #3'!H140),(G147+'Projection – Property #3'!H140))","v":-33043.200135599996},{"$f":"IF(H147>0,(H147*(1+Assumptions!$F19)+'Projection – Property #3'!I140),(H147+'Projection – Property #3'!I140))","v":-41704.464138311996},{"$f":"IF(I147>0,(I147*(1+Assumptions!$F19)+'Projection – Property #3'!J140),(I147+'Projection – Property #3'!J140))","v":-50536.253421078232},{"$f":"IF(J147>0,(J147*(1+Assumptions!$F19)+'Projection – Property #3'!K140),(J147+'Projection – Property #3'!K140))","v":-59541.978489499801},{"$f":"IF(K147>0,(K147*(1+Assumptions!$F19)+'Projection – Property #3'!L140),(K147+'Projection – Property #3'!L140))","v":-68725.118059289802},{"$f":"IF(L147>0,(L147*(1+Assumptions!$F19)+'Projection – Property #3'!M140),(L147+'Projection – Property #3'!M140))","v":-78089.220420475598},{"$f":"IF(M147>0,(M147*(1+Assumptions!$F19)+'Projection – Property #3'!N140),(M147+'Projection – Property #3'!N140))","v":-87637.904828885105},{"$f":"IF(N147>0,(N147*(1+Assumptions!$F19)+'Projection – Property #3'!O140),(N147+'Projection – Property #3'!O140))","v":-97374.862925462803},{"$f":"IF(O147>0,(O147*(1+Assumptions!$F19)+'Projection – Property #3'!P140),(O147+'Projection – Property #3'!P140))","v":-107303.86018397206},{"$f":"IF(P147>0,(P147*(1+Assumptions!$F19)+'Projection – Property #3'!Q140),(P147+'Projection – Property #3'!Q140))","v":-117428.7373876515},{"$f":"IF(Q147>0,(Q147*(1+Assumptions!$F19)+'Projection – Property #3'!R140),(Q147+'Projection – Property #3'!R140))","v":-127753.41213540453},{"$f":"IF(R147>0,(R147*(1+Assumptions!$F19)+'Projection – Property #3'!S140),(R147+'Projection – Property #3'!S140))","v":-138281.88037811263},{"$f":"IF(S147>0,(S147*(1+Assumptions!$F19)+'Projection – Property #3'!T140),(S147+'Projection – Property #3'!T140))","v":-149018.21798567488},{"$f":"IF(T147>0,(T147*(1+Assumptions!$F19)+'Projection – Property #3'!U140),(T147+'Projection – Property #3'!U140))","v":-159966.58234538839},{"$f":"IF(U147>0,(U147*(1+Assumptions!$F19)+'Projection – Property #3'!V140),(U147+'Projection – Property #3'!V140))","v":-171131.21399229617},{"$f":"IF(V147>0,(V147*(1+Assumptions!$F19)+'Projection – Property #3'!W140),(V147+'Projection – Property #3'!W140))","v":-182516.43827214208},{"$f":"IF(W147>0,(W147*(1+Assumptions!$F19)+'Projection – Property #3'!X140),(W147+'Projection – Property #3'!X140))","v":-194126.66703758494},{"$f":"IF(X147>0,(X147*(1+Assumptions!$F19)+'Projection – Property #3'!Y140),(X147+'Projection – Property #3'!Y140))","v":-205966.40037833664},{"$f":"IF(Y147>0,(Y147*(1+Assumptions!$F19)+'Projection – Property #3'!Z140),(Y147+'Projection – Property #3'!Z140))","v":-218040.22838590338},{"$f":"IF(Z147>0,(Z147*(1+Assumptions!$F19)+'Projection – Property #3'!AA140),(Z147+'Projection – Property #3'!AA140))","v":-230352.83295362146},{"$f":"IF(AA147>0,(AA147*(1+Assumptions!$F19)+'Projection – Property #3'!AB140),(AA147+'Projection – Property #3'!AB140))","v":-242908.9896126939},{"$f":"IF(AB147>0,(AB147*(1+Assumptions!$F19)+'Projection – Property #3'!AC140),(AB147+'Projection – Property #3'!AC140))","v":-255713.56940494778},{"$f":"IF(AC147>0,(AC147*(1+Assumptions!$F19)+'Projection – Property #3'!AD140),(AC147+'Projection – Property #3'!AD140))","v":-268771.5407930467},{"$f":"IF(AD147>0,(AD147*(1+Assumptions!$F19)+'Projection – Property #3'!AE140),(AD147+'Projection – Property #3'!AE140))","v":-282087.97160890762},{"$f":"IF(AE147>0,(AE147*(1+Assumptions!$F19)+'Projection – Property #3'!AF140),(AE147+'Projection – Property #3'!AF140))","v":-295668.03104108578},{"$f":"IF(AF147>0,(AF147*(1+Assumptions!$F19)+'Projection – Property #3'!AG140),(AF147+'Projection – Property #3'!AG140))","v":-309516.99166190752},{"$f":"IF(AG147>0,(AG147*(1+Assumptions!$F19)+'Projection – Property #3'!AH140),(AG147+'Projection – Property #3'!AH140))","v":-323640.23149514565},{"$f":"IF(AH147>0,(AH147*(1+Assumptions!$F19)+'Projection – Property #3'!AI140),(AH147+'Projection – Property #3'!AI140))","v":-338043.23612504854}]
[null,"Inflation Adjusted Cululative Cashflow",null,{"$f":"D147/(1+Assumptions!$F9)^'Projection – Property #3'!D26","v":0},{"$f":"E147/(1+Assumptions!$F9)^'Projection – Property #3'!E26","v":-7876.911764705882},{"$f":"F147/(1+Assumptions!$F9)^'Projection – Property #3'!F26","v":-15589.137831603228},{"$f":"G147/(1+Assumptions!$F9)^'Projection – Property #3'!G26","v":-23133.181977519962},{"$f":"H147/(1+Assumptions!$F9)^'Projection – Property #3'!H26","v":-30526.80930655275},{"$f":"I147/(1+Assumptions!$F9)^'Projection – Property #3'!I26","v":-37773.018077516012},{"$f":"J147/(1+Assumptions!$F9)^'Projection – Property #3'!J26","v":-44874.746800826513},{"$f":"K147/(1+Assumptions!$F9)^'Projection – Property #3'!K26","v":-51834.875428844767},{"$f":"L147/(1+Assumptions!$F9)^'Projection – Property #3'!L26","v":-58656.226522507495},{"$f":"M147/(1+Assumptions!$F9)^'Projection – Property #3'!M26","v":-65341.56639472369},{"$f":"N147/(1+Assumptions!$F9)^'Projection – Property #3'!N26","v":-71893.606230996564},{"$f":"O147/(1+Assumptions!$F9)^'Projection – Property #3'!O26","v":-78315.003187725219},{"$f":"P147/(1+Assumptions!$F9)^'Projection – Property #3'!P26","v":-84608.361468630188},{"$f":"Q147/(1+Assumptions!$F9)^'Projection – Property #3'!Q26","v":-90776.233379738944},{"$f":"R147/(1+Assumptions!$F9)^'Projection – Property #3'!R26","v":-96821.120363357593},{"$f":"S147/(1+Assumptions!$F9)^'Projection – Property #3'!S26","v":-102745.47401144808},{"$f":"T147/(1+Assumptions!$F9)^'Projection – Property #3'!T26","v":-108551.69705882011},{"$f":"U147/(1+Assumptions!$F9)^'Projection – Property #3'!U26","v":-114242.14435654072},{"$f":"V147/(1+Assumptions!$F9)^'Projection – Property #3'!V26","v":-119819.12382595442},{"$f":"W147/(1+Assumptions!$F9)^'Projection – Property #3'!W26","v":-125284.89739370075},{"$f":"X147/(1+Assumptions!$F9)^'Projection – Property #3'!X26","v":-130641.68190810758},{"$f":"Y147/(1+Assumptions!$F9)^'Projection – Property #3'!Y26","v":-135891.65003733058},{"$f":"Z147/(1+Assumptions!$F9)^'Projection – Property #3'!Z26","v":-141036.93114960281},{"$f":"AA147/(1+Assumptions!$F9)^'Projection – Property #3'!AA26","v":-146079.61217595081},{"$f":"AB147/(1+Assumptions!$F9)^'Projection – Property #3'!AB26","v":-151021.73845572548},{"$f":"AC147/(1+Assumptions!$F9)^'Projection – Property #3'!AC26","v":-155865.3145652914},{"$f":"AD147/(1+Assumptions!$F9)^'Projection – Property #3'!AD26","v":-160612.30513020849},{"$f":"AE147/(1+Assumptions!$F9)^'Projection – Property #3'!AE26","v":-165264.63562123608},{"$f":"AF147/(1+Assumptions!$F9)^'Projection – Property #3'!AF26","v":-169824.19313448004},{"$f":"AG147/(1+Assumptions!$F9)^'Projection – Property #3'!AG26","v":-174292.82715600086},{"$f":"AH147/(1+Assumptions!$F9)^'Projection – Property #3'!AH26","v":-178672.35031118957},{"$f":"AI147/(1+Assumptions!$F9)^'Projection – Property #3'!AI26","v":-182964.53909921754}]
[null,"In Range For Minimum Cashflow Calculation?",null,{"$f":"IF('My Wealth Plan Summary'!$C8-'Projection – Property #3'!D32<0,\"No\",\"Yes\")","v":"Yes"},{"$f":"IF('My Wealth Plan Summary'!$C8-'Projection – Property #3'!E32<0,\"No\",\"Yes\")","v":"Yes"},{"$f":"IF('My Wealth Plan Summary'!$C8-'Projection – Property #3'!F32<0,\"No\",\"Yes\")","v":"Yes"},{"$f":"IF('My Wealth Plan Summary'!$C8-'Projection – Property #3'!G32<0,\"No\",\"Yes\")","v":"Yes"},{"$f":"IF('My Wealth Plan Summary'!$C8-'Projection – Property #3'!H32<0,\"No\",\"Yes\")","v":"Yes"},{"$f":"IF('My Wealth Plan Summary'!$C8-'Projection – Property #3'!I32<0,\"No\",\"Yes\")","v":"Yes"},{"$f":"IF('My Wealth Plan Summary'!$C8-'Projection – Property #3'!J32<0,\"No\",\"Yes\")","v":"Yes"},{"$f":"IF('My Wealth Plan Summary'!$C8-'Projection – Property #3'!K32<0,\"No\",\"Yes\")","v":"Yes"},{"$f":"IF('My Wealth Plan Summary'!$C8-'Projection – Property #3'!L32<0,\"No\",\"Yes\")","v":"Yes"},{"$f":"IF('My Wealth Plan Summary'!$C8-'Projection – Property #3'!M32<0,\"No\",\"Yes\")","v":"Yes"},{"$f":"IF('My Wealth Plan Summary'!$C8-'Projection – Property #3'!N32<0,\"No\",\"Yes\")","v":"Yes"},{"$f":"IF('My Wealth Plan Summary'!$C8-'Projection – Property #3'!O32<0,\"No\",\"Yes\")","v":"Yes"},{"$f":"IF('My Wealth Plan Summary'!$C8-'Projection – Property #3'!P32<0,\"No\",\"Yes\")","v":"Yes"},{"$f":"IF('My Wealth Plan Summary'!$C8-'Projection – Property #3'!Q32<0,\"No\",\"Yes\")","v":"Yes"},{"$f":"IF('My Wealth Plan Summary'!$C8-'Projection – Property #3'!R32<0,\"No\",\"Yes\")","v":"Yes"},{"$f":"IF('My Wealth Plan Summary'!$C8-'Projection – Property #3'!S32<0,\"No\",\"Yes\")","v":"Yes"},{"$f":"IF('My Wealth Plan Summary'!$C8-'Projection – Property #3'!T32<0,\"No\",\"Yes\")","v":"Yes"},{"$f":"IF('My Wealth Plan Summary'!$C8-'Projection – Property #3'!U32<0,\"No\",\"Yes\")","v":"Yes"},{"$f":"IF('My Wealth Plan Summary'!$C8-'Projection – Property #3'!V32<0,\"No\",\"Yes\")","v":"Yes"},{"$f":"IF('My Wealth Plan Summary'!$C8-'Projection – Property #3'!W32<0,\"No\",\"Yes\")","v":"Yes"},{"$f":"IF('My Wealth Plan Summary'!$C8-'Projection – Property #3'!X32<0,\"No\",\"Yes\")","v":"No"},{"$f":"IF('My Wealth Plan Summary'!$C8-'Projection – Property #3'!Y32<0,\"No\",\"Yes\")","v":"No"},{"$f":"IF('My Wealth Plan Summary'!$C8-'Projection – Property #3'!Z32<0,\"No\",\"Yes\")","v":"No"},{"$f":"IF('My Wealth Plan Summary'!$C8-'Projection – Property #3'!AA32<0,\"No\",\"Yes\")","v":"No"},{"$f":"IF('My Wealth Plan Summary'!$C8-'Projection – Property #3'!AB32<0,\"No\",\"Yes\")","v":"No"},{"$f":"IF('My Wealth Plan Summary'!$C8-'Projection – Property #3'!AC32<0,\"No\",\"Yes\")","v":"No"},{"$f":"IF('My Wealth Plan Summary'!$C8-'Projection – Property #3'!AD32<0,\"No\",\"Yes\")","v":"No"},{"$f":"IF('My Wealth Plan Summary'!$C8-'Projection – Property #3'!AE32<0,\"No\",\"Yes\")","v":"No"},{"$f":"IF('My Wealth Plan Summary'!$C8-'Projection – Property #3'!AF32<0,\"No\",\"Yes\")","v":"No"},{"$f":"IF('My Wealth Plan Summary'!$C8-'Projection – Property #3'!AG32<0,\"No\",\"Yes\")","v":"No"},{"$f":"IF('My Wealth Plan Summary'!$C8-'Projection – Property #3'!AH32<0,\"No\",\"Yes\")","v":"No"},{"$f":"IF('My Wealth Plan Summary'!$C8-'Projection – Property #3'!AI32<0,\"No\",\"Yes\")","v":"No"}]
[null,"Minimum Cashflow Position",null,{"$f":"IF(D149=\"Yes\",D148,0)","v":0},{"$f":"IF(E149=\"Yes\",E148,0)","v":-7876.911764705882},-15589.137831603228,-23133.181977519962,-30526.80930655275,-37773.018077516012,-44874.746800826513,-51834.875428844767,-58656.226522507495,-65341.56639472369,-71893.606230996564,-78315.003187725219,-84608.361468630188,-90776.233379738944,-96821.120363357593,{"$f":"IF(S149=\"Yes\",S148,0)","v":-102745.47401144808},-108551.69705882011,-114242.14435654072,-119819.12382595442,-125284.89739370075,0,0,0,0,0,0,0,0,0,0,0,0]
[null,"Net Position (Equity + Cashflow)",null,{"$f":"D147+E39-E40","v":{"$error":"#VALUE!"}},{"$error":"#VALUE!"},{"$error":"#VALUE!"},{"$error":"#VALUE!"},{"$error":"#VALUE!"},{"$error":"#VALUE!"},{"$error":"#VALUE!"},{"$error":"#VALUE!"},{"$error":"#VALUE!"},{"$error":"#VALUE!"},{"$error":"#VALUE!"},{"$error":"#VALUE!"},{"$error":"#VALUE!"},{"$error":"#VALUE!"},{"$error":"#VALUE!"},{"$error":"#VALUE!"},{"$error":"#VALUE!"},{"$error":"#VALUE!"},{"$error":"#VALUE!"},{"$error":"#VALUE!"},{"$error":"#VALUE!"},{"$error":"#VALUE!"},{"$error":"#VALUE!"},{"$error":"#VALUE!"},{"$error":"#VALUE!"},{"$error":"#VALUE!"},{"$error":"#VALUE!"},{"$error":"#VALUE!"},{"$error":"#VALUE!"},{"$error":"#VALUE!"},{"$error":"#VALUE!"},-338043.23612504854]
[null,"Inflation Adjusted Post Tax Cashflow","Max Position",{"$f":"MATCH(MAX(C141:R141),C141:R141,0)","v":1},"Min Position",{"$f":"MATCH(MIN(C141:R141),C141:R141,0)","v":3},"Max/Min Bigger",{"$f":"IF(ABS(MIN(C141:R141))>ABS(MAX(C141:R141)),\"Min\",\"Max\")","v":"Min"},"Cumulative","Max Position",{"$f":"MATCH(MAX(C148:R148),C148:R148,0)","v":2},"Min Position",{"$f":"MATCH(MIN(C148:R148),C148:R148,0)","v":16},"Ratio",{"$f":"IF(H152=\"Max\",INDEX(C141:R141,D152)/INDEX(C148:R148,K152),INDEX(C141:R141,F152)/INDEX(C148:R148,M152))","v":8.1355304866797803E-2},"Secondary",{"$f":"INDEX(C141:R141,F152)/O152","v":-96821.120363357593}]
[null,"Inflation Adjusted Gross Return",null,{"$f":"((MAX(0,D140)+(D40-E40)+(E39-D39))/(1+Assumptions!$F$9)^'Projection – Property #3'!D26)/52","v":{"$error":"#VALUE!"}},{"$f":"((MAX(0,E140)+(E40-F40)+(F39-E39))/(1+Assumptions!$F$9)^'Projection – Property #3'!E26)/52","v":{"$error":"#VALUE!"}},{"$f":"((MAX(0,F140)+(F40-G40)+(G39-F39))/(1+Assumptions!$F$9)^'Projection – Property #3'!F26)/52","v":{"$error":"#VALUE!"}},{"$f":"((MAX(0,G140)+(G40-H40)+(H39-G39))/(1+Assumptions!$F$9)^'Projection – Property #3'!G26)/52","v":{"$error":"#VALUE!"}},{"$f":"((MAX(0,H140)+(H40-I40)+(I39-H39))/(1+Assumptions!$F$9)^'Projection – Property #3'!H26)/52","v":{"$error":"#VALUE!"}},{"$f":"((MAX(0,I140)+(I40-J40)+(J39-I39))/(1+Assumptions!$F$9)^'Projection – Property #3'!I26)/52","v":{"$error":"#VALUE!"}},{"$f":"((MAX(0,J140)+(J40-K40)+(K39-J39))/(1+Assumptions!$F$9)^'Projection – Property #3'!J26)/52","v":{"$error":"#VALUE!"}},{"$f":"((MAX(0,K140)+(K40-L40)+(L39-K39))/(1+Assumptions!$F$9)^'Projection – Property #3'!K26)/52","v":{"$error":"#VALUE!"}},{"$f":"((MAX(0,L140)+(L40-M40)+(M39-L39))/(1+Assumptions!$F$9)^'Projection – Property #3'!L26)/52","v":{"$error":"#VALUE!"}},{"$f":"((MAX(0,M140)+(M40-N40)+(N39-M39))/(1+Assumptions!$F$9)^'Projection – Property #3'!M26)/52","v":{"$error":"#VALUE!"}},{"$f":"((MAX(0,N140)+(N40-O40)+(O39-N39))/(1+Assumptions!$F$9)^'Projection – Property #3'!N26)/52","v":{"$error":"#VALUE!"}},{"$f":"((MAX(0,O140)+(O40-P40)+(P39-O39))/(1+Assumptions!$F$9)^'Projection – Property #3'!O26)/52","v":{"$error":"#VALUE!"}},{"$f":"((MAX(0,P140)+(P40-Q40)+(Q39-P39))/(1+Assumptions!$F$9)^'Projection – Property #3'!P26)/52","v":{"$error":"#VALUE!"}},{"$f":"((MAX(0,Q140)+(Q40-R40)+(R39-Q39))/(1+Assumptions!$F$9)^'Projection – Property #3'!Q26)/52","v":{"$error":"#VALUE!"}},{"$f":"((MAX(0,R140)+(R40-S40)+(S39-R39))/(1+Assumptions!$F$9)^'Projection – Property #3'!R26)/52","v":{"$error":"#VALUE!"}}]
[null,"Inflation adjusted input per week",null,{"$f":"MAX(-D142,0)","v":0},{"$f":"MAX(-E142,0)","v":154.50865384615383},157.39401923076923,160.19574576923077,163.3477376076923,166.56276928292306,169.84210159165846,173.18702054656856,176.59883788057687,180.07889156126532,183.62854631556755,187.24919416495581,190.94225497133186,194.70917699383543,198.55143745678905]
[]
[]
[]
[null,"Hidden Values"]
[null,"Name of 1st Chart",null,{"$f":"CONCATENATE('Property Set Up'!E12,\" Cashflow\")","v":"Property #3 Cashflow"}]
[null,"Name of 2nd Chart",null,{"$f":"CONCATENATE('Property Set Up'!E12,\" Return vs Cash Input\")","v":"Property #3 Return vs Cash Input"}]
[null,"Name of 3rd Chart",null,{"$f":"CONCATENATE('Property Set Up'!E12,\" Net Equity (Including Cashflow)\")","v":"Property #3 Net Equity (Including Cashflow)"}]
[null,"Name of 4th Chart",null,{"$f":"CONCATENATE('Property Set Up'!E12,\" Cumulative Cashflow\")","v":"Property #3 Cumulative Cashflow"}]
[]
[null,"REVOLVING CREDIT"]
[]
[]
[null,"Top Up Amount Per week"]
[null,"Investor Top Up ",null,{"$f":"D167*52","v":0},{"$f":"D168","v":0},{"$f":"E168","v":0},0,0,0,0,0,0,0,0,0,0,0,0]
[null,"Investment Cashflow Net of Investor Contribution",null,{"$f":"D140+D168","v":0},{"$f":"E140+E168","v":-8034.45},-8184.4889999999996,-8330.1787800000002,-8494.0823555999996,-8661.2640027119996,-8831.7892827662399,-9005.7250684215651,-9183.139569789997,-9364.1023611857963,-9548.6844084095119,-9736.9580965777022,-9928.9972585092564,-10124.877203679442,-10324.67474775303,{"$f":"S141+S168","v":-7822.806988548451},-7820.8401848514213,-7818.9119459327658,-7817.0215156203594,-7815.168152568981,-7813.3511299695883,-7811.5697352643028,-7809.8232698669626,-7808.1110488891809,-7806.4324008717458,-7804.786667521319,-7803.1732034522738,-7801.5913759336036,-7800.0405646407862,-7798.5201614125372,-7797.0295700122915,-7795.5682058944049]
[null,"Revolving Credit Balance",null,{"$f":"D169","v":0},{"$f":"D170+E169-IF((D170+E169)<0,500,0)","v":-8534.4500000000007},-17218.938999999998,-26049.11778,-35043.200135599996,-44204.464138311996,-53536.253421078232,-63041.978489499801,-72725.118059289802,-82589.220420475598,-92637.904828885105,-102874.8629254628,-113303.86018397206,-123928.7373876515,-134753.41213540453,{"$f":"R170+S169","v":-142576.21912395299},{"$f":"S170+T169","v":-150397.05930880443},-158215.9712547372,-166032.99277035755,-173848.16092292653,-181661.51205289611,-189473.0817881604,-197282.90505802736,-205091.01610691653,-212897.44850778827,-220702.23517530959,-228505.40837876187,-236306.99975469548,-244107.04031933626,-251905.5604807488,-259702.59005076109,-267498.1582566555]

{"sheet":"Property vs Alternatives","index":7,"n_rows":89,"n_cols":17,"rows_kept":89,"cut":false,"hidden":true,"merged":[]}
[]
["Property #1","Growth Rate",1,2,3,4,5,6,7,8,9,10,11,12,13,14,15]
["Annual Top-up","N/A",{"$f":"-MIN(0,'Projection – Property #1'!D140)","v":2790},{"$f":"-MIN(0,'Projection – Property #1'!E140)","v":15187.331250000003},{"$f":"-MIN(0,'Projection – Property #1'!F140)","v":12288.023125},{"$f":"-MIN(0,'Projection – Property #1'!G140)","v":7744.8945524999981},{"$f":"-MIN(0,'Projection – Property #1'!H140)","v":6587.181339007504},{"$f":"-MIN(0,'Projection – Property #1'!I140)","v":5370.9740393316533},{"$f":"-MIN(0,'Projection – Property #1'!J140)","v":4093.4418001188606},{"$f":"-MIN(0,'Projection – Property #1'!K140)","v":2751.6190852818399},{"$f":"-MIN(0,'Projection – Property #1'!L140)","v":1342.3993132586256},{"$f":"-MIN(0,'Projection – Property #1'!M140)","v":0},{"$f":"-MIN(0,'Projection – Property #1'!N140)","v":0},{"$f":"-MIN(0,'Projection – Property #1'!O140)","v":0},{"$f":"-MIN(0,'Projection – Property #1'!P140)","v":0},{"$f":"-MIN(0,'Projection – Property #1'!Q140)","v":0},{"$f":"-MIN(0,'Projection – Property #1'!R140)","v":0}]
["Weekly Top-Up","N/A",{"$f":"C3/52","v":53.653846153846153},{"$f":"D3/52","v":292.06406250000003},236.30813701923077,148.94027985576921,126.67656421168277,103.28796229483949,78.720034617670393,52.915751640035381,25.815371408819722,0,0,0,0,0,0]
[]
["Shares – Annual Amount",null,{"$f":"-FV($B7/52,52,C$4,0,0)+'Property Set Up'!$C$26*(1+'Property vs Alternatives'!B7)","v":2895.1238308621141},{"$f":"-FV($B7/52,52,D$4,0,0)","v":15759.571551638675},{"$f":"-FV($B7/52,52,E$4,0,0)","v":12751.020997624461},8036.7128266870659,6835.378377337217,5573.3458552726952,4247.6777440040223,2855.2967696252567,1392.9792983326104,0,0,0,0,0,0]
["Shares – Running Total (End of Year)",{"$f":"Assumptions!$D$46","v":7.4999999999999997E-2},{"$f":"C6","v":2895.1238308621141},{"$f":"SUM(C7)*(1+$B7)+D6","v":18871.829669815448},{"$f":"SUM(D7)*(1+$B7)+E6","v":33038.237892676065},43552.818561313834,53654.658330749589,63252.103560828502,72243.689071894652,80517.262521912009,87949.03650938801,94545.214247592114,101636.10531616151,109258.81321487362,117453.22420598913,126262.2160214383,135731.88222304618]
["Shares Inflation Adjusted",{"$f":"Assumptions!$D$9","v":0.02},{"$f":"C7/(1+$B8)^(C$2-1)","v":2895.1238308621141},{"$f":"D7/(1+$B8)^(D$2-1)","v":18501.793793936715},31755.322849554079,41040.793662801108,49568.610683878418,57289.378981594906,64150.328439399789,70095.122442579115,75063.655816210245,79111.205884731389,83377.006202045333,87872.825163920337,92611.065736484641,97604.799673255868,102867.80357720594]
[]
["Balanced Managed Fund – Annual Amount",null,{"$f":"-FV($B11/52,52,C$4,0,0)+'Property Set Up'!$C$26*(1+'Property vs Alternatives'!B11)","v":2844.0319066753386},{"$f":"-FV($B11/52,52,D$4,0,0)","v":15481.453280375432},{"$f":"-FV($B11/52,52,E$4,0,0)","v":12525.996357514123},{"$f":"-FV($B11/52,52,F$4,0,0)","v":7894.8843086544848},{"$f":"-FV($B11/52,52,G$4,0,0)","v":6714.7505029368176},{"$f":"-FV($B11/52,52,H$4,0,0)","v":5474.9897984889412},{"$f":"-FV($B11/52,52,I$4,0,0)","v":4172.7165188733234},{"$f":"-FV($B11/52,52,J$4,0,0)","v":2804.9076966159005},{"$f":"-FV($B11/52,52,K$4,0,0)","v":1368.3965872425067},{"$f":"-FV($B11/52,52,L$4,0,0)","v":0},{"$f":"-FV($B11/52,52,M$4,0,0)","v":0},{"$f":"-FV($B11/52,52,N$4,0,0)","v":0},{"$f":"-FV($B11/52,52,O$4,0,0)","v":0},{"$f":"-FV($B11/52,52,P$4,0,0)","v":0},{"$f":"-FV($B11/52,52,Q$4,0,0)","v":0}]
["Balanced Managed Fund – Running Total (End of Year)",{"$f":"Assumptions!$D$47","v":3.9E-2},{"$f":"C10","v":2844.0319066753386},{"$f":"SUM(C11)*(1+$B11)+D10","v":18436.402431411108},{"$f":"SUM(D11)*(1+$B11)+E10","v":31681.418483750262},{"$f":"SUM(E11)*(1+$B11)+F10","v":40811.878113271006},{"$f":"SUM(F11)*(1+$B11)+G10","v":49118.291862625389},{"$f":"SUM(G11)*(1+$B11)+H10","v":56508.895043756711},{"$f":"SUM(H11)*(1+$B11)+I10","v":62885.458469336547},{"$f":"SUM(I11)*(1+$B11)+J10","v":68142.899046256571},{"$f":"SUM(J11)*(1+$B11)+K10","v":72168.868696303078},{"$f":"SUM(K11)*(1+$B11)+L10","v":74983.454575458891},{"$f":"SUM(L11)*(1+$B11)+M10","v":77907.809303901784},{"$f":"SUM(M11)*(1+$B11)+N10","v":80946.213866753955},{"$f":"SUM(N11)*(1+$B11)+O10","v":84103.116207557352},{"$f":"SUM(O11)*(1+$B11)+P10","v":87383.137739652084},{"$f":"SUM(P11)*(1+$B11)+Q10","v":90791.080111498508}]
[null,{"$f":"Assumptions!$D$9","v":0.02},{"$f":"C11/(1+$B12)^(C$2-1)","v":2844.0319066753386},{"$f":"D11/(1+$B12)^(D$2-1)","v":18074.904344520695},{"$f":"E11/(1+$B12)^(E$2-1)","v":30451.190391916822},{"$f":"F11/(1+$B12)^(F$2-1)","v":38457.94426094697},{"$f":"G11/(1+$B12)^(G$2-1)","v":45377.709271521817},{"$f":"H11/(1+$B12)^(H$2-1)","v":51181.847270575483},{"$f":"I11/(1+$B12)^(I$2-1)","v":55840.487476429145},{"$f":"J11/(1+$B12)^(J$2-1)","v":59322.494364979022},{"$f":"K11/(1+$B12)^(K$2-1)","v":61595.434531978142},{"$f":"L11/(1+$B12)^(L$2-1)","v":62742.800469338508},{"$f":"M11/(1+$B12)^(M$2-1)","v":63911.538909453637},{"$f":"N11/(1+$B12)^(N$2-1)","v":65102.047967570921},{"$f":"O11/(1+$B12)^(O$2-1)","v":66314.733174809968},{"$f":"P11/(1+$B12)^(P$2-1)","v":67550.007616301533},{"$f":"Q11/(1+$B12)^(Q$2-1)","v":68808.292071899297}]
[]
["Term Deposits – Annual Amount",null,{"$f":"-FV($B15/52,52,C$4,0,0)+'Property Set Up'!$C$26*(1+'Property vs Alternatives'!B15)","v":2817.5396978404146},{"$f":"-FV($B15/52,52,D$4,0,0)","v":15337.243262052792},{"$f":"-FV($B15/52,52,E$4,0,0)","v":12409.316474074742},{"$f":"-FV($B15/52,52,F$4,0,0)","v":7821.3433180131615},{"$f":"-FV($B15/52,52,G$4,0,0)","v":6652.2024801172838},{"$f":"-FV($B15/52,52,H$4,0,0)","v":5423.9901691352034},{"$f":"-FV($B15/52,52,I$4,0,0)","v":4133.8475887577843},{"$f":"-FV($B15/52,52,J$4,0,0)","v":2778.7799305078543},{"$f":"-FV($B15/52,52,K$4,0,0)","v":1355.6499481935082},{"$f":"-FV($B15/52,52,L$4,0,0)","v":0},{"$f":"-FV($B15/52,52,M$4,0,0)","v":0},{"$f":"-FV($B15/52,52,N$4,0,0)","v":0},{"$f":"-FV($B15/52,52,O$4,0,0)","v":0},{"$f":"-FV($B15/52,52,P$4,0,0)","v":0},{"$f":"-FV($B15/52,52,Q$4,0,0)","v":0}]
["Term Deposits – Running Total (End of Year)",{"$f":"Assumptions!$D$48","v":0.02},{"$f":"C14","v":2817.5396978404146},{"$f":"SUM(C15)*(1+$B15)+D14","v":18211.133753850016},{"$f":"SUM(D15)*(1+$B15)+E14","v":30984.67290300176},{"$f":"SUM(E15)*(1+$B15)+F14","v":39425.709679074957},{"$f":"SUM(F15)*(1+$B15)+G14","v":46866.426352773735},{"$f":"SUM(G15)*(1+$B15)+H14","v":53227.745048964418},{"$f":"SUM(H15)*(1+$B15)+I14","v":58426.147538701494},{"$f":"SUM(I15)*(1+$B15)+J14","v":62373.450419983375},{"$f":"SUM(J15)*(1+$B15)+K14","v":64976.569376576554},{"$f":"SUM(K15)*(1+$B15)+L14","v":66276.10076410808},{"$f":"SUM(L15)*(1+$B15)+M14","v":67601.622779390236},{"$f":"SUM(M15)*(1+$B15)+N14","v":68953.65523497804},{"$f":"SUM(N15)*(1+$B15)+O14","v":70332.728339677604},{"$f":"SUM(O15)*(1+$B15)+P14","v":71739.382906471161},{"$f":"SUM(P15)*(1+$B15)+Q14","v":73174.170564600587}]
[null,{"$f":"Assumptions!$D$9","v":0.02},{"$f":"C15/(1+$B16)^(C$2-1)","v":2817.5396978404146},{"$f":"D15/(1+$B16)^(D$2-1)","v":17854.052699852957},{"$f":"E15/(1+$B16)^(E$2-1)","v":29781.500291235832},{"$f":"F15/(1+$B16)^(F$2-1)","v":37151.726785959923},{"$f":"G15/(1+$B16)^(G$2-1)","v":43297.333620218502},{"$f":"H15/(1+$B16)^(H$2-1)","v":48210.008628618838},{"$f":"I15/(1+$B16)^(I$2-1)","v":51880.746985755148},{"$f":"J15/(1+$B16)^(J$2-1)","v":54299.842138386834},{"$f":"K15/(1+$B16)^(K$2-1)","v":55456.87631587436},{"$f":"L15/(1+$B16)^(L$2-1)","v":55456.87631587436},{"$f":"M15/(1+$B16)^(M$2-1)","v":55456.876315874353},{"$f":"N15/(1+$B16)^(N$2-1)","v":55456.87631587436},{"$f":"O15/(1+$B16)^(O$2-1)","v":55456.876315874353},{"$f":"P15/(1+$B16)^(P$2-1)","v":55456.87631587436},{"$f":"Q15/(1+$B16)^(Q$2-1)","v":55456.876315874353}]
[]
["Property",null,{"$f":"'Projection – Property #1'!D151","v":56710},{"$f":"'Projection – Property #1'!E151","v":75647.668749999953},{"$f":"'Projection – Property #1'!F151","v":99190.895625000005},{"$f":"'Projection – Property #1'!G151","v":129068.81357250002},{"$f":"'Projection – Property #1'!H151","v":161985.58535849245},{"$f":"'Projection – Property #1'!I151","v":198093.76210041088},{"$f":"'Projection – Property #1'!J151","v":237553.42862060468},{"$f":"'Projection – Property #1'!K151","v":280532.57327165105},{"$f":"'Projection – Property #1'!L151","v":327207.47588153707},{"$f":"'Projection – Property #1'!M151","v":377763.11470626923},{"$f":"'Projection – Property #1'!N151","v":432393.59332096204},{"$f":"'Projection – Property #1'!O151","v":491302.58842607937},{"$f":"'Projection – Property #1'!P151","v":554703.8195933653},{"$f":"'Projection – Property #1'!Q151","v":622821.54202620848},{"$f":"'Projection – Property #1'!R151","v":695891.06346185785}]
[null,{"$f":"Assumptions!$D$9","v":0.02},{"$f":"C18/(1+$B19)^(C$2-1)","v":56710},{"$f":"D18/(1+$B19)^(D$2-1)","v":74164.381127450935},{"$f":"E18/(1+$B19)^(E$2-1)","v":95339.192257785471},{"$f":"F18/(1+$B19)^(F$2-1)","v":121624.42572285549},{"$f":"G18/(1+$B19)^(G$2-1)","v":149649.64211567075},{"$f":"H18/(1+$B19)^(H$2-1)","v":179419.62356945986},{"$f":"I18/(1+$B19)^(I$2-1)","v":210940.64635530725},{"$f":"J18/(1+$B19)^(J$2-1)","v":244220.48709438945},{"$f":"K18/(1+$B19)^(K$2-1)","v":279268.43004631257},{"$f":"L18/(1+$B19)^(L$2-1)","v":316095.27548292786},{"$f":"M18/(1+$B19)^(M$2-1)","v":354713.3491577605},{"$f":"N18/(1+$B19)^(N$2-1)","v":395136.51288195828},{"$f":"O18/(1+$B19)^(O$2-1)","v":437380.17621844687},{"$f":"P18/(1+$B19)^(P$2-1)","v":481461.30930677376},{"$f":"Q18/(1+$B19)^(Q$2-1)","v":527398.45683192636}]
[]
[{"$f":"CONCATENATE('Property Set Up'!C12,\" vs Shares vs Other Investments\")","v":"Property #1 vs Shares vs Other Investments"}]
[{"$f":"'Property Set Up'!C12","v":"Property #1"}]
[]
[]
[]
[]
[]
[]
[]
[]
[]
[]
[]
[]
["Property #2","Growth Rate",1,2,3,4,5,6,7,8,9,10,11,12,13,14,15]
["Annual Top-up","N/A",{"$f":"-MIN(0,'Projection – Property #2'!D140)","v":0},{"$f":"-MIN(0,'Projection – Property #2'!E140)","v":7422.45},{"$f":"-MIN(0,'Projection – Property #2'!F140)","v":7560.2489999999998},{"$f":"-MIN(0,'Projection – Property #2'!G140)","v":7693.4539800000002},{"$f":"-MIN(0,'Projection – Property #2'!H140)","v":7844.6230596000005},{"$f":"-MIN(0,'Projection – Property #2'!I140)","v":7998.8155207920008},{"$f":"-MIN(0,'Projection – Property #2'!J140)","v":8156.0918312078411},{"$f":"-MIN(0,'Projection – Property #2'!K140)","v":8316.5136678319977},{"$f":"-MIN(0,'Projection – Property #2'!L140)","v":8480.1439411886386},{"$f":"-MIN(0,'Projection – Property #2'!M140)","v":8647.0468200124124},{"$f":"-MIN(0,'Projection – Property #2'!N140)","v":8817.2877564126611},{"$f":"-MIN(0,'Projection – Property #2'!O140)","v":8990.933511540914},{"$f":"-MIN(0,'Projection – Property #2'!P140)","v":9168.0521817717326},{"$f":"-MIN(0,'Projection – Property #2'!Q140)","v":9348.7132254071676},{"$f":"-MIN(0,'Projection – Property #2'!R140)","v":9532.987489915311}]
["Weekly Top-Up","N/A",{"$f":"C36/52","v":0},{"$f":"D36/52","v":142.73942307692306},{"$f":"E36/52","v":145.38940384615384},{"$f":"F36/52","v":147.95103807692308},{"$f":"G36/52","v":150.85813576153848},{"$f":"H36/52","v":153.82337539984616},{"$f":"I36/52","v":156.84791983092003},{"$f":"J36/52","v":159.93295515061533},{"$f":"K36/52","v":163.07969117670459},{"$f":"L36/52","v":166.28936192331562},{"$f":"M36/52","v":169.56322608485885},{"$f":"N36/52","v":172.90256752963296},{"$f":"O36/52","v":176.30869580330256},{"$f":"P36/52","v":179.78294664244552},{"$f":"Q36/52","v":183.32668249837135}]
[]
["Shares – Annual Amount",null,{"$f":"-FV($B40/52,52,C$37,0,0)+'Property Set Up'!$D$26*(1+'Property vs Alternatives'!B40)","v":0},{"$f":"-FV($B40/52,52,D$37,0,0)","v":7702.1189528252671},7845.1100527424605,7983.3340355336841,8140.1989835048144,8300.2012304353666,8463.4035223045303,8629.8698600110765,8799.6655244717549,8972.8571022216474,9149.5125115265364,9329.701029017524,9513.4933168583302,9700.9614504559522,9892.1789467255276]
["Shares – Running Total (End of Year)",{"$f":"Assumptions!$D$46","v":7.4999999999999997E-2},{"$f":"C39","v":0},{"$f":"SUM(C40)*(1+$B40)+D39","v":7702.1189528252671},{"$f":"SUM(D40)*(1+$B40)+E39","v":16124.887927029622},{"$f":"SUM(E40)*(1+$B40)+F39","v":25317.588557090527},{"$f":"SUM(F40)*(1+$B40)+G39","v":35356.606682377125},{"$f":"SUM(G40)*(1+$B40)+H39","v":46308.553413990769},{"$f":"SUM(H40)*(1+$B40)+I39","v":58245.098442344606},{"$f":"SUM(I40)*(1+$B40)+J39","v":71243.350685531521},{"$f":"SUM(J40)*(1+$B40)+K39","v":85386.267511418133},{"$f":"SUM(K40)*(1+$B40)+L39","v":100763.09467699614},{"$f":"SUM(L40)*(1+$B40)+M39","v":117469.83928929739},{"$f":"SUM(M40)*(1+$B40)+N39","v":135609.7782650122},{"$f":"SUM(N40)*(1+$B40)+O39","v":155294.00495174644},{"$f":"SUM(O40)*(1+$B40)+P39","v":176642.01677358337},{"$f":"SUM(P40)*(1+$B40)+Q39","v":199782.34697832764}]
[null,{"$f":"Assumptions!$E$9","v":0.02},{"$f":"C40/(1+$B41)^(C$35-1)","v":0},{"$f":"D40/(1+$B41)^(D$35-1)","v":7551.0970125737913},15498.738876422167,23857.329154219085,32664.039363332595,41943.083585705775,51719.98056941956,62021.624097850028,72876.357152858429,{"$f":"L40/(1+$B41)^(L$35-1)","v":84314.050076601765},96366.182947582842,109065.93239818585,122448.26311319602,136550.02426171664,151410.05112850622]
[]
["Balanced Managed Fund – Annual Amount",null,{"$f":"-FV($B44/52,52,C$37,0,0)+'Property Set Up'!$D$26*(1+'Property vs Alternatives'!B44)","v":0},{"$f":"-FV($B44/52,52,D$37,0,0)","v":7566.1952063449335},{"$f":"-FV($B44/52,52,E$37,0,0)","v":7706.6628596452756},{"$f":"-FV($B44/52,52,F$37,0,0)","v":7842.4475238918894},{"$f":"-FV($B44/52,52,G$37,0,0)","v":7996.5441854277842},{"$f":"-FV($B44/52,52,H$37,0,0)","v":8153.7227801943955},{"$f":"-FV($B44/52,52,I$37,0,0)","v":8314.0449468563402},{"$f":"-FV($B44/52,52,J$37,0,0)","v":8477.5735568515229},{"$f":"-FV($B44/52,52,K$37,0,0)","v":8644.3727390466101},{"$f":"-FV($B44/52,52,L$37,0,0)","v":8814.5079048856005},{"$f":"-FV($B44/52,52,M$37,0,0)","v":8988.0457740413676},{"$f":"-FV($B44/52,52,N$37,0,0)","v":9165.0544005802512},{"$f":"-FV($B44/52,52,O$37,0,0)","v":9345.6031996499132},{"$f":"-FV($B44/52,52,P$37,0,0)","v":9529.7629747009669},{"$f":"-FV($B44/52,52,Q$37,0,0)","v":9717.6059452530426}]
["Balanced Managed Fund – Running Total (End of Year)",{"$f":"Assumptions!$D$47","v":3.9E-2},{"$f":"C43","v":0},{"$f":"SUM(C44)*(1+$B44)+D43","v":7566.1952063449335},{"$f":"SUM(D44)*(1+$B44)+E43","v":15567.939679037661},{"$f":"SUM(E44)*(1+$B44)+F43","v":24017.53685041202},{"$f":"SUM(F44)*(1+$B44)+G43","v":32950.764973005869},{"$f":"SUM(G44)*(1+$B44)+H43","v":42389.567587147489},{"$f":"SUM(H44)*(1+$B44)+I43","v":52356.805669902576},{"$f":"SUM(I44)*(1+$B44)+J43","v":62876.294647880299},{"$f":"SUM(J44)*(1+$B44)+K43","v":73972.842878194235},{"$f":"SUM(K44)*(1+$B44)+L43","v":85672.291655329405},{"$f":"SUM(L44)*(1+$B44)+M43","v":98001.556803928615},{"$f":"SUM(M44)*(1+$B44)+N43","v":110988.67191986207},{"$f":"SUM(N44)*(1+$B44)+O43","v":124662.83332438659},{"$f":"SUM(O44)*(1+$B44)+P43","v":139054.44679873865},{"$f":"SUM(P44)*(1+$B44)+Q43","v":154195.17616914248}]
[null,{"$f":"Assumptions!$E$9","v":0.02},{"$f":"C44/(1+$B45)^(C$35-1)","v":0},{"$f":"D44/(1+$B45)^(D$35-1)","v":7417.8384375930718},{"$f":"E44/(1+$B45)^(E$35-1)","v":14963.417607687103},{"$f":"F44/(1+$B45)^(F$35-1)","v":22632.261394949925},{"$f":"G44/(1+$B45)^(G$35-1)","v":30441.41350438615},{"$f":"H44/(1+$B45)^(H$35-1)","v":38393.537379047048},{"$f":"I44/(1+$B45)^(I$35-1)","v":46491.345097557249},{"$f":"J44/(1+$B45)^(J$35-1)","v":54737.598299239755},{"$f":"K44/(1+$B45)^(K$35-1)","v":63135.109126097799},{"$f":"L44/(1+$B45)^(L$35-1)","v":71686.7411819751},{"$f":"M44/(1+$B45)^(M$35-1)","v":80395.410509221299},{"$f":"N44/(1+$B45)^(N$35-1)","v":89264.086583196331},{"$f":"O44/(1+$B45)^(O$35-1)","v":98295.793324952319},{"$f":"P44/(1+$B45)^(P$35-1)","v":107493.61013243915},{"$f":"Q44/(1+$B45)^(Q$35-1)","v":116860.67293058448}]
[]
["Term Deposits – Annual Amount",null,{"$f":"-FV($B48/52,52,C$37,0,0)+'Property Set Up'!$D$26*(1+'Property vs Alternatives'!B48)","v":0},{"$f":"-FV($B48/52,52,D$37,0,0)","v":7495.7159606579153},{"$f":"-FV($B48/52,52,E$37,0,0)","v":7634.8751552180274},{"$f":"-FV($B48/52,52,F$37,0,0)","v":7769.3949828524501},{"$f":"-FV($B48/52,52,G$37,0,0)","v":7922.0562311890089},{"$f":"-FV($B48/52,52,H$37,0,0)","v":8077.7707044922981},{"$f":"-FV($B48/52,52,I$37,0,0)","v":8236.5994672616544},{"$f":"-FV($B48/52,52,J$37,0,0)","v":8398.6048052863953},{"$f":"-FV($B48/52,52,K$37,0,0)","v":8563.8502500716331},{"$f":"-FV($B48/52,52,L$37,0,0)","v":8732.4006037525778},{"$f":"-FV($B48/52,52,M$37,0,0)","v":8904.3219645071385},{"$f":"-FV($B48/52,52,N$37,0,0)","v":9079.6817524767903},{"$f":"-FV($B48/52,52,O$37,0,0)","v":9258.5487362058357},{"$f":"-FV($B48/52,52,P$37,0,0)","v":9440.9930596094619},{"$f":"-FV($B48/52,52,Q$37,0,0)","v":9627.0862694811603}]
["Term Deposits – Running Total (End of Year)",{"$f":"Assumptions!$D$48","v":0.02},{"$f":"C47","v":0},{"$f":"SUM(C48)*(1+$B48)+D47","v":7495.7159606579153},{"$f":"SUM(D48)*(1+$B48)+E47","v":15280.505435089101},{"$f":"SUM(E48)*(1+$B48)+F47","v":23355.510526643331},{"$f":"SUM(F48)*(1+$B48)+G47","v":31744.676968365209},{"$f":"SUM(G48)*(1+$B48)+H47","v":40457.341212224812},{"$f":"SUM(H48)*(1+$B48)+I47","v":49503.08750373096},{"$f":"SUM(I48)*(1+$B48)+J47","v":58891.754059091982},{"$f":"SUM(J48)*(1+$B48)+K47","v":68633.439390345447},{"$f":"SUM(K48)*(1+$B48)+L47","v":78738.508781904937},{"$f":"SUM(L48)*(1+$B48)+M47","v":89217.600922050173},{"$f":"SUM(M48)*(1+$B48)+N47","v":100081.63469296796},{"$f":"SUM(N48)*(1+$B48)+O47","v":111341.81612303315},{"$f":"SUM(O48)*(1+$B48)+P47","v":123009.64550510327},{"$f":"SUM(P48)*(1+$B48)+Q47","v":135096.9246846865}]
[null,{"$f":"Assumptions!$E$9","v":0.02},{"$f":"C48/(1+$B49)^(C$35-1)","v":0},{"$f":"D48/(1+$B49)^(D$35-1)","v":7348.7411378999168},{"$f":"E48/(1+$B49)^(E$35-1)","v":14687.144785745002},{"$f":"F48/(1+$B49)^(F$35-1)","v":22008.419204004618},{"$f":"G48/(1+$B49)^(G$35-1)","v":29327.174617913432},{"$f":"H48/(1+$B49)^(H$35-1)","v":36643.460419713607},{"$f":"I48/(1+$B49)^(I$35-1)","v":43957.32503317199},{"$f":"J48/(1+$B49)^(J$35-1)","v":51268.815932569807},{"$f":"K48/(1+$B49)^(K$35-1)","v":58577.979661319965},{"$f":"L48/(1+$B49)^(L$35-1)","v":65884.861850219517},{"$f":"M48/(1+$B49)^(M$35-1)","v":73189.507235343946},{"$f":"N48/(1+$B49)^(N$35-1)","v":80491.959675590828},{"$f":"O48/(1+$B49)^(O$35-1)","v":87792.262169879279},{"$f":"P48/(1+$B49)^(P$35-1)","v":95090.456874012452},{"$f":"Q48/(1+$B49)^(Q$35-1)","v":102386.58511720908}]
[]
["Property",null,{"$f":"'Projection – Property #2'!D151","v":{"$error":"#VALUE!"}},{"$f":"'Projection – Property #2'!E151","v":{"$error":"#VALUE!"}},{"$f":"'Projection – Property #2'!F151","v":{"$error":"#VALUE!"}},{"$f":"'Projection – Property #2'!G151","v":{"$error":"#VALUE!"}},{"$f":"'Projection – Property #2'!H151","v":{"$error":"#VALUE!"}},{"$f":"'Projection – Property #2'!I151","v":{"$error":"#VALUE!"}},{"$f":"'Projection – Property #2'!J151","v":{"$error":"#VALUE!"}},{"$f":"'Projection – Property #2'!K151","v":{"$error":"#VALUE!"}},{"$f":"'Projection – Property #2'!L151","v":{"$error":"#VALUE!"}},{"$f":"'Projection – Property #2'!M151","v":{"$error":"#VALUE!"}},{"$f":"'Projection – Property #2'!N151","v":{"$error":"#VALUE!"}},{"$f":"'Projection – Property #2'!O151","v":{"$error":"#VALUE!"}},{"$f":"'Projection – Property #2'!P151","v":{"$error":"#VALUE!"}},{"$f":"'Projection – Property #2'!Q151","v":{"$error":"#VALUE!"}},{"$f":"'Projection – Property #2'!R151","v":{"$error":"#VALUE!"}}]
[null,{"$f":"Assumptions!$E$9","v":0.02},{"$f":"C51/(1+$B52)^(C$35-1)","v":{"$error":"#VALUE!"}},{"$f":"D51/(1+$B52)^(D$35-1)","v":{"$error":"#VALUE!"}},{"$f":"E51/(1+$B52)^(E$35-1)","v":{"$error":"#VALUE!"}},{"$f":"F51/(1+$B52)^(F$35-1)","v":{"$error":"#VALUE!"}},{"$f":"G51/(1+$B52)^(G$35-1)","v":{"$error":"#VALUE!"}},{"$f":"H51/(1+$B52)^(H$35-1)","v":{"$error":"#VALUE!"}},{"$f":"I51/(1+$B52)^(I$35-1)","v":{"$error":"#VALUE!"}},{"$f":"J51/(1+$B52)^(J$35-1)","v":{"$error":"#VALUE!"}},{"$f":"K51/(1+$B52)^(K$35-1)","v":{"$error":"#VALUE!"}},{"$f":"L51/(1+$B52)^(L$35-1)","v":{"$error":"#VALUE!"}},{"$f":"M51/(1+$B52)^(M$35-1)","v":{"$error":"#VALUE!"}},{"$f":"N51/(1+$B52)^(N$35-1)","v":{"$error":"#VALUE!"}},{"$f":"O51/(1+$B52)^(O$35-1)","v":{"$error":"#VALUE!"}},{"$f":"P51/(1+$B52)^(P$35-1)","v":{"$error":"#VALUE!"}},{"$f":"Q51/(1+$B52)^(Q$35-1)","v":{"$error":"#VALUE!"}}]
[]
[{"$f":"CONCATENATE('Property Set Up'!D12,\" vs Shares vs Other Investments\")","v":"Property #2 vs Shares vs Other Investments"}]
[{"$f":"'Property Set Up'!D12","v":"Property #2"}]
[]
[]
[]
[]
[]
[]
[]
[]
[]
[]
[]
[]
[]
["Property #3","Growth Rate",1,2,3,4,5,6,7,8,9,10,11,12,13,14,15]
["Annual Top-up","N/A",{"$f":"-MIN(0,'Projection – Property #3'!D140)","v":0},{"$f":"-MIN(0,'Projection – Property #3'!E140)","v":8034.45},{"$f":"-MIN(0,'Projection – Property #3'!F140)","v":8184.4889999999996},{"$f":"-MIN(0,'Projection – Property #3'!G140)","v":8330.1787800000002},{"$f":"-MIN(0,'Projection – Property #3'!H140)","v":8494.0823555999996},{"$f":"-MIN(0,'Projection – Property #3'!I140)","v":8661.2640027119996},{"$f":"-MIN(0,'Projection – Property #3'!J140)","v":8831.7892827662399},{"$f":"-MIN(0,'Projection – Property #3'!K140)","v":9005.7250684215651},{"$f":"-MIN(0,'Projection – Property #3'!L140)","v":9183.139569789997},{"$f":"-MIN(0,'Projection – Property #3'!M140)","v":9364.1023611857963},{"$f":"-MIN(0,'Projection – Property #3'!N140)","v":9548.6844084095119},{"$f":"-MIN(0,'Projection – Property #3'!O140)","v":9736.9580965777022},{"$f":"-MIN(0,'Projection – Property #3'!P140)","v":9928.9972585092564},{"$f":"-MIN(0,'Projection – Property #3'!Q140)","v":10124.877203679442},{"$f":"-MIN(0,'Projection – Property #3'!R140)","v":10324.67474775303}]
["Weekly Top-Up","N/A",{"$f":"C70/52","v":0},{"$f":"D70/52","v":154.50865384615383},{"$f":"E70/52","v":157.39401923076923},{"$f":"F70/52","v":160.19574576923077},{"$f":"G70/52","v":163.3477376076923},{"$f":"H70/52","v":166.56276928292306},{"$f":"I70/52","v":169.84210159165846},{"$f":"J70/52","v":173.18702054656856},{"$f":"K70/52","v":176.59883788057687},{"$f":"L70/52","v":180.07889156126532},{"$f":"M70/52","v":183.62854631556755},{"$f":"N70/52","v":187.24919416495581},{"$f":"O70/52","v":190.94225497133186},{"$f":"P70/52","v":194.70917699383543},{"$f":"Q70/52","v":198.55143745678905}]
[]
["Shares – Annual Amount",null,{"$f":"-FV($B74/52,52,C$71,0,0)+'Property Set Up'!$E$26*(1+'Property vs Alternatives'!B74)","v":0},{"$f":"-FV($B74/52,52,D$71,0,0)","v":8337.1783737885708},8492.8706621250294,8644.0498571039043,8814.1291215064375,8987.6099711970219,9164.5604378814187,9345.0499138995037,9529.1491794379508,9716.930430287166,9908.4673061533649,10103.834919536886,10303.109885188082,10506.3703501523,10713.6960244158]
["Shares – Running Total (End of Year)",{"$f":"Assumptions!$D$46","v":7.4999999999999997E-2},{"$f":"C73","v":0},{"$f":"SUM(C74)*(1+$B74)+D73","v":8337.1783737885708},{"$f":"SUM(D74)*(1+$B74)+E73","v":17455.337413947742},27408.537577097726,38278.307016886494,50136.790014350001,63061.609703307666,77136.280344955245,92450.650550264836,109101.37977182186,127192.45056086186,146835.71927246338,168151.50810308621,191269.24156096997,216328.13070245853]
[null,{"$f":"Assumptions!$F$9","v":0.02},{"$f":"C74/(1+$B75)^(C$69-1)","v":0},{"$f":"D74/(1+$B75)^(D$69-1)","v":8173.7042880280105},16777.525388261958,25827.677116171126,35363.23885358921,45410.435421969669,55996.904731132287,67151.773994717179,78905.740054912836,91291.154038044682,104342.11057455777,118094.54182952052,132586.31660304707,147857.34477402369,163949.68737526445]
[]
["Balanced Managed Fund – Annual Amount",null,{"$f":"-FV($B78/52,52,C$71,0,0)+'Property Set Up'!$E$26*(1+'Property vs Alternatives'!B78)","v":0},{"$f":"-FV($B78/52,52,D$71,0,0)","v":8190.0473665188783},{"$f":"-FV($B78/52,52,E$71,0,0)","v":8342.9920630227007},{"$f":"-FV($B78/52,52,F$71,0,0)","v":8491.5033113368627},{"$f":"-FV($B78/52,52,G$71,0,0)","v":8658.581088621655},{"$f":"-FV($B78/52,52,H$71,0,0)","v":8829.0004214521432},{"$f":"-FV($B78/52,52,I$71,0,0)","v":9002.8281409392439},{"$f":"-FV($B78/52,52,J$71,0,0)","v":9180.1324148160857},{"$f":"-FV($B78/52,52,K$71,0,0)","v":9360.982774170463},{"$f":"-FV($B78/52,52,L$71,0,0)","v":9545.4501407119278},{"$f":"-FV($B78/52,52,M$71,0,0)","v":9733.6068545842227},{"$f":"-FV($B78/52,52,N$71,0,0)","v":9925.5267027339632},{"$f":"-FV($B78/52,52,O$71,0,0)","v":10121.2849478467},{"$f":"-FV($B78/52,52,P$71,0,0)","v":10320.958357861689},{"$f":"-FV($B78/52,52,Q$71,0,0)","v":10524.625236076978}]
["Balanced Managed Fund – Running Total (End of Year)",{"$f":"Assumptions!$D$47","v":3.9E-2},{"$f":"C77","v":0},{"$f":"SUM(C78)*(1+$B78)+D77","v":8190.0473665188783},{"$f":"SUM(D78)*(1+$B78)+E77","v":16852.451276835814},{"$f":"SUM(E78)*(1+$B78)+F77","v":26001.200187969273},{"$f":"SUM(F78)*(1+$B78)+G77","v":35673.828083921726},{"$f":"SUM(G78)*(1+$B78)+H77","v":45894.107800646816},{"$f":"SUM(H78)*(1+$B78)+I77","v":56686.806145811279},{"$f":"SUM(I78)*(1+$B78)+J77","v":68077.724000314003},{"$f":"SUM(J78)*(1+$B78)+K77","v":80093.738010496716},{"$f":"SUM(K78)*(1+$B78)+L77","v":92762.843933618002},{"$f":"SUM(L78)*(1+$B78)+M77","v":106114.20170161332},{"$f":"SUM(M78)*(1+$B78)+N77","v":120178.18227071018},{"$f":"SUM(N78)*(1+$B78)+O77","v":134986.41632711457},{"$f":"SUM(O78)*(1+$B78)+P77","v":150571.84492173372},{"$f":"SUM(P78)*(1+$B78)+Q77","v":166968.77210975828}]
[null,{"$f":"Assumptions!$F$9","v":0.02},{"$f":"C78/(1+$B79)^(C$69-1)","v":0},{"$f":"D78/(1+$B79)^(D$69-1)","v":8029.4582024694882},{"$f":"E78/(1+$B79)^(E$69-1)","v":16198.050054628811},{"$f":"F78/(1+$B79)^(F$69-1)","v":24501.511662152257},{"$f":"G78/(1+$B79)^(G$69-1)","v":32957.102904187297},{"$f":"H78/(1+$B79)^(H$69-1)","v":41567.707424701301},{"$f":"I78/(1+$B79)^(I$69-1)","v":50336.261605016763},{"$f":"J78/(1+$B79)^(J$69-1)","v":59265.755565342093},{"$f":"K78/(1+$B79)^(K$69-1)","v":68359.234184582398},{"$f":"L78/(1+$B79)^(L$69-1)","v":77619.798138778453},{"$f":"M78/(1+$B79)^(M$69-1)","v":87050.604958527794},{"$f":"N78/(1+$B79)^(N$69-1)","v":96654.870105748676},{"$f":"O78/(1+$B79)^(O$69-1)","v":106435.86807015412},{"$f":"P78/(1+$B79)^(P$69-1)","v":116396.93348581032},{"$f":"Q78/(1+$B79)^(Q$69-1)","v":126541.46226815956}]
[]
["Term Deposits – Annual Amount",null,{"$f":"-FV($B82/52,52,C$71,0,0)+'Property Set Up'!$E$26*(1+'Property vs Alternatives'!B82)","v":0},{"$f":"-FV($B82/52,52,D$71,0,0)","v":8113.7569266358123},{"$f":"-FV($B82/52,52,E$71,0,0)","v":8265.2769405154831},{"$f":"-FV($B82/52,52,F$71,0,0)","v":8412.404803855854},{"$f":"-FV($B82/52,52,G$71,0,0)","v":8577.9262486124808},{"$f":"-FV($B82/52,52,H$71,0,0)","v":8746.7581222642384},{"$f":"-FV($B82/52,52,I$71,0,0)","v":8918.9666333890345},{"$f":"-FV($B82/52,52,J$71,0,0)","v":9094.6193147363247},{"$f":"-FV($B82/52,52,K$71,0,0)","v":9273.785049710561},{"$f":"-FV($B82/52,52,L$71,0,0)","v":9456.5340993842801},{"$f":"-FV($B82/52,52,M$71,0,0)","v":9642.938130051476},{"$f":"-FV($B82/52,52,N$71,0,0)","v":9833.0702413320141},{"$f":"-FV($B82/52,52,O$71,0,0)","v":10027.004994838164},{"$f":"-FV($B82/52,52,P$71,0,0)","v":10224.818443414437},{"$f":"-FV($B82/52,52,Q$71,0,0)","v":10426.588160962234}]
["Term Deposits – Running Total (End of Year)",{"$f":"Assumptions!$D$48","v":0.02},{"$f":"C81","v":0},{"$f":"SUM(C82)*(1+$B82)+D81","v":8113.7569266358123},{"$f":"SUM(D82)*(1+$B82)+E81","v":16541.309005684012},{"$f":"SUM(E82)*(1+$B82)+F81","v":25284.539989653545},{"$f":"SUM(F82)*(1+$B82)+G81","v":34368.1570380591},{"$f":"SUM(G82)*(1+$B82)+H81","v":43802.278301084523},{"$f":"SUM(H82)*(1+$B82)+I81","v":53597.290500495248},{"$f":"SUM(I82)*(1+$B82)+J81","v":63763.855625241478},{"$f":"SUM(J82)*(1+$B82)+K81","v":74312.91778745687},{"$f":"SUM(K82)*(1+$B82)+L81","v":85255.710242590299},{"$f":"SUM(L82)*(1+$B82)+M81","v":96603.762577493588},{"$f":"SUM(M82)*(1+$B82)+N81","v":108368.90807037547},{"$f":"SUM(N82)*(1+$B82)+O81","v":120563.29122662115},{"$f":"SUM(O82)*(1+$B82)+P81","v":133199.37549456803},{"$f":"SUM(P82)*(1+$B82)+Q81","v":146289.95116542163}]
[null,{"$f":"Assumptions!$F$9","v":0.02},{"$f":"C82/(1+$B83)^(C$69-1)","v":0},{"$f":"D82/(1+$B83)^(D$69-1)","v":7954.6636535645221},{"$f":"E82/(1+$B83)^(E$69-1)","v":15898.989817074214},{"$f":"F82/(1+$B83)^(F$69-1)","v":23826.186750998437},{"$f":"G82/(1+$B83)^(G$69-1)","v":31750.864680571853},{"$f":"H82/(1+$B83)^(H$69-1)","v":39673.072998036638},{"$f":"I82/(1+$B83)^(I$69-1)","v":47592.860127159627},{"$f":"J82/(1+$B83)^(J$69-1)","v":55510.273542222043},{"$f":"K82/(1+$B83)^(K$69-1)","v":63425.359786636815},{"$f":"L82/(1+$B83)^(L$69-1)","v":71338.16449120098},{"$f":"M82/(1+$B83)^(M$69-1)","v":79248.732391990008},{"$f":"N82/(1+$B83)^(N$69-1)","v":87157.107347901503},{"$f":"O82/(1+$B83)^(O$69-1)","v":95063.332357854568},{"$f":"P82/(1+$B83)^(P$69-1)","v":102967.44957765237},{"$f":"Q82/(1+$B83)^(Q$69-1)","v":110869.50033651358}]
[]
["Property",null,{"$f":"'Projection – Property #3'!D151","v":{"$error":"#VALUE!"}},{"$f":"'Projection – Property #3'!E151","v":{"$error":"#VALUE!"}},{"$f":"'Projection – Property #3'!F151","v":{"$error":"#VALUE!"}},{"$f":"'Projection – Property #3'!G151","v":{"$error":"#VALUE!"}},{"$f":"'Projection – Property #3'!H151","v":{"$error":"#VALUE!"}},{"$f":"'Projection – Property #3'!I151","v":{"$error":"#VALUE!"}},{"$f":"'Projection – Property #3'!J151","v":{"$error":"#VALUE!"}},{"$f":"'Projection – Property #3'!K151","v":{"$error":"#VALUE!"}},{"$f":"'Projection – Property #3'!L151","v":{"$error":"#VALUE!"}},{"$f":"'Projection – Property #3'!M151","v":{"$error":"#VALUE!"}},{"$f":"'Projection – Property #3'!N151","v":{"$error":"#VALUE!"}},{"$f":"'Projection – Property #3'!O151","v":{"$error":"#VALUE!"}},{"$f":"'Projection – Property #3'!P151","v":{"$error":"#VALUE!"}},{"$f":"'Projection – Property #3'!Q151","v":{"$error":"#VALUE!"}},{"$f":"'Projection – Property #3'!R151","v":{"$error":"#VALUE!"}}]
[null,{"$f":"Assumptions!$F$9","v":0.02},{"$f":"C85/(1+$B86)^(C$69-1)","v":{"$error":"#VALUE!"}},{"$f":"D85/(1+$B86)^(D$69-1)","v":{"$error":"#VALUE!"}},{"$f":"E85/(1+$B86)^(E$69-1)","v":{"$error":"#VALUE!"}},{"$f":"F85/(1+$B86)^(F$69-1)","v":{"$error":"#VALUE!"}},{"$f":"G85/(1+$B86)^(G$69-1)","v":{"$error":"#VALUE!"}},{"$f":"H85/(1+$B86)^(H$69-1)","v":{"$error":"#VALUE!"}},{"$f":"I85/(1+$B86)^(I$69-1)","v":{"$error":"#VALUE!"}},{"$f":"J85/(1+$B86)^(J$69-1)","v":{"$error":"#VALUE!"}},{"$f":"K85/(1+$B86)^(K$69-1)","v":{"$error":"#VALUE!"}},{"$f":"L85/(1+$B86)^(L$69-1)","v":{"$error":"#VALUE!"}},{"$f":"M85/(1+$B86)^(M$69-1)","v":{"$error":"#VALUE!"}},{"$f":"N85/(1+$B86)^(N$69-1)","v":{"$error":"#VALUE!"}},{"$f":"O85/(1+$B86)^(O$69-1)","v":{"$error":"#VALUE!"}},{"$f":"P85/(1+$B86)^(P$69-1)","v":{"$error":"#VALUE!"}},{"$f":"Q85/(1+$B86)^(Q$69-1)","v":{"$error":"#VALUE!"}}]
[]
[{"$f":"CONCATENATE('Property Set Up'!E12,\" vs Shares vs Other Investments\")","v":"Property #3 vs Shares vs Other Investments"}]
[{"$f":"'Property Set Up'!E12","v":"Property #3"}]

{"sheet":"Assumptions","index":8,"n_rows":48,"n_cols":40,"rows_kept":48,"cut":false,"hidden":false,"merged":[]}
[]
[]
[]
[]
[]
[null,null,"ASSUMPTIONS"]
[]
[null,null,null,{"$f":"'Property Set Up'!C11","v":"Property #1"},{"$f":"'Property Set Up'!D11","v":"Property #2"},{"$f":"'Property Set Up'!E11","v":"Property #3"}]
[null,null,"General Inflation Rate",0.02,0.02,0.02]
[null,null,"Long Term Rental Inflation Rate",4.7E-2,4.7E-2,4.7E-2]
[null,null,"Long Term Rental Inflation Rate (Month)",{"$f":"(1+D10)^(1/12)-1","v":3.8347448817659391E-3},{"$f":"(1+E10)^(1/12)-1","v":3.8347448817659391E-3},{"$f":"(1+F10)^(1/12)-1","v":3.8347448817659391E-3}]
[null,null,"Short Term Rental Inflation Rate",0.06,0.06,0.06]
[null,null,"Short Term Rental Inflation Period",3,3,3]
[null,null,"Short Term Rental Inflation Rate (Month)",{"$f":"((1+D12)^(1/D13))^(1/12)-1","v":1.6198913901075418E-3},{"$f":"((1+E12)^(1/E13))^(1/12)-1","v":1.6198913901075418E-3},{"$f":"((1+F12)^(1/F13))^(1/12)-1","v":1.6198913901075418E-3}]
[null,null,"Pre-Existing Tax Losses",0,0,0]
[null,null,"Diminishing Value Depreciation Rate",0.22,0.22,0.22]
[null,null,"Monthly DV Depreciation Rate",{"$f":"1-(1-D16)^(1/12)","v":2.049223417716306E-2},{"$f":"1-(1-E16)^(1/12)","v":2.049223417716306E-2},{"$f":"1-(1-F16)^(1/12)","v":2.049223417716306E-2}]
[null,null,"Marginal Tax Rate (For The Purchasing Entity)",0.33,0.33,0.33]
[null,null,"Savings Rate",0.02,0.02,0.02]
[]
[]
[null,null,"INTEREST RATE SET UP"]
[null,null,null,"Start Year","End Year","Interest Rate",null,null,"Property #1"]
[null,null,"Interest Rate Period #1",1,{"$f":"IF(ISBLANK(D24),\"\",IF(ISBLANK(D26),15,D26-1))","v":1},"Set in the Property Set Up Tab",null,null,1,2,3,4,5,6,7,8,9,10,11,12,13,14,15,16,17,18,19,20,21,22,23,24,25,26,27,28,29,30,31,32]
[null,null,null,{"$f":"CONCATENATE(\"Year_\",D24)","v":"Year_1"}]
[null,null,"Interest Rate Period #2",2,{"$f":"IF(ISBLANK(D26),\"\",IF(ISBLANK(D28),15,D28-1))","v":2},5.2499999999999998E-2,null,null,{"$f":"'Property Set Up'!$C40","v":4.4999999999999998E-2},{"$f":"IFERROR(VLOOKUP(J24,$D$24:$F$32,3,FALSE),I26)","v":5.2499999999999998E-2},0.05,{"$f":"IFERROR(VLOOKUP(L24,$D$24:$F$32,3,FALSE),K26)","v":4.4999999999999998E-2},{"$f":"IFERROR(VLOOKUP(M24,$D$24:$F$32,3,FALSE),L26)","v":4.4999999999999998E-2},4.4999999999999998E-2,{"$f":"IFERROR(VLOOKUP(O24,$D$24:$F$32,3,FALSE),N26)","v":4.4999999999999998E-2},4.4999999999999998E-2,4.4999999999999998E-2,4.4999999999999998E-2,4.4999999999999998E-2,4.4999999999999998E-2,4.4999999999999998E-2,4.4999999999999998E-2,4.4999999999999998E-2,{"$f":"IFERROR(VLOOKUP(X24,$D$24:$F$32,3,FALSE),W26)","v":4.4999999999999998E-2},4.4999999999999998E-2,4.4999999999999998E-2,4.4999999999999998E-2,4.4999999999999998E-2,4.4999999999999998E-2,{"$f":"IFERROR(VLOOKUP(AD24,$D$24:$F$32,3,FALSE),AC26)","v":4.4999999999999998E-2},4.4999999999999998E-2,4.4999999999999998E-2,4.4999999999999998E-2,4.4999999999999998E-2,4.4999999999999998E-2,4.4999999999999998E-2,4.4999999999999998E-2,4.4999999999999998E-2,4.4999999999999998E-2,4.4999999999999998E-2]
[null,null,null,{"$f":"CONCATENATE(\"Year_\",D26)","v":"Year_2"}]
[null,null,"Interest Rate Period #3",3,{"$f":"IF(ISBLANK(D28),\"\",IF(ISBLANK(D30),15,D30-1))","v":3},0.05]
[null,null,null,{"$f":"CONCATENATE(\"Year_\",D28)","v":"Year_3"}]
[null,null,"Interest Rate Period #4",4,{"$f":"IF(ISBLANK(D30),\"\",IF(ISBLANK(D32),15,D32-1))","v":4},4.4999999999999998E-2,null,null,"Property #2"]
[null,null,null,{"$f":"CONCATENATE(\"Year_\",D30)","v":"Year_4"}]
[null,null,"Interest Rate Period #5",5,{"$f":"IF(ISBLANK(D32),\"\",IF(ISBLANK(D34),15,D34-1))","v":15},4.4999999999999998E-2,null,null,1,2,3,4,5,6,7,8,9,10,11,12,13,14,15,16,17,18,19,20,21,22,23,24,25,26,27,28,29,30,31,32]
[null,null,null,{"$f":"CONCATENATE(\"Year_\",D32)","v":"Year_5"}]
[null,null,null,null,null,null,null,null,{"$f":"'Property Set Up'!$D$40","v":4.4999999999999998E-2},{"$f":"IFERROR(VLOOKUP(J32,$D$24:$F$32,3,FALSE),I34)","v":5.2499999999999998E-2},{"$f":"IFERROR(VLOOKUP(K32,$D$24:$F$32,3,FALSE),J34)","v":0.05},{"$f":"IFERROR(VLOOKUP(L32,$D$24:$F$32,3,FALSE),K34)","v":4.4999999999999998E-2},{"$f":"IFERROR(VLOOKUP(M32,$D$24:$F$32,3,FALSE),L34)","v":4.4999999999999998E-2},4.4999999999999998E-2,4.4999999999999998E-2,4.4999999999999998E-2,4.4999999999999998E-2,4.4999999999999998E-2,4.4999999999999998E-2,4.4999999999999998E-2,4.4999999999999998E-2,4.4999999999999998E-2,4.4999999999999998E-2,4.4999999999999998E-2,4.4999999999999998E-2,4.4999999999999998E-2,4.4999999999999998E-2,4.4999999999999998E-2,4.4999999999999998E-2,4.4999999999999998E-2,4.4999999999999998E-2,4.4999999999999998E-2,4.4999999999999998E-2,4.4999999999999998E-2,4.4999999999999998E-2,4.4999999999999998E-2,4.4999999999999998E-2,4.4999999999999998E-2,4.4999999999999998E-2,4.4999999999999998E-2]
[]
[null,null,"CAPITAL GROWTH ASSUMPTIONS",null,null,null,null,null,"Property #3"]
[null,null,null,null,null,null,null,null,1,2,3,4,5,6,7,8,9,10,11,12,13,14,15,16,17,18,19,20,21,22,23,24,25,26,27,28,29,30,31,32]
[null,null,"Auckland",0.06,null,null,null,null,{"$f":"'Property Set Up'!$E$40","v":4.4999999999999998E-2},{"$f":"IFERROR(VLOOKUP(J37,$D$24:$F$32,3,FALSE),I38)","v":5.2499999999999998E-2},{"$f":"IFERROR(VLOOKUP(K37,$D$24:$F$32,3,FALSE),J38)","v":0.05},{"$f":"IFERROR(VLOOKUP(L37,$D$24:$F$32,3,FALSE),K38)","v":4.4999999999999998E-2},{"$f":"IFERROR(VLOOKUP(M37,$D$24:$F$32,3,FALSE),L38)","v":4.4999999999999998E-2},4.4999999999999998E-2,4.4999999999999998E-2,4.4999999999999998E-2,4.4999999999999998E-2,4.4999999999999998E-2,4.4999999999999998E-2,4.4999999999999998E-2,4.4999999999999998E-2,4.4999999999999998E-2,4.4999999999999998E-2,4.4999999999999998E-2,4.4999999999999998E-2,4.4999999999999998E-2,4.4999999999999998E-2,4.4999999999999998E-2,4.4999999999999998E-2,4.4999999999999998E-2,4.4999999999999998E-2,4.4999999999999998E-2,4.4999999999999998E-2,4.4999999999999998E-2,4.4999999999999998E-2,4.4999999999999998E-2,4.4999999999999998E-2,4.4999999999999998E-2,4.4999999999999998E-2,4.4999999999999998E-2]
[null,null,"Outside Auckland",0.05]
[null,null,"Capital Growth Discount – Existing Property",-0.01]
[null,null,"Capital Growth Discount – Yield Property",-1.4999999999999999E-2]
[]
[]
[null,null,"ALTERNATIVE INVESTMENT ASSUMPTIONS"]
[]
[null,null,"Shares",7.4999999999999997E-2]
[null,null,"Balanced Managed Fund",3.9E-2]
[null,null,"Term Deposit",0.02]

{"sheet":"ChangeLog","index":9,"n_rows":8,"n_cols":9,"rows_kept":8,"cut":false,"hidden":true,"merged":[]}
["Number","Version control","Date","Change","Before","After","Requestor","Business Reason","Person effecting the change"]
[1,"3.0","2022-03-11","Allow change of mortgage structure after 3 years. Update assumptions as per discussion.  Update equivalent savings formula. Update and create new Graphs",null,null,"Vanessa and investment committee","Compliance","Ed McKnight"]
[2,3.2,"2022-04-03","Added an additional graph to each page to compare an investor using their cash deposit and top-up to invest in other investments (e.g. shares) and with the property",null,null,"Toby","Helping investors make an informed decision","Ed McKnight"]
[3,"3.2.2","2022-04-20","Added in a revolving credit sectoon whereby an investor can use debt in order to finance their contributions.",null,null,"Andrew","Helping investors make an informed decision","Ed McKnight"]
[4,"3.2.2","2022-04-20","Changed and updated interest rates after consultation with Andrew. Aligning them with Tony Alexander's interest rate forecasts. Then have been more conservative over the longer term interest rates. Leaving them at 4.5%, rather than 4.25%.","Long term interest rates 5% after year 3. Short term interest rates 4% years 1-3","Y1 – 4%, Y2 – 5%, Y3 – 5.25%, Y4 onwards – 4.5%","Andrew","Correctness in forecasting","Ed McKnight"]
[5,3.3,"2022-05-04","Added in the ability valuate instant equtiy through renovations or purchasing undervalue",null,null,"Ed","Correctness in forecasting","Ed McKnight"]
[6,3.31,"2022-05-11","Updated to interest rates","Y1 – 4%, Y2 – 5%, Y3 – 5.25%, Y4 onwards – 4.5%","Y2 - 5.25%, Y3 - 5%, Onwards – 4.5%","Andrew","Correctness in forecasting","Ed McKnight"]
[7,3.31,"2022-05-11","Updating how deposits are calculated for construction and when calculating the equity put at risk",null,null,"Ed","Correcting and error","Ed McKnight"]

{"sheet":"Future Changes","index":10,"n_rows":8,"n_cols":3,"rows_kept":8,"cut":false,"hidden":true,"merged":[]}
["Change","Reason","Requestor"]
["Want to adjust how we are calculating the interest on the revolvng credit. At the moment it is a flat cost of $500 a year","Correctness","Ed"]
["Want to adjust the MyWealth Plan calculations to account for sales costs. However will leave this until the MyWealth Plan software is updated","Ensure quality calculations that align with the Wealth Plan Book","Vanessa and Investment Committee"]
["Need to update the MyWealth Plan \"Cash on hand\" field. At the moment it uses the cumulative cashflow. But the cumulative cashflow could still be negative while you have positive cash on hand","Correctness","Ed"]
["Update the graphics for the ads","Style","Ed"]
["If cashflow is 16 years or higher, then on the results and summary page show that the top up lasts for 15 years +","Correctness","Preston"]
["Show what the minimum RI should be for an area. E.g. 250% for Christchurch, 350% for Auckland","Sales","Ed"]
["Wamt to add a portfolio overview so people can look at how the cashflows for their properties will offset one another. ","Lead to a better calculator","Ed"]

{"sheet":"Interest Rate Setup","index":11,"n_rows":17,"n_cols":16,"rows_kept":17,"cut":false,"hidden":true,"merged":[]}
[]
[null,"Year_1","Year_2","Year_3","Year_4","Year_5","Year_6","Year_7","Year_8","Year_9","Year_10","Year_11","Year_12","Year_13","Year_14","Year_15"]
[1,2,3,4,5,6,7,8,9,10,11,12,13,14,15]
[2,3,4,5,6,7,8,9,10,11,12,13,14,15]
[3,4,5,6,7,8,9,10,11,12,13,14,15]
[4,5,6,7,8,9,10,11,12,13,14,15]
[5,6,7,8,9,10,11,12,13,14,15]
[6,7,8,9,10,11,12,13,14,15]
[7,8,9,10,11,12,13,14,15]
[8,9,10,11,12,13,14,15]
[9,10,11,12,13,14,15]
[10,11,12,13,14,15]
[11,12,13,14,15]
[12,13,14,15]
[13,14,15]
[14,15]
[15]

{"sheet":"Lists","index":12,"n_rows":215,"n_cols":68,"rows_kept":215,"cut":false,"hidden":true,"merged":[]}
[]
[null,"Territorial Authority","Ashburton","Auckland","Buller","Carterton","Central Hawke's Bay","Central Otago","Christchurch","Clutha","Dunedin City","Far North","Gisborne","Gore","Grey","Hamilton City","Hastings","Hauraki","Horowhenua","Hurunui","Hutt City","Invercargill","Kaikoura","Kaipara","Kapiti Coast","Kawerau","Mackenzie","Manawatu","Marlborough","Masterton","Matamata-Piako","Napier City","Nelson City","New Plymouth","Opotiki","Otorohanga","Palmerston North","Porirua City","Queenstown-Lakes","Rangitikei","Rotorua","Ruapehu","Selwyn","South Waikato","South Taranaki","South Wairarapa","Southland","Stratford","Tararua","Tasman","Taupo","Tauranga City","Thames-Coromandel","Timaru","Upper Hutt","Waikato","Waimakariri","Waimate","Waipa","Wairoa","Waitaki","Waitomo","Wellington City","Western Bay of Plenty","Westland","Whakatane","Whanganui","Whangarei"]
[null,"Ashburton","Allenton","Albany","Carters Beach","Carterton","Otane","Alexandra","Addington","Balclutha","Abbotsford","Ahipara","Elgin","East Gore","Blaketown","Bader","Akina","Kerepehi","Foxton","Amberley","Alicetown","Appleby","Kaikoura","Baylys Beach","Otaihanga","Kawerau","Fairlie","Halcombe","Anakiwa","Castlepoint","Matamata","Ahuriri","Annesbrook","Bell Block","Opotiki","Otorohanga","Aokautere","Aotea","Albert Town","Bulls","Fairy Springs","Manunui","Darfield","Putaruru","Eltham","Featherston","Edendale","Stratford","Dannevirke","Brightwater","Acacia Bay","Bellevue","Cooks Beach","Geraldine","Birchville","Buckland","Kaiapoi","Waimate","Cambridge","Wairoa","Holmes Hill","Te Kuiti","Aro Valley","Aongatete","Hokitika","Coastlands","Aramoho","Avenues"]
[null,"Auckland","Ashburton","Albany Heights","Granity",null,"Waipawa","Bannockburn","Akaroa","Milton","Andersons Bay","Awanui","Gisborne","Gore","Cobden","Beerescourt","Camberley","Ngatea","Foxton Beach","Hanmer Springs","Avalon","Avenal",null,"Dargaville","Otaki",null,"Twizel","Himatangi Beach","Blenheim","Kuripuni","Morrinsville","Bay View","Atawhai","Blagdon",null,null,"Ashhurst","Ascot Park","Arrowtown","Hunterville","Fenton Park","National Park","Kirwee","Tokoroa","Hawera","Greytown","Halfmoon Bay",null,"Pahiatua","Collingwood","Hilltop","Bethlehem","Coromandel","Gleniti","Brown Owl","Horotiu","Oxford",null,"Kihikihi",null,"Kakanui",null,"Berhampore","Athenree","Kaniere","Edgecumbe","Bastia Hill","Hikurangi"]
[null,"Buller","Hampstead","Algies Bay","Reefton",null,"Waipukurau","Bridge Hill","Aranui",null,"Belleknowes","Cable Bay","Inner Kaiti","Mataura","Dobson","Chartwell","Clive","Paeroa","Hokio Beach","Leithfield","Belmont","Bluff",null,"Kaiwaka","Otaki Beach",null,null,"Rongotea","Burleigh","Lansdowne","Te Aroha","Bluff Hill","Beachville","Brooklands",null,null,"Awapuni","Camborne","Fernhill","Marton","Fordlands","Ohakune","Leeston","Tirau","Manaia","Martinborough","Lumsden",null,"Woodville","Hope","Kinloch","Brookfield","Hahei","Glenwood","Clouston Park","Huntly","Pegasus",null,"Leamington",null,"Kurow",null,"Broadmeadows","Bowentown",null,"Matata","Castlecliff","Horahora"]
[null,"Carterton","Methven","Arkles Bay","Westport",null,null,"Clyde","Avonhead",null,"Brockville","Coopers Beach","Kaiti",null,"Greymouth","Chedworth","Eskdale","Turua","Levin",null,"Boulcott","Clifton",null,"Mangawhai","Paekakariki",null,null,"Sanson","Havelock","Masterton",null,"Greenmeadows","Bishopdale","Ferndale",null,null,"Bunnythorpe","Cannons Creek","Frankton","Taihape","Glenholme","Raetihi","Lincoln",null,"Normanby",null,"Manapouri",null,"Eketahuna","Kaiteriteri","Kuratau","Gate Pa","Matarangi","Highfield","Ebdentown","Meremere","Rangiora",null,"Ohaupo",null,"Moeraki",null,"Brooklyn","Katikati",null,"Murupara","College Estate","Kamo"]
[null,"Central Hawke's Bay","Netherby","Army Bay",null,null,null,"Cromwell","Avonside",null,"Calton Hill","Haruru","Lytton West",null,"Karoro","Claudelands","Flaxmere","Waihi","Manakau",null,"Days Bay","Georgetown",null,"Mangawhai Heads","Paraparaumu",null,null,null,"Islington","Riversdale Beach",null,"Hospital Hill","Britannia Heights","Fitzroy",null,null,"Cloverlea","Papakowhai","Lake Hawea",null,"Hamurana","Taumarunui","Prebbleton",null,"Opunake",null,"Otautau",null,null,"Mapua","Mangakino","Greerton","Onemana","Kensington","Elderslea","Ngaruawahia","The Pines Beach",null,"Pirongia",null,"Oamaru",null,"Churton Park","Maketu",null,"Ohope","Durie Hill","Kensington"]
[null,"Central Otago","Rakaia","Auckland Central",null,null,null,"Mount Pisa","Beckenham",null,"Caversham","Hihi","Mangapapa",null,"Moana","Deanwell","Frimley",null,"Ohau",null,"Eastbourne","Gladstone",null,"Maungaturoto","Paraparaumu Beach",null,null,null,"Mayfield","Solway",null,"Jervoistown","Enner Glynn","Frankleigh Park",null,null,"Feilding","Paremata","Queenstown",null,"Hannahs Bay",null,"Rolleston",null,"Patea",null,"Riversdale",null,null,"Motueka","Motuoapa","Hairini","Opito Bay","Maori Hill","Heretaunga","Pokeno","Waikuku Beach",null,"Te Awamutu",null,"Oamaru North",null,"Crofton Downs","Omokoroa",null,"Whakatane","Gonville","Matapouri"]
[null,"Christchurch","Tinwald","Avondale",null,null,null,"Naseby","Belfast",null,"Concord","Kaikohe","Okitu",null,"Paroa","Dinsdale","Hastings",null,"Shannon",null,"Epuni","Glengarry",null,"Ruawai","Raumati Beach",null,null,null,"Okiwi Bay",null,null,"Maraenui","Maitai","Glen Avon",null,null,"Fitzherbert","Plimmerton","Wanaka",null,"Hillcrest",null,"Southbridge",null,"Waverley",null,"Riverton",null,null,"Parapara","Nukuhau","Judea","Pauanui","Marchwiel","Maoribank","Port Waikato","Woodend",null,null,null,"Omarama",null,"Grenada Village","Paengaroa",null,null,"Otamatea","Maunu"]
[null,"Clutha","Elgin","Awhitu",null,null,null,"Ranfurly","Bishopdale",null,"Corstorphine","Kaitaia","Outer Kaiti",null,"Runanga","Enderley","Haumoana",null,"Tokomaru",null,"Fairfield","Grasmere",null,"Tamaterau","Raumati South",null,null,null,"Picton",null,null,"Marewa","Marybank","Highlands Park",null,null,"Highbury","Pukerua Bay",null,null,"Holdens Bay",null,"Springfield",null,null,null,"Te Anau",null,null,"Pohara","Omori","Matua","Tairua","Oceanview","Pinehaven","Raglan","Woodend Beach",null,null,null,"Otematata",null,"Hataitai","Pukehina",null,null,"Putiki","Morningside"]
[null,"Dunedin City",null,"Bayswater",null,null,null,"Roxburgh","Bromley",null,"Dunedin Central","Karikari Peninsula","Riverdale",null,null,"Fairfield","Havelock North",null,"Waikawa Beach",null,"Harbour View","Hargest",null,"Te Kopuru","Te Horo Beach",null,null,null,"Rarangi",null,null,"Napier South","Moana","Hurdon",null,null,"Hokowhitu","Ranui",null,null,"Kawaha Point",null,"Springston",null,null,null,"Tuatapere",null,null,"Redwood Valley","Rangatira Park","Maungatapu","Te Puru","Parkside","Riverstone Terraces","Tamahere",null,null,null,null,"Palmerston",null,"Highbury","Te Puke",null,null,"Saint Johns Hill","Ngunguru"]
[null,"Far North",null,"Bayview",null,null,null,"Twizel","Broomfield",null,"Fairfield","Kawakawa","Tamarau",null,null,"Fairview Downs","Mahora",null,"Waitarere Beach",null,"Hutt Central","Hawthorndale",null,"Tinopai","Waikanae",null,null,null,"Redwoodtown",null,null,"Onekawa","Monaco","Inglewood",null,null,"Kelvin Grove","Takapuwahia",null,null,"Koutu",null,"Tai Tapu",null,null,null,"Wallacetown",null,null,"Richmond","Richmond Heights","Mount Maunganui","Thames","Pleasant Point","Silverstream","Taupiri",null,null,null,null,"South Hill",null,"Houghton Bay","Waihi Beach",null,null,"Springvale","Oakura"]
[null,"Gisborne",null,"Beach Haven",null,null,null,null,"Bryndwr",null,"Green Island","Kerikeri","Te Hapara",null,null,"Fitzroy","Mayfair",null,null,null,"Kelson","Heidelberg",null,null,"Waikanae Beach",null,null,null,"Renwick",null,null,"Pirimai","Nelson","Lower Vogeltown",null,null,"Milson","Titahi Bay",null,null,"Lake Tarawera",null,"West Melton",null,null,null,"Winton",null,null,"Riwaka","Tauhara","Ohauiti","Thornton Bay","Seaview","Te Marua","Te Kauwhata",null,null,null,null,"Weston",null,"Island Bay",null,null,null,"Tawhero","One Tree Point"]
[null,"Gore",null,"Beachlands",null,null,null,null,"Burnside",null,"Halfway Bush","Mangonui","Tolaga Bay",null,null,"Flagstaff","Parkvale",null,null,null,"Korokoro","Invercargill",null,null,null,null,null,null,"Riversdale",null,null,"Poraiti","Nelson South","Lynmouth",null,null,"Palmerston North","Waitangirua",null,null,"Lynmore",null,null,null,null,null,"Wyndham",null,null,"Ruby Bay","Taupo","Otumoetai","Whangamata","Temuka","Timberlea","Tuakau",null,null,null,null,null,null,"Johnsonville",null,null,null,"Wanganui","Onerahi"]
[null,"Grey",null,"Belmont",null,null,null,null,"Burwood",null,"Kaikorai","Okaihau","Whataupoko",null,null,"Forest Lake","Raureka",null,null,null,"Lowry Bay","Kingswell",null,null,null,null,null,null,"Spring Creek",null,null,"Tamatea","Stepneyville","Marfell",null,null,"Roslyn","Whitby",null,null,"Mamaku",null,null,null,null,null,null,null,null,"St Arnaud","Tauranga Taupo","Papamoa","Whitianga","Waimataitai","Totara Park",null,null,null,null,null,null,null,"Karaka Bays",null,null,null,"Wanganui East","Parahaki"]
[null,"Hamilton City",null,"Birkdale",null,null,null,null,"Casebrook",null,"Kenmure","Omapere",null,null,null,"Frankton","Saint Leonards",null,null,null,"Maungaraki","Newfield",null,null,null,null,null,null,"Springlands",null,null,"Taradale","Stoke","Merrilands",null,null,"Takaro",null,null,null,"Mangakakahi",null,null,null,null,null,null,null,null,"Takaka","Turangi","Papamoa Beach","Wyuna Bay","Watlington","Trentham",null,null,null,null,null,null,null,"Karori",null,null,null,"Westmere","Parua Bay"]
[null,"Hastings",null,"Birkenhead",null,null,null,null,"Cashmere",null,"Liberton","Opononi",null,null,null,"Glenview","Te Awanga",null,null,null,"Melling","Otatara",null,null,null,null,null,null,"Tennyson Inlet",null,null,"Te Awa","Tahunanui","Moturoa",null,null,"Terrace End",null,null,null,"Ngongotaha",null,null,null,null,null,null,null,null,"Tata Beach","Two Mile Bay","Parkvale",null,"West End","Wallaceville",null,null,null,null,null,null,null,"Kelburn",null,null,null,null,"Raumanga"]
[null,"Hauraki",null,"Blockhouse Bay",null,null,null,null,"Cass Bay",null,"Macandrew Bay","Opua",null,null,null,"Grandview Heights","Whakatu",null,null,null,"Moera","Richmond",null,null,null,null,null,null,"Waikawa",null,null,"Westshore","The Brook","New Plymouth",null,null,"West End",null,null,null,"Okere Falls",null,null,null,null,null,null,null,null,"Wakefield","Waipahihi","Poike",null,null,null,null,null,null,null,null,null,null,"Khandallah",null,null,null,null,"Regent"]
[null,"Horowhenua",null,"Bombay",null,null,null,null,"Charteris Bay",null,"Maori Hill","Paihia",null,null,null,"Hamilton Central",null,null,null,null,"Naenae","Rockdale",null,null,null,null,null,null,"Wither Hills",null,null,null,"The Wood","Oakura",null,null,"Westbrook",null,null,null,"Owhata",null,null,null,null,null,null,null,null,null,"Wairakei","Pyes Pa",null,null,null,null,null,null,null,null,null,null,"Kilbirnie",null,null,null,null,"Riverside"]
[null,"Hurunui",null,"Botany Downs",null,null,null,null,"Christchurch Central",null,"Maryhill","Pukenui",null,null,null,"Hamilton East",null,null,null,null,"Normandale","Rosedale",null,null,null,null,null,null,"Witherlea",null,null,null,"Toi Toi","Okato",null,null,null,null,null,null,"Pomare",null,null,null,null,null,null,null,null,null,"Waitahanui","Tauranga",null,null,null,null,null,null,null,null,null,null,"Kingston",null,null,null,null,"Ruakaka"]
[null,"Hutt City",null,"Browns Bay",null,null,null,null,"Clifton",null,"Mornington","Rawene",null,null,null,"Hamilton Lake",null,null,null,null,"Petone","Strathern",null,null,null,null,null,null,null,null,null,null,"Wakatu","Spotswood",null,null,null,null,null,null,"Pukehangi",null,null,null,null,null,null,null,null,null,"Wharewaka","Tauranga South",null,null,null,null,null,null,null,null,null,null,"Lyall Bay",null,null,null,null,"Tikipunga"]
[null,"Invercargill",null,"Bucklands Beach",null,null,null,null,"Cracroft",null,"Mosgiel","Waipapa",null,null,null,"Harrowfield",null,null,null,null,"Point Howard","Turnbull Thomson Park",null,null,null,null,null,null,null,null,null,null,"Washington Valley","Strandon",null,null,null,null,null,null,"Rotorua",null,null,null,null,null,null,null,null,null,null,"Welcome Bay",null,null,null,null,null,null,null,null,null,null,"Maupuia",null,null,null,null,"Waipu"]
[null,"Kaikoura",null,"Burswood",null,null,null,null,"Dallington",null,"Musselburgh",null,null,null,null,"Hillcrest",null,null,null,null,"Stokes Valley","Waikiwi",null,null,null,null,null,null,null,null,null,null,null,"Upper Vogeltown",null,null,null,null,null,null,"Selwyn Heights",null,null,null,null,null,null,null,null,null,null,null,null,null,null,null,null,null,null,null,null,null,"Melrose",null,null,null,null,"Whangarei Heads"]
[null,"Kaipara",null,"Campbells Bay",null,null,null,null,"Diamond Harbour",null,"North Dunedin",null,null,null,null,"Huntington",null,null,null,null,"Taita","Waverley",null,null,null,null,null,null,null,null,null,null,null,"Urenui",null,null,null,null,null,null,"Springfield",null,null,null,null,null,null,null,null,null,null,null,null,null,null,null,null,null,null,null,null,null,"Miramar",null,null,null,null,"Whau Valley"]
[null,"Kapiti Coast",null,"Castor Bay",null,null,null,null,"Duvauchelle",null,"North East Valley",null,null,null,null,"Maeroa",null,null,null,null,"Tirohanga","Windsor",null,null,null,null,null,null,null,null,null,null,null,"Vogeltown",null,null,null,null,null,null,"Sunnybrook",null,null,null,null,null,null,null,null,null,null,null,null,null,null,null,null,null,null,null,null,null,"Mornington",null,null,null,null,"Woodhill"]
[null,"Kawerau",null,"Chatswood",null,null,null,null,"Fendalton",null,"Opoho",null,null,null,null,"Melville",null,null,null,null,"Wainuiomata",null,null,null,null,null,null,null,null,null,null,null,null,"Waitara",null,null,null,null,null,null,"Tihiotonga",null,null,null,null,null,null,null,null,null,null,null,null,null,null,null,null,null,null,null,null,null,"Mount Cook"]
[null,"Mackenzie",null,"Clarks Beach",null,null,null,null,"Glentunnel",null,"Port Chalmers",null,null,null,null,"Nawton",null,null,null,null,"Waiwhetu",null,null,null,null,null,null,null,null,null,null,null,null,"Waiwhakaiho",null,null,null,null,null,null,"Utuhina",null,null,null,null,null,null,null,null,null,null,null,null,null,null,null,null,null,null,null,null,null,"Mount Victoria"]
[null,"Manawatu",null,"Clendon Park",null,null,null,null,"Governors Bay",null,"Roslyn",null,null,null,null,"Pukete",null,null,null,null,"Waterloo",null,null,null,null,null,null,null,null,null,null,null,null,"Welbourn",null,null,null,null,null,null,"Victoria",null,null,null,null,null,null,null,null,null,null,null,null,null,null,null,null,null,null,null,null,null,"Newlands"]
[null,"Marlborough",null,"Clevedon",null,null,null,null,"Halswell",null,"Saint Clair",null,null,null,null,"Queenwood",null,null,null,null,"Woburn",null,null,null,null,null,null,null,null,null,null,null,null,"Westown",null,null,null,null,null,null,"Western Heights",null,null,null,null,null,null,null,null,null,null,null,null,null,null,null,null,null,null,null,null,null,"Newtown"]
[null,"Masterton",null,"Clover Park",null,null,null,null,"Harewood",null,"Saint Kilda",null,null,null,null,"Rototuna",null,null,null,null,"York Bay",null,null,null,null,null,null,null,null,null,null,null,null,"Whalers Gate",null,null,null,null,null,null,null,null,null,null,null,null,null,null,null,null,null,null,null,null,null,null,null,null,null,null,null,null,"Ngaio"]
[null,"Matamata-Piako",null,"Cockle Bay",null,null,null,null,"Heathcote Valley",null,"Sawyers Bay",null,null,null,null,"Rototuna North",null,null,null,null,null,null,null,null,null,null,null,null,null,null,null,null,null,null,null,null,null,null,null,null,null,null,null,null,null,null,null,null,null,null,null,null,null,null,null,null,null,null,null,null,null,null,"Northland"]
[null,"Napier City",null,"Conifer Grove",null,null,null,null,"Hei Hei",null,"Shiel Hill",null,null,null,null,"Saint Andrews",null,null,null,null,null,null,null,null,null,null,null,null,null,null,null,null,null,null,null,null,null,null,null,null,null,null,null,null,null,null,null,null,null,null,null,null,null,null,null,null,null,null,null,null,null,null,"Owhiro Bay"]
[null,"Nelson City",null,"Dannemora",null,null,null,null,"Hillmorton",null,"South Dunedin",null,null,null,null,"Silverdale",null,null,null,null,null,null,null,null,null,null,null,null,null,null,null,null,null,null,null,null,null,null,null,null,null,null,null,null,null,null,null,null,null,null,null,null,null,null,null,null,null,null,null,null,null,null,"Paparangi"]
[null,"New Plymouth",null,"Devonport",null,null,null,null,"Hillsborough",null,"Tainui",null,null,null,null,"Temple View",null,null,null,null,null,null,null,null,null,null,null,null,null,null,null,null,null,null,null,null,null,null,null,null,null,null,null,null,null,null,null,null,null,null,null,null,null,null,null,null,null,null,null,null,null,null,"Rongotai"]
[null,"Opotiki",null,"East Tamaki",null,null,null,null,"Hoon Hay",null,"Waikouaiti",null,null,null,null,"Western Heights",null,null,null,null,null,null,null,null,null,null,null,null,null,null,null,null,null,null,null,null,null,null,null,null,null,null,null,null,null,null,null,null,null,null,null,null,null,null,null,null,null,null,null,null,null,null,"Roseneath"]
[null,"Otorohanga",null,"East Tamaki Heights",null,null,null,null,"Hornby",null,"Wakari",null,null,null,null,"Whitiora",null,null,null,null,null,null,null,null,null,null,null,null,null,null,null,null,null,null,null,null,null,null,null,null,null,null,null,null,null,null,null,null,null,null,null,null,null,null,null,null,null,null,null,null,null,null,"Seatoun"]
[null,"Palmerston North",null,"Eastern Beach",null,null,null,null,"Huntsbury",null,"Waverley",null,null,null,null,null,null,null,null,null,null,null,null,null,null,null,null,null,null,null,null,null,null,null,null,null,null,null,null,null,null,null,null,null,null,null,null,null,null,null,null,null,null,null,null,null,null,null,null,null,null,null,"Southgate"]
[null,"Porirua City",null,"Eden Terrace",null,null,null,null,"Ilam",null,null,null,null,null,null,null,null,null,null,null,null,null,null,null,null,null,null,null,null,null,null,null,null,null,null,null,null,null,null,null,null,null,null,null,null,null,null,null,null,null,null,null,null,null,null,null,null,null,null,null,null,null,"Strathmore Park"]
[null,"Queenstown-Lakes",null,"Ellerslie",null,null,null,null,"Islington",null,null,null,null,null,null,null,null,null,null,null,null,null,null,null,null,null,null,null,null,null,null,null,null,null,null,null,null,null,null,null,null,null,null,null,null,null,null,null,null,null,null,null,null,null,null,null,null,null,null,null,null,null,"Tawa"]
[null,"Rangitikei",null,"Epsom",null,null,null,null,"Kainga",null,null,null,null,null,null,null,null,null,null,null,null,null,null,null,null,null,null,null,null,null,null,null,null,null,null,null,null,null,null,null,null,null,null,null,null,null,null,null,null,null,null,null,null,null,null,null,null,null,null,null,null,null,"Te Aro"]
[null,"Rotorua",null,"Fairview Heights",null,null,null,null,"Kennedys Bush",null,null,null,null,null,null,null,null,null,null,null,null,null,null,null,null,null,null,null,null,null,null,null,null,null,null,null,null,null,null,null,null,null,null,null,null,null,null,null,null,null,null,null,null,null,null,null,null,null,null,null,null,null,"Thorndon"]
[null,"Ruapehu",null,"Farm Cove",null,null,null,null,"Linwood",null,null,null,null,null,null,null,null,null,null,null,null,null,null,null,null,null,null,null,null,null,null,null,null,null,null,null,null,null,null,null,null,null,null,null,null,null,null,null,null,null,null,null,null,null,null,null,null,null,null,null,null,null,"Vogeltown"]
[null,"Selwyn",null,"Favona",null,null,null,null,"Little River",null,null,null,null,null,null,null,null,null,null,null,null,null,null,null,null,null,null,null,null,null,null,null,null,null,null,null,null,null,null,null,null,null,null,null,null,null,null,null,null,null,null,null,null,null,null,null,null,null,null,null,null,null,"Wadestown"]
[null,"South Waikato",null,"Flat Bush",null,null,null,null,"Lyttelton",null,null,null,null,null,null,null,null,null,null,null,null,null,null,null,null,null,null,null,null,null,null,null,null,null,null,null,null,null,null,null,null,null,null,null,null,null,null,null,null,null,null,null,null,null,null,null,null,null,null,null,null,null,"Wellington Central"]
[null,"South Taranaki",null,"Forrest Hill",null,null,null,null,"Mairehau",null,null,null,null,null,null,null,null,null,null,null,null,null,null,null,null,null,null,null,null,null,null,null,null,null,null,null,null,null,null,null,null,null,null,null,null,null,null,null,null,null,null,null,null,null,null,null,null,null,null,null,null,null,"Wilton"]
[null,"South Wairarapa",null,"Freemans Bay",null,null,null,null,"Marshland",null,null,null,null,null,null,null,null,null,null,null,null,null,null,null,null,null,null,null,null,null,null,null,null,null,null,null,null,null,null,null,null,null,null,null,null,null,null,null,null,null,null,null,null,null,null,null,null,null,null,null,null,null,"Woodridge"]
[null,"Southland",null,"Glen Eden",null,null,null,null,"Merivale"]
[null,"Stratford",null,"Glen Innes",null,null,null,null,"Middleton"]
[null,"Tararua",null,"Glenbrook",null,null,null,null,"Moncks Bay"]
[null,"Tasman",null,"Glendene",null,null,null,null,"Mount Pleasant"]
[null,"Taupo",null,"Glendowie",null,null,null,null,"New Brighton"]
[null,"Tauranga City",null,"Glenfield",null,null,null,null,"North New Brighton"]
[null,"Thames-Coromandel",null,"Golflands",null,null,null,null,"Northcote"]
[null,"Timaru",null,"Goodwood Heights",null,null,null,null,"Northwood"]
[null,"Upper Hutt",null,"Grafton",null,null,null,null,"Opawa"]
[null,"Waikato",null,"Green Bay",null,null,null,null,"Papanui"]
[null,"Waimakariri",null,"Greenhithe",null,null,null,null,"Parklands"]
[null,"Waimate",null,"Greenlane",null,null,null,null,"Phillipstown"]
[null,"Waipa",null,"Grey Lynn",null,null,null,null,"Redcliffs"]
[null,"Wairoa",null,"Gulf Harbour",null,null,null,null,"Redwood"]
[null,"Waitaki",null,"Half Moon Bay",null,null,null,null,"Riccarton"]
[null,"Waitomo",null,"Hatfields Beach",null,null,null,null,"Richmond"]
[null,"Wellington City",null,"Hauraki",null,null,null,null,"Richmond Hill"]
[null,"Western Bay of Plenty",null,"Helensville",null,null,null,null,"Russley"]
[null,"Westland",null,"Henderson",null,null,null,null,"Saint Albans"]
[null,"Whakatane",null,"Henderson Valley",null,null,null,null,"Saint Martins"]
[null,"Whanganui",null,"Herald Island",null,null,null,null,"Scarborough"]
[null,"Whangarei",null,"Herne Bay",null,null,null,null,"Shirley"]
[null,null,null,"Highland Park",null,null,null,null,"Sockburn"]
[null,null,null,"Hillcrest",null,null,null,null,"Somerfield"]
[null,null,null,"Hillsborough",null,null,null,null,"South New Brighton"]
[null,null,null,"Hobsonville",null,null,null,null,"Southshore"]
[null,null,null,"Howick",null,null,null,null,"Spreydon"]
[null,null,null,"Huapai",null,null,null,null,"Strowan"]
[null,null,null,"Huia",null,null,null,null,"Sumner"]
[null,null,null,"Huntington Park",null,null,null,null,"Sydenham"]
[null,null,null,"Karaka",null,null,null,null,"Takamatua"]
[null,null,null,"Kaukapakapa",null,null,null,null,"Templeton"]
[null,null,null,"Kawakawa Bay",null,null,null,null,"Upper Riccarton"]
[null,null,null,"Kelston",null,null,null,null,"Waimairi Beach"]
[null,null,null,"Kingsland",null,null,null,null,"Wainoni"]
[null,null,null,"Kohimarama",null,null,null,null,"Wainui"]
[null,null,null,"Kumeu",null,null,null,null,"Waltham"]
[null,null,null,"Laingholm",null,null,null,null,"Westmorland"]
[null,null,null,"Leigh",null,null,null,null,"Wigram"]
[null,null,null,"Long Bay",null,null,null,null,"Woolston"]
[null,null,null,"Lynfield",null,null,null,null,"Yaldhurst"]
[null,null,null,"Mairangi Bay"]
[null,null,null,"Mangere"]
[null,null,null,"Mangere Bridge"]
[null,null,null,"Mangere East"]
[null,null,null,"Manly"]
[null,null,null,"Manukau"]
[null,null,null,"Manukau Heads"]
[null,null,null,"Manurewa"]
[null,null,null,"Manurewa East"]
[null,null,null,"Maraetai"]
[null,null,null,"Massey"]
[null,null,null,"Matakana"]
[null,null,null,"Matakatia"]
[null,null,null,"Meadowbank"]
[null,null,null,"Mellons Bay"]
[null,null,null,"Milford"]
[null,null,null,"Mission Bay"]
[null,null,null,"Morningside"]
[null,null,null,"Mount Albert"]
[null,null,null,"Mount Eden"]
[null,null,null,"Mount Roskill"]
[null,null,null,"Mount Wellington"]
[null,null,null,"Muriwai"]
[null,null,null,"Murrays Bay"]
[null,null,null,"Narrow Neck"]
[null,null,null,"New Lynn"]
[null,null,null,"New Windsor"]
[null,null,null,"Newmarket"]
[null,null,null,"Northcote"]
[null,null,null,"Northcote Point"]
[null,null,null,"Northcross"]
[null,null,null,"Northpark"]
[null,null,null,"Okura"]
[null,null,null,"Omaha"]
[null,null,null,"Omiha"]
[null,null,null,"One Tree Hill"]
[null,null,null,"Onehunga"]
[null,null,null,"Oneroa"]
[null,null,null,"Onetangi"]
[null,null,null,"Opaheke"]
[null,null,null,"Orakei"]
[null,null,null,"Oratia"]
[null,null,null,"Orere Point"]
[null,null,null,"Orewa"]
[null,null,null,"Ostend"]
[null,null,null,"Otahuhu"]
[null,null,null,"Otara"]
[null,null,null,"Oteha"]
[null,null,null,"Pahurehure"]
[null,null,null,"Pakuranga"]
[null,null,null,"Pakuranga Heights"]
[null,null,null,"Palm Beach"]
[null,null,null,"Panmure"]
[null,null,null,"Papakura"]
[null,null,null,"Papatoetoe"]
[null,null,null,"Parakai"]
[null,null,null,"Paremoremo"]
[null,null,null,"Parnell"]
[null,null,null,"Patumahoe"]
[null,null,null,"Penrose"]
[null,null,null,"Piha"]
[null,null,null,"Pinehill"]
[null,null,null,"Point Chevalier"]
[null,null,null,"Point England"]
[null,null,null,"Point Wells"]
[null,null,null,"Ponsonby"]
[null,null,null,"Pukekohe"]
[null,null,null,"Randwick Park"]
[null,null,null,"Ranui"]
[null,null,null,"Red Beach"]
[null,null,null,"Red Hill"]
[null,null,null,"Remuera"]
[null,null,null,"Riverhead"]
[null,null,null,"Rosedale"]
[null,null,null,"Rosehill"]
[null,null,null,"Rothesay Bay"]
[null,null,null,"Royal Oak"]
[null,null,null,"Saint Johns"]
[null,null,null,"Saint Marys Bay"]
[null,null,null,"Sandringham"]
[null,null,null,"Sandspit"]
[null,null,null,"Schnapper Rock"]
[null,null,null,"Shamrock Park"]
[null,null,null,"Shelly Beach"]
[null,null,null,"Shelly Park"]
[null,null,null,"Silverdale"]
[null,null,null,"Snells Beach"]
[null,null,null,"Somerville"]
[null,null,null,"St Heliers"]
[null,null,null,"Stanley Point"]
[null,null,null,"Stanmore Bay"]
[null,null,null,"Stillwater"]
[null,null,null,"Stonefields"]
[null,null,null,"Sunnyhills"]
[null,null,null,"Sunnynook"]
[null,null,null,"Sunnyvale"]
[null,null,null,"Surfdale"]
[null,null,null,"Swanson"]
[null,null,null,"Takanini"]
[null,null,null,"Takapuna"]
[null,null,null,"Tawharanui Peninsula"]
[null,null,null,"Te Atatu Peninsula"]
[null,null,null,"Te Atatu South"]
[null,null,null,"The Gardens"]
[null,null,null,"Three Kings"]
[null,null,null,"Titirangi"]
[null,null,null,"Torbay"]
[null,null,null,"Totara Heights"]
[null,null,null,"Totara Vale"]
[null,null,null,"Unsworth Heights"]
[null,null,null,"Wai O Taiki Bay"]
[null,null,null,"Waiake"]
[null,null,null,"Waiatarua"]
[null,null,null,"Waiheke Island"]
[null,null,null,"Waimauku"]
[null,null,null,"Waitakere"]
[null,null,null,"Waiuku"]
[null,null,null,"Waiwera"]
[null,null,null,"Warkworth"]
[null,null,null,"Waterview"]
[null,null,null,"Wattle Downs"]
[null,null,null,"Wellsford"]
[null,null,null,"West Harbour"]
[null,null,null,"Westmere"]
[null,null,null,"Weymouth"]
[null,null,null,"Whenuapai"]
[null,null,null,"Windsor Park"]
[null,null,null,"Wiri"]

{"sheet":"Council Rates","index":13,"n_rows":67,"n_cols":9,"rows_kept":67,"cut":false,"hidden":true,"merged":[]}
["Council","2021 Residential",null,null,"Property #1",null,"Error Messages"]
["Ruapehu",2576,null,null,"The average council rates paid in 2021 for ",null,"No Data",null,"None Selected"]
["Wairoa",2204,null,null,{"$f":"'Property Set Up'!C13","v":"Christchurch"},null,"There was no rates data available about the average rates in "]
["Southland",1976,null,null," were ",null,{"$f":"E3","v":"Christchurch"}]
["Tararua",2307,null,null,{"$f":"TEXT(VLOOKUP(E3,$A$1:$B$67,2,FALSE),\"$#,##0;\")","v":"$2,747"},null,"."]
["Rangitikei",2274,null,null,". According to the NZ Tax Payers Union.",null,{"$f":"CONCATENATE(G3,G4,G5)","v":"There was no rates data available about the average rates in Christchurch."},null,"The average rates for your property's area will display here. Scroll back up and select a council area to see the average rates."]
["Waitaki",2401]
["Grey",2101,null,null,{"$f":"IFERROR(IF(VLOOKUP(E3,$A$1:$B$67,2,FALSE)=0,G6,CONCATENATE(E2,E3,E4,E5,E6)),I6)","v":"The average council rates paid in 2021 for Christchurch were $2,747. According to the NZ Tax Payers Union."}]
["Waitomo",2950]
["Clutha",2097]
["Gore",2653,null,null,"Property #2"]
["Opotiki",2796,null,null,"The average council rates paid in 2021 for ",null,"No Data",null,"None Selected"]
["Hurunui",2189,null,null,{"$f":"'Property Set Up'!D13","v":0},null,"There was no rates data available about the average rates in "]
["Waimate",2075,null,null," were ",null,{"$f":"E13","v":0}]
["Central Hawke's Bay",2417,null,null,{"$f":"TEXT(VLOOKUP(E13,$A$1:$B$67,2,FALSE),\"$#,##0;\")","v":{"$error":"#N/A"}},null,"."]
["Otorohanga",1855,null,null,". According to the NZ Tax Payers Union.",null,{"$f":"CONCATENATE(G13,G14,G15)","v":"There was no rates data available about the average rates in 0."},null,"The average rates for your property's area will display here. Scroll back up and select a council area to see the average rates."]
["Whanganui",2763]
["Invercargill City",2278,null,null,{"$f":"IFERROR(IF(VLOOKUP(E13,$A$1:$B$67,2,FALSE)=0,G16,CONCATENATE(E12,E13,E14,E15,E16)),I16)","v":"The average rates for your property's area will display here. Scroll back up and select a council area to see the average rates."}]
["South Taranaki",2327]
["Stratford",2393]
["Ashburton",2476,null,null,"Property #3"]
["Mackenzie",1893,null,null,"The average council rates paid in 2021 for ",null,"No Data",null,"None Selected"]
["South Waikato",2336,null,null,{"$f":"'Property Set Up'!E13","v":0},null,"There was no rates data available about the average rates in "]
["Kawerau",2214,null,null," were ",null,{"$f":"E23","v":0}]
["Timaru",2277,null,null,{"$f":"TEXT(VLOOKUP(E23,$A$1:$B$67,2,FALSE),\"$#,##0;\")","v":{"$error":"#N/A"}},null,"."]
["Far North",2545,null,null,". According to the NZ Tax Payers Union.",null,{"$f":"CONCATENATE(G23,G24,G25)","v":"There was no rates data available about the average rates in 0."},null,"The average rates for your property's area will display here. Scroll back up and select a council area to see the average rates."]
["Horowhenua",2402]
["Masterton",2561,null,null,{"$f":"IFERROR(IF(VLOOKUP(E23,$A$1:$B$67,2,FALSE)=0,G26,CONCATENATE(E22,E23,E24,E25,E26)),I26)","v":"The average rates for your property's area will display here. Scroll back up and select a council area to see the average rates."}]
["Manawatu",3176]
["Matamata-Piako",2378]
["Whakatane",3314]
["Hauraki",2644]
["Gisborne",2776]
["Taupo",2544]
["Dunedin City",2312]
["Thames-Coromandel",2932]
["New Plymouth",2432]
["Marlborough",2700]
["Palmerston North City",2723]
["Waimakariri",2940]
["Christchurch",2747]
["Carterton",3639]
["Central Otago",2254]
["Hastings",2552]
["Rotorua",2694]
["Western Bay of Plenty",3050]
["Tasman",3228]
["Napier City",2290]
["Whangarei",2261]
["Waipa",2812]
["Nelson City",2971]
["South Wairarapa",2690]
["Upper Hutt",2218]
["Hamilton City",2540]
["Kapiti Coast",2926]
["Hutt City",2325]
["Selwyn",2797]
["Queenstown-Lakes",3165]
["Tauranga City",2879]
["Porirua City",2949]
["Wellington City",2796]
["Auckland",3599]
["Buller",1815]
["Kaikoura",2381]
["Kaipara",2346]
["Waikato",0]
["Westland",3030]

{"sheet":"TA Substitutes","index":14,"n_rows":67,"n_cols":2,"rows_kept":67,"cut":false,"hidden":true,"merged":[]}
["Area"]
["Ashburton District ","Ashburton"]
["Auckland","Auckland"]
["Buller District ","Buller"]
["Carterton District ","Carterton"]
["Central Hawke's Bay District ","Central Hawke's Bay"]
["Central Otago District ","Central Otago"]
["Christchurch City ","Christchurch"]
["Clutha District ","Clutha"]
["Dunedin City ","Dunedin City"]
["Far North District ","Far North"]
["Gisborne District","Gisborne"]
["Gore District ","Gore"]
["Grey District ","Grey"]
["Hamilton City ","Hamilton City"]
["Hastings District ","Hastings"]
["Hauraki District ","Hauraki"]
["Horowhenua District ","Horowhenua"]
["Hurunui District ","Hurunui"]
["Invercargill City ","Invercargill"]
["Kaikoura District ","Kaikoura"]
["Kaipara District ","Kaipara"]
["Kapiti Coast District ","Kapiti Coast"]
["Kawerau District ","Kawerau"]
["Lower Hutt City ","Hutt City"]
["MacKenzie District ","Mackenzie"]
["Manawatu District ","Manawatu"]
["Marlborough District ","Marlborough"]
["Masterton District ","Masterton"]
["Matamata-Piako District ","Matamata-Piako"]
["Napier City ","Napier City"]
["Nelson City ","Nelson City"]
["New Plymouth District ","New Plymouth"]
["Opotiki District ","Opotiki"]
["Otorohanga District ","Otorohanga"]
["Palmerston North City ","Palmerston North"]
["Porirua City ","Porirua City"]
["Queenstown-Lakes District ","Queenstown-Lakes"]
["Rangitikei District ","Rangitikei"]
["Rotorua District ","Rotorua"]
["Ruapehu District ","Ruapehu"]
["Selwyn District ","Selwyn"]
["South Taranaki District ","South Taranaki"]
["South Waikato District ","South Waikato"]
["South Wairarapa District ","South Wairarapa"]
["Southland District ","Southland"]
["Stratford District ","Stratford"]
["Tararua District ","Tararua"]
["Tasman District ","Tasman"]
["Taupo District ","Taupo"]
["Tauranga City ","Tauranga City"]
["Thames-Coromandel District ","Thames-Coromandel"]
["Timaru District ","Timaru"]
["Upper Hutt City ","Upper Hutt"]
["Waikato District ","Waikato"]
["Waimakariri District ","Waimakariri"]
["Waimate District ","Waimate"]
["Waipa District ","Waipa"]
["Wairoa District ","Wairoa"]
["Waitaki District ","Waitaki"]
["Waitomo District ","Waitomo"]
["Wellington City ","Wellington City"]
["Western Bay of Plenty District ","Western Bay of Plenty"]
["Westland District ","Westland"]
["Whakatane District ","Whakatane"]
["Whanganui District ","Whanganui"]
["Whangarei District ","Whangarei"]

{"sheet":"Rents","index":15,"n_rows":6605,"n_cols":16,"rows_kept":6605,"cut":false,"hidden":true,"merged":[]}
["City Name","Suburb Name","Data Type","Helper Column","Property Type","Bedrooms","Data Output",null,"Property #1",null,null,"With Data",null,"No Data",null,"Error"]
["Akaroa","Akaroa","Bonds",{"$f":"B2&C2","v":"AkaroaBonds"},"Whole Suburb","Whole Suburb","",null,"Target Suburb",{"$f":"'Property Set Up'!C15","v":"Addington"},null,"The median rent in ",null,"There was no data available about the rental market in ",null,"Rental data for your property's area will display here. Scroll back up and select a council area and suburb to see information about the rental market your property operates within."]
["Akaroa","Akaroa","Lower Quartile","AkaroaLower Quartile","Whole Suburb","Whole Suburb","",null,"Bonds",{"$f":"VLOOKUP(J$2&I3,$D$1:$G$6573,4,FALSE)","v":1506},null,{"$f":"J2","v":"Addington"},null,{"$f":"J2&\", \"&J7","v":"Addington, Christchurch"}]
["Akaroa","Akaroa","Median","AkaroaMedian","Whole Suburb","Whole Suburb","",null,"Lower Quartile",{"$f":"VLOOKUP(J$2&I4,$D$1:$G$6573,4,FALSE)","v":220},null," is ",null,"."]
["Akaroa","Akaroa","Upper Quartile","AkaroaUpper Quartile","Whole Suburb","Whole Suburb","",null,"Median",{"$f":"VLOOKUP(J$2&I5,$D$1:$G$6573,4,FALSE)","v":380},null,{"$f":"TEXT(J5,\"$#,##0;\")","v":"$380"}]
["Alexandra","Alexandra","Bonds","AlexandraBonds","Whole Suburb","Whole Suburb",393,null,"Upper Quartile",{"$f":"VLOOKUP(J$2&I6,$D$1:$G$6573,4,FALSE)","v":449},null," according to MBIE data of "]
["Alexandra","Alexandra","Lower Quartile","AlexandraLower Quartile","Whole Suburb","Whole Suburb",350,null,"TA",{"$f":"'Property Set Up'!C13","v":"Christchurch"},null,{"$f":"J3","v":1506}]
["Alexandra","Alexandra","Median","AlexandraMedian","Whole Suburb","Whole Suburb",405,null,null,null,null," bonds collected between Feb 2021 and July 2021. 25% of properties within the suburb rent for below "]
["Alexandra","Alexandra","Upper Quartile","AlexandraUpper Quartile","Whole Suburb","Whole Suburb",464,null,null,null,null,{"$f":"TEXT(J4,\"$#,##0;\")","v":"$220"}]
["Alexandra","Blackmans","Bonds","BlackmansBonds","Whole Suburb","Whole Suburb","",null,null,null,null,". And 25% of properties rent for above "]
["Alexandra","Blackmans","Lower Quartile","BlackmansLower Quartile","Whole Suburb","Whole Suburb","",null,null,null,null,{"$f":"TEXT(J6,\"$#,##0;\")","v":"$449"}]
["Alexandra","Blackmans","Median","BlackmansMedian","Whole Suburb","Whole Suburb","",null,null,null,null,"."]
["Alexandra","Blackmans","Upper Quartile","BlackmansUpper Quartile","Whole Suburb","Whole Suburb","",null,null,null,null,{"$f":"CONCATENATE(L2,L3,L4,L5,L6,L7,L8,L9,L10,L11,L12)","v":"The median rent in Addington is $380 according to MBIE data of 1506 bonds collected between Feb 2021 and July 2021. 25% of properties within the suburb rent for below $220. And 25% of properties rent for above $449."},null,{"$f":"CONCATENATE(N2,N3,N4)","v":"There was no data available about the rental market in Addington, Christchurch."}]
["Alexandra","Bridge Hill","Bonds","Bridge HillBonds","Whole Suburb","Whole Suburb",48]
["Alexandra","Bridge Hill","Lower Quartile","Bridge HillLower Quartile","Whole Suburb","Whole Suburb",450,null,null,null,null,{"$f":"IF(J2=0,P2,IF(ISERROR(J3),N13,L13))","v":"The median rent in Addington is $380 according to MBIE data of 1506 bonds collected between Feb 2021 and July 2021. 25% of properties within the suburb rent for below $220. And 25% of properties rent for above $449."}]
["Alexandra","Bridge Hill","Median","Bridge HillMedian","Whole Suburb","Whole Suburb",450]
["Alexandra","Bridge Hill","Upper Quartile","Bridge HillUpper Quartile","Whole Suburb","Whole Suburb",550,null,"Property #2",null,null,"With Data",null,"No Data",null,"Error"]
["Alexandra","Earnscleugh","Bonds","EarnscleughBonds","Whole Suburb","Whole Suburb","",null,"Target Suburb",{"$f":"'Property Set Up'!D$15","v":0},null,"The median rent in ",null,"There was no data available about the rental market in ",null,"Rental data for your property's area will display here. Scroll back up and select a council area and suburb to see information about the rental market your property operates within."]
["Alexandra","Earnscleugh","Lower Quartile","EarnscleughLower Quartile","Whole Suburb","Whole Suburb","",null,"Bonds",{"$f":"VLOOKUP(J$18&I19,$D$1:$G$6573,4,FALSE)","v":{"$error":"#N/A"}},null,{"$f":"J18","v":0},null,{"$f":"J18&\", \"&J23","v":"0, 0"}]
["Alexandra","Earnscleugh","Median","EarnscleughMedian","Whole Suburb","Whole Suburb","",null,"Lower Quartile",{"$f":"VLOOKUP(J$18&I20,$D$1:$G$6573,4,FALSE)","v":{"$error":"#N/A"}},null," is ",null,"."]
["Alexandra","Earnscleugh","Upper Quartile","EarnscleughUpper Quartile","Whole Suburb","Whole Suburb","",null,"Median",{"$f":"VLOOKUP(J$18&I21,$D$1:$G$6573,4,FALSE)","v":{"$error":"#N/A"}},null,{"$f":"TEXT(J21,\"$#,##0;\")","v":{"$error":"#N/A"}}]
["Alexandra","Galloway","Bonds","GallowayBonds","Whole Suburb","Whole Suburb","",null,"Upper Quartile",{"$f":"VLOOKUP(J$18&I22,$D$1:$G$6573,4,FALSE)","v":{"$error":"#N/A"}},null," according to MBIE data of "]
["Alexandra","Galloway","Lower Quartile","GallowayLower Quartile","Whole Suburb","Whole Suburb","",null,"TA",{"$f":"'Property Set Up'!D13","v":0},null,{"$f":"J19","v":{"$error":"#N/A"}}]
["Alexandra","Galloway","Median","GallowayMedian","Whole Suburb","Whole Suburb","",null,null,null,null," bonds collected between Feb 2021 and July 2021. 25% of properties within the suburb rent for below "]
["Alexandra","Galloway","Upper Quartile","GallowayUpper Quartile","Whole Suburb","Whole Suburb","",null,null,null,null,{"$f":"TEXT(J20,\"$#,##0;\")","v":{"$error":"#N/A"}}]
["Amberley","Glasnevin","Bonds","GlasnevinBonds","Whole Suburb","Whole Suburb","",null,null,null,null,". And 25% of properties rent for above "]
["Amberley","Glasnevin","Lower Quartile","GlasnevinLower Quartile","Whole Suburb","Whole Suburb","",null,null,null,null,{"$f":"TEXT(J22,\"$#,##0;\")","v":{"$error":"#N/A"}}]
["Amberley","Glasnevin","Median","GlasnevinMedian","Whole Suburb","Whole Suburb","",null,null,null,null,"."]
["Amberley","Glasnevin","Upper Quartile","GlasnevinUpper Quartile","Whole Suburb","Whole Suburb","",null,null,null,null,{"$f":"CONCATENATE(L18,L19,L20,L21,L22,L23,L24,L25,L26,L27,L28)","v":{"$error":"#N/A"}},null,{"$f":"CONCATENATE(N18,N19,N20)","v":"There was no data available about the rental market in 0, 0."}]
["Amberley","Amberley","Bonds","AmberleyBonds","Whole Suburb","Whole Suburb",132]
["Amberley","Amberley","Lower Quartile","AmberleyLower Quartile","Whole Suburb","Whole Suburb",355,null,null,null,null,{"$f":"IF(J18=0,P18,IF(ISERROR(J19),N29,L29))","v":"Rental data for your property's area will display here. Scroll back up and select a council area and suburb to see information about the rental market your property operates within."}]
["Amberley","Amberley","Median","AmberleyMedian","Whole Suburb","Whole Suburb",400]
["Amberley","Amberley","Upper Quartile","AmberleyUpper Quartile","Whole Suburb","Whole Suburb",445,null,"Property #3",null,null,"With Data",null,"No Data",null,"Error"]
["Aokautere","Aokautere","Bonds","AokautereBonds","Whole Suburb","Whole Suburb",21,null,"Target Suburb",{"$f":"'Property Set Up'!E$15","v":0},null,"The median rent in ",null,"There was no data available about the rental market in ",null,"Rental data for your property's area will display here. Scroll back up and select a council area and suburb to see information about the rental market your property operates within."]
["Aokautere","Aokautere","Lower Quartile","AokautereLower Quartile","Whole Suburb","Whole Suburb",350,null,"Bonds",{"$f":"VLOOKUP(J$34&I35,$D$1:$G$6573,4,FALSE)","v":{"$error":"#N/A"}},null,{"$f":"J34","v":0},null,{"$f":"J34&\", \"&J39","v":"0, 0"}]
["Aokautere","Aokautere","Median","AokautereMedian","Whole Suburb","Whole Suburb",380,null,"Lower Quartile",{"$f":"VLOOKUP(J$34&I36,$D$1:$G$6573,4,FALSE)","v":{"$error":"#N/A"}},null," is ",null,"."]
["Aokautere","Aokautere","Upper Quartile","AokautereUpper Quartile","Whole Suburb","Whole Suburb",410,null,"Median",{"$f":"VLOOKUP(J$34&I37,$D$1:$G$6573,4,FALSE)","v":{"$error":"#N/A"}},null,{"$f":"TEXT(J37,\"$#,##0;\")","v":{"$error":"#N/A"}}]
["Aongatete","Aongatete","Bonds","AongateteBonds","Whole Suburb","Whole Suburb","",null,"Upper Quartile",{"$f":"VLOOKUP(J$34&I38,$D$1:$G$6573,4,FALSE)","v":{"$error":"#N/A"}},null," according to MBIE data of "]
["Aongatete","Aongatete","Lower Quartile","AongateteLower Quartile","Whole Suburb","Whole Suburb","",null,"TA",{"$f":"'Property Set Up'!E13","v":0},null,{"$f":"J35","v":{"$error":"#N/A"}}]
["Aongatete","Aongatete","Median","AongateteMedian","Whole Suburb","Whole Suburb","",null,null,null,null," bonds collected between Feb 2021 and July 2021. 25% of properties within the suburb rent for below "]
["Aongatete","Aongatete","Upper Quartile","AongateteUpper Quartile","Whole Suburb","Whole Suburb","",null,null,null,null,{"$f":"TEXT(J36,\"$#,##0;\")","v":{"$error":"#N/A"}}]
["Apiti","Apiti","Bonds","ApitiBonds","Whole Suburb","Whole Suburb","",null,null,null,null,". And 25% of properties rent for above "]
["Apiti","Apiti","Lower Quartile","ApitiLower Quartile","Whole Suburb","Whole Suburb","",null,null,null,null,{"$f":"TEXT(J38,\"$#,##0;\")","v":{"$error":"#N/A"}}]
["Apiti","Apiti","Median","ApitiMedian","Whole Suburb","Whole Suburb","",null,null,null,null,"."]
["Apiti","Apiti","Upper Quartile","ApitiUpper Quartile","Whole Suburb","Whole Suburb","",null,null,null,null,{"$f":"CONCATENATE(L34,L35,L36,L37,L38,L39,L40,L41,L42,L43,L44)","v":{"$error":"#N/A"}},null,{"$f":"CONCATENATE(N34,N35,N36)","v":"There was no data available about the rental market in 0, 0."}]
["Aria","Aria","Bonds","AriaBonds","Whole Suburb","Whole Suburb",""]
["Aria","Aria","Lower Quartile","AriaLower Quartile","Whole Suburb","Whole Suburb","",null,null,null,null,{"$f":"IF(J34=0,P34,IF(ISERROR(J35),N45,L45))","v":"Rental data for your property's area will display here. Scroll back up and select a council area and suburb to see information about the rental market your property operates within."}]
["Aria","Aria","Median","AriaMedian","Whole Suburb","Whole Suburb",""]
["Aria","Aria","Upper Quartile","AriaUpper Quartile","Whole Suburb","Whole Suburb",""]
["Arnold Valley","Arnold Valley","Bonds","Arnold ValleyBonds","Whole Suburb","Whole Suburb",""]
["Arnold Valley","Arnold Valley","Lower Quartile","Arnold ValleyLower Quartile","Whole Suburb","Whole Suburb",""]
["Arnold Valley","Arnold Valley","Median","Arnold ValleyMedian","Whole Suburb","Whole Suburb",""]
["Arnold Valley","Arnold Valley","Upper Quartile","Arnold ValleyUpper Quartile","Whole Suburb","Whole Suburb",""]
["Arrowtown","Arrowtown","Bonds","ArrowtownBonds","Whole Suburb","Whole Suburb",318]
["Arrowtown","Arrowtown","Lower Quartile","ArrowtownLower Quartile","Whole Suburb","Whole Suburb",491]
["Arrowtown","Arrowtown","Median","ArrowtownMedian","Whole Suburb","Whole Suburb",595]
["Arrowtown","Arrowtown","Upper Quartile","ArrowtownUpper Quartile","Whole Suburb","Whole Suburb",653]
["Ashburton","Willowby","Bonds","WillowbyBonds","Whole Suburb","Whole Suburb",""]
["Ashburton","Willowby","Lower Quartile","WillowbyLower Quartile","Whole Suburb","Whole Suburb",""]
["Ashburton","Willowby","Median","WillowbyMedian","Whole Suburb","Whole Suburb",""]
["Ashburton","Willowby","Upper Quartile","WillowbyUpper Quartile","Whole Suburb","Whole Suburb",""]
["Ashburton","Winchmore","Bonds","WinchmoreBonds","Whole Suburb","Whole Suburb",""]
["Ashburton","Winchmore","Lower Quartile","WinchmoreLower Quartile","Whole Suburb","Whole Suburb",""]
["Ashburton","Winchmore","Median","WinchmoreMedian","Whole Suburb","Whole Suburb",""]
["Ashburton","Winchmore","Upper Quartile","WinchmoreUpper Quartile","Whole Suburb","Whole Suburb",""]
["Ashburton","Tinwald","Bonds",{"$f":"B66&C66","v":"TinwaldBonds"},"Whole Suburb","Whole Suburb",264]
["Ashburton","Tinwald","Lower Quartile","TinwaldLower Quartile","Whole Suburb","Whole Suburb",363]
["Ashburton","Tinwald","Median","TinwaldMedian","Whole Suburb","Whole Suburb",380]
["Ashburton","Tinwald","Upper Quartile","TinwaldUpper Quartile","Whole Suburb","Whole Suburb",400]
["Ashburton","Hampstead","Bonds","HampsteadBonds","Whole Suburb","Whole Suburb",273]
["Ashburton","Hampstead","Lower Quartile","HampsteadLower Quartile","Whole Suburb","Whole Suburb",330]
["Ashburton","Hampstead","Median","HampsteadMedian","Whole Suburb","Whole Suburb",360]
["Ashburton","Hampstead","Upper Quartile","HampsteadUpper Quartile","Whole Suburb","Whole Suburb",385]
["Ashburton","Mayfield","Bonds","MayfieldBonds","Whole Suburb","Whole Suburb",""]
["Ashburton","Mayfield","Lower Quartile","MayfieldLower Quartile","Whole Suburb","Whole Suburb",""]
["Ashburton","Mayfield","Median","MayfieldMedian","Whole Suburb","Whole Suburb",""]
["Ashburton","Mayfield","Upper Quartile","MayfieldUpper Quartile","Whole Suburb","Whole Suburb",""]
["Ashburton","Mitcham","Bonds","MitchamBonds","Whole Suburb","Whole Suburb",""]
["Ashburton","Mitcham","Lower Quartile","MitchamLower Quartile","Whole Suburb","Whole Suburb",""]
["Ashburton","Mitcham","Median","MitchamMedian","Whole Suburb","Whole Suburb",""]
["Ashburton","Mitcham","Upper Quartile","MitchamUpper Quartile","Whole Suburb","Whole Suburb",""]
["Ashburton","Netherby","Bonds","NetherbyBonds","Whole Suburb","Whole Suburb",153]
["Ashburton","Netherby","Lower Quartile","NetherbyLower Quartile","Whole Suburb","Whole Suburb",360]
["Ashburton","Netherby","Median","NetherbyMedian","Whole Suburb","Whole Suburb",370]
["Ashburton","Netherby","Upper Quartile","NetherbyUpper Quartile","Whole Suburb","Whole Suburb",400]
["Ashburton","Chertsey","Bonds","ChertseyBonds","Whole Suburb","Whole Suburb",""]
["Ashburton","Chertsey","Lower Quartile","ChertseyLower Quartile","Whole Suburb","Whole Suburb",""]
["Ashburton","Chertsey","Median","ChertseyMedian","Whole Suburb","Whole Suburb",""]
["Ashburton","Chertsey","Upper Quartile","ChertseyUpper Quartile","Whole Suburb","Whole Suburb",""]
["Ashburton","Ealing","Bonds","EalingBonds","Whole Suburb","Whole Suburb",""]
["Ashburton","Ealing","Lower Quartile","EalingLower Quartile","Whole Suburb","Whole Suburb",""]
["Ashburton","Ealing","Median","EalingMedian","Whole Suburb","Whole Suburb",""]
["Ashburton","Ealing","Upper Quartile","EalingUpper Quartile","Whole Suburb","Whole Suburb",""]
["Ashburton","Elgin","Bonds","ElginBonds","Whole Suburb","Whole Suburb",""]
["Ashburton","Elgin","Lower Quartile","ElginLower Quartile","Whole Suburb","Whole Suburb",""]
["Ashburton","Elgin","Median","ElginMedian","Whole Suburb","Whole Suburb",""]
["Ashburton","Elgin","Upper Quartile","ElginUpper Quartile","Whole Suburb","Whole Suburb",""]
["Ashburton","Wakanui","Bonds","WakanuiBonds","Whole Suburb","Whole Suburb",""]
["Ashburton","Wakanui","Lower Quartile","WakanuiLower Quartile","Whole Suburb","Whole Suburb",""]
["Ashburton","Wakanui","Median","WakanuiMedian","Whole Suburb","Whole Suburb",""]
["Ashburton","Wakanui","Upper Quartile","WakanuiUpper Quartile","Whole Suburb","Whole Suburb",""]
["Ashburton","Huntingdon","Bonds","HuntingdonBonds","Whole Suburb","Whole Suburb",""]
["Ashburton","Huntingdon","Lower Quartile","HuntingdonLower Quartile","Whole Suburb","Whole Suburb",""]
["Ashburton","Huntingdon","Median","HuntingdonMedian","Whole Suburb","Whole Suburb",""]
["Ashburton","Huntingdon","Upper Quartile","HuntingdonUpper Quartile","Whole Suburb","Whole Suburb",""]
["Ashburton","Hinds","Bonds","HindsBonds","Whole Suburb","Whole Suburb",""]
["Ashburton","Hinds","Lower Quartile","HindsLower Quartile","Whole Suburb","Whole Suburb",""]
["Ashburton","Hinds","Median","HindsMedian","Whole Suburb","Whole Suburb",""]
["Ashburton","Hinds","Upper Quartile","HindsUpper Quartile","Whole Suburb","Whole Suburb",""]
["Ashburton","Allenton","Bonds","AllentonBonds","Whole Suburb","Whole Suburb",474]
["Ashburton","Allenton","Lower Quartile","AllentonLower Quartile","Whole Suburb","Whole Suburb",315]
["Ashburton","Allenton","Median","AllentonMedian","Whole Suburb","Whole Suburb",380]
["Ashburton","Allenton","Upper Quartile","AllentonUpper Quartile","Whole Suburb","Whole Suburb",400]
["Ashburton","Ashburton","Bonds","AshburtonBonds","Whole Suburb","Whole Suburb",390]
["Ashburton","Ashburton","Lower Quartile","AshburtonLower Quartile","Whole Suburb","Whole Suburb",325]
["Ashburton","Ashburton","Median","AshburtonMedian","Whole Suburb","Whole Suburb",350]
["Ashburton","Ashburton","Upper Quartile","AshburtonUpper Quartile","Whole Suburb","Whole Suburb",370]
["Ashburton","Ashburton Forks","Bonds","Ashburton ForksBonds","Whole Suburb","Whole Suburb",""]
["Ashburton","Ashburton Forks","Lower Quartile","Ashburton ForksLower Quartile","Whole Suburb","Whole Suburb",""]
["Ashburton","Ashburton Forks","Median","Ashburton ForksMedian","Whole Suburb","Whole Suburb",""]
["Ashburton","Ashburton Forks","Upper Quartile","Ashburton ForksUpper Quartile","Whole Suburb","Whole Suburb",""]
["Ashhurst","Pohangina","Bonds","PohanginaBonds","Whole Suburb","Whole Suburb",""]
["Ashhurst","Pohangina","Lower Quartile","PohanginaLower Quartile","Whole Suburb","Whole Suburb",""]
["Ashhurst","Pohangina","Median","PohanginaMedian","Whole Suburb","Whole Suburb",""]
["Ashhurst","Pohangina","Upper Quartile","PohanginaUpper Quartile","Whole Suburb","Whole Suburb",""]
["Ashhurst","Ashhurst","Bonds","AshhurstBonds","Whole Suburb","Whole Suburb",165]
["Ashhurst","Ashhurst","Lower Quartile","AshhurstLower Quartile","Whole Suburb","Whole Suburb",408]
["Ashhurst","Ashhurst","Median","AshhurstMedian","Whole Suburb","Whole Suburb",485]
["Ashhurst","Ashhurst","Upper Quartile","AshhurstUpper Quartile","Whole Suburb","Whole Suburb",564]
["Atiamuri","Atiamuri","Bonds",{"$f":"B130&C130","v":"AtiamuriBonds"},"Whole Suburb","Whole Suburb",""]
["Atiamuri","Atiamuri","Lower Quartile","AtiamuriLower Quartile","Whole Suburb","Whole Suburb",""]
["Atiamuri","Atiamuri","Median","AtiamuriMedian","Whole Suburb","Whole Suburb",""]
["Atiamuri","Atiamuri","Upper Quartile","AtiamuriUpper Quartile","Whole Suburb","Whole Suburb",""]
["Auckland","Clendon Park","Bonds","Clendon ParkBonds","Whole Suburb","Whole Suburb",768]
["Auckland","Clendon Park","Lower Quartile","Clendon ParkLower Quartile","Whole Suburb","Whole Suburb",530]
["Auckland","Clendon Park","Median","Clendon ParkMedian","Whole Suburb","Whole Suburb",560]
["Auckland","Clendon Park","Upper Quartile","Clendon ParkUpper Quartile","Whole Suburb","Whole Suburb",625]
["Auckland","Dannemora","Bonds","DannemoraBonds","Whole Suburb","Whole Suburb",234]
["Auckland","Dannemora","Lower Quartile","DannemoraLower Quartile","Whole Suburb","Whole Suburb",650]
["Auckland","Dannemora","Median","DannemoraMedian","Whole Suburb","Whole Suburb",720]
["Auckland","Dannemora","Upper Quartile","DannemoraUpper Quartile","Whole Suburb","Whole Suburb",780]
["Auckland","Rosedale","Bonds","RosedaleBonds","Whole Suburb","Whole Suburb",156]
["Auckland","Rosedale","Lower Quartile","RosedaleLower Quartile","Whole Suburb","Whole Suburb",450]
["Auckland","Rosedale","Median","RosedaleMedian","Whole Suburb","Whole Suburb",575]
["Auckland","Rosedale","Upper Quartile","RosedaleUpper Quartile","Whole Suburb","Whole Suburb",669]
["Auckland","Titirangi","Bonds","TitirangiBonds","Whole Suburb","Whole Suburb",861]
["Auckland","Titirangi","Lower Quartile","TitirangiLower Quartile","Whole Suburb","Whole Suburb",480]
["Auckland","Titirangi","Median","TitirangiMedian","Whole Suburb","Whole Suburb",610]
["Auckland","Titirangi","Upper Quartile","TitirangiUpper Quartile","Whole Suburb","Whole Suburb",730]
["Auckland","Mount Albert","Bonds","Mount AlbertBonds","Whole Suburb","Whole Suburb",2634]
["Auckland","Mount Albert","Lower Quartile","Mount AlbertLower Quartile","Whole Suburb","Whole Suburb",480]
["Auckland","Mount Albert","Median","Mount AlbertMedian","Whole Suburb","Whole Suburb",550]
["Auckland","Mount Albert","Upper Quartile","Mount AlbertUpper Quartile","Whole Suburb","Whole Suburb",690]
["Auckland","Mount Eden","Bonds","Mount EdenBonds","Whole Suburb","Whole Suburb",4284]
["Auckland","Mount Eden","Lower Quartile","Mount EdenLower Quartile","Whole Suburb","Whole Suburb",450]
["Auckland","Mount Eden","Median","Mount EdenMedian","Whole Suburb","Whole Suburb",580]
["Auckland","Mount Eden","Upper Quartile","Mount EdenUpper Quartile","Whole Suburb","Whole Suburb",750]
["Auckland","Mangere Bridge","Bonds","Mangere BridgeBonds","Whole Suburb","Whole Suburb",882]
["Auckland","Mangere Bridge","Lower Quartile","Mangere BridgeLower Quartile","Whole Suburb","Whole Suburb",410]
["Auckland","Mangere Bridge","Median","Mangere BridgeMedian","Whole Suburb","Whole Suburb",590]
["Auckland","Mangere Bridge","Upper Quartile","Mangere BridgeUpper Quartile","Whole Suburb","Whole Suburb",668]
["Auckland","Mangere East","Bonds","Mangere EastBonds","Whole Suburb","Whole Suburb",1767]
["Auckland","Mangere East","Lower Quartile","Mangere EastLower Quartile","Whole Suburb","Whole Suburb",350]
["Auckland","Mangere East","Median","Mangere EastMedian","Whole Suburb","Whole Suburb",500]
["Auckland","Mangere East","Upper Quartile","Mangere EastUpper Quartile","Whole Suburb","Whole Suburb",620]
["Auckland","Pakuranga","Bonds","PakurangaBonds","Whole Suburb","Whole Suburb",1062]
["Auckland","Pakuranga","Lower Quartile","PakurangaLower Quartile","Whole Suburb","Whole Suburb",505]
["Auckland","Pakuranga","Median","PakurangaMedian","Whole Suburb","Whole Suburb",590]
["Auckland","Pakuranga","Upper Quartile","PakurangaUpper Quartile","Whole Suburb","Whole Suburb",673]
["Auckland","Te Atatu Peninsula","Bonds","Te Atatu PeninsulaBonds","Whole Suburb","Whole Suburb",1257]
["Auckland","Te Atatu Peninsula","Lower Quartile","Te Atatu PeninsulaLower Quartile","Whole Suburb","Whole Suburb",550]
["Auckland","Te Atatu Peninsula","Median","Te Atatu PeninsulaMedian","Whole Suburb","Whole Suburb",598]
["Auckland","Te Atatu Peninsula","Upper Quartile","Te Atatu PeninsulaUpper Quartile","Whole Suburb","Whole Suburb",650]
["Auckland","Massey","Bonds","MasseyBonds","Whole Suburb","Whole Suburb",2298]
["Auckland","Massey","Lower Quartile","MasseyLower Quartile","Whole Suburb","Whole Suburb",500]
["Auckland","Massey","Median","MasseyMedian","Whole Suburb","Whole Suburb",580]
["Auckland","Massey","Upper Quartile","MasseyUpper Quartile","Whole Suburb","Whole Suburb",650]
["Auckland","Mellons Bay","Bonds","Mellons BayBonds","Whole Suburb","Whole Suburb",267]
["Auckland","Mellons Bay","Lower Quartile","Mellons BayLower Quartile","Whole Suburb","Whole Suburb",540]
["Auckland","Mellons Bay","Median","Mellons BayMedian","Whole Suburb","Whole Suburb",660]
["Auckland","Mellons Bay","Upper Quartile","Mellons BayUpper Quartile","Whole Suburb","Whole Suburb",750]
["Auckland","Mission Bay","Bonds","Mission BayBonds","Whole Suburb","Whole Suburb",630]
["Auckland","Mission Bay","Lower Quartile","Mission BayLower Quartile","Whole Suburb","Whole Suburb",595]
["Auckland","Mission Bay","Median","Mission BayMedian","Whole Suburb","Whole Suburb",765]
["Auckland","Mission Bay","Upper Quartile","Mission BayUpper Quartile","Whole Suburb","Whole Suburb",908]
["Auckland","Murrays Bay","Bonds","Murrays BayBonds","Whole Suburb","Whole Suburb",366]
["Auckland","Murrays Bay","Lower Quartile","Murrays BayLower Quartile","Whole Suburb","Whole Suburb",615]
["Auckland","Murrays Bay","Median","Murrays BayMedian","Whole Suburb","Whole Suburb",695]
["Auckland","Murrays Bay","Upper Quartile","Murrays BayUpper Quartile","Whole Suburb","Whole Suburb",900]
["Auckland","Ponsonby","Bonds","PonsonbyBonds","Whole Suburb","Whole Suburb",780]
["Auckland","Ponsonby","Lower Quartile","PonsonbyLower Quartile","Whole Suburb","Whole Suburb",550]
["Auckland","Ponsonby","Median","PonsonbyMedian","Whole Suburb","Whole Suburb",850]
["Auckland","Ponsonby","Upper Quartile","PonsonbyUpper Quartile","Whole Suburb","Whole Suburb",1013]
["Auckland","Whenuapai","Bonds",{"$f":"B194&C194","v":"WhenuapaiBonds"},"Whole Suburb","Whole Suburb",258]
["Auckland","Whenuapai","Lower Quartile","WhenuapaiLower Quartile","Whole Suburb","Whole Suburb",571]
["Auckland","Whenuapai","Median","WhenuapaiMedian","Whole Suburb","Whole Suburb",740]
["Auckland","Whenuapai","Upper Quartile","WhenuapaiUpper Quartile","Whole Suburb","Whole Suburb",800]
["Auckland","Windsor Park","Bonds","Windsor ParkBonds","Whole Suburb","Whole Suburb",234]
["Auckland","Windsor Park","Lower Quartile","Windsor ParkLower Quartile","Whole Suburb","Whole Suburb",638]
["Auckland","Windsor Park","Median","Windsor ParkMedian","Whole Suburb","Whole Suburb",685]
["Auckland","Windsor Park","Upper Quartile","Windsor ParkUpper Quartile","Whole Suburb","Whole Suburb",736]
["Auckland","Wiri","Bonds","WiriBonds","Whole Suburb","Whole Suburb",267]
["Auckland","Wiri","Lower Quartile","WiriLower Quartile","Whole Suburb","Whole Suburb",470]
["Auckland","Wiri","Median","WiriMedian","Whole Suburb","Whole Suburb",530]
["Auckland","Wiri","Upper Quartile","WiriUpper Quartile","Whole Suburb","Whole Suburb",570]
["Auckland","Auckland Central","Bonds","Auckland CentralBonds","Whole Suburb","Whole Suburb",14823]
["Auckland","Auckland Central","Lower Quartile","Auckland CentralLower Quartile","Whole Suburb","Whole Suburb",360]
["Auckland","Auckland Central","Median","Auckland CentralMedian","Whole Suburb","Whole Suburb",430]
["Auckland","Auckland Central","Upper Quartile","Auckland CentralUpper Quartile","Whole Suburb","Whole Suburb",550]
["Auckland","Birkdale","Bonds","BirkdaleBonds","Whole Suburb","Whole Suburb",960]
["Auckland","Birkdale","Lower Quartile","BirkdaleLower Quartile","Whole Suburb","Whole Suburb",520]
["Auckland","Birkdale","Median","BirkdaleMedian","Whole Suburb","Whole Suburb",580]
["Auckland","Birkdale","Upper Quartile","BirkdaleUpper Quartile","Whole Suburb","Whole Suburb",633]
["Auckland","East Tamaki","Bonds","East TamakiBonds","Whole Suburb","Whole Suburb",981]
["Auckland","East Tamaki","Lower Quartile","East TamakiLower Quartile","Whole Suburb","Whole Suburb",521]
["Auckland","East Tamaki","Median","East TamakiMedian","Whole Suburb","Whole Suburb",580]
["Auckland","East Tamaki","Upper Quartile","East TamakiUpper Quartile","Whole Suburb","Whole Suburb",700]
["Auckland","Eden Terrace","Bonds","Eden TerraceBonds","Whole Suburb","Whole Suburb",1521]
["Auckland","Eden Terrace","Lower Quartile","Eden TerraceLower Quartile","Whole Suburb","Whole Suburb",410]
["Auckland","Eden Terrace","Median","Eden TerraceMedian","Whole Suburb","Whole Suburb",530]
["Auckland","Eden Terrace","Upper Quartile","Eden TerraceUpper Quartile","Whole Suburb","Whole Suburb",615]
["Auckland","Swanson","Bonds","SwansonBonds","Whole Suburb","Whole Suburb",261]
["Auckland","Swanson","Lower Quartile","SwansonLower Quartile","Whole Suburb","Whole Suburb",520]
["Auckland","Swanson","Median","SwansonMedian","Whole Suburb","Whole Suburb",550]
["Auckland","Swanson","Upper Quartile","SwansonUpper Quartile","Whole Suburb","Whole Suburb",660]
["Auckland","Randwick Park","Bonds","Randwick ParkBonds","Whole Suburb","Whole Suburb",546]
["Auckland","Randwick Park","Lower Quartile","Randwick ParkLower Quartile","Whole Suburb","Whole Suburb",546]
["Auckland","Randwick Park","Median","Randwick ParkMedian","Whole Suburb","Whole Suburb",580]
["Auckland","Randwick Park","Upper Quartile","Randwick ParkUpper Quartile","Whole Suburb","Whole Suburb",630]
["Auckland","Royal Oak","Bonds","Royal OakBonds","Whole Suburb","Whole Suburb",798]
["Auckland","Royal Oak","Lower Quartile","Royal OakLower Quartile","Whole Suburb","Whole Suburb",468]
["Auckland","Royal Oak","Median","Royal OakMedian","Whole Suburb","Whole Suburb",550]
["Auckland","Royal Oak","Upper Quartile","Royal OakUpper Quartile","Whole Suburb","Whole Suburb",705]
["Auckland","Saint Marys Bay","Bonds","Saint Marys BayBonds","Whole Suburb","Whole Suburb",285]
["Auckland","Saint Marys Bay","Lower Quartile","Saint Marys BayLower Quartile","Whole Suburb","Whole Suburb",460]
["Auckland","Saint Marys Bay","Median","Saint Marys BayMedian","Whole Suburb","Whole Suburb",599]
["Auckland","Saint Marys Bay","Upper Quartile","Saint Marys BayUpper Quartile","Whole Suburb","Whole Suburb",1060]
["Auckland","Stanley Point","Bonds","Stanley PointBonds","Whole Suburb","Whole Suburb",138]
["Auckland","Stanley Point","Lower Quartile","Stanley PointLower Quartile","Whole Suburb","Whole Suburb",550]
["Auckland","Stanley Point","Median","Stanley PointMedian","Whole Suburb","Whole Suburb",670]
["Auckland","Stanley Point","Upper Quartile","Stanley PointUpper Quartile","Whole Suburb","Whole Suburb",825]
["Auckland","Sunnynook","Bonds","SunnynookBonds","Whole Suburb","Whole Suburb",678]
["Auckland","Sunnynook","Lower Quartile","SunnynookLower Quartile","Whole Suburb","Whole Suburb",570]
["Auckland","Sunnynook","Median","SunnynookMedian","Whole Suburb","Whole Suburb",620]
["Auckland","Sunnynook","Upper Quartile","SunnynookUpper Quartile","Whole Suburb","Whole Suburb",690]
["Auckland","Torbay","Bonds","TorbayBonds","Whole Suburb","Whole Suburb",1260]
["Auckland","Torbay","Lower Quartile","TorbayLower Quartile","Whole Suburb","Whole Suburb",560]
["Auckland","Torbay","Median","TorbayMedian","Whole Suburb","Whole Suburb",650]
["Auckland","Torbay","Upper Quartile","TorbayUpper Quartile","Whole Suburb","Whole Suburb",750]
["Auckland","Brookby","Bonds","BrookbyBonds","Whole Suburb","Whole Suburb",27]
["Auckland","Brookby","Lower Quartile","BrookbyLower Quartile","Whole Suburb","Whole Suburb",540]
["Auckland","Brookby","Median","BrookbyMedian","Whole Suburb","Whole Suburb",550]
["Auckland","Brookby","Upper Quartile","BrookbyUpper Quartile","Whole Suburb","Whole Suburb",740]
["Auckland","Campbells Bay","Bonds","Campbells BayBonds","Whole Suburb","Whole Suburb",186]
["Auckland","Campbells Bay","Lower Quartile","Campbells BayLower Quartile","Whole Suburb","Whole Suburb",685]
["Auckland","Campbells Bay","Median","Campbells BayMedian","Whole Suburb","Whole Suburb",825]
["Auckland","Campbells Bay","Upper Quartile","Campbells BayUpper Quartile","Whole Suburb","Whole Suburb",990]
["Auckland","Castor Bay","Bonds",{"$f":"B258&C258","v":"Castor BayBonds"},"Whole Suburb","Whole Suburb",405]
["Auckland","Castor Bay","Lower Quartile","Castor BayLower Quartile","Whole Suburb","Whole Suburb",700]
["Auckland","Castor Bay","Median","Castor BayMedian","Whole Suburb","Whole Suburb",810]
["Auckland","Castor Bay","Upper Quartile","Castor BayUpper Quartile","Whole Suburb","Whole Suburb",950]
["Auckland","Cockle Bay","Bonds","Cockle BayBonds","Whole Suburb","Whole Suburb",342]
["Auckland","Cockle Bay","Lower Quartile","Cockle BayLower Quartile","Whole Suburb","Whole Suburb",500]
["Auckland","Cockle Bay","Median","Cockle BayMedian","Whole Suburb","Whole Suburb",570]
["Auckland","Cockle Bay","Upper Quartile","Cockle BayUpper Quartile","Whole Suburb","Whole Suburb",650]
["Auckland","Beachlands","Bonds","BeachlandsBonds","Whole Suburb","Whole Suburb",540]
["Auckland","Beachlands","Lower Quartile","BeachlandsLower Quartile","Whole Suburb","Whole Suburb",550]
["Auckland","Beachlands","Median","BeachlandsMedian","Whole Suburb","Whole Suburb",690]
["Auckland","Beachlands","Upper Quartile","BeachlandsUpper Quartile","Whole Suburb","Whole Suburb",765]
["Auckland","Waterview","Bonds","WaterviewBonds","Whole Suburb","Whole Suburb",372]
["Auckland","Waterview","Lower Quartile","WaterviewLower Quartile","Whole Suburb","Whole Suburb",480]
["Auckland","Waterview","Median","WaterviewMedian","Whole Suburb","Whole Suburb",590]
["Auckland","Waterview","Upper Quartile","WaterviewUpper Quartile","Whole Suburb","Whole Suburb",685]
["Auckland","Sunnyhills","Bonds","SunnyhillsBonds","Whole Suburb","Whole Suburb",372]
["Auckland","Sunnyhills","Lower Quartile","SunnyhillsLower Quartile","Whole Suburb","Whole Suburb",535]
["Auckland","Sunnyhills","Median","SunnyhillsMedian","Whole Suburb","Whole Suburb",600]
["Auckland","Sunnyhills","Upper Quartile","SunnyhillsUpper Quartile","Whole Suburb","Whole Suburb",699]
["Auckland","Meadowbank","Bonds","MeadowbankBonds","Whole Suburb","Whole Suburb",570]
["Auckland","Meadowbank","Lower Quartile","MeadowbankLower Quartile","Whole Suburb","Whole Suburb",490]
["Auckland","Meadowbank","Median","MeadowbankMedian","Whole Suburb","Whole Suburb",600]
["Auckland","Meadowbank","Upper Quartile","MeadowbankUpper Quartile","Whole Suburb","Whole Suburb",818]
["Auckland","Mount Wellington","Bonds","Mount WellingtonBonds","Whole Suburb","Whole Suburb",3702]
["Auckland","Mount Wellington","Lower Quartile","Mount WellingtonLower Quartile","Whole Suburb","Whole Suburb",480]
["Auckland","Mount Wellington","Median","Mount WellingtonMedian","Whole Suburb","Whole Suburb",570]
["Auckland","Mount Wellington","Upper Quartile","Mount WellingtonUpper Quartile","Whole Suburb","Whole Suburb",650]
["Auckland","Narrow Neck","Bonds","Narrow NeckBonds","Whole Suburb","Whole Suburb",180]
["Auckland","Narrow Neck","Lower Quartile","Narrow NeckLower Quartile","Whole Suburb","Whole Suburb",560]
["Auckland","Narrow Neck","Median","Narrow NeckMedian","Whole Suburb","Whole Suburb",700]
["Auckland","Narrow Neck","Upper Quartile","Narrow NeckUpper Quartile","Whole Suburb","Whole Suburb",870]
["Auckland","New Lynn","Bonds","New LynnBonds","Whole Suburb","Whole Suburb",2649]
["Auckland","New Lynn","Lower Quartile","New LynnLower Quartile","Whole Suburb","Whole Suburb",465]
["Auckland","New Lynn","Median","New LynnMedian","Whole Suburb","Whole Suburb",550]
["Auckland","New Lynn","Upper Quartile","New LynnUpper Quartile","Whole Suburb","Whole Suburb",600]
["Auckland","New Windsor","Bonds","New WindsorBonds","Whole Suburb","Whole Suburb",642]
["Auckland","New Windsor","Lower Quartile","New WindsorLower Quartile","Whole Suburb","Whole Suburb",525]
["Auckland","New Windsor","Median","New WindsorMedian","Whole Suburb","Whole Suburb",600]
["Auckland","New Windsor","Upper Quartile","New WindsorUpper Quartile","Whole Suburb","Whole Suburb",660]
["Auckland","Browns Bay","Bonds","Browns BayBonds","Whole Suburb","Whole Suburb",1329]
["Auckland","Browns Bay","Lower Quartile","Browns BayLower Quartile","Whole Suburb","Whole Suburb",530]
["Auckland","Browns Bay","Median","Browns BayMedian","Whole Suburb","Whole Suburb",630]
["Auckland","Browns Bay","Upper Quartile","Browns BayUpper Quartile","Whole Suburb","Whole Suburb",710]
["Auckland","Manurewa","Bonds","ManurewaBonds","Whole Suburb","Whole Suburb",3651]
["Auckland","Manurewa","Lower Quartile","ManurewaLower Quartile","Whole Suburb","Whole Suburb",500]
["Auckland","Manurewa","Median","ManurewaMedian","Whole Suburb","Whole Suburb",580]
["Auckland","Manurewa","Upper Quartile","ManurewaUpper Quartile","Whole Suburb","Whole Suburb",650]
["Auckland","Manurewa East","Bonds","Manurewa EastBonds","Whole Suburb","Whole Suburb",342]
["Auckland","Manurewa East","Lower Quartile","Manurewa EastLower Quartile","Whole Suburb","Whole Suburb",481]
["Auckland","Manurewa East","Median","Manurewa EastMedian","Whole Suburb","Whole Suburb",555]
["Auckland","Manurewa East","Upper Quartile","Manurewa EastUpper Quartile","Whole Suburb","Whole Suburb",638]
["Auckland","Unsworth Heights","Bonds","Unsworth HeightsBonds","Whole Suburb","Whole Suburb",615]
["Auckland","Unsworth Heights","Lower Quartile","Unsworth HeightsLower Quartile","Whole Suburb","Whole Suburb",580]
["Auckland","Unsworth Heights","Median","Unsworth HeightsMedian","Whole Suburb","Whole Suburb",650]
["Auckland","Unsworth Heights","Upper Quartile","Unsworth HeightsUpper Quartile","Whole Suburb","Whole Suburb",754]
["Auckland","Wai O Taiki Bay","Bonds","Wai O Taiki BayBonds","Whole Suburb","Whole Suburb",87]
["Auckland","Wai O Taiki Bay","Lower Quartile","Wai O Taiki BayLower Quartile","Whole Suburb","Whole Suburb",630]
["Auckland","Wai O Taiki Bay","Median","Wai O Taiki BayMedian","Whole Suburb","Whole Suburb",690]
["Auckland","Wai O Taiki Bay","Upper Quartile","Wai O Taiki BayUpper Quartile","Whole Suburb","Whole Suburb",820]
["Auckland","Waiake","Bonds","WaiakeBonds","Whole Suburb","Whole Suburb",123]
["Auckland","Waiake","Lower Quartile","WaiakeLower Quartile","Whole Suburb","Whole Suburb",579]
["Auckland","Waiake","Median","WaiakeMedian","Whole Suburb","Whole Suburb",700]
["Auckland","Waiake","Upper Quartile","WaiakeUpper Quartile","Whole Suburb","Whole Suburb",810]
["Auckland","Waiatarua","Bonds",{"$f":"B322&C322","v":"WaiataruaBonds"},"Whole Suburb","Whole Suburb",39]
["Auckland","Waiatarua","Lower Quartile","WaiataruaLower Quartile","Whole Suburb","Whole Suburb",461]
["Auckland","Waiatarua","Median","WaiataruaMedian","Whole Suburb","Whole Suburb",650]
["Auckland","Waiatarua","Upper Quartile","WaiataruaUpper Quartile","Whole Suburb","Whole Suburb",855]
["Auckland","Ellerslie","Bonds","EllerslieBonds","Whole Suburb","Whole Suburb",1443]
["Auckland","Ellerslie","Lower Quartile","EllerslieLower Quartile","Whole Suburb","Whole Suburb",545]
["Auckland","Ellerslie","Median","EllerslieMedian","Whole Suburb","Whole Suburb",635]
["Auckland","Ellerslie","Upper Quartile","EllerslieUpper Quartile","Whole Suburb","Whole Suburb",733]
["Auckland","Karekare","Bonds","KarekareBonds","Whole Suburb","Whole Suburb",27]
["Auckland","Karekare","Lower Quartile","KarekareLower Quartile","Whole Suburb","Whole Suburb",265]
["Auckland","Karekare","Median","KarekareMedian","Whole Suburb","Whole Suburb",265]
["Auckland","Karekare","Upper Quartile","KarekareUpper Quartile","Whole Suburb","Whole Suburb",554]
["Auckland","Maraetai","Bonds","MaraetaiBonds","Whole Suburb","Whole Suburb",204]
["Auckland","Maraetai","Lower Quartile","MaraetaiLower Quartile","Whole Suburb","Whole Suburb",550]
["Auckland","Maraetai","Median","MaraetaiMedian","Whole Suburb","Whole Suburb",580]
["Auckland","Maraetai","Upper Quartile","MaraetaiUpper Quartile","Whole Suburb","Whole Suburb",698]
["Auckland","Avondale","Bonds","AvondaleBonds","Whole Suburb","Whole Suburb",2259]
["Auckland","Avondale","Lower Quartile","AvondaleLower Quartile","Whole Suburb","Whole Suburb",480]
["Auckland","Avondale","Median","AvondaleMedian","Whole Suburb","Whole Suburb",590]
["Auckland","Avondale","Upper Quartile","AvondaleUpper Quartile","Whole Suburb","Whole Suburb",680]
["Auckland","Fairview Heights","Bonds","Fairview HeightsBonds","Whole Suburb","Whole Suburb",216]
["Auckland","Fairview Heights","Lower Quartile","Fairview HeightsLower Quartile","Whole Suburb","Whole Suburb",548]
["Auckland","Fairview Heights","Median","Fairview HeightsMedian","Whole Suburb","Whole Suburb",775]
["Auckland","Fairview Heights","Upper Quartile","Fairview HeightsUpper Quartile","Whole Suburb","Whole Suburb",913]
["Auckland","Glendowie","Bonds","GlendowieBonds","Whole Suburb","Whole Suburb",528]
["Auckland","Glendowie","Lower Quartile","GlendowieLower Quartile","Whole Suburb","Whole Suburb",536]
["Auckland","Glendowie","Median","GlendowieMedian","Whole Suburb","Whole Suburb",745]
["Auckland","Glendowie","Upper Quartile","GlendowieUpper Quartile","Whole Suburb","Whole Suburb",996]
["Auckland","Totara Vale","Bonds","Totara ValeBonds","Whole Suburb","Whole Suburb",813]
["Auckland","Totara Vale","Lower Quartile","Totara ValeLower Quartile","Whole Suburb","Whole Suburb",533]
["Auckland","Totara Vale","Median","Totara ValeMedian","Whole Suburb","Whole Suburb",600]
["Auckland","Totara Vale","Upper Quartile","Totara ValeUpper Quartile","Whole Suburb","Whole Suburb",650]
["Auckland","Burswood","Bonds","BurswoodBonds","Whole Suburb","Whole Suburb",189]
["Auckland","Burswood","Lower Quartile","BurswoodLower Quartile","Whole Suburb","Whole Suburb",610]
["Auckland","Burswood","Median","BurswoodMedian","Whole Suburb","Whole Suburb",650]
["Auckland","Burswood","Upper Quartile","BurswoodUpper Quartile","Whole Suburb","Whole Suburb",698]
["Auckland","Chatswood","Bonds","ChatswoodBonds","Whole Suburb","Whole Suburb",189]
["Auckland","Chatswood","Lower Quartile","ChatswoodLower Quartile","Whole Suburb","Whole Suburb",575]
["Auckland","Chatswood","Median","ChatswoodMedian","Whole Suburb","Whole Suburb",720]
["Auckland","Chatswood","Upper Quartile","ChatswoodUpper Quartile","Whole Suburb","Whole Suburb",830]
["Auckland","Howick","Bonds","HowickBonds","Whole Suburb","Whole Suburb",1293]
["Auckland","Howick","Lower Quartile","HowickLower Quartile","Whole Suburb","Whole Suburb",520]
["Auckland","Howick","Median","HowickMedian","Whole Suburb","Whole Suburb",600]
["Auckland","Howick","Upper Quartile","HowickUpper Quartile","Whole Suburb","Whole Suburb",690]
["Auckland","Orakei","Bonds","OrakeiBonds","Whole Suburb","Whole Suburb",537]
["Auckland","Orakei","Lower Quartile","OrakeiLower Quartile","Whole Suburb","Whole Suburb",610]
["Auckland","Orakei","Median","OrakeiMedian","Whole Suburb","Whole Suburb",850]
["Auckland","Orakei","Upper Quartile","OrakeiUpper Quartile","Whole Suburb","Whole Suburb",1095]
["Auckland","Oratia","Bonds","OratiaBonds","Whole Suburb","Whole Suburb",84]
["Auckland","Oratia","Lower Quartile","OratiaLower Quartile","Whole Suburb","Whole Suburb",391]
["Auckland","Oratia","Median","OratiaMedian","Whole Suburb","Whole Suburb",565]
["Auckland","Oratia","Upper Quartile","OratiaUpper Quartile","Whole Suburb","Whole Suburb",680]
["Auckland","Morningside","Bonds","MorningsideBonds","Whole Suburb","Whole Suburb",687]
["Auckland","Morningside","Lower Quartile","MorningsideLower Quartile","Whole Suburb","Whole Suburb",475]
["Auckland","Morningside","Median","MorningsideMedian","Whole Suburb","Whole Suburb",580]
["Auckland","Morningside","Upper Quartile","MorningsideUpper Quartile","Whole Suburb","Whole Suburb",710]
["Auckland","Bayview","Bonds","BayviewBonds","Whole Suburb","Whole Suburb",702]
["Auckland","Bayview","Lower Quartile","BayviewLower Quartile","Whole Suburb","Whole Suburb",550]
["Auckland","Bayview","Median","BayviewMedian","Whole Suburb","Whole Suburb",600]
["Auckland","Bayview","Upper Quartile","BayviewUpper Quartile","Whole Suburb","Whole Suburb",640]
["Auckland","Botany Downs","Bonds","Botany DownsBonds","Whole Suburb","Whole Suburb",528]
["Auckland","Botany Downs","Lower Quartile","Botany DownsLower Quartile","Whole Suburb","Whole Suburb",630]
["Auckland","Botany Downs","Median","Botany DownsMedian","Whole Suburb","Whole Suburb",680]
["Auckland","Botany Downs","Upper Quartile","Botany DownsUpper Quartile","Whole Suburb","Whole Suburb",750]
["Auckland","Penrose","Bonds",{"$f":"B386&C386","v":"PenroseBonds"},"Whole Suburb","Whole Suburb",102]
["Auckland","Penrose","Lower Quartile","PenroseLower Quartile","Whole Suburb","Whole Suburb",490]
["Auckland","Penrose","Median","PenroseMedian","Whole Suburb","Whole Suburb",515]
["Auckland","Penrose","Upper Quartile","PenroseUpper Quartile","Whole Suburb","Whole Suburb",624]
["Auckland","Point England","Bonds","Point EnglandBonds","Whole Suburb","Whole Suburb",228]
["Auckland","Point England","Lower Quartile","Point EnglandLower Quartile","Whole Suburb","Whole Suburb",600]
["Auckland","Point England","Median","Point EnglandMedian","Whole Suburb","Whole Suburb",650]
["Auckland","Point England","Upper Quartile","Point EnglandUpper Quartile","Whole Suburb","Whole Suburb",730]
["Auckland","Somerville","Bonds","SomervilleBonds","Whole Suburb","Whole Suburb",255]
["Auckland","Somerville","Lower Quartile","SomervilleLower Quartile","Whole Suburb","Whole Suburb",650]
["Auckland","Somerville","Median","SomervilleMedian","Whole Suburb","Whole Suburb",733]
["Auckland","Somerville","Upper Quartile","SomervilleUpper Quartile","Whole Suburb","Whole Suburb",791]
["Auckland","Sunnyvale","Bonds","SunnyvaleBonds","Whole Suburb","Whole Suburb",528]
["Auckland","Sunnyvale","Lower Quartile","SunnyvaleLower Quartile","Whole Suburb","Whole Suburb",499]
["Auckland","Sunnyvale","Median","SunnyvaleMedian","Whole Suburb","Whole Suburb",550]
["Auckland","Sunnyvale","Upper Quartile","SunnyvaleUpper Quartile","Whole Suburb","Whole Suburb",596]
["Auckland","Wesley","Bonds","WesleyBonds","Whole Suburb","Whole Suburb",357]
["Auckland","Wesley","Lower Quartile","WesleyLower Quartile","Whole Suburb","Whole Suburb",501]
["Auckland","Wesley","Median","WesleyMedian","Whole Suburb","Whole Suburb",600]
["Auckland","Wesley","Upper Quartile","WesleyUpper Quartile","Whole Suburb","Whole Suburb",678]
["Auckland","West Harbour","Bonds","West HarbourBonds","Whole Suburb","Whole Suburb",909]
["Auckland","West Harbour","Lower Quartile","West HarbourLower Quartile","Whole Suburb","Whole Suburb",560]
["Auckland","West Harbour","Median","West HarbourMedian","Whole Suburb","Whole Suburb",640]
["Auckland","West Harbour","Upper Quartile","West HarbourUpper Quartile","Whole Suburb","Whole Suburb",750]
["Auckland","Westgate","Bonds","WestgateBonds","Whole Suburb","Whole Suburb",117]
["Auckland","Westgate","Lower Quartile","WestgateLower Quartile","Whole Suburb","Whole Suburb",603]
["Auckland","Westgate","Median","WestgateMedian","Whole Suburb","Whole Suburb",648]
["Auckland","Westgate","Upper Quartile","WestgateUpper Quartile","Whole Suburb","Whole Suburb",700]
["Auckland","Westmere","Bonds","WestmereBonds","Whole Suburb","Whole Suburb",369]
["Auckland","Westmere","Lower Quartile","WestmereLower Quartile","Whole Suburb","Whole Suburb",750]
["Auckland","Westmere","Median","WestmereMedian","Whole Suburb","Whole Suburb",870]
["Auckland","Westmere","Upper Quartile","WestmereUpper Quartile","Whole Suburb","Whole Suburb",1100]
["Auckland","Stonefields","Bonds","StonefieldsBonds","Whole Suburb","Whole Suburb",432]
["Auckland","Stonefields","Lower Quartile","StonefieldsLower Quartile","Whole Suburb","Whole Suburb",680]
["Auckland","Stonefields","Median","StonefieldsMedian","Whole Suburb","Whole Suburb",820]
["Auckland","Stonefields","Upper Quartile","StonefieldsUpper Quartile","Whole Suburb","Whole Suburb",913]
["Auckland","Henderson Valley","Bonds","Henderson ValleyBonds","Whole Suburb","Whole Suburb",72]
["Auckland","Henderson Valley","Lower Quartile","Henderson ValleyLower Quartile","Whole Suburb","Whole Suburb",416]
["Auckland","Henderson Valley","Median","Henderson ValleyMedian","Whole Suburb","Whole Suburb",475]
["Auckland","Henderson Valley","Upper Quartile","Henderson ValleyUpper Quartile","Whole Suburb","Whole Suburb",561]
["Auckland","Hobsonville","Bonds","HobsonvilleBonds","Whole Suburb","Whole Suburb",699]
["Auckland","Hobsonville","Lower Quartile","HobsonvilleLower Quartile","Whole Suburb","Whole Suburb",600]
["Auckland","Hobsonville","Median","HobsonvilleMedian","Whole Suburb","Whole Suburb",695]
["Auckland","Hobsonville","Upper Quartile","HobsonvilleUpper Quartile","Whole Suburb","Whole Suburb",780]
["Auckland","Greenhithe","Bonds","GreenhitheBonds","Whole Suburb","Whole Suburb",555]
["Auckland","Greenhithe","Lower Quartile","GreenhitheLower Quartile","Whole Suburb","Whole Suburb",500]
["Auckland","Greenhithe","Median","GreenhitheMedian","Whole Suburb","Whole Suburb",650]
["Auckland","Greenhithe","Upper Quartile","GreenhitheUpper Quartile","Whole Suburb","Whole Suburb",829]
["Auckland","Half Moon Bay","Bonds","Half Moon BayBonds","Whole Suburb","Whole Suburb",789]
["Auckland","Half Moon Bay","Lower Quartile","Half Moon BayLower Quartile","Whole Suburb","Whole Suburb",560]
["Auckland","Half Moon Bay","Median","Half Moon BayMedian","Whole Suburb","Whole Suburb",640]
["Auckland","Half Moon Bay","Upper Quartile","Half Moon BayUpper Quartile","Whole Suburb","Whole Suburb",725]
["Auckland","Bucklands Beach","Bonds","Bucklands BeachBonds","Whole Suburb","Whole Suburb",1206]
["Auckland","Bucklands Beach","Lower Quartile","Bucklands BeachLower Quartile","Whole Suburb","Whole Suburb",528]
["Auckland","Bucklands Beach","Median","Bucklands BeachMedian","Whole Suburb","Whole Suburb",630]
["Auckland","Bucklands Beach","Upper Quartile","Bucklands BeachUpper Quartile","Whole Suburb","Whole Suburb",723]
["Auckland","East Tamaki Heights","Bonds","East Tamaki HeightsBonds","Whole Suburb","Whole Suburb",354]
["Auckland","East Tamaki Heights","Lower Quartile","East Tamaki HeightsLower Quartile","Whole Suburb","Whole Suburb",570]
["Auckland","East Tamaki Heights","Median","East Tamaki HeightsMedian","Whole Suburb","Whole Suburb",740]
["Auckland","East Tamaki Heights","Upper Quartile","East Tamaki HeightsUpper Quartile","Whole Suburb","Whole Suburb",788]
["Auckland","Eastern Beach","Bonds","Eastern BeachBonds","Whole Suburb","Whole Suburb",177]
["Auckland","Eastern Beach","Lower Quartile","Eastern BeachLower Quartile","Whole Suburb","Whole Suburb",610]
["Auckland","Eastern Beach","Median","Eastern BeachMedian","Whole Suburb","Whole Suburb",730]
["Auckland","Eastern Beach","Upper Quartile","Eastern BeachUpper Quartile","Whole Suburb","Whole Suburb",950]
["Auckland","Birkenhead","Bonds",{"$f":"B450&C450","v":"BirkenheadBonds"},"Whole Suburb","Whole Suburb",1110]
["Auckland","Birkenhead","Lower Quartile","BirkenheadLower Quartile","Whole Suburb","Whole Suburb",490]
["Auckland","Birkenhead","Median","BirkenheadMedian","Whole Suburb","Whole Suburb",590]
["Auckland","Birkenhead","Upper Quartile","BirkenheadUpper Quartile","Whole Suburb","Whole Suburb",700]
["Auckland","St Heliers","Bonds","St HeliersBonds","Whole Suburb","Whole Suburb",1263]
["Auckland","St Heliers","Lower Quartile","St HeliersLower Quartile","Whole Suburb","Whole Suburb",579]
["Auckland","St Heliers","Median","St HeliersMedian","Whole Suburb","Whole Suburb",700]
["Auckland","St Heliers","Upper Quartile","St HeliersUpper Quartile","Whole Suburb","Whole Suburb",900]
["Auckland","Goodwood Heights","Bonds","Goodwood HeightsBonds","Whole Suburb","Whole Suburb",375]
["Auckland","Goodwood Heights","Lower Quartile","Goodwood HeightsLower Quartile","Whole Suburb","Whole Suburb",550]
["Auckland","Goodwood Heights","Median","Goodwood HeightsMedian","Whole Suburb","Whole Suburb",625]
["Auckland","Goodwood Heights","Upper Quartile","Goodwood HeightsUpper Quartile","Whole Suburb","Whole Suburb",750]
["Auckland","One Tree Hill","Bonds","One Tree HillBonds","Whole Suburb","Whole Suburb",672]
["Auckland","One Tree Hill","Lower Quartile","One Tree HillLower Quartile","Whole Suburb","Whole Suburb",525]
["Auckland","One Tree Hill","Median","One Tree HillMedian","Whole Suburb","Whole Suburb",595]
["Auckland","One Tree Hill","Upper Quartile","One Tree HillUpper Quartile","Whole Suburb","Whole Suburb",695]
["Auckland","Onehunga","Bonds","OnehungaBonds","Whole Suburb","Whole Suburb",2298]
["Auckland","Onehunga","Lower Quartile","OnehungaLower Quartile","Whole Suburb","Whole Suburb",480]
["Auckland","Onehunga","Median","OnehungaMedian","Whole Suburb","Whole Suburb",550]
["Auckland","Onehunga","Upper Quartile","OnehungaUpper Quartile","Whole Suburb","Whole Suburb",660]
["Auckland","Otahuhu","Bonds","OtahuhuBonds","Whole Suburb","Whole Suburb",2208]
["Auckland","Otahuhu","Lower Quartile","OtahuhuLower Quartile","Whole Suburb","Whole Suburb",340]
["Auckland","Otahuhu","Median","OtahuhuMedian","Whole Suburb","Whole Suburb",420]
["Auckland","Otahuhu","Upper Quartile","OtahuhuUpper Quartile","Whole Suburb","Whole Suburb",530]
["Auckland","Oteha","Bonds","OtehaBonds","Whole Suburb","Whole Suburb",642]
["Auckland","Oteha","Lower Quartile","OtehaLower Quartile","Whole Suburb","Whole Suburb",520]
["Auckland","Oteha","Median","OtehaMedian","Whole Suburb","Whole Suburb",650]
["Auckland","Oteha","Upper Quartile","OtehaUpper Quartile","Whole Suburb","Whole Suburb",750]
["Auckland","Pakuranga Heights","Bonds","Pakuranga HeightsBonds","Whole Suburb","Whole Suburb",1077]
["Auckland","Pakuranga Heights","Lower Quartile","Pakuranga HeightsLower Quartile","Whole Suburb","Whole Suburb",535]
["Auckland","Pakuranga Heights","Median","Pakuranga HeightsMedian","Whole Suburb","Whole Suburb",600]
["Auckland","Pakuranga Heights","Upper Quartile","Pakuranga HeightsUpper Quartile","Whole Suburb","Whole Suburb",650]
["Auckland","Pinehill","Bonds","PinehillBonds","Whole Suburb","Whole Suburb",429]
["Auckland","Pinehill","Lower Quartile","PinehillLower Quartile","Whole Suburb","Whole Suburb",590]
["Auckland","Pinehill","Median","PinehillMedian","Whole Suburb","Whole Suburb",750]
["Auckland","Pinehill","Upper Quartile","PinehillUpper Quartile","Whole Suburb","Whole Suburb",885]
["Auckland","Totara Park","Bonds","Totara ParkBonds","Whole Suburb","Whole Suburb",""]
["Auckland","Totara Park","Lower Quartile","Totara ParkLower Quartile","Whole Suburb","Whole Suburb",""]
["Auckland","Totara Park","Median","Totara ParkMedian","Whole Suburb","Whole Suburb",""]
["Auckland","Totara Park","Upper Quartile","Totara ParkUpper Quartile","Whole Suburb","Whole Suburb",""]
["Auckland","Albany","Bonds","AlbanyBonds","Whole Suburb","Whole Suburb",1638]
["Auckland","Albany","Lower Quartile","AlbanyLower Quartile","Whole Suburb","Whole Suburb",390]
["Auckland","Albany","Median","AlbanyMedian","Whole Suburb","Whole Suburb",530]
["Auckland","Albany","Upper Quartile","AlbanyUpper Quartile","Whole Suburb","Whole Suburb",703]
["Auckland","Hauraki","Bonds","HaurakiBonds","Whole Suburb","Whole Suburb",465]
["Auckland","Hauraki","Lower Quartile","HaurakiLower Quartile","Whole Suburb","Whole Suburb",553]
["Auckland","Hauraki","Median","HaurakiMedian","Whole Suburb","Whole Suburb",700]
["Auckland","Hauraki","Upper Quartile","HaurakiUpper Quartile","Whole Suburb","Whole Suburb",845]
["Auckland","Henderson","Bonds","HendersonBonds","Whole Suburb","Whole Suburb",3444]
["Auckland","Henderson","Lower Quartile","HendersonLower Quartile","Whole Suburb","Whole Suburb",496]
["Auckland","Henderson","Median","HendersonMedian","Whole Suburb","Whole Suburb",560]
["Auckland","Henderson","Upper Quartile","HendersonUpper Quartile","Whole Suburb","Whole Suburb",650]
["Auckland","Herald Island","Bonds","Herald IslandBonds","Whole Suburb","Whole Suburb",54]
["Auckland","Herald Island","Lower Quartile","Herald IslandLower Quartile","Whole Suburb","Whole Suburb",496]
["Auckland","Herald Island","Median","Herald IslandMedian","Whole Suburb","Whole Suburb",540]
["Auckland","Herald Island","Upper Quartile","Herald IslandUpper Quartile","Whole Suburb","Whole Suburb",700]
["Auckland","Northcote","Bonds","NorthcoteBonds","Whole Suburb","Whole Suburb",960]
["Auckland","Northcote","Lower Quartile","NorthcoteLower Quartile","Whole Suburb","Whole Suburb",516]
["Auckland","Northcote","Median","NorthcoteMedian","Whole Suburb","Whole Suburb",600]
["Auckland","Northcote","Upper Quartile","NorthcoteUpper Quartile","Whole Suburb","Whole Suburb",750]
["Auckland","Northcote Point","Bonds","Northcote PointBonds","Whole Suburb","Whole Suburb",243]
["Auckland","Northcote Point","Lower Quartile","Northcote PointLower Quartile","Whole Suburb","Whole Suburb",518]
["Auckland","Northcote Point","Median","Northcote PointMedian","Whole Suburb","Whole Suburb",610]
["Auckland","Northcote Point","Upper Quartile","Northcote PointUpper Quartile","Whole Suburb","Whole Suburb",819]
["Auckland","Northcross","Bonds",{"$f":"B514&C514","v":"NorthcrossBonds"},"Whole Suburb","Whole Suburb",357]
["Auckland","Northcross","Lower Quartile","NorthcrossLower Quartile","Whole Suburb","Whole Suburb",500]
["Auckland","Northcross","Median","NorthcrossMedian","Whole Suburb","Whole Suburb",640]
["Auckland","Northcross","Upper Quartile","NorthcrossUpper Quartile","Whole Suburb","Whole Suburb",780]
["Auckland","Northpark","Bonds","NorthparkBonds","Whole Suburb","Whole Suburb",324]
["Auckland","Northpark","Lower Quartile","NorthparkLower Quartile","Whole Suburb","Whole Suburb",650]
["Auckland","Northpark","Median","NorthparkMedian","Whole Suburb","Whole Suburb",680]
["Auckland","Northpark","Upper Quartile","NorthparkUpper Quartile","Whole Suburb","Whole Suburb",746]
["Auckland","Papatoetoe","Bonds","PapatoetoeBonds","Whole Suburb","Whole Suburb",4890]
["Auckland","Papatoetoe","Lower Quartile","PapatoetoeLower Quartile","Whole Suburb","Whole Suburb",470]
["Auckland","Papatoetoe","Median","PapatoetoeMedian","Whole Suburb","Whole Suburb",550]
["Auckland","Papatoetoe","Upper Quartile","PapatoetoeUpper Quartile","Whole Suburb","Whole Suburb",650]
["Auckland","Paremoremo","Bonds","ParemoremoBonds","Whole Suburb","Whole Suburb",78]
["Auckland","Paremoremo","Lower Quartile","ParemoremoLower Quartile","Whole Suburb","Whole Suburb",585]
["Auckland","Paremoremo","Median","ParemoremoMedian","Whole Suburb","Whole Suburb",700]
["Auckland","Paremoremo","Upper Quartile","ParemoremoUpper Quartile","Whole Suburb","Whole Suburb",750]
["Auckland","Kohimarama","Bonds","KohimaramaBonds","Whole Suburb","Whole Suburb",501]
["Auckland","Kohimarama","Lower Quartile","KohimaramaLower Quartile","Whole Suburb","Whole Suburb",606]
["Auckland","Kohimarama","Median","KohimaramaMedian","Whole Suburb","Whole Suburb",740]
["Auckland","Kohimarama","Upper Quartile","KohimaramaUpper Quartile","Whole Suburb","Whole Suburb",975]
["Auckland","Laingholm","Bonds","LaingholmBonds","Whole Suburb","Whole Suburb",111]
["Auckland","Laingholm","Lower Quartile","LaingholmLower Quartile","Whole Suburb","Whole Suburb",450]
["Auckland","Laingholm","Median","LaingholmMedian","Whole Suburb","Whole Suburb",590]
["Auckland","Laingholm","Upper Quartile","LaingholmUpper Quartile","Whole Suburb","Whole Suburb",610]
["Auckland","Belmont","Bonds","BelmontBonds","Whole Suburb","Whole Suburb",366]
["Auckland","Belmont","Lower Quartile","BelmontLower Quartile","Whole Suburb","Whole Suburb",546]
["Auckland","Belmont","Median","BelmontMedian","Whole Suburb","Whole Suburb",638]
["Auckland","Belmont","Upper Quartile","BelmontUpper Quartile","Whole Suburb","Whole Suburb",758]
["Auckland","Wairau Valley","Bonds","Wairau ValleyBonds","Whole Suburb","Whole Suburb",48]
["Auckland","Wairau Valley","Lower Quartile","Wairau ValleyLower Quartile","Whole Suburb","Whole Suburb",588]
["Auckland","Wairau Valley","Median","Wairau ValleyMedian","Whole Suburb","Whole Suburb",655]
["Auckland","Wairau Valley","Upper Quartile","Wairau ValleyUpper Quartile","Whole Suburb","Whole Suburb",688]
["Auckland","Waitakere","Bonds","WaitakereBonds","Whole Suburb","Whole Suburb",123]
["Auckland","Waitakere","Lower Quartile","WaitakereLower Quartile","Whole Suburb","Whole Suburb",345]
["Auckland","Waitakere","Median","WaitakereMedian","Whole Suburb","Whole Suburb",560]
["Auckland","Waitakere","Upper Quartile","WaitakereUpper Quartile","Whole Suburb","Whole Suburb",663]
["Auckland","Hillcrest","Bonds","HillcrestBonds","Whole Suburb","Whole Suburb",1194]
["Auckland","Hillcrest","Lower Quartile","HillcrestLower Quartile","Whole Suburb","Whole Suburb",520]
["Auckland","Hillcrest","Median","HillcrestMedian","Whole Suburb","Whole Suburb",598]
["Auckland","Hillcrest","Upper Quartile","HillcrestUpper Quartile","Whole Suburb","Whole Suburb",724]
["Auckland","Hillpark","Bonds","HillparkBonds","Whole Suburb","Whole Suburb",357]
["Auckland","Hillpark","Lower Quartile","HillparkLower Quartile","Whole Suburb","Whole Suburb",510]
["Auckland","Hillpark","Median","HillparkMedian","Whole Suburb","Whole Suburb",630]
["Auckland","Hillpark","Upper Quartile","HillparkUpper Quartile","Whole Suburb","Whole Suburb",685]
["Auckland","Bayswater","Bonds","BayswaterBonds","Whole Suburb","Whole Suburb",174]
["Auckland","Bayswater","Lower Quartile","BayswaterLower Quartile","Whole Suburb","Whole Suburb",558]
["Auckland","Bayswater","Median","BayswaterMedian","Whole Suburb","Whole Suburb",780]
["Auckland","Bayswater","Upper Quartile","BayswaterUpper Quartile","Whole Suburb","Whole Suburb",980]
["Auckland","Flat Bush","Bonds","Flat BushBonds","Whole Suburb","Whole Suburb",2184]
["Auckland","Flat Bush","Lower Quartile","Flat BushLower Quartile","Whole Suburb","Whole Suburb",496]
["Auckland","Flat Bush","Median","Flat BushMedian","Whole Suburb","Whole Suburb",650]
["Auckland","Flat Bush","Upper Quartile","Flat BushUpper Quartile","Whole Suburb","Whole Suburb",758]
["Auckland","Forrest Hill","Bonds","Forrest HillBonds","Whole Suburb","Whole Suburb",1182]
["Auckland","Forrest Hill","Lower Quartile","Forrest HillLower Quartile","Whole Suburb","Whole Suburb",550]
["Auckland","Forrest Hill","Median","Forrest HillMedian","Whole Suburb","Whole Suburb",650]
["Auckland","Forrest Hill","Upper Quartile","Forrest HillUpper Quartile","Whole Suburb","Whole Suburb",750]
["Auckland","Weymouth","Bonds","WeymouthBonds","Whole Suburb","Whole Suburb",843]
["Auckland","Weymouth","Lower Quartile","WeymouthLower Quartile","Whole Suburb","Whole Suburb",544]
["Auckland","Weymouth","Median","WeymouthMedian","Whole Suburb","Whole Suburb",590]
["Auckland","Weymouth","Upper Quartile","WeymouthUpper Quartile","Whole Suburb","Whole Suburb",673]
["Auckland","Blockhouse Bay","Bonds","Blockhouse BayBonds","Whole Suburb","Whole Suburb",1263]
["Auckland","Blockhouse Bay","Lower Quartile","Blockhouse BayLower Quartile","Whole Suburb","Whole Suburb",550]
["Auckland","Blockhouse Bay","Median","Blockhouse BayMedian","Whole Suburb","Whole Suburb",635]
["Auckland","Blockhouse Bay","Upper Quartile","Blockhouse BayUpper Quartile","Whole Suburb","Whole Suburb",713]
["Auckland","Huia","Bonds",{"$f":"B578&C578","v":"HuiaBonds"},"Whole Suburb","Whole Suburb",""]
["Auckland","Huia","Lower Quartile","HuiaLower Quartile","Whole Suburb","Whole Suburb",""]
["Auckland","Huia","Median","HuiaMedian","Whole Suburb","Whole Suburb",""]
["Auckland","Huia","Upper Quartile","HuiaUpper Quartile","Whole Suburb","Whole Suburb",""]
["Auckland","Huntington Park","Bonds","Huntington ParkBonds","Whole Suburb","Whole Suburb",96]
["Auckland","Huntington Park","Lower Quartile","Huntington ParkLower Quartile","Whole Suburb","Whole Suburb",620]
["Auckland","Huntington Park","Median","Huntington ParkMedian","Whole Suburb","Whole Suburb",650]
["Auckland","Huntington Park","Upper Quartile","Huntington ParkUpper Quartile","Whole Suburb","Whole Suburb",695]
["Auckland","The Gardens","Bonds","The GardensBonds","Whole Suburb","Whole Suburb",159]
["Auckland","The Gardens","Lower Quartile","The GardensLower Quartile","Whole Suburb","Whole Suburb",685]
["Auckland","The Gardens","Median","The GardensMedian","Whole Suburb","Whole Suburb",790]
["Auckland","The Gardens","Upper Quartile","The GardensUpper Quartile","Whole Suburb","Whole Suburb",850]
["Auckland","Three Kings","Bonds","Three KingsBonds","Whole Suburb","Whole Suburb",348]
["Auckland","Three Kings","Lower Quartile","Three KingsLower Quartile","Whole Suburb","Whole Suburb",579]
["Auckland","Three Kings","Median","Three KingsMedian","Whole Suburb","Whole Suburb",650]
["Auckland","Three Kings","Upper Quartile","Three KingsUpper Quartile","Whole Suburb","Whole Suburb",785]
["Auckland","Mairangi Bay","Bonds","Mairangi BayBonds","Whole Suburb","Whole Suburb",468]
["Auckland","Mairangi Bay","Lower Quartile","Mairangi BayLower Quartile","Whole Suburb","Whole Suburb",583]
["Auckland","Mairangi Bay","Median","Mairangi BayMedian","Whole Suburb","Whole Suburb",730]
["Auckland","Mairangi Bay","Upper Quartile","Mairangi BayUpper Quartile","Whole Suburb","Whole Suburb",880]
["Auckland","Kelston","Bonds","KelstonBonds","Whole Suburb","Whole Suburb",483]
["Auckland","Kelston","Lower Quartile","KelstonLower Quartile","Whole Suburb","Whole Suburb",500]
["Auckland","Kelston","Median","KelstonMedian","Whole Suburb","Whole Suburb",570]
["Auckland","Kelston","Upper Quartile","KelstonUpper Quartile","Whole Suburb","Whole Suburb",600]
["Auckland","Panmure","Bonds","PanmureBonds","Whole Suburb","Whole Suburb",708]
["Auckland","Panmure","Lower Quartile","PanmureLower Quartile","Whole Suburb","Whole Suburb",480]
["Auckland","Panmure","Median","PanmureMedian","Whole Suburb","Whole Suburb",580]
["Auckland","Panmure","Upper Quartile","PanmureUpper Quartile","Whole Suburb","Whole Suburb",685]
["Auckland","Parnell","Bonds","ParnellBonds","Whole Suburb","Whole Suburb",1674]
["Auckland","Parnell","Lower Quartile","ParnellLower Quartile","Whole Suburb","Whole Suburb",550]
["Auckland","Parnell","Median","ParnellMedian","Whole Suburb","Whole Suburb",700]
["Auckland","Parnell","Upper Quartile","ParnellUpper Quartile","Whole Suburb","Whole Suburb",900]
["Auckland","Remuera","Bonds","RemueraBonds","Whole Suburb","Whole Suburb",2829]
["Auckland","Remuera","Lower Quartile","RemueraLower Quartile","Whole Suburb","Whole Suburb",578]
["Auckland","Remuera","Median","RemueraMedian","Whole Suburb","Whole Suburb",760]
["Auckland","Remuera","Upper Quartile","RemueraUpper Quartile","Whole Suburb","Whole Suburb",995]
["Auckland","Otara","Bonds","OtaraBonds","Whole Suburb","Whole Suburb",993]
["Auckland","Otara","Lower Quartile","OtaraLower Quartile","Whole Suburb","Whole Suburb",405]
["Auckland","Otara","Median","OtaraMedian","Whole Suburb","Whole Suburb",560]
["Auckland","Otara","Upper Quartile","OtaraUpper Quartile","Whole Suburb","Whole Suburb",620]
["Auckland","Hillsborough","Bonds","HillsboroughBonds","Whole Suburb","Whole Suburb",771]
["Auckland","Hillsborough","Lower Quartile","HillsboroughLower Quartile","Whole Suburb","Whole Suburb",518]
["Auckland","Hillsborough","Median","HillsboroughMedian","Whole Suburb","Whole Suburb",650]
["Auckland","Hillsborough","Upper Quartile","HillsboroughUpper Quartile","Whole Suburb","Whole Suburb",785]
["Auckland","Wattle Downs","Bonds","Wattle DownsBonds","Whole Suburb","Whole Suburb",528]
["Auckland","Wattle Downs","Lower Quartile","Wattle DownsLower Quartile","Whole Suburb","Whole Suburb",580]
["Auckland","Wattle Downs","Median","Wattle DownsMedian","Whole Suburb","Whole Suburb",650]
["Auckland","Wattle Downs","Upper Quartile","Wattle DownsUpper Quartile","Whole Suburb","Whole Suburb",720]
["Auckland","Newmarket","Bonds","NewmarketBonds","Whole Suburb","Whole Suburb",672]
["Auckland","Newmarket","Lower Quartile","NewmarketLower Quartile","Whole Suburb","Whole Suburb",483]
["Auckland","Newmarket","Median","NewmarketMedian","Whole Suburb","Whole Suburb",540]
["Auckland","Newmarket","Upper Quartile","NewmarketUpper Quartile","Whole Suburb","Whole Suburb",628]
["Auckland","Epsom","Bonds","EpsomBonds","Whole Suburb","Whole Suburb",2793]
["Auckland","Epsom","Lower Quartile","EpsomLower Quartile","Whole Suburb","Whole Suburb",520]
["Auckland","Epsom","Median","EpsomMedian","Whole Suburb","Whole Suburb",650]
["Auckland","Epsom","Upper Quartile","EpsomUpper Quartile","Whole Suburb","Whole Suburb",894]
["Auckland","Golflands","Bonds","GolflandsBonds","Whole Suburb","Whole Suburb",225]
["Auckland","Golflands","Lower Quartile","GolflandsLower Quartile","Whole Suburb","Whole Suburb",630]
["Auckland","Golflands","Median","GolflandsMedian","Whole Suburb","Whole Suburb",690]
["Auckland","Golflands","Upper Quartile","GolflandsUpper Quartile","Whole Suburb","Whole Suburb",750]
["Auckland","Grafton","Bonds","GraftonBonds","Whole Suburb","Whole Suburb",1629]
["Auckland","Grafton","Lower Quartile","GraftonLower Quartile","Whole Suburb","Whole Suburb",325]
["Auckland","Grafton","Median","GraftonMedian","Whole Suburb","Whole Suburb",418]
["Auckland","Grafton","Upper Quartile","GraftonUpper Quartile","Whole Suburb","Whole Suburb",576]
["Auckland","Mount Roskill","Bonds",{"$f":"B642&C642","v":"Mount RoskillBonds"},"Whole Suburb","Whole Suburb",2850]
["Auckland","Mount Roskill","Lower Quartile","Mount RoskillLower Quartile","Whole Suburb","Whole Suburb",520]
["Auckland","Mount Roskill","Median","Mount RoskillMedian","Whole Suburb","Whole Suburb",600]
["Auckland","Mount Roskill","Upper Quartile","Mount RoskillUpper Quartile","Whole Suburb","Whole Suburb",700]
["Auckland","Beach Haven","Bonds","Beach HavenBonds","Whole Suburb","Whole Suburb",915]
["Auckland","Beach Haven","Lower Quartile","Beach HavenLower Quartile","Whole Suburb","Whole Suburb",500]
["Auckland","Beach Haven","Median","Beach HavenMedian","Whole Suburb","Whole Suburb",590]
["Auckland","Beach Haven","Upper Quartile","Beach HavenUpper Quartile","Whole Suburb","Whole Suburb",650]
["Auckland","Point Chevalier","Bonds","Point ChevalierBonds","Whole Suburb","Whole Suburb",831]
["Auckland","Point Chevalier","Lower Quartile","Point ChevalierLower Quartile","Whole Suburb","Whole Suburb",500]
["Auckland","Point Chevalier","Median","Point ChevalierMedian","Whole Suburb","Whole Suburb",650]
["Auckland","Point Chevalier","Upper Quartile","Point ChevalierUpper Quartile","Whole Suburb","Whole Suburb",785]
["Auckland","Redvale","Bonds","RedvaleBonds","Whole Suburb","Whole Suburb",54]
["Auckland","Redvale","Lower Quartile","RedvaleLower Quartile","Whole Suburb","Whole Suburb",413]
["Auckland","Redvale","Median","RedvaleMedian","Whole Suburb","Whole Suburb",520]
["Auckland","Redvale","Upper Quartile","RedvaleUpper Quartile","Whole Suburb","Whole Suburb",725]
["Auckland","Alfriston","Bonds","AlfristonBonds","Whole Suburb","Whole Suburb",45]
["Auckland","Alfriston","Lower Quartile","AlfristonLower Quartile","Whole Suburb","Whole Suburb",563]
["Auckland","Alfriston","Median","AlfristonMedian","Whole Suburb","Whole Suburb",715]
["Auckland","Alfriston","Upper Quartile","AlfristonUpper Quartile","Whole Suburb","Whole Suburb",945]
["Auckland","Rothesay Bay","Bonds","Rothesay BayBonds","Whole Suburb","Whole Suburb",291]
["Auckland","Rothesay Bay","Lower Quartile","Rothesay BayLower Quartile","Whole Suburb","Whole Suburb",580]
["Auckland","Rothesay Bay","Median","Rothesay BayMedian","Whole Suburb","Whole Suburb",720]
["Auckland","Rothesay Bay","Upper Quartile","Rothesay BayUpper Quartile","Whole Suburb","Whole Suburb",863]
["Auckland","Clover Park","Bonds","Clover ParkBonds","Whole Suburb","Whole Suburb",579]
["Auckland","Clover Park","Lower Quartile","Clover ParkLower Quartile","Whole Suburb","Whole Suburb",550]
["Auckland","Clover Park","Median","Clover ParkMedian","Whole Suburb","Whole Suburb",600]
["Auckland","Clover Park","Upper Quartile","Clover ParkUpper Quartile","Whole Suburb","Whole Suburb",650]
["Auckland","Devonport","Bonds","DevonportBonds","Whole Suburb","Whole Suburb",753]
["Auckland","Devonport","Lower Quartile","DevonportLower Quartile","Whole Suburb","Whole Suburb",498]
["Auckland","Devonport","Median","DevonportMedian","Whole Suburb","Whole Suburb",645]
["Auckland","Devonport","Upper Quartile","DevonportUpper Quartile","Whole Suburb","Whole Suburb",831]
["Auckland","Farm Cove","Bonds","Farm CoveBonds","Whole Suburb","Whole Suburb",219]
["Auckland","Farm Cove","Lower Quartile","Farm CoveLower Quartile","Whole Suburb","Whole Suburb",540]
["Auckland","Farm Cove","Median","Farm CoveMedian","Whole Suburb","Whole Suburb",620]
["Auckland","Farm Cove","Upper Quartile","Farm CoveUpper Quartile","Whole Suburb","Whole Suburb",718]
["Auckland","Favona","Bonds","FavonaBonds","Whole Suburb","Whole Suburb",438]
["Auckland","Favona","Lower Quartile","FavonaLower Quartile","Whole Suburb","Whole Suburb",490]
["Auckland","Favona","Median","FavonaMedian","Whole Suburb","Whole Suburb",590]
["Auckland","Favona","Upper Quartile","FavonaUpper Quartile","Whole Suburb","Whole Suburb",643]
["Auckland","Manukau","Bonds","ManukauBonds","Whole Suburb","Whole Suburb",513]
["Auckland","Manukau","Lower Quartile","ManukauLower Quartile","Whole Suburb","Whole Suburb",435]
["Auckland","Manukau","Median","ManukauMedian","Whole Suburb","Whole Suburb",490]
["Auckland","Manukau","Upper Quartile","ManukauUpper Quartile","Whole Suburb","Whole Suburb",600]
["Auckland","Ranui","Bonds","RanuiBonds","Whole Suburb","Whole Suburb",1014]
["Auckland","Ranui","Lower Quartile","RanuiLower Quartile","Whole Suburb","Whole Suburb",488]
["Auckland","Ranui","Median","RanuiMedian","Whole Suburb","Whole Suburb",550]
["Auckland","Ranui","Upper Quartile","RanuiUpper Quartile","Whole Suburb","Whole Suburb",610]
["Auckland","Glen Eden","Bonds","Glen EdenBonds","Whole Suburb","Whole Suburb",2091]
["Auckland","Glen Eden","Lower Quartile","Glen EdenLower Quartile","Whole Suburb","Whole Suburb",456]
["Auckland","Glen Eden","Median","Glen EdenMedian","Whole Suburb","Whole Suburb",550]
["Auckland","Glen Eden","Upper Quartile","Glen EdenUpper Quartile","Whole Suburb","Whole Suburb",604]
["Auckland","Glen Innes","Bonds","Glen InnesBonds","Whole Suburb","Whole Suburb",414]
["Auckland","Glen Innes","Lower Quartile","Glen InnesLower Quartile","Whole Suburb","Whole Suburb",563]
["Auckland","Glen Innes","Median","Glen InnesMedian","Whole Suburb","Whole Suburb",630]
["Auckland","Glen Innes","Upper Quartile","Glen InnesUpper Quartile","Whole Suburb","Whole Suburb",750]
["Auckland","Glendene","Bonds","GlendeneBonds","Whole Suburb","Whole Suburb",723]
["Auckland","Glendene","Lower Quartile","GlendeneLower Quartile","Whole Suburb","Whole Suburb",483]
["Auckland","Glendene","Median","GlendeneMedian","Whole Suburb","Whole Suburb",560]
["Auckland","Glendene","Upper Quartile","GlendeneUpper Quartile","Whole Suburb","Whole Suburb",650]
["Auckland","Glenfield","Bonds","GlenfieldBonds","Whole Suburb","Whole Suburb",2130]
["Auckland","Glenfield","Lower Quartile","GlenfieldLower Quartile","Whole Suburb","Whole Suburb",520]
["Auckland","Glenfield","Median","GlenfieldMedian","Whole Suburb","Whole Suburb",595]
["Auckland","Glenfield","Upper Quartile","GlenfieldUpper Quartile","Whole Suburb","Whole Suburb",680]
["Auckland","Greenlane","Bonds",{"$f":"B706&C706","v":"GreenlaneBonds"},"Whole Suburb","Whole Suburb",906]
["Auckland","Greenlane","Lower Quartile","GreenlaneLower Quartile","Whole Suburb","Whole Suburb",560]
["Auckland","Greenlane","Median","GreenlaneMedian","Whole Suburb","Whole Suburb",690]
["Auckland","Greenlane","Upper Quartile","GreenlaneUpper Quartile","Whole Suburb","Whole Suburb",820]
["Auckland","Kingsland","Bonds","KingslandBonds","Whole Suburb","Whole Suburb",504]
["Auckland","Kingsland","Lower Quartile","KingslandLower Quartile","Whole Suburb","Whole Suburb",550]
["Auckland","Kingsland","Median","KingslandMedian","Whole Suburb","Whole Suburb",620]
["Auckland","Kingsland","Upper Quartile","KingslandUpper Quartile","Whole Suburb","Whole Suburb",800]
["Auckland","Mangere","Bonds","MangereBonds","Whole Suburb","Whole Suburb",1002]
["Auckland","Mangere","Lower Quartile","MangereLower Quartile","Whole Suburb","Whole Suburb",490]
["Auckland","Mangere","Median","MangereMedian","Whole Suburb","Whole Suburb",550]
["Auckland","Mangere","Upper Quartile","MangereUpper Quartile","Whole Suburb","Whole Suburb",650]
["Auckland","Milford","Bonds","MilfordBonds","Whole Suburb","Whole Suburb",1518]
["Auckland","Milford","Lower Quartile","MilfordLower Quartile","Whole Suburb","Whole Suburb",400]
["Auckland","Milford","Median","MilfordMedian","Whole Suburb","Whole Suburb",550]
["Auckland","Milford","Upper Quartile","MilfordUpper Quartile","Whole Suburb","Whole Suburb",680]
["Auckland","Freemans Bay","Bonds","Freemans BayBonds","Whole Suburb","Whole Suburb",900]
["Auckland","Freemans Bay","Lower Quartile","Freemans BayLower Quartile","Whole Suburb","Whole Suburb",530]
["Auckland","Freemans Bay","Median","Freemans BayMedian","Whole Suburb","Whole Suburb",675]
["Auckland","Freemans Bay","Upper Quartile","Freemans BayUpper Quartile","Whole Suburb","Whole Suburb",850]
["Auckland","Green Bay","Bonds","Green BayBonds","Whole Suburb","Whole Suburb",303]
["Auckland","Green Bay","Lower Quartile","Green BayLower Quartile","Whole Suburb","Whole Suburb",458]
["Auckland","Green Bay","Median","Green BayMedian","Whole Suburb","Whole Suburb",580]
["Auckland","Green Bay","Upper Quartile","Green BayUpper Quartile","Whole Suburb","Whole Suburb",680]
["Auckland","Grey Lynn","Bonds","Grey LynnBonds","Whole Suburb","Whole Suburb",2058]
["Auckland","Grey Lynn","Lower Quartile","Grey LynnLower Quartile","Whole Suburb","Whole Suburb",473]
["Auckland","Grey Lynn","Median","Grey LynnMedian","Whole Suburb","Whole Suburb",625]
["Auckland","Grey Lynn","Upper Quartile","Grey LynnUpper Quartile","Whole Suburb","Whole Suburb",850]
["Auckland","Long Bay","Bonds","Long BayBonds","Whole Suburb","Whole Suburb",141]
["Auckland","Long Bay","Lower Quartile","Long BayLower Quartile","Whole Suburb","Whole Suburb",785]
["Auckland","Long Bay","Median","Long BayMedian","Whole Suburb","Whole Suburb",940]
["Auckland","Long Bay","Upper Quartile","Long BayUpper Quartile","Whole Suburb","Whole Suburb",1136]
["Auckland","Lynfield","Bonds","LynfieldBonds","Whole Suburb","Whole Suburb",399]
["Auckland","Lynfield","Lower Quartile","LynfieldLower Quartile","Whole Suburb","Whole Suburb",490]
["Auckland","Lynfield","Median","LynfieldMedian","Whole Suburb","Whole Suburb",600]
["Auckland","Lynfield","Upper Quartile","LynfieldUpper Quartile","Whole Suburb","Whole Suburb",725]
["Auckland","Takapuna","Bonds","TakapunaBonds","Whole Suburb","Whole Suburb",1374]
["Auckland","Takapuna","Lower Quartile","TakapunaLower Quartile","Whole Suburb","Whole Suburb",529]
["Auckland","Takapuna","Median","TakapunaMedian","Whole Suburb","Whole Suburb",600]
["Auckland","Takapuna","Upper Quartile","TakapunaUpper Quartile","Whole Suburb","Whole Suburb",783]
["Auckland","Okura","Bonds","OkuraBonds","Whole Suburb","Whole Suburb",51]
["Auckland","Okura","Lower Quartile","OkuraLower Quartile","Whole Suburb","Whole Suburb",705]
["Auckland","Okura","Median","OkuraMedian","Whole Suburb","Whole Suburb",720]
["Auckland","Okura","Upper Quartile","OkuraUpper Quartile","Whole Suburb","Whole Suburb",825]
["Auckland","Albany Heights","Bonds","Albany HeightsBonds","Whole Suburb","Whole Suburb",255]
["Auckland","Albany Heights","Lower Quartile","Albany HeightsLower Quartile","Whole Suburb","Whole Suburb",600]
["Auckland","Albany Heights","Median","Albany HeightsMedian","Whole Suburb","Whole Suburb",680]
["Auckland","Albany Heights","Upper Quartile","Albany HeightsUpper Quartile","Whole Suburb","Whole Suburb",830]
["Auckland","Herne Bay","Bonds","Herne BayBonds","Whole Suburb","Whole Suburb",546]
["Auckland","Herne Bay","Lower Quartile","Herne BayLower Quartile","Whole Suburb","Whole Suburb",550]
["Auckland","Herne Bay","Median","Herne BayMedian","Whole Suburb","Whole Suburb",680]
["Auckland","Herne Bay","Upper Quartile","Herne BayUpper Quartile","Whole Suburb","Whole Suburb",950]
["Auckland","Highland Park","Bonds","Highland ParkBonds","Whole Suburb","Whole Suburb",474]
["Auckland","Highland Park","Lower Quartile","Highland ParkLower Quartile","Whole Suburb","Whole Suburb",530]
["Auckland","Highland Park","Median","Highland ParkMedian","Whole Suburb","Whole Suburb",580]
["Auckland","Highland Park","Upper Quartile","Highland ParkUpper Quartile","Whole Suburb","Whole Suburb",626]
["Auckland","Lucas Heights","Bonds","Lucas HeightsBonds","Whole Suburb","Whole Suburb",96]
["Auckland","Lucas Heights","Lower Quartile","Lucas HeightsLower Quartile","Whole Suburb","Whole Suburb",450]
["Auckland","Lucas Heights","Median","Lucas HeightsMedian","Whole Suburb","Whole Suburb",555]
["Auckland","Lucas Heights","Upper Quartile","Lucas HeightsUpper Quartile","Whole Suburb","Whole Suburb",698]
["Auckland","Te Atatu South","Bonds","Te Atatu SouthBonds","Whole Suburb","Whole Suburb",1806]
["Auckland","Te Atatu South","Lower Quartile","Te Atatu SouthLower Quartile","Whole Suburb","Whole Suburb",500]
["Auckland","Te Atatu South","Median","Te Atatu SouthMedian","Whole Suburb","Whole Suburb",565]
["Auckland","Te Atatu South","Upper Quartile","Te Atatu SouthUpper Quartile","Whole Suburb","Whole Suburb",650]
["Auckland","Saint Johns","Bonds",{"$f":"B770&C770","v":"Saint JohnsBonds"},"Whole Suburb","Whole Suburb",924]
["Auckland","Saint Johns","Lower Quartile","Saint JohnsLower Quartile","Whole Suburb","Whole Suburb",480]
["Auckland","Saint Johns","Median","Saint JohnsMedian","Whole Suburb","Whole Suburb",600]
["Auckland","Saint Johns","Upper Quartile","Saint JohnsUpper Quartile","Whole Suburb","Whole Suburb",753]
["Auckland","Sandringham","Bonds","SandringhamBonds","Whole Suburb","Whole Suburb",1761]
["Auckland","Sandringham","Lower Quartile","SandringhamLower Quartile","Whole Suburb","Whole Suburb",480]
["Auckland","Sandringham","Median","SandringhamMedian","Whole Suburb","Whole Suburb",540]
["Auckland","Sandringham","Upper Quartile","SandringhamUpper Quartile","Whole Suburb","Whole Suburb",690]
["Auckland","Schnapper Rock","Bonds","Schnapper RockBonds","Whole Suburb","Whole Suburb",345]
["Auckland","Schnapper Rock","Lower Quartile","Schnapper RockLower Quartile","Whole Suburb","Whole Suburb",435]
["Auckland","Schnapper Rock","Median","Schnapper RockMedian","Whole Suburb","Whole Suburb",765]
["Auckland","Schnapper Rock","Upper Quartile","Schnapper RockUpper Quartile","Whole Suburb","Whole Suburb",980]
["Auckland","Shamrock Park","Bonds","Shamrock ParkBonds","Whole Suburb","Whole Suburb",""]
["Auckland","Shamrock Park","Lower Quartile","Shamrock ParkLower Quartile","Whole Suburb","Whole Suburb",""]
["Auckland","Shamrock Park","Median","Shamrock ParkMedian","Whole Suburb","Whole Suburb",""]
["Auckland","Shamrock Park","Upper Quartile","Shamrock ParkUpper Quartile","Whole Suburb","Whole Suburb",""]
["Auckland","Shelly Park","Bonds","Shelly ParkBonds","Whole Suburb","Whole Suburb",120]
["Auckland","Shelly Park","Lower Quartile","Shelly ParkLower Quartile","Whole Suburb","Whole Suburb",596]
["Auckland","Shelly Park","Median","Shelly ParkMedian","Whole Suburb","Whole Suburb",665]
["Auckland","Shelly Park","Upper Quartile","Shelly ParkUpper Quartile","Whole Suburb","Whole Suburb",753]
["Auckland","Totara Heights","Bonds","Totara HeightsBonds","Whole Suburb","Whole Suburb",180]
["Auckland","Totara Heights","Lower Quartile","Totara HeightsLower Quartile","Whole Suburb","Whole Suburb",560]
["Auckland","Totara Heights","Median","Totara HeightsMedian","Whole Suburb","Whole Suburb",700]
["Auckland","Totara Heights","Upper Quartile","Totara HeightsUpper Quartile","Whole Suburb","Whole Suburb",800]
["Awanui","Waiharara","Bonds","WaihararaBonds","Whole Suburb","Whole Suburb",""]
["Awanui","Waiharara","Lower Quartile","WaihararaLower Quartile","Whole Suburb","Whole Suburb",""]
["Awanui","Waiharara","Median","WaihararaMedian","Whole Suburb","Whole Suburb",""]
["Awanui","Waiharara","Upper Quartile","WaihararaUpper Quartile","Whole Suburb","Whole Suburb",""]
["Awanui","Awanui","Bonds","AwanuiBonds","Whole Suburb","Whole Suburb",""]
["Awanui","Awanui","Lower Quartile","AwanuiLower Quartile","Whole Suburb","Whole Suburb",""]
["Awanui","Awanui","Median","AwanuiMedian","Whole Suburb","Whole Suburb",""]
["Awanui","Awanui","Upper Quartile","AwanuiUpper Quartile","Whole Suburb","Whole Suburb",""]
["Awhitu","Manukau Heads","Bonds","Manukau HeadsBonds","Whole Suburb","Whole Suburb",15]
["Awhitu","Manukau Heads","Lower Quartile","Manukau HeadsLower Quartile","Whole Suburb","Whole Suburb",430]
["Awhitu","Manukau Heads","Median","Manukau HeadsMedian","Whole Suburb","Whole Suburb",440]
["Awhitu","Manukau Heads","Upper Quartile","Manukau HeadsUpper Quartile","Whole Suburb","Whole Suburb",525]
["Awhitu","Awhitu","Bonds","AwhituBonds","Whole Suburb","Whole Suburb",""]
["Awhitu","Awhitu","Lower Quartile","AwhituLower Quartile","Whole Suburb","Whole Suburb",""]
["Awhitu","Awhitu","Median","AwhituMedian","Whole Suburb","Whole Suburb",""]
["Awhitu","Awhitu","Upper Quartile","AwhituUpper Quartile","Whole Suburb","Whole Suburb",""]
["Balclutha","Balclutha","Bonds","BalcluthaBonds","Whole Suburb","Whole Suburb",372]
["Balclutha","Balclutha","Lower Quartile","BalcluthaLower Quartile","Whole Suburb","Whole Suburb",260]
["Balclutha","Balclutha","Median","BalcluthaMedian","Whole Suburb","Whole Suburb",310]
["Balclutha","Balclutha","Upper Quartile","BalcluthaUpper Quartile","Whole Suburb","Whole Suburb",374]
["Balclutha","Benhar","Bonds","BenharBonds","Whole Suburb","Whole Suburb",""]
["Balclutha","Benhar","Lower Quartile","BenharLower Quartile","Whole Suburb","Whole Suburb",""]
["Balclutha","Benhar","Median","BenharMedian","Whole Suburb","Whole Suburb",""]
["Balclutha","Benhar","Upper Quartile","BenharUpper Quartile","Whole Suburb","Whole Suburb",""]
["Balclutha","Otanomomo","Bonds","OtanomomoBonds","Whole Suburb","Whole Suburb",""]
["Balclutha","Otanomomo","Lower Quartile","OtanomomoLower Quartile","Whole Suburb","Whole Suburb",""]
["Balclutha","Otanomomo","Median","OtanomomoMedian","Whole Suburb","Whole Suburb",""]
["Balclutha","Otanomomo","Upper Quartile","OtanomomoUpper Quartile","Whole Suburb","Whole Suburb",""]
["Bankside","Bankside","Bonds","BanksideBonds","Whole Suburb","Whole Suburb",""]
["Bankside","Bankside","Lower Quartile","BanksideLower Quartile","Whole Suburb","Whole Suburb",""]
["Bankside","Bankside","Median","BanksideMedian","Whole Suburb","Whole Suburb",""]
["Bankside","Bankside","Upper Quartile","BanksideUpper Quartile","Whole Suburb","Whole Suburb",""]
["Baylys Beach","Baylys Beach","Bonds","Baylys BeachBonds","Whole Suburb","Whole Suburb",30]
["Baylys Beach","Baylys Beach","Lower Quartile","Baylys BeachLower Quartile","Whole Suburb","Whole Suburb",439]
["Baylys Beach","Baylys Beach","Median","Baylys BeachMedian","Whole Suburb","Whole Suburb",463]
["Baylys Beach","Baylys Beach","Upper Quartile","Baylys BeachUpper Quartile","Whole Suburb","Whole Suburb",490]
["Bethells Beach","Bethells Beach","Bonds","Bethells BeachBonds","Whole Suburb","Whole Suburb",""]
["Bethells Beach","Bethells Beach","Lower Quartile","Bethells BeachLower Quartile","Whole Suburb","Whole Suburb",""]
["Bethells Beach","Bethells Beach","Median","Bethells BeachMedian","Whole Suburb","Whole Suburb",""]
["Bethells Beach","Bethells Beach","Upper Quartile","Bethells BeachUpper Quartile","Whole Suburb","Whole Suburb",""]
["Big Omaha","Big Omaha","Bonds",{"$f":"B834&C834","v":"Big OmahaBonds"},"Whole Suburb","Whole Suburb",""]
["Big Omaha","Big Omaha","Lower Quartile","Big OmahaLower Quartile","Whole Suburb","Whole Suburb",""]
["Big Omaha","Big Omaha","Median","Big OmahaMedian","Whole Suburb","Whole Suburb",""]
["Big Omaha","Big Omaha","Upper Quartile","Big OmahaUpper Quartile","Whole Suburb","Whole Suburb",""]
["Blackball","Atarau","Bonds","AtarauBonds","Whole Suburb","Whole Suburb",""]
["Blackball","Atarau","Lower Quartile","AtarauLower Quartile","Whole Suburb","Whole Suburb",""]
["Blackball","Atarau","Median","AtarauMedian","Whole Suburb","Whole Suburb",""]
["Blackball","Atarau","Upper Quartile","AtarauUpper Quartile","Whole Suburb","Whole Suburb",""]
["Blackball","Blackball","Bonds","BlackballBonds","Whole Suburb","Whole Suburb",""]
["Blackball","Blackball","Lower Quartile","BlackballLower Quartile","Whole Suburb","Whole Suburb",""]
["Blackball","Blackball","Median","BlackballMedian","Whole Suburb","Whole Suburb",""]
["Blackball","Blackball","Upper Quartile","BlackballUpper Quartile","Whole Suburb","Whole Suburb",""]
["Blenheim","Witherlea","Bonds","WitherleaBonds","Whole Suburb","Whole Suburb",348]
["Blenheim","Witherlea","Lower Quartile","WitherleaLower Quartile","Whole Suburb","Whole Suburb",449]
["Blenheim","Witherlea","Median","WitherleaMedian","Whole Suburb","Whole Suburb",480]
["Blenheim","Witherlea","Upper Quartile","WitherleaUpper Quartile","Whole Suburb","Whole Suburb",505]
["Blenheim","Woodbourne","Bonds","WoodbourneBonds","Whole Suburb","Whole Suburb",117]
["Blenheim","Woodbourne","Lower Quartile","WoodbourneLower Quartile","Whole Suburb","Whole Suburb",350]
["Blenheim","Woodbourne","Median","WoodbourneMedian","Whole Suburb","Whole Suburb",350]
["Blenheim","Woodbourne","Upper Quartile","WoodbourneUpper Quartile","Whole Suburb","Whole Suburb",370]
["Blenheim","Redwoodtown","Bonds","RedwoodtownBonds","Whole Suburb","Whole Suburb",495]
["Blenheim","Redwoodtown","Lower Quartile","RedwoodtownLower Quartile","Whole Suburb","Whole Suburb",400]
["Blenheim","Redwoodtown","Median","RedwoodtownMedian","Whole Suburb","Whole Suburb",450]
["Blenheim","Redwoodtown","Upper Quartile","RedwoodtownUpper Quartile","Whole Suburb","Whole Suburb",500]
["Blenheim","Grovetown","Bonds","GrovetownBonds","Whole Suburb","Whole Suburb",""]
["Blenheim","Grovetown","Lower Quartile","GrovetownLower Quartile","Whole Suburb","Whole Suburb",""]
["Blenheim","Grovetown","Median","GrovetownMedian","Whole Suburb","Whole Suburb",""]
["Blenheim","Grovetown","Upper Quartile","GrovetownUpper Quartile","Whole Suburb","Whole Suburb",""]
["Blenheim","Mayfield","Bonds","MayfieldBonds","Whole Suburb","Whole Suburb",153]
["Blenheim","Mayfield","Lower Quartile","MayfieldLower Quartile","Whole Suburb","Whole Suburb",395]
["Blenheim","Mayfield","Median","MayfieldMedian","Whole Suburb","Whole Suburb",450]
["Blenheim","Mayfield","Upper Quartile","MayfieldUpper Quartile","Whole Suburb","Whole Suburb",500]
["Blenheim","Burleigh","Bonds","BurleighBonds","Whole Suburb","Whole Suburb",""]
["Blenheim","Burleigh","Lower Quartile","BurleighLower Quartile","Whole Suburb","Whole Suburb",""]
["Blenheim","Burleigh","Median","BurleighMedian","Whole Suburb","Whole Suburb",""]
["Blenheim","Burleigh","Upper Quartile","BurleighUpper Quartile","Whole Suburb","Whole Suburb",""]
["Blenheim","Springlands","Bonds","SpringlandsBonds","Whole Suburb","Whole Suburb",261]
["Blenheim","Springlands","Lower Quartile","SpringlandsLower Quartile","Whole Suburb","Whole Suburb",415]
["Blenheim","Springlands","Median","SpringlandsMedian","Whole Suburb","Whole Suburb",465]
["Blenheim","Springlands","Upper Quartile","SpringlandsUpper Quartile","Whole Suburb","Whole Suburb",500]
["Blenheim","Islington","Bonds","IslingtonBonds","Whole Suburb","Whole Suburb",39]
["Blenheim","Islington","Lower Quartile","IslingtonLower Quartile","Whole Suburb","Whole Suburb",400]
["Blenheim","Islington","Median","IslingtonMedian","Whole Suburb","Whole Suburb",420]
["Blenheim","Islington","Upper Quartile","IslingtonUpper Quartile","Whole Suburb","Whole Suburb",490]
["Blenheim","Blenheim","Bonds","BlenheimBonds","Whole Suburb","Whole Suburb",726]
["Blenheim","Blenheim","Lower Quartile","BlenheimLower Quartile","Whole Suburb","Whole Suburb",390]
["Blenheim","Blenheim","Median","BlenheimMedian","Whole Suburb","Whole Suburb",450]
["Blenheim","Blenheim","Upper Quartile","BlenheimUpper Quartile","Whole Suburb","Whole Suburb",500]
["Blenheim","Rapaura","Bonds","RapauraBonds","Whole Suburb","Whole Suburb",""]
["Blenheim","Rapaura","Lower Quartile","RapauraLower Quartile","Whole Suburb","Whole Suburb",""]
["Blenheim","Rapaura","Median","RapauraMedian","Whole Suburb","Whole Suburb",""]
["Blenheim","Rapaura","Upper Quartile","RapauraUpper Quartile","Whole Suburb","Whole Suburb",""]
["Blenheim","Rarangi","Bonds","RarangiBonds","Whole Suburb","Whole Suburb",15]
["Blenheim","Rarangi","Lower Quartile","RarangiLower Quartile","Whole Suburb","Whole Suburb",450]
["Blenheim","Rarangi","Median","RarangiMedian","Whole Suburb","Whole Suburb",500]
["Blenheim","Rarangi","Upper Quartile","RarangiUpper Quartile","Whole Suburb","Whole Suburb",550]
["Blenheim","Riversdale","Bonds","RiversdaleBonds","Whole Suburb","Whole Suburb",114]
["Blenheim","Riversdale","Lower Quartile","RiversdaleLower Quartile","Whole Suburb","Whole Suburb",340]
["Blenheim","Riversdale","Median","RiversdaleMedian","Whole Suburb","Whole Suburb",370]
["Blenheim","Riversdale","Upper Quartile","RiversdaleUpper Quartile","Whole Suburb","Whole Suburb",400]
["Blenheim","Tuamarina","Bonds","TuamarinaBonds","Whole Suburb","Whole Suburb",""]
["Blenheim","Tuamarina","Lower Quartile","TuamarinaLower Quartile","Whole Suburb","Whole Suburb",""]
["Blenheim","Tuamarina","Median","TuamarinaMedian","Whole Suburb","Whole Suburb",""]
["Blenheim","Tuamarina","Upper Quartile","TuamarinaUpper Quartile","Whole Suburb","Whole Suburb",""]
["Bluff","Bluff","Bonds",{"$f":"B898&C898","v":"BluffBonds"},"Whole Suburb","Whole Suburb",102]
["Bluff","Bluff","Lower Quartile","BluffLower Quartile","Whole Suburb","Whole Suburb",270]
["Bluff","Bluff","Median","BluffMedian","Whole Suburb","Whole Suburb",318]
["Bluff","Bluff","Upper Quartile","BluffUpper Quartile","Whole Suburb","Whole Suburb",348]
["Bombay","Bombay","Bonds","BombayBonds","Whole Suburb","Whole Suburb",72]
["Bombay","Bombay","Lower Quartile","BombayLower Quartile","Whole Suburb","Whole Suburb",580]
["Bombay","Bombay","Median","BombayMedian","Whole Suburb","Whole Suburb",650]
["Bombay","Bombay","Upper Quartile","BombayUpper Quartile","Whole Suburb","Whole Suburb",750]
["Brightwater","Brightwater","Bonds","BrightwaterBonds","Whole Suburb","Whole Suburb",126]
["Brightwater","Brightwater","Lower Quartile","BrightwaterLower Quartile","Whole Suburb","Whole Suburb",350]
["Brightwater","Brightwater","Median","BrightwaterMedian","Whole Suburb","Whole Suburb",480]
["Brightwater","Brightwater","Upper Quartile","BrightwaterUpper Quartile","Whole Suburb","Whole Suburb",600]
["Brightwater","Wairoa Valley","Bonds","Wairoa ValleyBonds","Whole Suburb","Whole Suburb",""]
["Brightwater","Wairoa Valley","Lower Quartile","Wairoa ValleyLower Quartile","Whole Suburb","Whole Suburb",""]
["Brightwater","Wairoa Valley","Median","Wairoa ValleyMedian","Whole Suburb","Whole Suburb",""]
["Brightwater","Wairoa Valley","Upper Quartile","Wairoa ValleyUpper Quartile","Whole Suburb","Whole Suburb",""]
["Broadlands","Broadlands Forest","Bonds","Broadlands ForestBonds","Whole Suburb","Whole Suburb",""]
["Broadlands","Broadlands Forest","Lower Quartile","Broadlands ForestLower Quartile","Whole Suburb","Whole Suburb",""]
["Broadlands","Broadlands Forest","Median","Broadlands ForestMedian","Whole Suburb","Whole Suburb",""]
["Broadlands","Broadlands Forest","Upper Quartile","Broadlands ForestUpper Quartile","Whole Suburb","Whole Suburb",""]
["Broomfield","Broomfield","Bonds","BroomfieldBonds","Whole Suburb","Whole Suburb",""]
["Broomfield","Broomfield","Lower Quartile","BroomfieldLower Quartile","Whole Suburb","Whole Suburb",""]
["Broomfield","Broomfield","Median","BroomfieldMedian","Whole Suburb","Whole Suburb",""]
["Broomfield","Broomfield","Upper Quartile","BroomfieldUpper Quartile","Whole Suburb","Whole Suburb",""]
["Brunswick","Brunswick","Bonds","BrunswickBonds","Whole Suburb","Whole Suburb",""]
["Brunswick","Brunswick","Lower Quartile","BrunswickLower Quartile","Whole Suburb","Whole Suburb",""]
["Brunswick","Brunswick","Median","BrunswickMedian","Whole Suburb","Whole Suburb",""]
["Brunswick","Brunswick","Upper Quartile","BrunswickUpper Quartile","Whole Suburb","Whole Suburb",""]
["Bulls","Bulls","Bonds","BullsBonds","Whole Suburb","Whole Suburb",228]
["Bulls","Bulls","Lower Quartile","BullsLower Quartile","Whole Suburb","Whole Suburb",300]
["Bulls","Bulls","Median","BullsMedian","Whole Suburb","Whole Suburb",340]
["Bulls","Bulls","Upper Quartile","BullsUpper Quartile","Whole Suburb","Whole Suburb",380]
["Burnham","Burnham","Bonds","BurnhamBonds","Whole Suburb","Whole Suburb",""]
["Burnham","Burnham","Lower Quartile","BurnhamLower Quartile","Whole Suburb","Whole Suburb",""]
["Burnham","Burnham","Median","BurnhamMedian","Whole Suburb","Whole Suburb",""]
["Burnham","Burnham","Upper Quartile","BurnhamUpper Quartile","Whole Suburb","Whole Suburb",""]
["Burnham","Burnham Camp","Bonds","Burnham CampBonds","Whole Suburb","Whole Suburb",72]
["Burnham","Burnham Camp","Lower Quartile","Burnham CampLower Quartile","Whole Suburb","Whole Suburb",300]
["Burnham","Burnham Camp","Median","Burnham CampMedian","Whole Suburb","Whole Suburb",300]
["Burnham","Burnham Camp","Upper Quartile","Burnham CampUpper Quartile","Whole Suburb","Whole Suburb",325]
["Cable Bay","Cable Bay","Bonds","Cable BayBonds","Whole Suburb","Whole Suburb",78]
["Cable Bay","Cable Bay","Lower Quartile","Cable BayLower Quartile","Whole Suburb","Whole Suburb",320]
["Cable Bay","Cable Bay","Median","Cable BayMedian","Whole Suburb","Whole Suburb",450]
["Cable Bay","Cable Bay","Upper Quartile","Cable BayUpper Quartile","Whole Suburb","Whole Suburb",500]
["Cambridge","Rotoorangi","Bonds","RotoorangiBonds","Whole Suburb","Whole Suburb",""]
["Cambridge","Rotoorangi","Lower Quartile","RotoorangiLower Quartile","Whole Suburb","Whole Suburb",""]
["Cambridge","Rotoorangi","Median","RotoorangiMedian","Whole Suburb","Whole Suburb",""]
["Cambridge","Rotoorangi","Upper Quartile","RotoorangiUpper Quartile","Whole Suburb","Whole Suburb",""]
["Cambridge","Maungatautari","Bonds","MaungatautariBonds","Whole Suburb","Whole Suburb",""]
["Cambridge","Maungatautari","Lower Quartile","MaungatautariLower Quartile","Whole Suburb","Whole Suburb",""]
["Cambridge","Maungatautari","Median","MaungatautariMedian","Whole Suburb","Whole Suburb",""]
["Cambridge","Maungatautari","Upper Quartile","MaungatautariUpper Quartile","Whole Suburb","Whole Suburb",""]
["Cambridge","Cambridge","Bonds","CambridgeBonds","Whole Suburb","Whole Suburb",1056]
["Cambridge","Cambridge","Lower Quartile","CambridgeLower Quartile","Whole Suburb","Whole Suburb",460]
["Cambridge","Cambridge","Median","CambridgeMedian","Whole Suburb","Whole Suburb",560]
["Cambridge","Cambridge","Upper Quartile","CambridgeUpper Quartile","Whole Suburb","Whole Suburb",640]
["Cambridge","Leamington","Bonds","LeamingtonBonds","Whole Suburb","Whole Suburb",756]
["Cambridge","Leamington","Lower Quartile","LeamingtonLower Quartile","Whole Suburb","Whole Suburb",480]
["Cambridge","Leamington","Median","LeamingtonMedian","Whole Suburb","Whole Suburb",550]
["Cambridge","Leamington","Upper Quartile","LeamingtonUpper Quartile","Whole Suburb","Whole Suburb",585]
["Cambridge","Te Miro","Bonds","Te MiroBonds","Whole Suburb","Whole Suburb",""]
["Cambridge","Te Miro","Lower Quartile","Te MiroLower Quartile","Whole Suburb","Whole Suburb",""]
["Cambridge","Te Miro","Median","Te MiroMedian","Whole Suburb","Whole Suburb",""]
["Cambridge","Te Miro","Upper Quartile","Te MiroUpper Quartile","Whole Suburb","Whole Suburb",""]
["Cambridge","Karapiro","Bonds",{"$f":"B962&C962","v":"KarapiroBonds"},"Whole Suburb","Whole Suburb",45]
["Cambridge","Karapiro","Lower Quartile","KarapiroLower Quartile","Whole Suburb","Whole Suburb",489]
["Cambridge","Karapiro","Median","KarapiroMedian","Whole Suburb","Whole Suburb",545]
["Cambridge","Karapiro","Upper Quartile","KarapiroUpper Quartile","Whole Suburb","Whole Suburb",605]
["Cape Foulwind","Cape Foulwind","Bonds","Cape FoulwindBonds","Whole Suburb","Whole Suburb",""]
["Cape Foulwind","Cape Foulwind","Lower Quartile","Cape FoulwindLower Quartile","Whole Suburb","Whole Suburb",""]
["Cape Foulwind","Cape Foulwind","Median","Cape FoulwindMedian","Whole Suburb","Whole Suburb",""]
["Cape Foulwind","Cape Foulwind","Upper Quartile","Cape FoulwindUpper Quartile","Whole Suburb","Whole Suburb",""]
["Carterton","Carterton","Bonds","CartertonBonds","Whole Suburb","Whole Suburb",462]
["Carterton","Carterton","Lower Quartile","CartertonLower Quartile","Whole Suburb","Whole Suburb",333]
["Carterton","Carterton","Median","CartertonMedian","Whole Suburb","Whole Suburb",430]
["Carterton","Carterton","Upper Quartile","CartertonUpper Quartile","Whole Suburb","Whole Suburb",494]
["Carterton","West Taratahi","Bonds","West TaratahiBonds","Whole Suburb","Whole Suburb",""]
["Carterton","West Taratahi","Lower Quartile","West TaratahiLower Quartile","Whole Suburb","Whole Suburb",""]
["Carterton","West Taratahi","Median","West TaratahiMedian","Whole Suburb","Whole Suburb",""]
["Carterton","West Taratahi","Upper Quartile","West TaratahiUpper Quartile","Whole Suburb","Whole Suburb",""]
["Carterton","East Taratahi","Bonds","East TaratahiBonds","Whole Suburb","Whole Suburb",""]
["Carterton","East Taratahi","Lower Quartile","East TaratahiLower Quartile","Whole Suburb","Whole Suburb",""]
["Carterton","East Taratahi","Median","East TaratahiMedian","Whole Suburb","Whole Suburb",""]
["Carterton","East Taratahi","Upper Quartile","East TaratahiUpper Quartile","Whole Suburb","Whole Suburb",""]
["Carterton","Clareville","Bonds","ClarevilleBonds","Whole Suburb","Whole Suburb",""]
["Carterton","Clareville","Lower Quartile","ClarevilleLower Quartile","Whole Suburb","Whole Suburb",""]
["Carterton","Clareville","Median","ClarevilleMedian","Whole Suburb","Whole Suburb",""]
["Carterton","Clareville","Upper Quartile","ClarevilleUpper Quartile","Whole Suburb","Whole Suburb",""]
["Carterton","Parkvale","Bonds","ParkvaleBonds","Whole Suburb","Whole Suburb",""]
["Carterton","Parkvale","Lower Quartile","ParkvaleLower Quartile","Whole Suburb","Whole Suburb",""]
["Carterton","Parkvale","Median","ParkvaleMedian","Whole Suburb","Whole Suburb",""]
["Carterton","Parkvale","Upper Quartile","ParkvaleUpper Quartile","Whole Suburb","Whole Suburb",""]
["Cave","Cave","Bonds","CaveBonds","Whole Suburb","Whole Suburb",""]
["Cave","Cave","Lower Quartile","CaveLower Quartile","Whole Suburb","Whole Suburb",""]
["Cave","Cave","Median","CaveMedian","Whole Suburb","Whole Suburb",""]
["Cave","Cave","Upper Quartile","CaveUpper Quartile","Whole Suburb","Whole Suburb",""]
["Chatham Islands","Chatham Island","Bonds","Chatham IslandBonds","Whole Suburb","Whole Suburb",""]
["Chatham Islands","Chatham Island","Lower Quartile","Chatham IslandLower Quartile","Whole Suburb","Whole Suburb",""]
["Chatham Islands","Chatham Island","Median","Chatham IslandMedian","Whole Suburb","Whole Suburb",""]
["Chatham Islands","Chatham Island","Upper Quartile","Chatham IslandUpper Quartile","Whole Suburb","Whole Suburb",""]
["Cheviot","Cheviot","Bonds","CheviotBonds","Whole Suburb","Whole Suburb",30]
["Cheviot","Cheviot","Lower Quartile","CheviotLower Quartile","Whole Suburb","Whole Suburb",343]
["Cheviot","Cheviot","Median","CheviotMedian","Whole Suburb","Whole Suburb",375]
["Cheviot","Cheviot","Upper Quartile","CheviotUpper Quartile","Whole Suburb","Whole Suburb",405]
["Christchurch","Waimairi Beach","Bonds","Waimairi BeachBonds","Whole Suburb","Whole Suburb",""]
["Christchurch","Waimairi Beach","Lower Quartile","Waimairi BeachLower Quartile","Whole Suburb","Whole Suburb",""]
["Christchurch","Waimairi Beach","Median","Waimairi BeachMedian","Whole Suburb","Whole Suburb",""]
["Christchurch","Waimairi Beach","Upper Quartile","Waimairi BeachUpper Quartile","Whole Suburb","Whole Suburb",""]
["Christchurch","Wainoni","Bonds","WainoniBonds","Whole Suburb","Whole Suburb",219]
["Christchurch","Wainoni","Lower Quartile","WainoniLower Quartile","Whole Suburb","Whole Suburb",255]
["Christchurch","Wainoni","Median","WainoniMedian","Whole Suburb","Whole Suburb",378]
["Christchurch","Wainoni","Upper Quartile","WainoniUpper Quartile","Whole Suburb","Whole Suburb",440]
["Christchurch","Wigram","Bonds","WigramBonds","Whole Suburb","Whole Suburb",1002]
["Christchurch","Wigram","Lower Quartile","WigramLower Quartile","Whole Suburb","Whole Suburb",195]
["Christchurch","Wigram","Median","WigramMedian","Whole Suburb","Whole Suburb",475]
["Christchurch","Wigram","Upper Quartile","WigramUpper Quartile","Whole Suburb","Whole Suburb",550]
["Christchurch","Woolston","Bonds","WoolstonBonds","Whole Suburb","Whole Suburb",1047]
["Christchurch","Woolston","Lower Quartile","WoolstonLower Quartile","Whole Suburb","Whole Suburb",340]
["Christchurch","Woolston","Median","WoolstonMedian","Whole Suburb","Whole Suburb",400]
["Christchurch","Woolston","Upper Quartile","WoolstonUpper Quartile","Whole Suburb","Whole Suburb",450]
["Christchurch","Bexley","Bonds","BexleyBonds","Whole Suburb","Whole Suburb",""]
["Christchurch","Bexley","Lower Quartile","BexleyLower Quartile","Whole Suburb","Whole Suburb",""]
["Christchurch","Bexley","Median","BexleyMedian","Whole Suburb","Whole Suburb",""]
["Christchurch","Bexley","Upper Quartile","BexleyUpper Quartile","Whole Suburb","Whole Suburb",""]
["Christchurch","Phillipstown","Bonds","PhillipstownBonds","Whole Suburb","Whole Suburb",936]
["Christchurch","Phillipstown","Lower Quartile","PhillipstownLower Quartile","Whole Suburb","Whole Suburb",300]
["Christchurch","Phillipstown","Median","PhillipstownMedian","Whole Suburb","Whole Suburb",340]
["Christchurch","Phillipstown","Upper Quartile","PhillipstownUpper Quartile","Whole Suburb","Whole Suburb",410]
["Christchurch","Strowan","Bonds",{"$f":"B1026&C1026","v":"StrowanBonds"},"Whole Suburb","Whole Suburb",300]
["Christchurch","Strowan","Lower Quartile","StrowanLower Quartile","Whole Suburb","Whole Suburb",400]
["Christchurch","Strowan","Median","StrowanMedian","Whole Suburb","Whole Suburb",485]
["Christchurch","Strowan","Upper Quartile","StrowanUpper Quartile","Whole Suburb","Whole Suburb",541]
["Christchurch","Redwood","Bonds","RedwoodBonds","Whole Suburb","Whole Suburb",543]
["Christchurch","Redwood","Lower Quartile","RedwoodLower Quartile","Whole Suburb","Whole Suburb",400]
["Christchurch","Redwood","Median","RedwoodMedian","Whole Suburb","Whole Suburb",450]
["Christchurch","Redwood","Upper Quartile","RedwoodUpper Quartile","Whole Suburb","Whole Suburb",475]
["Christchurch","Beckenham","Bonds","BeckenhamBonds","Whole Suburb","Whole Suburb",129]
["Christchurch","Beckenham","Lower Quartile","BeckenhamLower Quartile","Whole Suburb","Whole Suburb",390]
["Christchurch","Beckenham","Median","BeckenhamMedian","Whole Suburb","Whole Suburb",450]
["Christchurch","Beckenham","Upper Quartile","BeckenhamUpper Quartile","Whole Suburb","Whole Suburb",495]
["Christchurch","Belfast","Bonds","BelfastBonds","Whole Suburb","Whole Suburb",327]
["Christchurch","Belfast","Lower Quartile","BelfastLower Quartile","Whole Suburb","Whole Suburb",424]
["Christchurch","Belfast","Median","BelfastMedian","Whole Suburb","Whole Suburb",500]
["Christchurch","Belfast","Upper Quartile","BelfastUpper Quartile","Whole Suburb","Whole Suburb",520]
["Christchurch","Waltham","Bonds","WalthamBonds","Whole Suburb","Whole Suburb",933]
["Christchurch","Waltham","Lower Quartile","WalthamLower Quartile","Whole Suburb","Whole Suburb",299]
["Christchurch","Waltham","Median","WalthamMedian","Whole Suburb","Whole Suburb",350]
["Christchurch","Waltham","Upper Quartile","WalthamUpper Quartile","Whole Suburb","Whole Suburb",410]
["Christchurch","Sydenham","Bonds","SydenhamBonds","Whole Suburb","Whole Suburb",1629]
["Christchurch","Sydenham","Lower Quartile","SydenhamLower Quartile","Whole Suburb","Whole Suburb",360]
["Christchurch","Sydenham","Median","SydenhamMedian","Whole Suburb","Whole Suburb",400]
["Christchurch","Sydenham","Upper Quartile","SydenhamUpper Quartile","Whole Suburb","Whole Suburb",460]
["Christchurch","Halswell","Bonds","HalswellBonds","Whole Suburb","Whole Suburb",900]
["Christchurch","Halswell","Lower Quartile","HalswellLower Quartile","Whole Suburb","Whole Suburb",480]
["Christchurch","Halswell","Median","HalswellMedian","Whole Suburb","Whole Suburb",520]
["Christchurch","Halswell","Upper Quartile","HalswellUpper Quartile","Whole Suburb","Whole Suburb",570]
["Christchurch","Harewood","Bonds","HarewoodBonds","Whole Suburb","Whole Suburb",99]
["Christchurch","Harewood","Lower Quartile","HarewoodLower Quartile","Whole Suburb","Whole Suburb",480]
["Christchurch","Harewood","Median","HarewoodMedian","Whole Suburb","Whole Suburb",520]
["Christchurch","Harewood","Upper Quartile","HarewoodUpper Quartile","Whole Suburb","Whole Suburb",565]
["Christchurch","New Brighton","Bonds","New BrightonBonds","Whole Suburb","Whole Suburb",753]
["Christchurch","New Brighton","Lower Quartile","New BrightonLower Quartile","Whole Suburb","Whole Suburb",360]
["Christchurch","New Brighton","Median","New BrightonMedian","Whole Suburb","Whole Suburb",400]
["Christchurch","New Brighton","Upper Quartile","New BrightonUpper Quartile","Whole Suburb","Whole Suburb",450]
["Christchurch","Bryndwr","Bonds","BryndwrBonds","Whole Suburb","Whole Suburb",684]
["Christchurch","Bryndwr","Lower Quartile","BryndwrLower Quartile","Whole Suburb","Whole Suburb",385]
["Christchurch","Bryndwr","Median","BryndwrMedian","Whole Suburb","Whole Suburb",450]
["Christchurch","Bryndwr","Upper Quartile","BryndwrUpper Quartile","Whole Suburb","Whole Suburb",510]
["Christchurch","Opawa","Bonds","OpawaBonds","Whole Suburb","Whole Suburb",105]
["Christchurch","Opawa","Lower Quartile","OpawaLower Quartile","Whole Suburb","Whole Suburb",380]
["Christchurch","Opawa","Median","OpawaMedian","Whole Suburb","Whole Suburb",435]
["Christchurch","Opawa","Upper Quartile","OpawaUpper Quartile","Whole Suburb","Whole Suburb",470]
["Christchurch","Linwood","Bonds","LinwoodBonds","Whole Suburb","Whole Suburb",2289]
["Christchurch","Linwood","Lower Quartile","LinwoodLower Quartile","Whole Suburb","Whole Suburb",270]
["Christchurch","Linwood","Median","LinwoodMedian","Whole Suburb","Whole Suburb",345]
["Christchurch","Linwood","Upper Quartile","LinwoodUpper Quartile","Whole Suburb","Whole Suburb",400]
["Christchurch","Avondale","Bonds","AvondaleBonds","Whole Suburb","Whole Suburb",222]
["Christchurch","Avondale","Lower Quartile","AvondaleLower Quartile","Whole Suburb","Whole Suburb",420]
["Christchurch","Avondale","Median","AvondaleMedian","Whole Suburb","Whole Suburb",435]
["Christchurch","Avondale","Upper Quartile","AvondaleUpper Quartile","Whole Suburb","Whole Suburb",470]
["Christchurch","Avonhead","Bonds","AvonheadBonds","Whole Suburb","Whole Suburb",903]
["Christchurch","Avonhead","Lower Quartile","AvonheadLower Quartile","Whole Suburb","Whole Suburb",440]
["Christchurch","Avonhead","Median","AvonheadMedian","Whole Suburb","Whole Suburb",495]
["Christchurch","Avonhead","Upper Quartile","AvonheadUpper Quartile","Whole Suburb","Whole Suburb",570]
["Christchurch","Edgeware","Bonds","EdgewareBonds","Whole Suburb","Whole Suburb",1296]
["Christchurch","Edgeware","Lower Quartile","EdgewareLower Quartile","Whole Suburb","Whole Suburb",330]
["Christchurch","Edgeware","Median","EdgewareMedian","Whole Suburb","Whole Suburb",390]
["Christchurch","Edgeware","Upper Quartile","EdgewareUpper Quartile","Whole Suburb","Whole Suburb",470]
["Christchurch","Burwood","Bonds","BurwoodBonds","Whole Suburb","Whole Suburb",456]
["Christchurch","Burwood","Lower Quartile","BurwoodLower Quartile","Whole Suburb","Whole Suburb",391]
["Christchurch","Burwood","Median","BurwoodMedian","Whole Suburb","Whole Suburb",450]
["Christchurch","Burwood","Upper Quartile","BurwoodUpper Quartile","Whole Suburb","Whole Suburb",493]
["Christchurch","Spencerville","Bonds",{"$f":"B1090&C1090","v":"SpencervilleBonds"},"Whole Suburb","Whole Suburb",""]
["Christchurch","Spencerville","Lower Quartile","SpencervilleLower Quartile","Whole Suburb","Whole Suburb",""]
["Christchurch","Spencerville","Median","SpencervilleMedian","Whole Suburb","Whole Suburb",""]
["Christchurch","Spencerville","Upper Quartile","SpencervilleUpper Quartile","Whole Suburb","Whole Suburb",""]
["Christchurch","South New Brighton","Bonds","South New BrightonBonds","Whole Suburb","Whole Suburb",165]
["Christchurch","South New Brighton","Lower Quartile","South New BrightonLower Quartile","Whole Suburb","Whole Suburb",378]
["Christchurch","South New Brighton","Median","South New BrightonMedian","Whole Suburb","Whole Suburb",405]
["Christchurch","South New Brighton","Upper Quartile","South New BrightonUpper Quartile","Whole Suburb","Whole Suburb",460]
["Christchurch","Heathcote Valley","Bonds","Heathcote ValleyBonds","Whole Suburb","Whole Suburb",117]
["Christchurch","Heathcote Valley","Lower Quartile","Heathcote ValleyLower Quartile","Whole Suburb","Whole Suburb",450]
["Christchurch","Heathcote Valley","Median","Heathcote ValleyMedian","Whole Suburb","Whole Suburb",488]
["Christchurch","Heathcote Valley","Upper Quartile","Heathcote ValleyUpper Quartile","Whole Suburb","Whole Suburb",526]
["Christchurch","McLeans Island","Bonds","McLeans IslandBonds","Whole Suburb","Whole Suburb",""]
["Christchurch","McLeans Island","Lower Quartile","McLeans IslandLower Quartile","Whole Suburb","Whole Suburb",""]
["Christchurch","McLeans Island","Median","McLeans IslandMedian","Whole Suburb","Whole Suburb",""]
["Christchurch","McLeans Island","Upper Quartile","McLeans IslandUpper Quartile","Whole Suburb","Whole Suburb",""]
["Christchurch","Middleton","Bonds","MiddletonBonds","Whole Suburb","Whole Suburb",18]
["Christchurch","Middleton","Lower Quartile","MiddletonLower Quartile","Whole Suburb","Whole Suburb",220]
["Christchurch","Middleton","Median","MiddletonMedian","Whole Suburb","Whole Suburb",220]
["Christchurch","Middleton","Upper Quartile","MiddletonUpper Quartile","Whole Suburb","Whole Suburb",320]
["Christchurch","Moncks Bay","Bonds","Moncks BayBonds","Whole Suburb","Whole Suburb",48]
["Christchurch","Moncks Bay","Lower Quartile","Moncks BayLower Quartile","Whole Suburb","Whole Suburb",434]
["Christchurch","Moncks Bay","Median","Moncks BayMedian","Whole Suburb","Whole Suburb",535]
["Christchurch","Moncks Bay","Upper Quartile","Moncks BayUpper Quartile","Whole Suburb","Whole Suburb",565]
["Christchurch","Mount Pleasant","Bonds","Mount PleasantBonds","Whole Suburb","Whole Suburb",171]
["Christchurch","Mount Pleasant","Lower Quartile","Mount PleasantLower Quartile","Whole Suburb","Whole Suburb",398]
["Christchurch","Mount Pleasant","Median","Mount PleasantMedian","Whole Suburb","Whole Suburb",590]
["Christchurch","Mount Pleasant","Upper Quartile","Mount PleasantUpper Quartile","Whole Suburb","Whole Suburb",650]
["Christchurch","Shirley","Bonds","ShirleyBonds","Whole Suburb","Whole Suburb",411]
["Christchurch","Shirley","Lower Quartile","ShirleyLower Quartile","Whole Suburb","Whole Suburb",380]
["Christchurch","Shirley","Median","ShirleyMedian","Whole Suburb","Whole Suburb",435]
["Christchurch","Shirley","Upper Quartile","ShirleyUpper Quartile","Whole Suburb","Whole Suburb",496]
["Christchurch","Sockburn","Bonds","SockburnBonds","Whole Suburb","Whole Suburb",675]
["Christchurch","Sockburn","Lower Quartile","SockburnLower Quartile","Whole Suburb","Whole Suburb",350]
["Christchurch","Sockburn","Median","SockburnMedian","Whole Suburb","Whole Suburb",443]
["Christchurch","Sockburn","Upper Quartile","SockburnUpper Quartile","Whole Suburb","Whole Suburb",533]
["Christchurch","Somerfield","Bonds","SomerfieldBonds","Whole Suburb","Whole Suburb",558]
["Christchurch","Somerfield","Lower Quartile","SomerfieldLower Quartile","Whole Suburb","Whole Suburb",374]
["Christchurch","Somerfield","Median","SomerfieldMedian","Whole Suburb","Whole Suburb",450]
["Christchurch","Somerfield","Upper Quartile","SomerfieldUpper Quartile","Whole Suburb","Whole Suburb",490]
["Christchurch","Upper Riccarton","Bonds","Upper RiccartonBonds","Whole Suburb","Whole Suburb",1548]
["Christchurch","Upper Riccarton","Lower Quartile","Upper RiccartonLower Quartile","Whole Suburb","Whole Suburb",220]
["Christchurch","Upper Riccarton","Median","Upper RiccartonMedian","Whole Suburb","Whole Suburb",430]
["Christchurch","Upper Riccarton","Upper Quartile","Upper RiccartonUpper Quartile","Whole Suburb","Whole Suburb",600]
["Christchurch","Yaldhurst","Bonds","YaldhurstBonds","Whole Suburb","Whole Suburb",123]
["Christchurch","Yaldhurst","Lower Quartile","YaldhurstLower Quartile","Whole Suburb","Whole Suburb",480]
["Christchurch","Yaldhurst","Median","YaldhurstMedian","Whole Suburb","Whole Suburb",520]
["Christchurch","Yaldhurst","Upper Quartile","YaldhurstUpper Quartile","Whole Suburb","Whole Suburb",565]
["Christchurch","Burnside","Bonds","BurnsideBonds","Whole Suburb","Whole Suburb",795]
["Christchurch","Burnside","Lower Quartile","BurnsideLower Quartile","Whole Suburb","Whole Suburb",430]
["Christchurch","Burnside","Median","BurnsideMedian","Whole Suburb","Whole Suburb",480]
["Christchurch","Burnside","Upper Quartile","BurnsideUpper Quartile","Whole Suburb","Whole Suburb",530]
["Christchurch","Casebrook","Bonds","CasebrookBonds","Whole Suburb","Whole Suburb",300]
["Christchurch","Casebrook","Lower Quartile","CasebrookLower Quartile","Whole Suburb","Whole Suburb",410]
["Christchurch","Casebrook","Median","CasebrookMedian","Whole Suburb","Whole Suburb",450]
["Christchurch","Casebrook","Upper Quartile","CasebrookUpper Quartile","Whole Suburb","Whole Suburb",540]
["Christchurch","Cashmere","Bonds","CashmereBonds","Whole Suburb","Whole Suburb",360]
["Christchurch","Cashmere","Lower Quartile","CashmereLower Quartile","Whole Suburb","Whole Suburb",379]
["Christchurch","Cashmere","Median","CashmereMedian","Whole Suburb","Whole Suburb",470]
["Christchurch","Cashmere","Upper Quartile","CashmereUpper Quartile","Whole Suburb","Whole Suburb",553]
["Christchurch","Christchurch Central","Bonds","Christchurch CentralBonds","Whole Suburb","Whole Suburb",3261]
["Christchurch","Christchurch Central","Lower Quartile","Christchurch CentralLower Quartile","Whole Suburb","Whole Suburb",321]
["Christchurch","Christchurch Central","Median","Christchurch CentralMedian","Whole Suburb","Whole Suburb",399]
["Christchurch","Christchurch Central","Upper Quartile","Christchurch CentralUpper Quartile","Whole Suburb","Whole Suburb",450]
["Christchurch","Clifton","Bonds",{"$f":"B1154&C1154","v":"CliftonBonds"},"Whole Suburb","Whole Suburb",51]
["Christchurch","Clifton","Lower Quartile","CliftonLower Quartile","Whole Suburb","Whole Suburb",428]
["Christchurch","Clifton","Median","CliftonMedian","Whole Suburb","Whole Suburb",645]
["Christchurch","Clifton","Upper Quartile","CliftonUpper Quartile","Whole Suburb","Whole Suburb",923]
["Christchurch","Cracroft","Bonds","CracroftBonds","Whole Suburb","Whole Suburb",""]
["Christchurch","Cracroft","Lower Quartile","CracroftLower Quartile","Whole Suburb","Whole Suburb",""]
["Christchurch","Cracroft","Median","CracroftMedian","Whole Suburb","Whole Suburb",""]
["Christchurch","Cracroft","Upper Quartile","CracroftUpper Quartile","Whole Suburb","Whole Suburb",""]
["Christchurch","Dallington","Bonds","DallingtonBonds","Whole Suburb","Whole Suburb",174]
["Christchurch","Dallington","Lower Quartile","DallingtonLower Quartile","Whole Suburb","Whole Suburb",371]
["Christchurch","Dallington","Median","DallingtonMedian","Whole Suburb","Whole Suburb",433]
["Christchurch","Dallington","Upper Quartile","DallingtonUpper Quartile","Whole Suburb","Whole Suburb",480]
["Christchurch","Southshore","Bonds","SouthshoreBonds","Whole Suburb","Whole Suburb",81]
["Christchurch","Southshore","Lower Quartile","SouthshoreLower Quartile","Whole Suburb","Whole Suburb",353]
["Christchurch","Southshore","Median","SouthshoreMedian","Whole Suburb","Whole Suburb",385]
["Christchurch","Southshore","Upper Quartile","SouthshoreUpper Quartile","Whole Suburb","Whole Suburb",443]
["Christchurch","Spreydon","Bonds","SpreydonBonds","Whole Suburb","Whole Suburb",900]
["Christchurch","Spreydon","Lower Quartile","SpreydonLower Quartile","Whole Suburb","Whole Suburb",358]
["Christchurch","Spreydon","Median","SpreydonMedian","Whole Suburb","Whole Suburb",430]
["Christchurch","Spreydon","Upper Quartile","SpreydonUpper Quartile","Whole Suburb","Whole Suburb",480]
["Christchurch","St Albans","Bonds","St AlbansBonds","Whole Suburb","Whole Suburb",2739]
["Christchurch","St Albans","Lower Quartile","St AlbansLower Quartile","Whole Suburb","Whole Suburb",345]
["Christchurch","St Albans","Median","St AlbansMedian","Whole Suburb","Whole Suburb",420]
["Christchurch","St Albans","Upper Quartile","St AlbansUpper Quartile","Whole Suburb","Whole Suburb",500]
["Christchurch","Sumner","Bonds","SumnerBonds","Whole Suburb","Whole Suburb",267]
["Christchurch","Sumner","Lower Quartile","SumnerLower Quartile","Whole Suburb","Whole Suburb",435]
["Christchurch","Sumner","Median","SumnerMedian","Whole Suburb","Whole Suburb",475]
["Christchurch","Sumner","Upper Quartile","SumnerUpper Quartile","Whole Suburb","Whole Suburb",518]
["Christchurch","Ouruhia","Bonds","OuruhiaBonds","Whole Suburb","Whole Suburb",""]
["Christchurch","Ouruhia","Lower Quartile","OuruhiaLower Quartile","Whole Suburb","Whole Suburb",""]
["Christchurch","Ouruhia","Median","OuruhiaMedian","Whole Suburb","Whole Suburb",""]
["Christchurch","Ouruhia","Upper Quartile","OuruhiaUpper Quartile","Whole Suburb","Whole Suburb",""]
["Christchurch","Papanui","Bonds","PapanuiBonds","Whole Suburb","Whole Suburb",687]
["Christchurch","Papanui","Lower Quartile","PapanuiLower Quartile","Whole Suburb","Whole Suburb",411]
["Christchurch","Papanui","Median","PapanuiMedian","Whole Suburb","Whole Suburb",460]
["Christchurch","Papanui","Upper Quartile","PapanuiUpper Quartile","Whole Suburb","Whole Suburb",538]
["Christchurch","Parklands","Bonds","ParklandsBonds","Whole Suburb","Whole Suburb",558]
["Christchurch","Parklands","Lower Quartile","ParklandsLower Quartile","Whole Suburb","Whole Suburb",430]
["Christchurch","Parklands","Median","ParklandsMedian","Whole Suburb","Whole Suburb",465]
["Christchurch","Parklands","Upper Quartile","ParklandsUpper Quartile","Whole Suburb","Whole Suburb",550]
["Christchurch","Hei Hei","Bonds","Hei HeiBonds","Whole Suburb","Whole Suburb",276]
["Christchurch","Hei Hei","Lower Quartile","Hei HeiLower Quartile","Whole Suburb","Whole Suburb",407]
["Christchurch","Hei Hei","Median","Hei HeiMedian","Whole Suburb","Whole Suburb",445]
["Christchurch","Hei Hei","Upper Quartile","Hei HeiUpper Quartile","Whole Suburb","Whole Suburb",475]
["Christchurch","Northcote","Bonds","NorthcoteBonds","Whole Suburb","Whole Suburb",204]
["Christchurch","Northcote","Lower Quartile","NorthcoteLower Quartile","Whole Suburb","Whole Suburb",395]
["Christchurch","Northcote","Median","NorthcoteMedian","Whole Suburb","Whole Suburb",425]
["Christchurch","Northcote","Upper Quartile","NorthcoteUpper Quartile","Whole Suburb","Whole Suburb",491]
["Christchurch","Marshland","Bonds","MarshlandBonds","Whole Suburb","Whole Suburb",150]
["Christchurch","Marshland","Lower Quartile","MarshlandLower Quartile","Whole Suburb","Whole Suburb",500]
["Christchurch","Marshland","Median","MarshlandMedian","Whole Suburb","Whole Suburb",570]
["Christchurch","Marshland","Upper Quartile","MarshlandUpper Quartile","Whole Suburb","Whole Suburb",598]
["Christchurch","Ilam","Bonds","IlamBonds","Whole Suburb","Whole Suburb",1356]
["Christchurch","Ilam","Lower Quartile","IlamLower Quartile","Whole Suburb","Whole Suburb",391]
["Christchurch","Ilam","Median","IlamMedian","Whole Suburb","Whole Suburb",490]
["Christchurch","Ilam","Upper Quartile","IlamUpper Quartile","Whole Suburb","Whole Suburb",600]
["Christchurch","Islington","Bonds","IslingtonBonds","Whole Suburb","Whole Suburb",123]
["Christchurch","Islington","Lower Quartile","IslingtonLower Quartile","Whole Suburb","Whole Suburb",403]
["Christchurch","Islington","Median","IslingtonMedian","Whole Suburb","Whole Suburb",440]
["Christchurch","Islington","Upper Quartile","IslingtonUpper Quartile","Whole Suburb","Whole Suburb",483]
["Christchurch","Kainga","Bonds","KaingaBonds","Whole Suburb","Whole Suburb",""]
["Christchurch","Kainga","Lower Quartile","KaingaLower Quartile","Whole Suburb","Whole Suburb",""]
["Christchurch","Kainga","Median","KaingaMedian","Whole Suburb","Whole Suburb",""]
["Christchurch","Kainga","Upper Quartile","KaingaUpper Quartile","Whole Suburb","Whole Suburb",""]
["Christchurch","Kennedys Bush","Bonds",{"$f":"B1218&C1218","v":"Kennedys BushBonds"},"Whole Suburb","Whole Suburb",""]
["Christchurch","Kennedys Bush","Lower Quartile","Kennedys BushLower Quartile","Whole Suburb","Whole Suburb",""]
["Christchurch","Kennedys Bush","Median","Kennedys BushMedian","Whole Suburb","Whole Suburb",""]
["Christchurch","Kennedys Bush","Upper Quartile","Kennedys BushUpper Quartile","Whole Suburb","Whole Suburb",""]
["Christchurch","Hillmorton","Bonds","HillmortonBonds","Whole Suburb","Whole Suburb",321]
["Christchurch","Hillmorton","Lower Quartile","HillmortonLower Quartile","Whole Suburb","Whole Suburb",388]
["Christchurch","Hillmorton","Median","HillmortonMedian","Whole Suburb","Whole Suburb",450]
["Christchurch","Hillmorton","Upper Quartile","HillmortonUpper Quartile","Whole Suburb","Whole Suburb",513]
["Christchurch","Merivale","Bonds","MerivaleBonds","Whole Suburb","Whole Suburb",846]
["Christchurch","Merivale","Lower Quartile","MerivaleLower Quartile","Whole Suburb","Whole Suburb",380]
["Christchurch","Merivale","Median","MerivaleMedian","Whole Suburb","Whole Suburb",450]
["Christchurch","Merivale","Upper Quartile","MerivaleUpper Quartile","Whole Suburb","Whole Suburb",509]
["Christchurch","Fendalton","Bonds","FendaltonBonds","Whole Suburb","Whole Suburb",276]
["Christchurch","Fendalton","Lower Quartile","FendaltonLower Quartile","Whole Suburb","Whole Suburb",450]
["Christchurch","Fendalton","Median","FendaltonMedian","Whole Suburb","Whole Suburb",550]
["Christchurch","Fendalton","Upper Quartile","FendaltonUpper Quartile","Whole Suburb","Whole Suburb",650]
["Christchurch","Ferrymead","Bonds","FerrymeadBonds","Whole Suburb","Whole Suburb",27]
["Christchurch","Ferrymead","Lower Quartile","FerrymeadLower Quartile","Whole Suburb","Whole Suburb",350]
["Christchurch","Ferrymead","Median","FerrymeadMedian","Whole Suburb","Whole Suburb",399]
["Christchurch","Ferrymead","Upper Quartile","FerrymeadUpper Quartile","Whole Suburb","Whole Suburb",418]
["Christchurch","North New Brighton","Bonds","North New BrightonBonds","Whole Suburb","Whole Suburb",333]
["Christchurch","North New Brighton","Lower Quartile","North New BrightonLower Quartile","Whole Suburb","Whole Suburb",360]
["Christchurch","North New Brighton","Median","North New BrightonMedian","Whole Suburb","Whole Suburb",430]
["Christchurch","North New Brighton","Upper Quartile","North New BrightonUpper Quartile","Whole Suburb","Whole Suburb",480]
["Christchurch","Northwood","Bonds","NorthwoodBonds","Whole Suburb","Whole Suburb",222]
["Christchurch","Northwood","Lower Quartile","NorthwoodLower Quartile","Whole Suburb","Whole Suburb",370]
["Christchurch","Northwood","Median","NorthwoodMedian","Whole Suburb","Whole Suburb",500]
["Christchurch","Northwood","Upper Quartile","NorthwoodUpper Quartile","Whole Suburb","Whole Suburb",570]
["Christchurch","Westmorland","Bonds","WestmorlandBonds","Whole Suburb","Whole Suburb",45]
["Christchurch","Westmorland","Lower Quartile","WestmorlandLower Quartile","Whole Suburb","Whole Suburb",525]
["Christchurch","Westmorland","Median","WestmorlandMedian","Whole Suburb","Whole Suburb",525]
["Christchurch","Westmorland","Upper Quartile","WestmorlandUpper Quartile","Whole Suburb","Whole Suburb",600]
["Christchurch","Bishopdale","Bonds","BishopdaleBonds","Whole Suburb","Whole Suburb",750]
["Christchurch","Bishopdale","Lower Quartile","BishopdaleLower Quartile","Whole Suburb","Whole Suburb",414]
["Christchurch","Bishopdale","Median","BishopdaleMedian","Whole Suburb","Whole Suburb",460]
["Christchurch","Bishopdale","Upper Quartile","BishopdaleUpper Quartile","Whole Suburb","Whole Suburb",495]
["Christchurch","Hoon Hay","Bonds","Hoon HayBonds","Whole Suburb","Whole Suburb",504]
["Christchurch","Hoon Hay","Lower Quartile","Hoon HayLower Quartile","Whole Suburb","Whole Suburb",398]
["Christchurch","Hoon Hay","Median","Hoon HayMedian","Whole Suburb","Whole Suburb",440]
["Christchurch","Hoon Hay","Upper Quartile","Hoon HayUpper Quartile","Whole Suburb","Whole Suburb",480]
["Christchurch","Hornby","Bonds","HornbyBonds","Whole Suburb","Whole Suburb",798]
["Christchurch","Hornby","Lower Quartile","HornbyLower Quartile","Whole Suburb","Whole Suburb",390]
["Christchurch","Hornby","Median","HornbyMedian","Whole Suburb","Whole Suburb",450]
["Christchurch","Hornby","Upper Quartile","HornbyUpper Quartile","Whole Suburb","Whole Suburb",470]
["Christchurch","Huntsbury","Bonds","HuntsburyBonds","Whole Suburb","Whole Suburb",96]
["Christchurch","Huntsbury","Lower Quartile","HuntsburyLower Quartile","Whole Suburb","Whole Suburb",393]
["Christchurch","Huntsbury","Median","HuntsburyMedian","Whole Suburb","Whole Suburb",455]
["Christchurch","Huntsbury","Upper Quartile","HuntsburyUpper Quartile","Whole Suburb","Whole Suburb",553]
["Christchurch","Templeton","Bonds","TempletonBonds","Whole Suburb","Whole Suburb",108]
["Christchurch","Templeton","Lower Quartile","TempletonLower Quartile","Whole Suburb","Whole Suburb",430]
["Christchurch","Templeton","Median","TempletonMedian","Whole Suburb","Whole Suburb",450]
["Christchurch","Templeton","Upper Quartile","TempletonUpper Quartile","Whole Suburb","Whole Suburb",528]
["Christchurch","Hillsborough","Bonds","HillsboroughBonds","Whole Suburb","Whole Suburb",147]
["Christchurch","Hillsborough","Lower Quartile","HillsboroughLower Quartile","Whole Suburb","Whole Suburb",403]
["Christchurch","Hillsborough","Median","HillsboroughMedian","Whole Suburb","Whole Suburb",438]
["Christchurch","Hillsborough","Upper Quartile","HillsboroughUpper Quartile","Whole Suburb","Whole Suburb",450]
["Christchurch","Avonside","Bonds","AvonsideBonds","Whole Suburb","Whole Suburb",138]
["Christchurch","Avonside","Lower Quartile","AvonsideLower Quartile","Whole Suburb","Whole Suburb",400]
["Christchurch","Avonside","Median","AvonsideMedian","Whole Suburb","Whole Suburb",415]
["Christchurch","Avonside","Upper Quartile","AvonsideUpper Quartile","Whole Suburb","Whole Suburb",460]
["Christchurch","Redcliffs","Bonds","RedcliffsBonds","Whole Suburb","Whole Suburb",150]
["Christchurch","Redcliffs","Lower Quartile","RedcliffsLower Quartile","Whole Suburb","Whole Suburb",450]
["Christchurch","Redcliffs","Median","RedcliffsMedian","Whole Suburb","Whole Suburb",488]
["Christchurch","Redcliffs","Upper Quartile","RedcliffsUpper Quartile","Whole Suburb","Whole Suburb",521]
["Christchurch","Riccarton","Bonds",{"$f":"B1282&C1282","v":"RiccartonBonds"},"Whole Suburb","Whole Suburb",2721]
["Christchurch","Riccarton","Lower Quartile","RiccartonLower Quartile","Whole Suburb","Whole Suburb",290]
["Christchurch","Riccarton","Median","RiccartonMedian","Whole Suburb","Whole Suburb",420]
["Christchurch","Riccarton","Upper Quartile","RiccartonUpper Quartile","Whole Suburb","Whole Suburb",520]
["Christchurch","Richmond","Bonds","RichmondBonds","Whole Suburb","Whole Suburb",939]
["Christchurch","Richmond","Lower Quartile","RichmondLower Quartile","Whole Suburb","Whole Suburb",325]
["Christchurch","Richmond","Median","RichmondMedian","Whole Suburb","Whole Suburb",410]
["Christchurch","Richmond","Upper Quartile","RichmondUpper Quartile","Whole Suburb","Whole Suburb",445]
["Christchurch","Richmond Hill","Bonds","Richmond HillBonds","Whole Suburb","Whole Suburb",18]
["Christchurch","Richmond Hill","Lower Quartile","Richmond HillLower Quartile","Whole Suburb","Whole Suburb",450]
["Christchurch","Richmond Hill","Median","Richmond HillMedian","Whole Suburb","Whole Suburb",520]
["Christchurch","Richmond Hill","Upper Quartile","Richmond HillUpper Quartile","Whole Suburb","Whole Suburb",663]
["Christchurch","Addington","Bonds","AddingtonBonds","Whole Suburb","Whole Suburb",1506]
["Christchurch","Addington","Lower Quartile","AddingtonLower Quartile","Whole Suburb","Whole Suburb",220]
["Christchurch","Addington","Median","AddingtonMedian","Whole Suburb","Whole Suburb",380]
["Christchurch","Addington","Upper Quartile","AddingtonUpper Quartile","Whole Suburb","Whole Suburb",449]
["Christchurch","Aidanfield","Bonds","AidanfieldBonds","Whole Suburb","Whole Suburb",162]
["Christchurch","Aidanfield","Lower Quartile","AidanfieldLower Quartile","Whole Suburb","Whole Suburb",515]
["Christchurch","Aidanfield","Median","AidanfieldMedian","Whole Suburb","Whole Suburb",580]
["Christchurch","Aidanfield","Upper Quartile","AidanfieldUpper Quartile","Whole Suburb","Whole Suburb",610]
["Christchurch","Aranui","Bonds","AranuiBonds","Whole Suburb","Whole Suburb",402]
["Christchurch","Aranui","Lower Quartile","AranuiLower Quartile","Whole Suburb","Whole Suburb",380]
["Christchurch","Aranui","Median","AranuiMedian","Whole Suburb","Whole Suburb",400]
["Christchurch","Aranui","Upper Quartile","AranuiUpper Quartile","Whole Suburb","Whole Suburb",440]
["Christchurch","Mairehau","Bonds","MairehauBonds","Whole Suburb","Whole Suburb",591]
["Christchurch","Mairehau","Lower Quartile","MairehauLower Quartile","Whole Suburb","Whole Suburb",400]
["Christchurch","Mairehau","Median","MairehauMedian","Whole Suburb","Whole Suburb",450]
["Christchurch","Mairehau","Upper Quartile","MairehauUpper Quartile","Whole Suburb","Whole Suburb",500]
["Christchurch","Russley","Bonds","RussleyBonds","Whole Suburb","Whole Suburb",258]
["Christchurch","Russley","Lower Quartile","RussleyLower Quartile","Whole Suburb","Whole Suburb",420]
["Christchurch","Russley","Median","RussleyMedian","Whole Suburb","Whole Suburb",463]
["Christchurch","Russley","Upper Quartile","RussleyUpper Quartile","Whole Suburb","Whole Suburb",525]
["Christchurch","Saint Martins","Bonds","Saint MartinsBonds","Whole Suburb","Whole Suburb",261]
["Christchurch","Saint Martins","Lower Quartile","Saint MartinsLower Quartile","Whole Suburb","Whole Suburb",375]
["Christchurch","Saint Martins","Median","Saint MartinsMedian","Whole Suburb","Whole Suburb",430]
["Christchurch","Saint Martins","Upper Quartile","Saint MartinsUpper Quartile","Whole Suburb","Whole Suburb",485]
["Christchurch","Scarborough","Bonds","ScarboroughBonds","Whole Suburb","Whole Suburb",36]
["Christchurch","Scarborough","Lower Quartile","ScarboroughLower Quartile","Whole Suburb","Whole Suburb",693]
["Christchurch","Scarborough","Median","ScarboroughMedian","Whole Suburb","Whole Suburb",725]
["Christchurch","Scarborough","Upper Quartile","ScarboroughUpper Quartile","Whole Suburb","Whole Suburb",838]
["Christchurch","Bromley","Bonds","BromleyBonds","Whole Suburb","Whole Suburb",195]
["Christchurch","Bromley","Lower Quartile","BromleyLower Quartile","Whole Suburb","Whole Suburb",350]
["Christchurch","Bromley","Median","BromleyMedian","Whole Suburb","Whole Suburb",380]
["Christchurch","Bromley","Upper Quartile","BromleyUpper Quartile","Whole Suburb","Whole Suburb",400]
["Christchurch","Brooklands","Bonds","BrooklandsBonds","Whole Suburb","Whole Suburb",""]
["Christchurch","Brooklands","Lower Quartile","BrooklandsLower Quartile","Whole Suburb","Whole Suburb",""]
["Christchurch","Brooklands","Median","BrooklandsMedian","Whole Suburb","Whole Suburb",""]
["Christchurch","Brooklands","Upper Quartile","BrooklandsUpper Quartile","Whole Suburb","Whole Suburb",""]
["Christchurch","Broomfield","Bonds","BroomfieldBonds","Whole Suburb","Whole Suburb",123]
["Christchurch","Broomfield","Lower Quartile","BroomfieldLower Quartile","Whole Suburb","Whole Suburb",430]
["Christchurch","Broomfield","Median","BroomfieldMedian","Whole Suburb","Whole Suburb",460]
["Christchurch","Broomfield","Upper Quartile","BroomfieldUpper Quartile","Whole Suburb","Whole Suburb",533]
["Clarks Beach","Clarks Beach","Bonds","Clarks BeachBonds","Whole Suburb","Whole Suburb",111]
["Clarks Beach","Clarks Beach","Lower Quartile","Clarks BeachLower Quartile","Whole Suburb","Whole Suburb",483]
["Clarks Beach","Clarks Beach","Median","Clarks BeachMedian","Whole Suburb","Whole Suburb",505]
["Clarks Beach","Clarks Beach","Upper Quartile","Clarks BeachUpper Quartile","Whole Suburb","Whole Suburb",568]
["Clevedon","Ness Valley","Bonds","Ness ValleyBonds","Whole Suburb","Whole Suburb",""]
["Clevedon","Ness Valley","Lower Quartile","Ness ValleyLower Quartile","Whole Suburb","Whole Suburb",""]
["Clevedon","Ness Valley","Median","Ness ValleyMedian","Whole Suburb","Whole Suburb",""]
["Clevedon","Ness Valley","Upper Quartile","Ness ValleyUpper Quartile","Whole Suburb","Whole Suburb",""]
["Clevedon","Clevedon","Bonds","ClevedonBonds","Whole Suburb","Whole Suburb",102]
["Clevedon","Clevedon","Lower Quartile","ClevedonLower Quartile","Whole Suburb","Whole Suburb",495]
["Clevedon","Clevedon","Median","ClevedonMedian","Whole Suburb","Whole Suburb",550]
["Clevedon","Clevedon","Upper Quartile","ClevedonUpper Quartile","Whole Suburb","Whole Suburb",700]
["Clinton","Clinton","Bonds",{"$f":"B1346&C1346","v":"ClintonBonds"},"Whole Suburb","Whole Suburb",""]
["Clinton","Clinton","Lower Quartile","ClintonLower Quartile","Whole Suburb","Whole Suburb",""]
["Clinton","Clinton","Median","ClintonMedian","Whole Suburb","Whole Suburb",""]
["Clinton","Clinton","Upper Quartile","ClintonUpper Quartile","Whole Suburb","Whole Suburb",""]
["Clive","Clive","Bonds","CliveBonds","Whole Suburb","Whole Suburb",93]
["Clive","Clive","Lower Quartile","CliveLower Quartile","Whole Suburb","Whole Suburb",560]
["Clive","Clive","Median","CliveMedian","Whole Suburb","Whole Suburb",600]
["Clive","Clive","Upper Quartile","CliveUpper Quartile","Whole Suburb","Whole Suburb",630]
["Clyde","Clyde","Bonds","ClydeBonds","Whole Suburb","Whole Suburb",93]
["Clyde","Clyde","Lower Quartile","ClydeLower Quartile","Whole Suburb","Whole Suburb",388]
["Clyde","Clyde","Median","ClydeMedian","Whole Suburb","Whole Suburb",435]
["Clyde","Clyde","Upper Quartile","ClydeUpper Quartile","Whole Suburb","Whole Suburb",478]
["Clydevale","Clydevale","Bonds","ClydevaleBonds","Whole Suburb","Whole Suburb",""]
["Clydevale","Clydevale","Lower Quartile","ClydevaleLower Quartile","Whole Suburb","Whole Suburb",""]
["Clydevale","Clydevale","Median","ClydevaleMedian","Whole Suburb","Whole Suburb",""]
["Clydevale","Clydevale","Upper Quartile","ClydevaleUpper Quartile","Whole Suburb","Whole Suburb",""]
["Coalgate","Coalgate","Bonds","CoalgateBonds","Whole Suburb","Whole Suburb",21]
["Coalgate","Coalgate","Lower Quartile","CoalgateLower Quartile","Whole Suburb","Whole Suburb",358]
["Coalgate","Coalgate","Median","CoalgateMedian","Whole Suburb","Whole Suburb",400]
["Coalgate","Coalgate","Upper Quartile","CoalgateUpper Quartile","Whole Suburb","Whole Suburb",433]
["Coatesville","Coatesville","Bonds","CoatesvilleBonds","Whole Suburb","Whole Suburb",123]
["Coatesville","Coatesville","Lower Quartile","CoatesvilleLower Quartile","Whole Suburb","Whole Suburb",624]
["Coatesville","Coatesville","Median","CoatesvilleMedian","Whole Suburb","Whole Suburb",820]
["Coatesville","Coatesville","Upper Quartile","CoatesvilleUpper Quartile","Whole Suburb","Whole Suburb",1095]
["Collingwood","Rockville","Bonds","RockvilleBonds","Whole Suburb","Whole Suburb",""]
["Collingwood","Rockville","Lower Quartile","RockvilleLower Quartile","Whole Suburb","Whole Suburb",""]
["Collingwood","Rockville","Median","RockvilleMedian","Whole Suburb","Whole Suburb",""]
["Collingwood","Rockville","Upper Quartile","RockvilleUpper Quartile","Whole Suburb","Whole Suburb",""]
["Collingwood","Parapara","Bonds","ParaparaBonds","Whole Suburb","Whole Suburb",""]
["Collingwood","Parapara","Lower Quartile","ParaparaLower Quartile","Whole Suburb","Whole Suburb",""]
["Collingwood","Parapara","Median","ParaparaMedian","Whole Suburb","Whole Suburb",""]
["Collingwood","Parapara","Upper Quartile","ParaparaUpper Quartile","Whole Suburb","Whole Suburb",""]
["Collingwood","Collingwood","Bonds","CollingwoodBonds","Whole Suburb","Whole Suburb",""]
["Collingwood","Collingwood","Lower Quartile","CollingwoodLower Quartile","Whole Suburb","Whole Suburb",""]
["Collingwood","Collingwood","Median","CollingwoodMedian","Whole Suburb","Whole Suburb",""]
["Collingwood","Collingwood","Upper Quartile","CollingwoodUpper Quartile","Whole Suburb","Whole Suburb",""]
["Coopers Beach","Coopers Beach","Bonds","Coopers BeachBonds","Whole Suburb","Whole Suburb",57]
["Coopers Beach","Coopers Beach","Lower Quartile","Coopers BeachLower Quartile","Whole Suburb","Whole Suburb",350]
["Coopers Beach","Coopers Beach","Median","Coopers BeachMedian","Whole Suburb","Whole Suburb",420]
["Coopers Beach","Coopers Beach","Upper Quartile","Coopers BeachUpper Quartile","Whole Suburb","Whole Suburb",500]
["Coromandel","Coromandel","Bonds","CoromandelBonds","Whole Suburb","Whole Suburb",123]
["Coromandel","Coromandel","Lower Quartile","CoromandelLower Quartile","Whole Suburb","Whole Suburb",350]
["Coromandel","Coromandel","Median","CoromandelMedian","Whole Suburb","Whole Suburb",370]
["Coromandel","Coromandel","Upper Quartile","CoromandelUpper Quartile","Whole Suburb","Whole Suburb",388]
["Coromandel","Wyuna Bay","Bonds","Wyuna BayBonds","Whole Suburb","Whole Suburb",""]
["Coromandel","Wyuna Bay","Lower Quartile","Wyuna BayLower Quartile","Whole Suburb","Whole Suburb",""]
["Coromandel","Wyuna Bay","Median","Wyuna BayMedian","Whole Suburb","Whole Suburb",""]
["Coromandel","Wyuna Bay","Upper Quartile","Wyuna BayUpper Quartile","Whole Suburb","Whole Suburb",""]
["Cromwell","Mount Pisa","Bonds","Mount PisaBonds","Whole Suburb","Whole Suburb",30]
["Cromwell","Mount Pisa","Lower Quartile","Mount PisaLower Quartile","Whole Suburb","Whole Suburb",538]
["Cromwell","Mount Pisa","Median","Mount PisaMedian","Whole Suburb","Whole Suburb",580]
["Cromwell","Mount Pisa","Upper Quartile","Mount PisaUpper Quartile","Whole Suburb","Whole Suburb",605]
["Cromwell","Queensberry","Bonds","QueensberryBonds","Whole Suburb","Whole Suburb",""]
["Cromwell","Queensberry","Lower Quartile","QueensberryLower Quartile","Whole Suburb","Whole Suburb",""]
["Cromwell","Queensberry","Median","QueensberryMedian","Whole Suburb","Whole Suburb",""]
["Cromwell","Queensberry","Upper Quartile","QueensberryUpper Quartile","Whole Suburb","Whole Suburb",""]
["Cromwell","Lowburn","Bonds","LowburnBonds","Whole Suburb","Whole Suburb",""]
["Cromwell","Lowburn","Lower Quartile","LowburnLower Quartile","Whole Suburb","Whole Suburb",""]
["Cromwell","Lowburn","Median","LowburnMedian","Whole Suburb","Whole Suburb",""]
["Cromwell","Lowburn","Upper Quartile","LowburnUpper Quartile","Whole Suburb","Whole Suburb",""]
["Cromwell","Cromwell","Bonds","CromwellBonds","Whole Suburb","Whole Suburb",744]
["Cromwell","Cromwell","Lower Quartile","CromwellLower Quartile","Whole Suburb","Whole Suburb",443]
["Cromwell","Cromwell","Median","CromwellMedian","Whole Suburb","Whole Suburb",500]
["Cromwell","Cromwell","Upper Quartile","CromwellUpper Quartile","Whole Suburb","Whole Suburb",550]
["Cromwell","Bannockburn","Bonds",{"$f":"B1410&C1410","v":"BannockburnBonds"},"Whole Suburb","Whole Suburb",""]
["Cromwell","Bannockburn","Lower Quartile","BannockburnLower Quartile","Whole Suburb","Whole Suburb",""]
["Cromwell","Bannockburn","Median","BannockburnMedian","Whole Suburb","Whole Suburb",""]
["Cromwell","Bannockburn","Upper Quartile","BannockburnUpper Quartile","Whole Suburb","Whole Suburb",""]
["Culverden","Culverden","Bonds","CulverdenBonds","Whole Suburb","Whole Suburb",""]
["Culverden","Culverden","Lower Quartile","CulverdenLower Quartile","Whole Suburb","Whole Suburb",""]
["Culverden","Culverden","Median","CulverdenMedian","Whole Suburb","Whole Suburb",""]
["Culverden","Culverden","Upper Quartile","CulverdenUpper Quartile","Whole Suburb","Whole Suburb",""]
["Cust","Cust","Bonds","CustBonds","Whole Suburb","Whole Suburb",18]
["Cust","Cust","Lower Quartile","CustLower Quartile","Whole Suburb","Whole Suburb",350]
["Cust","Cust","Median","CustMedian","Whole Suburb","Whole Suburb",400]
["Cust","Cust","Upper Quartile","CustUpper Quartile","Whole Suburb","Whole Suburb",440]
["Dairy Flat","Dairy Flat","Bonds","Dairy FlatBonds","Whole Suburb","Whole Suburb",390]
["Dairy Flat","Dairy Flat","Lower Quartile","Dairy FlatLower Quartile","Whole Suburb","Whole Suburb",550]
["Dairy Flat","Dairy Flat","Median","Dairy FlatMedian","Whole Suburb","Whole Suburb",798]
["Dairy Flat","Dairy Flat","Upper Quartile","Dairy FlatUpper Quartile","Whole Suburb","Whole Suburb",978]
["Dannevirke","Dannevirke","Bonds","DannevirkeBonds","Whole Suburb","Whole Suburb",528]
["Dannevirke","Dannevirke","Lower Quartile","DannevirkeLower Quartile","Whole Suburb","Whole Suburb",280]
["Dannevirke","Dannevirke","Median","DannevirkeMedian","Whole Suburb","Whole Suburb",330]
["Dannevirke","Dannevirke","Upper Quartile","DannevirkeUpper Quartile","Whole Suburb","Whole Suburb",365]
["Darfield","Darfield","Bonds","DarfieldBonds","Whole Suburb","Whole Suburb",165]
["Darfield","Darfield","Lower Quartile","DarfieldLower Quartile","Whole Suburb","Whole Suburb",358]
["Darfield","Darfield","Median","DarfieldMedian","Whole Suburb","Whole Suburb",400]
["Darfield","Darfield","Upper Quartile","DarfieldUpper Quartile","Whole Suburb","Whole Suburb",424]
["Dargaville","Tangowahine","Bonds","TangowahineBonds","Whole Suburb","Whole Suburb",""]
["Dargaville","Tangowahine","Lower Quartile","TangowahineLower Quartile","Whole Suburb","Whole Suburb",""]
["Dargaville","Tangowahine","Median","TangowahineMedian","Whole Suburb","Whole Suburb",""]
["Dargaville","Tangowahine","Upper Quartile","TangowahineUpper Quartile","Whole Suburb","Whole Suburb",""]
["Dargaville","Arapohue","Bonds","ArapohueBonds","Whole Suburb","Whole Suburb",""]
["Dargaville","Arapohue","Lower Quartile","ArapohueLower Quartile","Whole Suburb","Whole Suburb",""]
["Dargaville","Arapohue","Median","ArapohueMedian","Whole Suburb","Whole Suburb",""]
["Dargaville","Arapohue","Upper Quartile","ArapohueUpper Quartile","Whole Suburb","Whole Suburb",""]
["Dargaville","Aratapu","Bonds","AratapuBonds","Whole Suburb","Whole Suburb",""]
["Dargaville","Aratapu","Lower Quartile","AratapuLower Quartile","Whole Suburb","Whole Suburb",""]
["Dargaville","Aratapu","Median","AratapuMedian","Whole Suburb","Whole Suburb",""]
["Dargaville","Aratapu","Upper Quartile","AratapuUpper Quartile","Whole Suburb","Whole Suburb",""]
["Dargaville","Dargaville","Bonds","DargavilleBonds","Whole Suburb","Whole Suburb",444]
["Dargaville","Dargaville","Lower Quartile","DargavilleLower Quartile","Whole Suburb","Whole Suburb",355]
["Dargaville","Dargaville","Median","DargavilleMedian","Whole Suburb","Whole Suburb",410]
["Dargaville","Dargaville","Upper Quartile","DargavilleUpper Quartile","Whole Suburb","Whole Suburb",435]
["Diamond Harbour","Diamond Harbour","Bonds","Diamond HarbourBonds","Whole Suburb","Whole Suburb",51]
["Diamond Harbour","Diamond Harbour","Lower Quartile","Diamond HarbourLower Quartile","Whole Suburb","Whole Suburb",370]
["Diamond Harbour","Diamond Harbour","Median","Diamond HarbourMedian","Whole Suburb","Whole Suburb",400]
["Diamond Harbour","Diamond Harbour","Upper Quartile","Diamond HarbourUpper Quartile","Whole Suburb","Whole Suburb",460]
["Donnellys Crossing","Donnellys Crossing","Bonds","Donnellys CrossingBonds","Whole Suburb","Whole Suburb",""]
["Donnellys Crossing","Donnellys Crossing","Lower Quartile","Donnellys CrossingLower Quartile","Whole Suburb","Whole Suburb",""]
["Donnellys Crossing","Donnellys Crossing","Median","Donnellys CrossingMedian","Whole Suburb","Whole Suburb",""]
["Donnellys Crossing","Donnellys Crossing","Upper Quartile","Donnellys CrossingUpper Quartile","Whole Suburb","Whole Suburb",""]
["Dorie","Dorie","Bonds","DorieBonds","Whole Suburb","Whole Suburb",""]
["Dorie","Dorie","Lower Quartile","DorieLower Quartile","Whole Suburb","Whole Suburb",""]
["Dorie","Dorie","Median","DorieMedian","Whole Suburb","Whole Suburb",""]
["Dorie","Dorie","Upper Quartile","DorieUpper Quartile","Whole Suburb","Whole Suburb",""]
["Doyleston","Doyleston","Bonds","DoylestonBonds","Whole Suburb","Whole Suburb",""]
["Doyleston","Doyleston","Lower Quartile","DoylestonLower Quartile","Whole Suburb","Whole Suburb",""]
["Doyleston","Doyleston","Median","DoylestonMedian","Whole Suburb","Whole Suburb",""]
["Doyleston","Doyleston","Upper Quartile","DoylestonUpper Quartile","Whole Suburb","Whole Suburb",""]
["Drury","Ramarama","Bonds","RamaramaBonds","Whole Suburb","Whole Suburb",78]
["Drury","Ramarama","Lower Quartile","RamaramaLower Quartile","Whole Suburb","Whole Suburb",620]
["Drury","Ramarama","Median","RamaramaMedian","Whole Suburb","Whole Suburb",635]
["Drury","Ramarama","Upper Quartile","RamaramaUpper Quartile","Whole Suburb","Whole Suburb",850]
["Drury","Runciman","Bonds","RuncimanBonds","Whole Suburb","Whole Suburb",42]
["Drury","Runciman","Lower Quartile","RuncimanLower Quartile","Whole Suburb","Whole Suburb",595]
["Drury","Runciman","Median","RuncimanMedian","Whole Suburb","Whole Suburb",750]
["Drury","Runciman","Upper Quartile","RuncimanUpper Quartile","Whole Suburb","Whole Suburb",1025]
["Drury","Ararimu","Bonds",{"$f":"B1474&C1474","v":"ArarimuBonds"},"Whole Suburb","Whole Suburb",""]
["Drury","Ararimu","Lower Quartile","ArarimuLower Quartile","Whole Suburb","Whole Suburb",""]
["Drury","Ararimu","Median","ArarimuMedian","Whole Suburb","Whole Suburb",""]
["Drury","Ararimu","Upper Quartile","ArarimuUpper Quartile","Whole Suburb","Whole Suburb",""]
["Drury","Drury","Bonds","DruryBonds","Whole Suburb","Whole Suburb",156]
["Drury","Drury","Lower Quartile","DruryLower Quartile","Whole Suburb","Whole Suburb",594]
["Drury","Drury","Median","DruryMedian","Whole Suburb","Whole Suburb",703]
["Drury","Drury","Upper Quartile","DruryUpper Quartile","Whole Suburb","Whole Suburb",813]
["Dunedin","Concord","Bonds","ConcordBonds","Whole Suburb","Whole Suburb",63]
["Dunedin","Concord","Lower Quartile","ConcordLower Quartile","Whole Suburb","Whole Suburb",448]
["Dunedin","Concord","Median","ConcordMedian","Whole Suburb","Whole Suburb",495]
["Dunedin","Concord","Upper Quartile","ConcordUpper Quartile","Whole Suburb","Whole Suburb",535]
["Dunedin","Dalmore","Bonds","DalmoreBonds","Whole Suburb","Whole Suburb",144]
["Dunedin","Dalmore","Lower Quartile","DalmoreLower Quartile","Whole Suburb","Whole Suburb",205]
["Dunedin","Dalmore","Median","DalmoreMedian","Whole Suburb","Whole Suburb",230]
["Dunedin","Dalmore","Upper Quartile","DalmoreUpper Quartile","Whole Suburb","Whole Suburb",420]
["Dunedin","Saint Leonards","Bonds","Saint LeonardsBonds","Whole Suburb","Whole Suburb",27]
["Dunedin","Saint Leonards","Lower Quartile","Saint LeonardsLower Quartile","Whole Suburb","Whole Suburb",405]
["Dunedin","Saint Leonards","Median","Saint LeonardsMedian","Whole Suburb","Whole Suburb",455]
["Dunedin","Saint Leonards","Upper Quartile","Saint LeonardsUpper Quartile","Whole Suburb","Whole Suburb",516]
["Dunedin","Abbotsford","Bonds","AbbotsfordBonds","Whole Suburb","Whole Suburb",57]
["Dunedin","Abbotsford","Lower Quartile","AbbotsfordLower Quartile","Whole Suburb","Whole Suburb",465]
["Dunedin","Abbotsford","Median","AbbotsfordMedian","Whole Suburb","Whole Suburb",485]
["Dunedin","Abbotsford","Upper Quartile","AbbotsfordUpper Quartile","Whole Suburb","Whole Suburb",538]
["Dunedin","Mount Grand","Bonds","Mount GrandBonds","Whole Suburb","Whole Suburb",""]
["Dunedin","Mount Grand","Lower Quartile","Mount GrandLower Quartile","Whole Suburb","Whole Suburb",""]
["Dunedin","Mount Grand","Median","Mount GrandMedian","Whole Suburb","Whole Suburb",""]
["Dunedin","Mount Grand","Upper Quartile","Mount GrandUpper Quartile","Whole Suburb","Whole Suburb",""]
["Dunedin","Saint Kilda","Bonds","Saint KildaBonds","Whole Suburb","Whole Suburb",648]
["Dunedin","Saint Kilda","Lower Quartile","Saint KildaLower Quartile","Whole Suburb","Whole Suburb",355]
["Dunedin","Saint Kilda","Median","Saint KildaMedian","Whole Suburb","Whole Suburb",430]
["Dunedin","Saint Kilda","Upper Quartile","Saint KildaUpper Quartile","Whole Suburb","Whole Suburb",490]
["Dunedin","Tainui","Bonds","TainuiBonds","Whole Suburb","Whole Suburb",90]
["Dunedin","Tainui","Lower Quartile","TainuiLower Quartile","Whole Suburb","Whole Suburb",374]
["Dunedin","Tainui","Median","TainuiMedian","Whole Suburb","Whole Suburb",493]
["Dunedin","Tainui","Upper Quartile","TainuiUpper Quartile","Whole Suburb","Whole Suburb",543]
["Dunedin","Normanby","Bonds","NormanbyBonds","Whole Suburb","Whole Suburb",54]
["Dunedin","Normanby","Lower Quartile","NormanbyLower Quartile","Whole Suburb","Whole Suburb",260]
["Dunedin","Normanby","Median","NormanbyMedian","Whole Suburb","Whole Suburb",385]
["Dunedin","Normanby","Upper Quartile","NormanbyUpper Quartile","Whole Suburb","Whole Suburb",443]
["Dunedin","Woodhaugh","Bonds","WoodhaughBonds","Whole Suburb","Whole Suburb",99]
["Dunedin","Woodhaugh","Lower Quartile","WoodhaughLower Quartile","Whole Suburb","Whole Suburb",243]
["Dunedin","Woodhaugh","Median","WoodhaughMedian","Whole Suburb","Whole Suburb",365]
["Dunedin","Woodhaugh","Upper Quartile","WoodhaughUpper Quartile","Whole Suburb","Whole Suburb",548]
["Dunedin","Vauxhall","Bonds","VauxhallBonds","Whole Suburb","Whole Suburb",39]
["Dunedin","Vauxhall","Lower Quartile","VauxhallLower Quartile","Whole Suburb","Whole Suburb",400]
["Dunedin","Vauxhall","Median","VauxhallMedian","Whole Suburb","Whole Suburb",430]
["Dunedin","Vauxhall","Upper Quartile","VauxhallUpper Quartile","Whole Suburb","Whole Suburb",543]
["Dunedin","Dunedin Central","Bonds","Dunedin CentralBonds","Whole Suburb","Whole Suburb",2826]
["Dunedin","Dunedin Central","Lower Quartile","Dunedin CentralLower Quartile","Whole Suburb","Whole Suburb",235]
["Dunedin","Dunedin Central","Median","Dunedin CentralMedian","Whole Suburb","Whole Suburb",310]
["Dunedin","Dunedin Central","Upper Quartile","Dunedin CentralUpper Quartile","Whole Suburb","Whole Suburb",425]
["Dunedin","Roslyn","Bonds","RoslynBonds","Whole Suburb","Whole Suburb",288]
["Dunedin","Roslyn","Lower Quartile","RoslynLower Quartile","Whole Suburb","Whole Suburb",325]
["Dunedin","Roslyn","Median","RoslynMedian","Whole Suburb","Whole Suburb",410]
["Dunedin","Roslyn","Upper Quartile","RoslynUpper Quartile","Whole Suburb","Whole Suburb",523]
["Dunedin","Broad Bay","Bonds","Broad BayBonds","Whole Suburb","Whole Suburb",39]
["Dunedin","Broad Bay","Lower Quartile","Broad BayLower Quartile","Whole Suburb","Whole Suburb",310]
["Dunedin","Broad Bay","Median","Broad BayMedian","Whole Suburb","Whole Suburb",345]
["Dunedin","Broad Bay","Upper Quartile","Broad BayUpper Quartile","Whole Suburb","Whole Suburb",350]
["Dunedin","Company Bay","Bonds","Company BayBonds","Whole Suburb","Whole Suburb",""]
["Dunedin","Company Bay","Lower Quartile","Company BayLower Quartile","Whole Suburb","Whole Suburb",""]
["Dunedin","Company Bay","Median","Company BayMedian","Whole Suburb","Whole Suburb",""]
["Dunedin","Company Bay","Upper Quartile","Company BayUpper Quartile","Whole Suburb","Whole Suburb",""]
["Dunedin","Wakari","Bonds",{"$f":"B1538&C1538","v":"WakariBonds"},"Whole Suburb","Whole Suburb",207]
["Dunedin","Wakari","Lower Quartile","WakariLower Quartile","Whole Suburb","Whole Suburb",400]
["Dunedin","Wakari","Median","WakariMedian","Whole Suburb","Whole Suburb",450]
["Dunedin","Wakari","Upper Quartile","WakariUpper Quartile","Whole Suburb","Whole Suburb",520]
["Dunedin","Waldronville","Bonds","WaldronvilleBonds","Whole Suburb","Whole Suburb",""]
["Dunedin","Waldronville","Lower Quartile","WaldronvilleLower Quartile","Whole Suburb","Whole Suburb",""]
["Dunedin","Waldronville","Median","WaldronvilleMedian","Whole Suburb","Whole Suburb",""]
["Dunedin","Waldronville","Upper Quartile","WaldronvilleUpper Quartile","Whole Suburb","Whole Suburb",""]
["Dunedin","Halfway Bush","Bonds","Halfway BushBonds","Whole Suburb","Whole Suburb",129]
["Dunedin","Halfway Bush","Lower Quartile","Halfway BushLower Quartile","Whole Suburb","Whole Suburb",450]
["Dunedin","Halfway Bush","Median","Halfway BushMedian","Whole Suburb","Whole Suburb",475]
["Dunedin","Halfway Bush","Upper Quartile","Halfway BushUpper Quartile","Whole Suburb","Whole Suburb",500]
["Dunedin","Fairfield","Bonds","FairfieldBonds","Whole Suburb","Whole Suburb",72]
["Dunedin","Fairfield","Lower Quartile","FairfieldLower Quartile","Whole Suburb","Whole Suburb",465]
["Dunedin","Fairfield","Median","FairfieldMedian","Whole Suburb","Whole Suburb",510]
["Dunedin","Fairfield","Upper Quartile","FairfieldUpper Quartile","Whole Suburb","Whole Suburb",570]
["Dunedin","Kenmure","Bonds","KenmureBonds","Whole Suburb","Whole Suburb",165]
["Dunedin","Kenmure","Lower Quartile","KenmureLower Quartile","Whole Suburb","Whole Suburb",418]
["Dunedin","Kenmure","Median","KenmureMedian","Whole Suburb","Whole Suburb",450]
["Dunedin","Kenmure","Upper Quartile","KenmureUpper Quartile","Whole Suburb","Whole Suburb",500]
["Dunedin","Maia","Bonds","MaiaBonds","Whole Suburb","Whole Suburb",""]
["Dunedin","Maia","Lower Quartile","MaiaLower Quartile","Whole Suburb","Whole Suburb",""]
["Dunedin","Maia","Median","MaiaMedian","Whole Suburb","Whole Suburb",""]
["Dunedin","Maia","Upper Quartile","MaiaUpper Quartile","Whole Suburb","Whole Suburb",""]
["Dunedin","Macandrew Bay","Bonds","Macandrew BayBonds","Whole Suburb","Whole Suburb",63]
["Dunedin","Macandrew Bay","Lower Quartile","Macandrew BayLower Quartile","Whole Suburb","Whole Suburb",451]
["Dunedin","Macandrew Bay","Median","Macandrew BayMedian","Whole Suburb","Whole Suburb",508]
["Dunedin","Macandrew Bay","Upper Quartile","Macandrew BayUpper Quartile","Whole Suburb","Whole Suburb",551]
["Dunedin","The Cove","Bonds","The CoveBonds","Whole Suburb","Whole Suburb",""]
["Dunedin","The Cove","Lower Quartile","The CoveLower Quartile","Whole Suburb","Whole Suburb",""]
["Dunedin","The Cove","Median","The CoveMedian","Whole Suburb","Whole Suburb",""]
["Dunedin","The Cove","Upper Quartile","The CoveUpper Quartile","Whole Suburb","Whole Suburb",""]
["Dunedin","Liberton","Bonds","LibertonBonds","Whole Suburb","Whole Suburb",72]
["Dunedin","Liberton","Lower Quartile","LibertonLower Quartile","Whole Suburb","Whole Suburb",393]
["Dunedin","Liberton","Median","LibertonMedian","Whole Suburb","Whole Suburb",460]
["Dunedin","Liberton","Upper Quartile","LibertonUpper Quartile","Whole Suburb","Whole Suburb",473]
["Dunedin","Lookout Point","Bonds","Lookout PointBonds","Whole Suburb","Whole Suburb",""]
["Dunedin","Lookout Point","Lower Quartile","Lookout PointLower Quartile","Whole Suburb","Whole Suburb",""]
["Dunedin","Lookout Point","Median","Lookout PointMedian","Whole Suburb","Whole Suburb",""]
["Dunedin","Lookout Point","Upper Quartile","Lookout PointUpper Quartile","Whole Suburb","Whole Suburb",""]
["Dunedin","Mornington","Bonds","MorningtonBonds","Whole Suburb","Whole Suburb",357]
["Dunedin","Mornington","Lower Quartile","MorningtonLower Quartile","Whole Suburb","Whole Suburb",300]
["Dunedin","Mornington","Median","MorningtonMedian","Whole Suburb","Whole Suburb",420]
["Dunedin","Mornington","Upper Quartile","MorningtonUpper Quartile","Whole Suburb","Whole Suburb",460]
["Dunedin","Belleknowes","Bonds","BelleknowesBonds","Whole Suburb","Whole Suburb",177]
["Dunedin","Belleknowes","Lower Quartile","BelleknowesLower Quartile","Whole Suburb","Whole Suburb",450]
["Dunedin","Belleknowes","Median","BelleknowesMedian","Whole Suburb","Whole Suburb",520]
["Dunedin","Belleknowes","Upper Quartile","BelleknowesUpper Quartile","Whole Suburb","Whole Suburb",565]
["Dunedin","Portobello","Bonds","PortobelloBonds","Whole Suburb","Whole Suburb",33]
["Dunedin","Portobello","Lower Quartile","PortobelloLower Quartile","Whole Suburb","Whole Suburb",380]
["Dunedin","Portobello","Median","PortobelloMedian","Whole Suburb","Whole Suburb",425]
["Dunedin","Portobello","Upper Quartile","PortobelloUpper Quartile","Whole Suburb","Whole Suburb",505]
["Dunedin","Glenleith","Bonds","GlenleithBonds","Whole Suburb","Whole Suburb",""]
["Dunedin","Glenleith","Lower Quartile","GlenleithLower Quartile","Whole Suburb","Whole Suburb",""]
["Dunedin","Glenleith","Median","GlenleithMedian","Whole Suburb","Whole Suburb",""]
["Dunedin","Glenleith","Upper Quartile","GlenleithUpper Quartile","Whole Suburb","Whole Suburb",""]
["Dunedin","Musselburgh","Bonds","MusselburghBonds","Whole Suburb","Whole Suburb",129]
["Dunedin","Musselburgh","Lower Quartile","MusselburghLower Quartile","Whole Suburb","Whole Suburb",380]
["Dunedin","Musselburgh","Median","MusselburghMedian","Whole Suburb","Whole Suburb",450]
["Dunedin","Musselburgh","Upper Quartile","MusselburghUpper Quartile","Whole Suburb","Whole Suburb",495]
["Dunedin","South Dunedin","Bonds","South DunedinBonds","Whole Suburb","Whole Suburb",501]
["Dunedin","South Dunedin","Lower Quartile","South DunedinLower Quartile","Whole Suburb","Whole Suburb",360]
["Dunedin","South Dunedin","Median","South DunedinMedian","Whole Suburb","Whole Suburb",400]
["Dunedin","South Dunedin","Upper Quartile","South DunedinUpper Quartile","Whole Suburb","Whole Suburb",448]
["Dunedin","Calton Hill","Bonds",{"$f":"B1602&C1602","v":"Calton HillBonds"},"Whole Suburb","Whole Suburb",120]
["Dunedin","Calton Hill","Lower Quartile","Calton HillLower Quartile","Whole Suburb","Whole Suburb",350]
["Dunedin","Calton Hill","Median","Calton HillMedian","Whole Suburb","Whole Suburb",425]
["Dunedin","Calton Hill","Upper Quartile","Calton HillUpper Quartile","Whole Suburb","Whole Suburb",450]
["Dunedin","Clyde Hill","Bonds","Clyde HillBonds","Whole Suburb","Whole Suburb",33]
["Dunedin","Clyde Hill","Lower Quartile","Clyde HillLower Quartile","Whole Suburb","Whole Suburb",400]
["Dunedin","Clyde Hill","Median","Clyde HillMedian","Whole Suburb","Whole Suburb",415]
["Dunedin","Clyde Hill","Upper Quartile","Clyde HillUpper Quartile","Whole Suburb","Whole Suburb",520]
["Dunedin","Corstorphine","Bonds","CorstorphineBonds","Whole Suburb","Whole Suburb",114]
["Dunedin","Corstorphine","Lower Quartile","CorstorphineLower Quartile","Whole Suburb","Whole Suburb",385]
["Dunedin","Corstorphine","Median","CorstorphineMedian","Whole Suburb","Whole Suburb",425]
["Dunedin","Corstorphine","Upper Quartile","CorstorphineUpper Quartile","Whole Suburb","Whole Suburb",450]
["Dunedin","Opoho","Bonds","OpohoBonds","Whole Suburb","Whole Suburb",123]
["Dunedin","Opoho","Lower Quartile","OpohoLower Quartile","Whole Suburb","Whole Suburb",396]
["Dunedin","Opoho","Median","OpohoMedian","Whole Suburb","Whole Suburb",508]
["Dunedin","Opoho","Upper Quartile","OpohoUpper Quartile","Whole Suburb","Whole Suburb",550]
["Dunedin","Pine Hill","Bonds","Pine HillBonds","Whole Suburb","Whole Suburb",""]
["Dunedin","Pine Hill","Lower Quartile","Pine HillLower Quartile","Whole Suburb","Whole Suburb",""]
["Dunedin","Pine Hill","Median","Pine HillMedian","Whole Suburb","Whole Suburb",""]
["Dunedin","Pine Hill","Upper Quartile","Pine HillUpper Quartile","Whole Suburb","Whole Suburb",""]
["Dunedin","Andersons Bay","Bonds","Andersons BayBonds","Whole Suburb","Whole Suburb",234]
["Dunedin","Andersons Bay","Lower Quartile","Andersons BayLower Quartile","Whole Suburb","Whole Suburb",200]
["Dunedin","Andersons Bay","Median","Andersons BayMedian","Whole Suburb","Whole Suburb",450]
["Dunedin","Andersons Bay","Upper Quartile","Andersons BayUpper Quartile","Whole Suburb","Whole Suburb",530]
["Dunedin","Helensburgh","Bonds","HelensburghBonds","Whole Suburb","Whole Suburb",54]
["Dunedin","Helensburgh","Lower Quartile","HelensburghLower Quartile","Whole Suburb","Whole Suburb",475]
["Dunedin","Helensburgh","Median","HelensburghMedian","Whole Suburb","Whole Suburb",505]
["Dunedin","Helensburgh","Upper Quartile","HelensburghUpper Quartile","Whole Suburb","Whole Suburb",575]
["Dunedin","North Dunedin","Bonds","North DunedinBonds","Whole Suburb","Whole Suburb",2580]
["Dunedin","North Dunedin","Lower Quartile","North DunedinLower Quartile","Whole Suburb","Whole Suburb",220]
["Dunedin","North Dunedin","Median","North DunedinMedian","Whole Suburb","Whole Suburb",280]
["Dunedin","North Dunedin","Upper Quartile","North DunedinUpper Quartile","Whole Suburb","Whole Suburb",420]
["Dunedin","Maori Hill","Bonds","Maori HillBonds","Whole Suburb","Whole Suburb",198]
["Dunedin","Maori Hill","Lower Quartile","Maori HillLower Quartile","Whole Suburb","Whole Suburb",398]
["Dunedin","Maori Hill","Median","Maori HillMedian","Whole Suburb","Whole Suburb",493]
["Dunedin","Maori Hill","Upper Quartile","Maori HillUpper Quartile","Whole Suburb","Whole Suburb",608]
["Dunedin","Maryhill","Bonds","MaryhillBonds","Whole Suburb","Whole Suburb",108]
["Dunedin","Maryhill","Lower Quartile","MaryhillLower Quartile","Whole Suburb","Whole Suburb",418]
["Dunedin","Maryhill","Median","MaryhillMedian","Whole Suburb","Whole Suburb",455]
["Dunedin","Maryhill","Upper Quartile","MaryhillUpper Quartile","Whole Suburb","Whole Suburb",485]
["Dunedin","Kuri Bush","Bonds","Kuri BushBonds","Whole Suburb","Whole Suburb",""]
["Dunedin","Kuri Bush","Lower Quartile","Kuri BushLower Quartile","Whole Suburb","Whole Suburb",""]
["Dunedin","Kuri Bush","Median","Kuri BushMedian","Whole Suburb","Whole Suburb",""]
["Dunedin","Kuri Bush","Upper Quartile","Kuri BushUpper Quartile","Whole Suburb","Whole Suburb",""]
["Dunedin","Bradford","Bonds","BradfordBonds","Whole Suburb","Whole Suburb",75]
["Dunedin","Bradford","Lower Quartile","BradfordLower Quartile","Whole Suburb","Whole Suburb",391]
["Dunedin","Bradford","Median","BradfordMedian","Whole Suburb","Whole Suburb",400]
["Dunedin","Bradford","Upper Quartile","BradfordUpper Quartile","Whole Suburb","Whole Suburb",470]
["Dunedin","North East Valley","Bonds","North East ValleyBonds","Whole Suburb","Whole Suburb",969]
["Dunedin","North East Valley","Lower Quartile","North East ValleyLower Quartile","Whole Suburb","Whole Suburb",250]
["Dunedin","North East Valley","Median","North East ValleyMedian","Whole Suburb","Whole Suburb",330]
["Dunedin","North East Valley","Upper Quartile","North East ValleyUpper Quartile","Whole Suburb","Whole Suburb",425]
["Dunedin","Ocean Grove","Bonds","Ocean GroveBonds","Whole Suburb","Whole Suburb",""]
["Dunedin","Ocean Grove","Lower Quartile","Ocean GroveLower Quartile","Whole Suburb","Whole Suburb",""]
["Dunedin","Ocean Grove","Median","Ocean GroveMedian","Whole Suburb","Whole Suburb",""]
["Dunedin","Ocean Grove","Upper Quartile","Ocean GroveUpper Quartile","Whole Suburb","Whole Suburb",""]
["Dunedin","Ocean View","Bonds","Ocean ViewBonds","Whole Suburb","Whole Suburb",""]
["Dunedin","Ocean View","Lower Quartile","Ocean ViewLower Quartile","Whole Suburb","Whole Suburb",""]
["Dunedin","Ocean View","Median","Ocean ViewMedian","Whole Suburb","Whole Suburb",""]
["Dunedin","Ocean View","Upper Quartile","Ocean ViewUpper Quartile","Whole Suburb","Whole Suburb",""]
["Dunedin","The Glen","Bonds","The GlenBonds","Whole Suburb","Whole Suburb",72]
["Dunedin","The Glen","Lower Quartile","The GlenLower Quartile","Whole Suburb","Whole Suburb",370]
["Dunedin","The Glen","Median","The GlenMedian","Whole Suburb","Whole Suburb",400]
["Dunedin","The Glen","Upper Quartile","The GlenUpper Quartile","Whole Suburb","Whole Suburb",425]
["Dunedin","Kensington","Bonds",{"$f":"B1666&C1666","v":"KensingtonBonds"},"Whole Suburb","Whole Suburb",""]
["Dunedin","Kensington","Lower Quartile","KensingtonLower Quartile","Whole Suburb","Whole Suburb",""]
["Dunedin","Kensington","Median","KensingtonMedian","Whole Suburb","Whole Suburb",""]
["Dunedin","Kensington","Upper Quartile","KensingtonUpper Quartile","Whole Suburb","Whole Suburb",""]
["Dunedin","Saint Clair","Bonds","Saint ClairBonds","Whole Suburb","Whole Suburb",261]
["Dunedin","Saint Clair","Lower Quartile","Saint ClairLower Quartile","Whole Suburb","Whole Suburb",420]
["Dunedin","Saint Clair","Median","Saint ClairMedian","Whole Suburb","Whole Suburb",520]
["Dunedin","Saint Clair","Upper Quartile","Saint ClairUpper Quartile","Whole Suburb","Whole Suburb",600]
["Dunedin","Waverley","Bonds","WaverleyBonds","Whole Suburb","Whole Suburb",114]
["Dunedin","Waverley","Lower Quartile","WaverleyLower Quartile","Whole Suburb","Whole Suburb",453]
["Dunedin","Waverley","Median","WaverleyMedian","Whole Suburb","Whole Suburb",538]
["Dunedin","Waverley","Upper Quartile","WaverleyUpper Quartile","Whole Suburb","Whole Suburb",615]
["Dunedin","Kew","Bonds","KewBonds","Whole Suburb","Whole Suburb",63]
["Dunedin","Kew","Lower Quartile","KewLower Quartile","Whole Suburb","Whole Suburb",433]
["Dunedin","Kew","Median","KewMedian","Whole Suburb","Whole Suburb",483]
["Dunedin","Kew","Upper Quartile","KewUpper Quartile","Whole Suburb","Whole Suburb",499]
["Dunedin","Glenross","Bonds","GlenrossBonds","Whole Suburb","Whole Suburb",36]
["Dunedin","Glenross","Lower Quartile","GlenrossLower Quartile","Whole Suburb","Whole Suburb",365]
["Dunedin","Glenross","Median","GlenrossMedian","Whole Suburb","Whole Suburb",400]
["Dunedin","Glenross","Upper Quartile","GlenrossUpper Quartile","Whole Suburb","Whole Suburb",480]
["Dunedin","Kaikorai","Bonds","KaikoraiBonds","Whole Suburb","Whole Suburb",213]
["Dunedin","Kaikorai","Lower Quartile","KaikoraiLower Quartile","Whole Suburb","Whole Suburb",413]
["Dunedin","Kaikorai","Median","KaikoraiMedian","Whole Suburb","Whole Suburb",460]
["Dunedin","Kaikorai","Upper Quartile","KaikoraiUpper Quartile","Whole Suburb","Whole Suburb",523]
["Dunedin","Balaclava","Bonds","BalaclavaBonds","Whole Suburb","Whole Suburb",""]
["Dunedin","Balaclava","Lower Quartile","BalaclavaLower Quartile","Whole Suburb","Whole Suburb",""]
["Dunedin","Balaclava","Median","BalaclavaMedian","Whole Suburb","Whole Suburb",""]
["Dunedin","Balaclava","Upper Quartile","BalaclavaUpper Quartile","Whole Suburb","Whole Suburb",""]
["Dunedin","Brockville","Bonds","BrockvilleBonds","Whole Suburb","Whole Suburb",81]
["Dunedin","Brockville","Lower Quartile","BrockvilleLower Quartile","Whole Suburb","Whole Suburb",389]
["Dunedin","Brockville","Median","BrockvilleMedian","Whole Suburb","Whole Suburb",445]
["Dunedin","Brockville","Upper Quartile","BrockvilleUpper Quartile","Whole Suburb","Whole Suburb",466]
["Dunedin","Caversham","Bonds","CavershamBonds","Whole Suburb","Whole Suburb",357]
["Dunedin","Caversham","Lower Quartile","CavershamLower Quartile","Whole Suburb","Whole Suburb",300]
["Dunedin","Caversham","Median","CavershamMedian","Whole Suburb","Whole Suburb",360]
["Dunedin","Caversham","Upper Quartile","CavershamUpper Quartile","Whole Suburb","Whole Suburb",420]
["Dunedin","Ravensbourne","Bonds","RavensbourneBonds","Whole Suburb","Whole Suburb",72]
["Dunedin","Ravensbourne","Lower Quartile","RavensbourneLower Quartile","Whole Suburb","Whole Suburb",250]
["Dunedin","Ravensbourne","Median","RavensbourneMedian","Whole Suburb","Whole Suburb",450]
["Dunedin","Ravensbourne","Upper Quartile","RavensbourneUpper Quartile","Whole Suburb","Whole Suburb",485]
["Dunedin","Green Island","Bonds","Green IslandBonds","Whole Suburb","Whole Suburb",165]
["Dunedin","Green Island","Lower Quartile","Green IslandLower Quartile","Whole Suburb","Whole Suburb",350]
["Dunedin","Green Island","Median","Green IslandMedian","Whole Suburb","Whole Suburb",430]
["Dunedin","Green Island","Upper Quartile","Green IslandUpper Quartile","Whole Suburb","Whole Suburb",494]
["Dunedin","Forbury","Bonds","ForburyBonds","Whole Suburb","Whole Suburb",123]
["Dunedin","Forbury","Lower Quartile","ForburyLower Quartile","Whole Suburb","Whole Suburb",400]
["Dunedin","Forbury","Median","ForburyMedian","Whole Suburb","Whole Suburb",440]
["Dunedin","Forbury","Upper Quartile","ForburyUpper Quartile","Whole Suburb","Whole Suburb",475]
["Dunedin","Highcliff","Bonds","HighcliffBonds","Whole Suburb","Whole Suburb",""]
["Dunedin","Highcliff","Lower Quartile","HighcliffLower Quartile","Whole Suburb","Whole Suburb",""]
["Dunedin","Highcliff","Median","HighcliffMedian","Whole Suburb","Whole Suburb",""]
["Dunedin","Highcliff","Upper Quartile","HighcliffUpper Quartile","Whole Suburb","Whole Suburb",""]
["Dunedin","Shiel Hill","Bonds","Shiel HillBonds","Whole Suburb","Whole Suburb",54]
["Dunedin","Shiel Hill","Lower Quartile","Shiel HillLower Quartile","Whole Suburb","Whole Suburb",450]
["Dunedin","Shiel Hill","Median","Shiel HillMedian","Whole Suburb","Whole Suburb",500]
["Dunedin","Shiel Hill","Upper Quartile","Shiel HillUpper Quartile","Whole Suburb","Whole Suburb",535]
["Dunedin","Brighton","Bonds","BrightonBonds","Whole Suburb","Whole Suburb",54]
["Dunedin","Brighton","Lower Quartile","BrightonLower Quartile","Whole Suburb","Whole Suburb",263]
["Dunedin","Brighton","Median","BrightonMedian","Whole Suburb","Whole Suburb",350]
["Dunedin","Brighton","Upper Quartile","BrightonUpper Quartile","Whole Suburb","Whole Suburb",440]
["Dunsandel","Dunsandel","Bonds","DunsandelBonds","Whole Suburb","Whole Suburb",""]
["Dunsandel","Dunsandel","Lower Quartile","DunsandelLower Quartile","Whole Suburb","Whole Suburb",""]
["Dunsandel","Dunsandel","Median","DunsandelMedian","Whole Suburb","Whole Suburb",""]
["Dunsandel","Dunsandel","Upper Quartile","DunsandelUpper Quartile","Whole Suburb","Whole Suburb",""]
["Duntroon","Otekaieke","Bonds",{"$f":"B1730&C1730","v":"OtekaiekeBonds"},"Whole Suburb","Whole Suburb",""]
["Duntroon","Otekaieke","Lower Quartile","OtekaiekeLower Quartile","Whole Suburb","Whole Suburb",""]
["Duntroon","Otekaieke","Median","OtekaiekeMedian","Whole Suburb","Whole Suburb",""]
["Duntroon","Otekaieke","Upper Quartile","OtekaiekeUpper Quartile","Whole Suburb","Whole Suburb",""]
["Duvauchelle","Duvauchelle","Bonds","DuvauchelleBonds","Whole Suburb","Whole Suburb",""]
["Duvauchelle","Duvauchelle","Lower Quartile","DuvauchelleLower Quartile","Whole Suburb","Whole Suburb",""]
["Duvauchelle","Duvauchelle","Median","DuvauchelleMedian","Whole Suburb","Whole Suburb",""]
["Duvauchelle","Duvauchelle","Upper Quartile","DuvauchelleUpper Quartile","Whole Suburb","Whole Suburb",""]
["Edendale","Edendale","Bonds","EdendaleBonds","Whole Suburb","Whole Suburb",""]
["Edendale","Edendale","Lower Quartile","EdendaleLower Quartile","Whole Suburb","Whole Suburb",""]
["Edendale","Edendale","Median","EdendaleMedian","Whole Suburb","Whole Suburb",""]
["Edendale","Edendale","Upper Quartile","EdendaleUpper Quartile","Whole Suburb","Whole Suburb",""]
["Edgecumbe","Edgecumbe","Bonds","EdgecumbeBonds","Whole Suburb","Whole Suburb",168]
["Edgecumbe","Edgecumbe","Lower Quartile","EdgecumbeLower Quartile","Whole Suburb","Whole Suburb",250]
["Edgecumbe","Edgecumbe","Median","EdgecumbeMedian","Whole Suburb","Whole Suburb",320]
["Edgecumbe","Edgecumbe","Upper Quartile","EdgecumbeUpper Quartile","Whole Suburb","Whole Suburb",410]
["Egmont Village","Egmont Village","Bonds","Egmont VillageBonds","Whole Suburb","Whole Suburb",""]
["Egmont Village","Egmont Village","Lower Quartile","Egmont VillageLower Quartile","Whole Suburb","Whole Suburb",""]
["Egmont Village","Egmont Village","Median","Egmont VillageMedian","Whole Suburb","Whole Suburb",""]
["Egmont Village","Egmont Village","Upper Quartile","Egmont VillageUpper Quartile","Whole Suburb","Whole Suburb",""]
["Eketahuna","Eketahuna","Bonds","EketahunaBonds","Whole Suburb","Whole Suburb",39]
["Eketahuna","Eketahuna","Lower Quartile","EketahunaLower Quartile","Whole Suburb","Whole Suburb",335]
["Eketahuna","Eketahuna","Median","EketahunaMedian","Whole Suburb","Whole Suburb",385]
["Eketahuna","Eketahuna","Upper Quartile","EketahunaUpper Quartile","Whole Suburb","Whole Suburb",425]
["Elsthorpe","Elsthorpe","Bonds","ElsthorpeBonds","Whole Suburb","Whole Suburb",""]
["Elsthorpe","Elsthorpe","Lower Quartile","ElsthorpeLower Quartile","Whole Suburb","Whole Suburb",""]
["Elsthorpe","Elsthorpe","Median","ElsthorpeMedian","Whole Suburb","Whole Suburb",""]
["Elsthorpe","Elsthorpe","Upper Quartile","ElsthorpeUpper Quartile","Whole Suburb","Whole Suburb",""]
["Eltham","Eltham","Bonds","ElthamBonds","Whole Suburb","Whole Suburb",168]
["Eltham","Eltham","Lower Quartile","ElthamLower Quartile","Whole Suburb","Whole Suburb",305]
["Eltham","Eltham","Median","ElthamMedian","Whole Suburb","Whole Suburb",355]
["Eltham","Eltham","Upper Quartile","ElthamUpper Quartile","Whole Suburb","Whole Suburb",415]
["Fairhall","Fairhall","Bonds","FairhallBonds","Whole Suburb","Whole Suburb",""]
["Fairhall","Fairhall","Lower Quartile","FairhallLower Quartile","Whole Suburb","Whole Suburb",""]
["Fairhall","Fairhall","Median","FairhallMedian","Whole Suburb","Whole Suburb",""]
["Fairhall","Fairhall","Upper Quartile","FairhallUpper Quartile","Whole Suburb","Whole Suburb",""]
["Fairlie","Fairlie","Bonds","FairlieBonds","Whole Suburb","Whole Suburb",66]
["Fairlie","Fairlie","Lower Quartile","FairlieLower Quartile","Whole Suburb","Whole Suburb",250]
["Fairlie","Fairlie","Median","FairlieMedian","Whole Suburb","Whole Suburb",300]
["Fairlie","Fairlie","Upper Quartile","FairlieUpper Quartile","Whole Suburb","Whole Suburb",360]
["Featherston","Featherston","Bonds","FeatherstonBonds","Whole Suburb","Whole Suburb",234]
["Featherston","Featherston","Lower Quartile","FeatherstonLower Quartile","Whole Suburb","Whole Suburb",405]
["Featherston","Featherston","Median","FeatherstonMedian","Whole Suburb","Whole Suburb",485]
["Featherston","Featherston","Upper Quartile","FeatherstonUpper Quartile","Whole Suburb","Whole Suburb",550]
["Feilding","Colyton","Bonds","ColytonBonds","Whole Suburb","Whole Suburb",""]
["Feilding","Colyton","Lower Quartile","ColytonLower Quartile","Whole Suburb","Whole Suburb",""]
["Feilding","Colyton","Median","ColytonMedian","Whole Suburb","Whole Suburb",""]
["Feilding","Colyton","Upper Quartile","ColytonUpper Quartile","Whole Suburb","Whole Suburb",""]
["Feilding","Feilding","Bonds","FeildingBonds","Whole Suburb","Whole Suburb",1329]
["Feilding","Feilding","Lower Quartile","FeildingLower Quartile","Whole Suburb","Whole Suburb",360]
["Feilding","Feilding","Median","FeildingMedian","Whole Suburb","Whole Suburb",450]
["Feilding","Feilding","Upper Quartile","FeildingUpper Quartile","Whole Suburb","Whole Suburb",500]
["Feilding","Cheltenham","Bonds","CheltenhamBonds","Whole Suburb","Whole Suburb",""]
["Feilding","Cheltenham","Lower Quartile","CheltenhamLower Quartile","Whole Suburb","Whole Suburb",""]
["Feilding","Cheltenham","Median","CheltenhamMedian","Whole Suburb","Whole Suburb",""]
["Feilding","Cheltenham","Upper Quartile","CheltenhamUpper Quartile","Whole Suburb","Whole Suburb",""]
["Feilding","Waituna West","Bonds","Waituna WestBonds","Whole Suburb","Whole Suburb",""]
["Feilding","Waituna West","Lower Quartile","Waituna WestLower Quartile","Whole Suburb","Whole Suburb",""]
["Feilding","Waituna West","Median","Waituna WestMedian","Whole Suburb","Whole Suburb",""]
["Feilding","Waituna West","Upper Quartile","Waituna WestUpper Quartile","Whole Suburb","Whole Suburb",""]
["Feilding","Kiwitea","Bonds","KiwiteaBonds","Whole Suburb","Whole Suburb",""]
["Feilding","Kiwitea","Lower Quartile","KiwiteaLower Quartile","Whole Suburb","Whole Suburb",""]
["Feilding","Kiwitea","Median","KiwiteaMedian","Whole Suburb","Whole Suburb",""]
["Feilding","Kiwitea","Upper Quartile","KiwiteaUpper Quartile","Whole Suburb","Whole Suburb",""]
["Feilding","Aorangi","Bonds",{"$f":"B1794&C1794","v":"AorangiBonds"},"Whole Suburb","Whole Suburb",""]
["Feilding","Aorangi","Lower Quartile","AorangiLower Quartile","Whole Suburb","Whole Suburb",""]
["Feilding","Aorangi","Median","AorangiMedian","Whole Suburb","Whole Suburb",""]
["Feilding","Aorangi","Upper Quartile","AorangiUpper Quartile","Whole Suburb","Whole Suburb",""]
["Flemington","Flemington","Bonds","FlemingtonBonds","Whole Suburb","Whole Suburb",""]
["Flemington","Flemington","Lower Quartile","FlemingtonLower Quartile","Whole Suburb","Whole Suburb",""]
["Flemington","Flemington","Median","FlemingtonMedian","Whole Suburb","Whole Suburb",""]
["Flemington","Flemington","Upper Quartile","FlemingtonUpper Quartile","Whole Suburb","Whole Suburb",""]
["Fordell","Fordell","Bonds","FordellBonds","Whole Suburb","Whole Suburb",""]
["Fordell","Fordell","Lower Quartile","FordellLower Quartile","Whole Suburb","Whole Suburb",""]
["Fordell","Fordell","Median","FordellMedian","Whole Suburb","Whole Suburb",""]
["Fordell","Fordell","Upper Quartile","FordellUpper Quartile","Whole Suburb","Whole Suburb",""]
["Fox Glacier","Fox Glacier","Bonds","Fox GlacierBonds","Whole Suburb","Whole Suburb",21]
["Fox Glacier","Fox Glacier","Lower Quartile","Fox GlacierLower Quartile","Whole Suburb","Whole Suburb",119]
["Fox Glacier","Fox Glacier","Median","Fox GlacierMedian","Whole Suburb","Whole Suburb",143]
["Fox Glacier","Fox Glacier","Upper Quartile","Fox GlacierUpper Quartile","Whole Suburb","Whole Suburb",175]
["Foxton","Foxton","Bonds","FoxtonBonds","Whole Suburb","Whole Suburb",312]
["Foxton","Foxton","Lower Quartile","FoxtonLower Quartile","Whole Suburb","Whole Suburb",321]
["Foxton","Foxton","Median","FoxtonMedian","Whole Suburb","Whole Suburb",368]
["Foxton","Foxton","Upper Quartile","FoxtonUpper Quartile","Whole Suburb","Whole Suburb",418]
["Foxton","Foxton Beach","Bonds","Foxton BeachBonds","Whole Suburb","Whole Suburb",159]
["Foxton","Foxton Beach","Lower Quartile","Foxton BeachLower Quartile","Whole Suburb","Whole Suburb",366]
["Foxton","Foxton Beach","Median","Foxton BeachMedian","Whole Suburb","Whole Suburb",415]
["Foxton","Foxton Beach","Upper Quartile","Foxton BeachUpper Quartile","Whole Suburb","Whole Suburb",473]
["Franz Josef Glacier","Franz Josef Glacier","Bonds","Franz Josef GlacierBonds","Whole Suburb","Whole Suburb",33]
["Franz Josef Glacier","Franz Josef Glacier","Lower Quartile","Franz Josef GlacierLower Quartile","Whole Suburb","Whole Suburb",120]
["Franz Josef Glacier","Franz Josef Glacier","Median","Franz Josef GlacierMedian","Whole Suburb","Whole Suburb",120]
["Franz Josef Glacier","Franz Josef Glacier","Upper Quartile","Franz Josef GlacierUpper Quartile","Whole Suburb","Whole Suburb",150]
["Geraldine","Woodbury","Bonds","WoodburyBonds","Whole Suburb","Whole Suburb",""]
["Geraldine","Woodbury","Lower Quartile","WoodburyLower Quartile","Whole Suburb","Whole Suburb",""]
["Geraldine","Woodbury","Median","WoodburyMedian","Whole Suburb","Whole Suburb",""]
["Geraldine","Woodbury","Upper Quartile","WoodburyUpper Quartile","Whole Suburb","Whole Suburb",""]
["Geraldine","Geraldine Downs","Bonds","Geraldine DownsBonds","Whole Suburb","Whole Suburb",""]
["Geraldine","Geraldine Downs","Lower Quartile","Geraldine DownsLower Quartile","Whole Suburb","Whole Suburb",""]
["Geraldine","Geraldine Downs","Median","Geraldine DownsMedian","Whole Suburb","Whole Suburb",""]
["Geraldine","Geraldine Downs","Upper Quartile","Geraldine DownsUpper Quartile","Whole Suburb","Whole Suburb",""]
["Geraldine","Orari Bridge","Bonds","Orari BridgeBonds","Whole Suburb","Whole Suburb",""]
["Geraldine","Orari Bridge","Lower Quartile","Orari BridgeLower Quartile","Whole Suburb","Whole Suburb",""]
["Geraldine","Orari Bridge","Median","Orari BridgeMedian","Whole Suburb","Whole Suburb",""]
["Geraldine","Orari Bridge","Upper Quartile","Orari BridgeUpper Quartile","Whole Suburb","Whole Suburb",""]
["Geraldine","Kakahu","Bonds","KakahuBonds","Whole Suburb","Whole Suburb",""]
["Geraldine","Kakahu","Lower Quartile","KakahuLower Quartile","Whole Suburb","Whole Suburb",""]
["Geraldine","Kakahu","Median","KakahuMedian","Whole Suburb","Whole Suburb",""]
["Geraldine","Kakahu","Upper Quartile","KakahuUpper Quartile","Whole Suburb","Whole Suburb",""]
["Geraldine","Geraldine","Bonds","GeraldineBonds","Whole Suburb","Whole Suburb",198]
["Geraldine","Geraldine","Lower Quartile","GeraldineLower Quartile","Whole Suburb","Whole Suburb",315]
["Geraldine","Geraldine","Median","GeraldineMedian","Whole Suburb","Whole Suburb",350]
["Geraldine","Geraldine","Upper Quartile","GeraldineUpper Quartile","Whole Suburb","Whole Suburb",393]
["Gisborne","Wainui","Bonds","WainuiBonds","Whole Suburb","Whole Suburb",54]
["Gisborne","Wainui","Lower Quartile","WainuiLower Quartile","Whole Suburb","Whole Suburb",348]
["Gisborne","Wainui","Median","WainuiMedian","Whole Suburb","Whole Suburb",580]
["Gisborne","Wainui","Upper Quartile","WainuiUpper Quartile","Whole Suburb","Whole Suburb",700]
["Gisborne","Whataupoko","Bonds","WhataupokoBonds","Whole Suburb","Whole Suburb",321]
["Gisborne","Whataupoko","Lower Quartile","WhataupokoLower Quartile","Whole Suburb","Whole Suburb",405]
["Gisborne","Whataupoko","Median","WhataupokoMedian","Whole Suburb","Whole Suburb",520]
["Gisborne","Whataupoko","Upper Quartile","WhataupokoUpper Quartile","Whole Suburb","Whole Suburb",573]
["Gisborne","Matawhero","Bonds","MatawheroBonds","Whole Suburb","Whole Suburb",""]
["Gisborne","Matawhero","Lower Quartile","MatawheroLower Quartile","Whole Suburb","Whole Suburb",""]
["Gisborne","Matawhero","Median","MatawheroMedian","Whole Suburb","Whole Suburb",""]
["Gisborne","Matawhero","Upper Quartile","MatawheroUpper Quartile","Whole Suburb","Whole Suburb",""]
["Gisborne","Waerengaahika","Bonds","WaerengaahikaBonds","Whole Suburb","Whole Suburb",""]
["Gisborne","Waerengaahika","Lower Quartile","WaerengaahikaLower Quartile","Whole Suburb","Whole Suburb",""]
["Gisborne","Waerengaahika","Median","WaerengaahikaMedian","Whole Suburb","Whole Suburb",""]
["Gisborne","Waerengaahika","Upper Quartile","WaerengaahikaUpper Quartile","Whole Suburb","Whole Suburb",""]
["Gisborne","Lytton West","Bonds",{"$f":"B1858&C1858","v":"Lytton WestBonds"},"Whole Suburb","Whole Suburb",""]
["Gisborne","Lytton West","Lower Quartile","Lytton WestLower Quartile","Whole Suburb","Whole Suburb",""]
["Gisborne","Lytton West","Median","Lytton WestMedian","Whole Suburb","Whole Suburb",""]
["Gisborne","Lytton West","Upper Quartile","Lytton WestUpper Quartile","Whole Suburb","Whole Suburb",""]
["Gisborne","Ormond","Bonds","OrmondBonds","Whole Suburb","Whole Suburb",""]
["Gisborne","Ormond","Lower Quartile","OrmondLower Quartile","Whole Suburb","Whole Suburb",""]
["Gisborne","Ormond","Median","OrmondMedian","Whole Suburb","Whole Suburb",""]
["Gisborne","Ormond","Upper Quartile","OrmondUpper Quartile","Whole Suburb","Whole Suburb",""]
["Gisborne","Patutahi","Bonds","PatutahiBonds","Whole Suburb","Whole Suburb",""]
["Gisborne","Patutahi","Lower Quartile","PatutahiLower Quartile","Whole Suburb","Whole Suburb",""]
["Gisborne","Patutahi","Median","PatutahiMedian","Whole Suburb","Whole Suburb",""]
["Gisborne","Patutahi","Upper Quartile","PatutahiUpper Quartile","Whole Suburb","Whole Suburb",""]
["Gisborne","Waituhi","Bonds","WaituhiBonds","Whole Suburb","Whole Suburb",""]
["Gisborne","Waituhi","Lower Quartile","WaituhiLower Quartile","Whole Suburb","Whole Suburb",""]
["Gisborne","Waituhi","Median","WaituhiMedian","Whole Suburb","Whole Suburb",""]
["Gisborne","Waituhi","Upper Quartile","WaituhiUpper Quartile","Whole Suburb","Whole Suburb",""]
["Gisborne","Awapuni","Bonds","AwapuniBonds","Whole Suburb","Whole Suburb",75]
["Gisborne","Awapuni","Lower Quartile","AwapuniLower Quartile","Whole Suburb","Whole Suburb",495]
["Gisborne","Awapuni","Median","AwapuniMedian","Whole Suburb","Whole Suburb",565]
["Gisborne","Awapuni","Upper Quartile","AwapuniUpper Quartile","Whole Suburb","Whole Suburb",650]
["Gisborne","Ngatapa","Bonds","NgatapaBonds","Whole Suburb","Whole Suburb",""]
["Gisborne","Ngatapa","Lower Quartile","NgatapaLower Quartile","Whole Suburb","Whole Suburb",""]
["Gisborne","Ngatapa","Median","NgatapaMedian","Whole Suburb","Whole Suburb",""]
["Gisborne","Ngatapa","Upper Quartile","NgatapaUpper Quartile","Whole Suburb","Whole Suburb",""]
["Gisborne","Tamarau","Bonds","TamarauBonds","Whole Suburb","Whole Suburb",72]
["Gisborne","Tamarau","Lower Quartile","TamarauLower Quartile","Whole Suburb","Whole Suburb",448]
["Gisborne","Tamarau","Median","TamarauMedian","Whole Suburb","Whole Suburb",500]
["Gisborne","Tamarau","Upper Quartile","TamarauUpper Quartile","Whole Suburb","Whole Suburb",576]
["Gisborne","Waipaoa","Bonds","WaipaoaBonds","Whole Suburb","Whole Suburb",""]
["Gisborne","Waipaoa","Lower Quartile","WaipaoaLower Quartile","Whole Suburb","Whole Suburb",""]
["Gisborne","Waipaoa","Median","WaipaoaMedian","Whole Suburb","Whole Suburb",""]
["Gisborne","Waipaoa","Upper Quartile","WaipaoaUpper Quartile","Whole Suburb","Whole Suburb",""]
["Gisborne","Outer Kaiti","Bonds","Outer KaitiBonds","Whole Suburb","Whole Suburb",261]
["Gisborne","Outer Kaiti","Lower Quartile","Outer KaitiLower Quartile","Whole Suburb","Whole Suburb",400]
["Gisborne","Outer Kaiti","Median","Outer KaitiMedian","Whole Suburb","Whole Suburb",475]
["Gisborne","Outer Kaiti","Upper Quartile","Outer KaitiUpper Quartile","Whole Suburb","Whole Suburb",500]
["Gisborne","Elgin","Bonds","ElginBonds","Whole Suburb","Whole Suburb",165]
["Gisborne","Elgin","Lower Quartile","ElginLower Quartile","Whole Suburb","Whole Suburb",375]
["Gisborne","Elgin","Median","ElginMedian","Whole Suburb","Whole Suburb",400]
["Gisborne","Elgin","Upper Quartile","ElginUpper Quartile","Whole Suburb","Whole Suburb",500]
["Gisborne","Gisborne","Bonds","GisborneBonds","Whole Suburb","Whole Suburb",282]
["Gisborne","Gisborne","Lower Quartile","GisborneLower Quartile","Whole Suburb","Whole Suburb",290]
["Gisborne","Gisborne","Median","GisborneMedian","Whole Suburb","Whole Suburb",370]
["Gisborne","Gisborne","Upper Quartile","GisborneUpper Quartile","Whole Suburb","Whole Suburb",500]
["Gisborne","Inner Kaiti","Bonds","Inner KaitiBonds","Whole Suburb","Whole Suburb",147]
["Gisborne","Inner Kaiti","Lower Quartile","Inner KaitiLower Quartile","Whole Suburb","Whole Suburb",378]
["Gisborne","Inner Kaiti","Median","Inner KaitiMedian","Whole Suburb","Whole Suburb",480]
["Gisborne","Inner Kaiti","Upper Quartile","Inner KaitiUpper Quartile","Whole Suburb","Whole Suburb",550]
["Gisborne","Riverdale","Bonds","RiverdaleBonds","Whole Suburb","Whole Suburb",177]
["Gisborne","Riverdale","Lower Quartile","RiverdaleLower Quartile","Whole Suburb","Whole Suburb",175]
["Gisborne","Riverdale","Median","RiverdaleMedian","Whole Suburb","Whole Suburb",175]
["Gisborne","Riverdale","Upper Quartile","RiverdaleUpper Quartile","Whole Suburb","Whole Suburb",273]
["Gisborne","Kaiti","Bonds","KaitiBonds","Whole Suburb","Whole Suburb",273]
["Gisborne","Kaiti","Lower Quartile","KaitiLower Quartile","Whole Suburb","Whole Suburb",350]
["Gisborne","Kaiti","Median","KaitiMedian","Whole Suburb","Whole Suburb",455]
["Gisborne","Kaiti","Upper Quartile","KaitiUpper Quartile","Whole Suburb","Whole Suburb",539]
["Gisborne","Makaraka","Bonds","MakarakaBonds","Whole Suburb","Whole Suburb",""]
["Gisborne","Makaraka","Lower Quartile","MakarakaLower Quartile","Whole Suburb","Whole Suburb",""]
["Gisborne","Makaraka","Median","MakarakaMedian","Whole Suburb","Whole Suburb",""]
["Gisborne","Makaraka","Upper Quartile","MakarakaUpper Quartile","Whole Suburb","Whole Suburb",""]
["Gisborne","Makauri","Bonds","MakauriBonds","Whole Suburb","Whole Suburb",""]
["Gisborne","Makauri","Lower Quartile","MakauriLower Quartile","Whole Suburb","Whole Suburb",""]
["Gisborne","Makauri","Median","MakauriMedian","Whole Suburb","Whole Suburb",""]
["Gisborne","Makauri","Upper Quartile","MakauriUpper Quartile","Whole Suburb","Whole Suburb",""]
["Gisborne","Mangapapa","Bonds",{"$f":"B1922&C1922","v":"MangapapaBonds"},"Whole Suburb","Whole Suburb",327]
["Gisborne","Mangapapa","Lower Quartile","MangapapaLower Quartile","Whole Suburb","Whole Suburb",400]
["Gisborne","Mangapapa","Median","MangapapaMedian","Whole Suburb","Whole Suburb",500]
["Gisborne","Mangapapa","Upper Quartile","MangapapaUpper Quartile","Whole Suburb","Whole Suburb",550]
["Gisborne","Okitu","Bonds","OkituBonds","Whole Suburb","Whole Suburb",60]
["Gisborne","Okitu","Lower Quartile","OkituLower Quartile","Whole Suburb","Whole Suburb",470]
["Gisborne","Okitu","Median","OkituMedian","Whole Suburb","Whole Suburb",650]
["Gisborne","Okitu","Upper Quartile","OkituUpper Quartile","Whole Suburb","Whole Suburb",700]
["Gisborne","Te Hapara","Bonds","Te HaparaBonds","Whole Suburb","Whole Suburb",543]
["Gisborne","Te Hapara","Lower Quartile","Te HaparaLower Quartile","Whole Suburb","Whole Suburb",375]
["Gisborne","Te Hapara","Median","Te HaparaMedian","Whole Suburb","Whole Suburb",438]
["Gisborne","Te Hapara","Upper Quartile","Te HaparaUpper Quartile","Whole Suburb","Whole Suburb",521]
["Glen Massey","Glen Massey","Bonds","Glen MasseyBonds","Whole Suburb","Whole Suburb",""]
["Glen Massey","Glen Massey","Lower Quartile","Glen MasseyLower Quartile","Whole Suburb","Whole Suburb",""]
["Glen Massey","Glen Massey","Median","Glen MasseyMedian","Whole Suburb","Whole Suburb",""]
["Glen Massey","Glen Massey","Upper Quartile","Glen MasseyUpper Quartile","Whole Suburb","Whole Suburb",""]
["Glen Oroua","Glen Oroua","Bonds","Glen OrouaBonds","Whole Suburb","Whole Suburb",""]
["Glen Oroua","Glen Oroua","Lower Quartile","Glen OrouaLower Quartile","Whole Suburb","Whole Suburb",""]
["Glen Oroua","Glen Oroua","Median","Glen OrouaMedian","Whole Suburb","Whole Suburb",""]
["Glen Oroua","Glen Oroua","Upper Quartile","Glen OrouaUpper Quartile","Whole Suburb","Whole Suburb",""]
["Glenbrook","Glenbrook","Bonds","GlenbrookBonds","Whole Suburb","Whole Suburb",99]
["Glenbrook","Glenbrook","Lower Quartile","GlenbrookLower Quartile","Whole Suburb","Whole Suburb",430]
["Glenbrook","Glenbrook","Median","GlenbrookMedian","Whole Suburb","Whole Suburb",555]
["Glenbrook","Glenbrook","Upper Quartile","GlenbrookUpper Quartile","Whole Suburb","Whole Suburb",630]
["Glenorchy","Glenorchy","Bonds","GlenorchyBonds","Whole Suburb","Whole Suburb",21]
["Glenorchy","Glenorchy","Lower Quartile","GlenorchyLower Quartile","Whole Suburb","Whole Suburb",375]
["Glenorchy","Glenorchy","Median","GlenorchyMedian","Whole Suburb","Whole Suburb",425]
["Glenorchy","Glenorchy","Upper Quartile","GlenorchyUpper Quartile","Whole Suburb","Whole Suburb",520]
["Glentunnel","Glentunnel","Bonds","GlentunnelBonds","Whole Suburb","Whole Suburb",""]
["Glentunnel","Glentunnel","Lower Quartile","GlentunnelLower Quartile","Whole Suburb","Whole Suburb",""]
["Glentunnel","Glentunnel","Median","GlentunnelMedian","Whole Suburb","Whole Suburb",""]
["Glentunnel","Glentunnel","Upper Quartile","GlentunnelUpper Quartile","Whole Suburb","Whole Suburb",""]
["Gore","East Gore","Bonds","East GoreBonds","Whole Suburb","Whole Suburb",138]
["Gore","East Gore","Lower Quartile","East GoreLower Quartile","Whole Suburb","Whole Suburb",273]
["Gore","East Gore","Median","East GoreMedian","Whole Suburb","Whole Suburb",320]
["Gore","East Gore","Upper Quartile","East GoreUpper Quartile","Whole Suburb","Whole Suburb",343]
["Gore","Pukerau","Bonds","PukerauBonds","Whole Suburb","Whole Suburb",""]
["Gore","Pukerau","Lower Quartile","PukerauLower Quartile","Whole Suburb","Whole Suburb",""]
["Gore","Pukerau","Median","PukerauMedian","Whole Suburb","Whole Suburb",""]
["Gore","Pukerau","Upper Quartile","PukerauUpper Quartile","Whole Suburb","Whole Suburb",""]
["Gore","Upper Charlton","Bonds","Upper CharltonBonds","Whole Suburb","Whole Suburb",""]
["Gore","Upper Charlton","Lower Quartile","Upper CharltonLower Quartile","Whole Suburb","Whole Suburb",""]
["Gore","Upper Charlton","Median","Upper CharltonMedian","Whole Suburb","Whole Suburb",""]
["Gore","Upper Charlton","Upper Quartile","Upper CharltonUpper Quartile","Whole Suburb","Whole Suburb",""]
["Gore","Gore","Bonds","GoreBonds","Whole Suburb","Whole Suburb",585]
["Gore","Gore","Lower Quartile","GoreLower Quartile","Whole Suburb","Whole Suburb",280]
["Gore","Gore","Median","GoreMedian","Whole Suburb","Whole Suburb",330]
["Gore","Gore","Upper Quartile","GoreUpper Quartile","Whole Suburb","Whole Suburb",368]
["Governors Bay","Teddington","Bonds","TeddingtonBonds","Whole Suburb","Whole Suburb",""]
["Governors Bay","Teddington","Lower Quartile","TeddingtonLower Quartile","Whole Suburb","Whole Suburb",""]
["Governors Bay","Teddington","Median","TeddingtonMedian","Whole Suburb","Whole Suburb",""]
["Governors Bay","Teddington","Upper Quartile","TeddingtonUpper Quartile","Whole Suburb","Whole Suburb",""]
["Governors Bay","Governors Bay","Bonds","Governors BayBonds","Whole Suburb","Whole Suburb",""]
["Governors Bay","Governors Bay","Lower Quartile","Governors BayLower Quartile","Whole Suburb","Whole Suburb",""]
["Governors Bay","Governors Bay","Median","Governors BayMedian","Whole Suburb","Whole Suburb",""]
["Governors Bay","Governors Bay","Upper Quartile","Governors BayUpper Quartile","Whole Suburb","Whole Suburb",""]
["Governors Bay","Charteris Bay","Bonds","Charteris BayBonds","Whole Suburb","Whole Suburb",""]
["Governors Bay","Charteris Bay","Lower Quartile","Charteris BayLower Quartile","Whole Suburb","Whole Suburb",""]
["Governors Bay","Charteris Bay","Median","Charteris BayMedian","Whole Suburb","Whole Suburb",""]
["Governors Bay","Charteris Bay","Upper Quartile","Charteris BayUpper Quartile","Whole Suburb","Whole Suburb",""]
["Granity","Granity","Bonds","GranityBonds","Whole Suburb","Whole Suburb",""]
["Granity","Granity","Lower Quartile","GranityLower Quartile","Whole Suburb","Whole Suburb",""]
["Granity","Granity","Median","GranityMedian","Whole Suburb","Whole Suburb",""]
["Granity","Granity","Upper Quartile","GranityUpper Quartile","Whole Suburb","Whole Suburb",""]
["Great Barrier Island (Aotea Island)","Great Barrier Island (Aotea Island)","Bonds",{"$f":"B1986&C1986","v":"Great Barrier Island (Aotea Island)Bonds"},"Whole Suburb","Whole Suburb",""]
["Great Barrier Island (Aotea Island)","Great Barrier Island (Aotea Island)","Lower Quartile","Great Barrier Island (Aotea Island)Lower Quartile","Whole Suburb","Whole Suburb",""]
["Great Barrier Island (Aotea Island)","Great Barrier Island (Aotea Island)","Median","Great Barrier Island (Aotea Island)Median","Whole Suburb","Whole Suburb",""]
["Great Barrier Island (Aotea Island)","Great Barrier Island (Aotea Island)","Upper Quartile","Great Barrier Island (Aotea Island)Upper Quartile","Whole Suburb","Whole Suburb",""]
["Greta Valley","Greta Valley","Bonds","Greta ValleyBonds","Whole Suburb","Whole Suburb",""]
["Greta Valley","Greta Valley","Lower Quartile","Greta ValleyLower Quartile","Whole Suburb","Whole Suburb",""]
["Greta Valley","Greta Valley","Median","Greta ValleyMedian","Whole Suburb","Whole Suburb",""]
["Greta Valley","Greta Valley","Upper Quartile","Greta ValleyUpper Quartile","Whole Suburb","Whole Suburb",""]
["Greymouth","Blaketown","Bonds","BlaketownBonds","Whole Suburb","Whole Suburb",63]
["Greymouth","Blaketown","Lower Quartile","BlaketownLower Quartile","Whole Suburb","Whole Suburb",260]
["Greymouth","Blaketown","Median","BlaketownMedian","Whole Suburb","Whole Suburb",340]
["Greymouth","Blaketown","Upper Quartile","BlaketownUpper Quartile","Whole Suburb","Whole Suburb",370]
["Greymouth","Greymouth","Bonds","GreymouthBonds","Whole Suburb","Whole Suburb",300]
["Greymouth","Greymouth","Lower Quartile","GreymouthLower Quartile","Whole Suburb","Whole Suburb",265]
["Greymouth","Greymouth","Median","GreymouthMedian","Whole Suburb","Whole Suburb",330]
["Greymouth","Greymouth","Upper Quartile","GreymouthUpper Quartile","Whole Suburb","Whole Suburb",430]
["Greymouth","Cobden","Bonds","CobdenBonds","Whole Suburb","Whole Suburb",132]
["Greymouth","Cobden","Lower Quartile","CobdenLower Quartile","Whole Suburb","Whole Suburb",296]
["Greymouth","Cobden","Median","CobdenMedian","Whole Suburb","Whole Suburb",300]
["Greymouth","Cobden","Upper Quartile","CobdenUpper Quartile","Whole Suburb","Whole Suburb",338]
["Greymouth","Dobson","Bonds","DobsonBonds","Whole Suburb","Whole Suburb",""]
["Greymouth","Dobson","Lower Quartile","DobsonLower Quartile","Whole Suburb","Whole Suburb",""]
["Greymouth","Dobson","Median","DobsonMedian","Whole Suburb","Whole Suburb",""]
["Greymouth","Dobson","Upper Quartile","DobsonUpper Quartile","Whole Suburb","Whole Suburb",""]
["Greymouth","Paroa","Bonds","ParoaBonds","Whole Suburb","Whole Suburb",""]
["Greymouth","Paroa","Lower Quartile","ParoaLower Quartile","Whole Suburb","Whole Suburb",""]
["Greymouth","Paroa","Median","ParoaMedian","Whole Suburb","Whole Suburb",""]
["Greymouth","Paroa","Upper Quartile","ParoaUpper Quartile","Whole Suburb","Whole Suburb",""]
["Greymouth","Marsden","Bonds","MarsdenBonds","Whole Suburb","Whole Suburb",""]
["Greymouth","Marsden","Lower Quartile","MarsdenLower Quartile","Whole Suburb","Whole Suburb",""]
["Greymouth","Marsden","Median","MarsdenMedian","Whole Suburb","Whole Suburb",""]
["Greymouth","Marsden","Upper Quartile","MarsdenUpper Quartile","Whole Suburb","Whole Suburb",""]
["Greymouth","Kaiata","Bonds","KaiataBonds","Whole Suburb","Whole Suburb",""]
["Greymouth","Kaiata","Lower Quartile","KaiataLower Quartile","Whole Suburb","Whole Suburb",""]
["Greymouth","Kaiata","Median","KaiataMedian","Whole Suburb","Whole Suburb",""]
["Greymouth","Kaiata","Upper Quartile","KaiataUpper Quartile","Whole Suburb","Whole Suburb",""]
["Greymouth","Karoro","Bonds","KaroroBonds","Whole Suburb","Whole Suburb",45]
["Greymouth","Karoro","Lower Quartile","KaroroLower Quartile","Whole Suburb","Whole Suburb",391]
["Greymouth","Karoro","Median","KaroroMedian","Whole Suburb","Whole Suburb",398]
["Greymouth","Karoro","Upper Quartile","KaroroUpper Quartile","Whole Suburb","Whole Suburb",438]
["Greymouth","Barrytown","Bonds","BarrytownBonds","Whole Suburb","Whole Suburb",""]
["Greymouth","Barrytown","Lower Quartile","BarrytownLower Quartile","Whole Suburb","Whole Suburb",""]
["Greymouth","Barrytown","Median","BarrytownMedian","Whole Suburb","Whole Suburb",""]
["Greymouth","Barrytown","Upper Quartile","BarrytownUpper Quartile","Whole Suburb","Whole Suburb",""]
["Greytown","Morrisons Bush","Bonds","Morrisons BushBonds","Whole Suburb","Whole Suburb",""]
["Greytown","Morrisons Bush","Lower Quartile","Morrisons BushLower Quartile","Whole Suburb","Whole Suburb",""]
["Greytown","Morrisons Bush","Median","Morrisons BushMedian","Whole Suburb","Whole Suburb",""]
["Greytown","Morrisons Bush","Upper Quartile","Morrisons BushUpper Quartile","Whole Suburb","Whole Suburb",""]
["Greytown","Greytown","Bonds","GreytownBonds","Whole Suburb","Whole Suburb",171]
["Greytown","Greytown","Lower Quartile","GreytownLower Quartile","Whole Suburb","Whole Suburb",435]
["Greytown","Greytown","Median","GreytownMedian","Whole Suburb","Whole Suburb",500]
["Greytown","Greytown","Upper Quartile","GreytownUpper Quartile","Whole Suburb","Whole Suburb",520]
["Haast","Haast","Bonds","HaastBonds","Whole Suburb","Whole Suburb",""]
["Haast","Haast","Lower Quartile","HaastLower Quartile","Whole Suburb","Whole Suburb",""]
["Haast","Haast","Median","HaastMedian","Whole Suburb","Whole Suburb",""]
["Haast","Haast","Upper Quartile","HaastUpper Quartile","Whole Suburb","Whole Suburb",""]
["Halcombe","Halcombe","Bonds","HalcombeBonds","Whole Suburb","Whole Suburb",""]
["Halcombe","Halcombe","Lower Quartile","HalcombeLower Quartile","Whole Suburb","Whole Suburb",""]
["Halcombe","Halcombe","Median","HalcombeMedian","Whole Suburb","Whole Suburb",""]
["Halcombe","Halcombe","Upper Quartile","HalcombeUpper Quartile","Whole Suburb","Whole Suburb",""]
["Hamilton","Saint Andrews","Bonds","Saint AndrewsBonds","Whole Suburb","Whole Suburb",597]
["Hamilton","Saint Andrews","Lower Quartile","Saint AndrewsLower Quartile","Whole Suburb","Whole Suburb",460]
["Hamilton","Saint Andrews","Median","Saint AndrewsMedian","Whole Suburb","Whole Suburb",505]
["Hamilton","Saint Andrews","Upper Quartile","Saint AndrewsUpper Quartile","Whole Suburb","Whole Suburb",540]
["Hamilton","Whitiora","Bonds",{"$f":"B2050&C2050","v":"WhitioraBonds"},"Whole Suburb","Whole Suburb",1050]
["Hamilton","Whitiora","Lower Quartile","WhitioraLower Quartile","Whole Suburb","Whole Suburb",290]
["Hamilton","Whitiora","Median","WhitioraMedian","Whole Suburb","Whole Suburb",360]
["Hamilton","Whitiora","Upper Quartile","WhitioraUpper Quartile","Whole Suburb","Whole Suburb",450]
["Hamilton","Whatawhata","Bonds","WhatawhataBonds","Whole Suburb","Whole Suburb",60]
["Hamilton","Whatawhata","Lower Quartile","WhatawhataLower Quartile","Whole Suburb","Whole Suburb",385]
["Hamilton","Whatawhata","Median","WhatawhataMedian","Whole Suburb","Whole Suburb",500]
["Hamilton","Whatawhata","Upper Quartile","WhatawhataUpper Quartile","Whole Suburb","Whole Suburb",625]
["Hamilton","Beerescourt","Bonds","BeerescourtBonds","Whole Suburb","Whole Suburb",276]
["Hamilton","Beerescourt","Lower Quartile","BeerescourtLower Quartile","Whole Suburb","Whole Suburb",485]
["Hamilton","Beerescourt","Median","BeerescourtMedian","Whole Suburb","Whole Suburb",540]
["Hamilton","Beerescourt","Upper Quartile","BeerescourtUpper Quartile","Whole Suburb","Whole Suburb",600]
["Hamilton","Harrowfield","Bonds","HarrowfieldBonds","Whole Suburb","Whole Suburb",51]
["Hamilton","Harrowfield","Lower Quartile","HarrowfieldLower Quartile","Whole Suburb","Whole Suburb",566]
["Hamilton","Harrowfield","Median","HarrowfieldMedian","Whole Suburb","Whole Suburb",640]
["Hamilton","Harrowfield","Upper Quartile","HarrowfieldUpper Quartile","Whole Suburb","Whole Suburb",689]
["Hamilton","Nawton","Bonds","NawtonBonds","Whole Suburb","Whole Suburb",1194]
["Hamilton","Nawton","Lower Quartile","NawtonLower Quartile","Whole Suburb","Whole Suburb",450]
["Hamilton","Nawton","Median","NawtonMedian","Whole Suburb","Whole Suburb",480]
["Hamilton","Nawton","Upper Quartile","NawtonUpper Quartile","Whole Suburb","Whole Suburb",520]
["Hamilton","Tauwhare","Bonds","TauwhareBonds","Whole Suburb","Whole Suburb",""]
["Hamilton","Tauwhare","Lower Quartile","TauwhareLower Quartile","Whole Suburb","Whole Suburb",""]
["Hamilton","Tauwhare","Median","TauwhareMedian","Whole Suburb","Whole Suburb",""]
["Hamilton","Tauwhare","Upper Quartile","TauwhareUpper Quartile","Whole Suburb","Whole Suburb",""]
["Hamilton","Te Kowhai","Bonds","Te KowhaiBonds","Whole Suburb","Whole Suburb",45]
["Hamilton","Te Kowhai","Lower Quartile","Te KowhaiLower Quartile","Whole Suburb","Whole Suburb",488]
["Hamilton","Te Kowhai","Median","Te KowhaiMedian","Whole Suburb","Whole Suburb",585]
["Hamilton","Te Kowhai","Upper Quartile","Te KowhaiUpper Quartile","Whole Suburb","Whole Suburb",700]
["Hamilton","Temple View","Bonds","Temple ViewBonds","Whole Suburb","Whole Suburb",72]
["Hamilton","Temple View","Lower Quartile","Temple ViewLower Quartile","Whole Suburb","Whole Suburb",323]
["Hamilton","Temple View","Median","Temple ViewMedian","Whole Suburb","Whole Suburb",448]
["Hamilton","Temple View","Upper Quartile","Temple ViewUpper Quartile","Whole Suburb","Whole Suburb",560]
["Hamilton","Queenwood","Bonds","QueenwoodBonds","Whole Suburb","Whole Suburb",159]
["Hamilton","Queenwood","Lower Quartile","QueenwoodLower Quartile","Whole Suburb","Whole Suburb",505]
["Hamilton","Queenwood","Median","QueenwoodMedian","Whole Suburb","Whole Suburb",573]
["Hamilton","Queenwood","Upper Quartile","QueenwoodUpper Quartile","Whole Suburb","Whole Suburb",624]
["Hamilton","Deanwell","Bonds","DeanwellBonds","Whole Suburb","Whole Suburb",147]
["Hamilton","Deanwell","Lower Quartile","DeanwellLower Quartile","Whole Suburb","Whole Suburb",439]
["Hamilton","Deanwell","Median","DeanwellMedian","Whole Suburb","Whole Suburb",480]
["Hamilton","Deanwell","Upper Quartile","DeanwellUpper Quartile","Whole Suburb","Whole Suburb",500]
["Hamilton","Fairview Downs","Bonds","Fairview DownsBonds","Whole Suburb","Whole Suburb",237]
["Hamilton","Fairview Downs","Lower Quartile","Fairview DownsLower Quartile","Whole Suburb","Whole Suburb",470]
["Hamilton","Fairview Downs","Median","Fairview DownsMedian","Whole Suburb","Whole Suburb",500]
["Hamilton","Fairview Downs","Upper Quartile","Fairview DownsUpper Quartile","Whole Suburb","Whole Suburb",550]
["Hamilton","Glenview","Bonds","GlenviewBonds","Whole Suburb","Whole Suburb",624]
["Hamilton","Glenview","Lower Quartile","GlenviewLower Quartile","Whole Suburb","Whole Suburb",470]
["Hamilton","Glenview","Median","GlenviewMedian","Whole Suburb","Whole Suburb",510]
["Hamilton","Glenview","Upper Quartile","GlenviewUpper Quartile","Whole Suburb","Whole Suburb",560]
["Hamilton","Chartwell","Bonds","ChartwellBonds","Whole Suburb","Whole Suburb",981]
["Hamilton","Chartwell","Lower Quartile","ChartwellLower Quartile","Whole Suburb","Whole Suburb",460]
["Hamilton","Chartwell","Median","ChartwellMedian","Whole Suburb","Whole Suburb",505]
["Hamilton","Chartwell","Upper Quartile","ChartwellUpper Quartile","Whole Suburb","Whole Suburb",560]
["Hamilton","Chedworth","Bonds","ChedworthBonds","Whole Suburb","Whole Suburb",120]
["Hamilton","Chedworth","Lower Quartile","ChedworthLower Quartile","Whole Suburb","Whole Suburb",450]
["Hamilton","Chedworth","Median","ChedworthMedian","Whole Suburb","Whole Suburb",535]
["Hamilton","Chedworth","Upper Quartile","ChedworthUpper Quartile","Whole Suburb","Whole Suburb",588]
["Hamilton","Horsham Downs","Bonds","Horsham DownsBonds","Whole Suburb","Whole Suburb",""]
["Hamilton","Horsham Downs","Lower Quartile","Horsham DownsLower Quartile","Whole Suburb","Whole Suburb",""]
["Hamilton","Horsham Downs","Median","Horsham DownsMedian","Whole Suburb","Whole Suburb",""]
["Hamilton","Horsham Downs","Upper Quartile","Horsham DownsUpper Quartile","Whole Suburb","Whole Suburb",""]
["Hamilton","Silverdale","Bonds","SilverdaleBonds","Whole Suburb","Whole Suburb",537]
["Hamilton","Silverdale","Lower Quartile","SilverdaleLower Quartile","Whole Suburb","Whole Suburb",240]
["Hamilton","Silverdale","Median","SilverdaleMedian","Whole Suburb","Whole Suburb",265]
["Hamilton","Silverdale","Upper Quartile","SilverdaleUpper Quartile","Whole Suburb","Whole Suburb",466]
["Hamilton","Western Heights","Bonds",{"$f":"B2114&C2114","v":"Western HeightsBonds"},"Whole Suburb","Whole Suburb",39]
["Hamilton","Western Heights","Lower Quartile","Western HeightsLower Quartile","Whole Suburb","Whole Suburb",555]
["Hamilton","Western Heights","Median","Western HeightsMedian","Whole Suburb","Whole Suburb",590]
["Hamilton","Western Heights","Upper Quartile","Western HeightsUpper Quartile","Whole Suburb","Whole Suburb",621]
["Hamilton","Gordonton","Bonds","GordontonBonds","Whole Suburb","Whole Suburb",45]
["Hamilton","Gordonton","Lower Quartile","GordontonLower Quartile","Whole Suburb","Whole Suburb",385]
["Hamilton","Gordonton","Median","GordontonMedian","Whole Suburb","Whole Suburb",450]
["Hamilton","Gordonton","Upper Quartile","GordontonUpper Quartile","Whole Suburb","Whole Suburb",523]
["Hamilton","Hamilton Central","Bonds","Hamilton CentralBonds","Whole Suburb","Whole Suburb",1137]
["Hamilton","Hamilton Central","Lower Quartile","Hamilton CentralLower Quartile","Whole Suburb","Whole Suburb",260]
["Hamilton","Hamilton Central","Median","Hamilton CentralMedian","Whole Suburb","Whole Suburb",375]
["Hamilton","Hamilton Central","Upper Quartile","Hamilton CentralUpper Quartile","Whole Suburb","Whole Suburb",520]
["Hamilton","Hamilton East","Bonds","Hamilton EastBonds","Whole Suburb","Whole Suburb",4116]
["Hamilton","Hamilton East","Lower Quartile","Hamilton EastLower Quartile","Whole Suburb","Whole Suburb",270]
["Hamilton","Hamilton East","Median","Hamilton EastMedian","Whole Suburb","Whole Suburb",420]
["Hamilton","Hamilton East","Upper Quartile","Hamilton EastUpper Quartile","Whole Suburb","Whole Suburb",540]
["Hamilton","Hamilton Lake","Bonds","Hamilton LakeBonds","Whole Suburb","Whole Suburb",552]
["Hamilton","Hamilton Lake","Lower Quartile","Hamilton LakeLower Quartile","Whole Suburb","Whole Suburb",270]
["Hamilton","Hamilton Lake","Median","Hamilton LakeMedian","Whole Suburb","Whole Suburb",365]
["Hamilton","Hamilton Lake","Upper Quartile","Hamilton LakeUpper Quartile","Whole Suburb","Whole Suburb",496]
["Hamilton","Burbush","Bonds","BurbushBonds","Whole Suburb","Whole Suburb",""]
["Hamilton","Burbush","Lower Quartile","BurbushLower Quartile","Whole Suburb","Whole Suburb",""]
["Hamilton","Burbush","Median","BurbushMedian","Whole Suburb","Whole Suburb",""]
["Hamilton","Burbush","Upper Quartile","BurbushUpper Quartile","Whole Suburb","Whole Suburb",""]
["Hamilton","Claudelands","Bonds","ClaudelandsBonds","Whole Suburb","Whole Suburb",735]
["Hamilton","Claudelands","Lower Quartile","ClaudelandsLower Quartile","Whole Suburb","Whole Suburb",320]
["Hamilton","Claudelands","Median","ClaudelandsMedian","Whole Suburb","Whole Suburb",380]
["Hamilton","Claudelands","Upper Quartile","ClaudelandsUpper Quartile","Whole Suburb","Whole Suburb",470]
["Hamilton","Dinsdale","Bonds","DinsdaleBonds","Whole Suburb","Whole Suburb",987]
["Hamilton","Dinsdale","Lower Quartile","DinsdaleLower Quartile","Whole Suburb","Whole Suburb",430]
["Hamilton","Dinsdale","Median","DinsdaleMedian","Whole Suburb","Whole Suburb",490]
["Hamilton","Dinsdale","Upper Quartile","DinsdaleUpper Quartile","Whole Suburb","Whole Suburb",550]
["Hamilton","Enderley","Bonds","EnderleyBonds","Whole Suburb","Whole Suburb",498]
["Hamilton","Enderley","Lower Quartile","EnderleyLower Quartile","Whole Suburb","Whole Suburb",420]
["Hamilton","Enderley","Median","EnderleyMedian","Whole Suburb","Whole Suburb",470]
["Hamilton","Enderley","Upper Quartile","EnderleyUpper Quartile","Whole Suburb","Whole Suburb",520]
["Hamilton","Grandview Heights","Bonds","Grandview HeightsBonds","Whole Suburb","Whole Suburb",111]
["Hamilton","Grandview Heights","Lower Quartile","Grandview HeightsLower Quartile","Whole Suburb","Whole Suburb",525]
["Hamilton","Grandview Heights","Median","Grandview HeightsMedian","Whole Suburb","Whole Suburb",575]
["Hamilton","Grandview Heights","Upper Quartile","Grandview HeightsUpper Quartile","Whole Suburb","Whole Suburb",646]
["Hamilton","Peacocke","Bonds","PeacockeBonds","Whole Suburb","Whole Suburb",""]
["Hamilton","Peacocke","Lower Quartile","PeacockeLower Quartile","Whole Suburb","Whole Suburb",""]
["Hamilton","Peacocke","Median","PeacockeMedian","Whole Suburb","Whole Suburb",""]
["Hamilton","Peacocke","Upper Quartile","PeacockeUpper Quartile","Whole Suburb","Whole Suburb",""]
["Hamilton","Pukemoremore","Bonds","PukemoremoreBonds","Whole Suburb","Whole Suburb",27]
["Hamilton","Pukemoremore","Lower Quartile","PukemoremoreLower Quartile","Whole Suburb","Whole Suburb",600]
["Hamilton","Pukemoremore","Median","PukemoremoreMedian","Whole Suburb","Whole Suburb",600]
["Hamilton","Pukemoremore","Upper Quartile","PukemoremoreUpper Quartile","Whole Suburb","Whole Suburb",680]
["Hamilton","Puketaha","Bonds","PuketahaBonds","Whole Suburb","Whole Suburb",45]
["Hamilton","Puketaha","Lower Quartile","PuketahaLower Quartile","Whole Suburb","Whole Suburb",455]
["Hamilton","Puketaha","Median","PuketahaMedian","Whole Suburb","Whole Suburb",500]
["Hamilton","Puketaha","Upper Quartile","PuketahaUpper Quartile","Whole Suburb","Whole Suburb",585]
["Hamilton","Pukete","Bonds","PuketeBonds","Whole Suburb","Whole Suburb",420]
["Hamilton","Pukete","Lower Quartile","PuketeLower Quartile","Whole Suburb","Whole Suburb",480]
["Hamilton","Pukete","Median","PuketeMedian","Whole Suburb","Whole Suburb",500]
["Hamilton","Pukete","Upper Quartile","PuketeUpper Quartile","Whole Suburb","Whole Suburb",554]
["Hamilton","Matangi","Bonds","MatangiBonds","Whole Suburb","Whole Suburb",81]
["Hamilton","Matangi","Lower Quartile","MatangiLower Quartile","Whole Suburb","Whole Suburb",450]
["Hamilton","Matangi","Median","MatangiMedian","Whole Suburb","Whole Suburb",588]
["Hamilton","Matangi","Upper Quartile","MatangiUpper Quartile","Whole Suburb","Whole Suburb",750]
["Hamilton","Hillcrest","Bonds","HillcrestBonds","Whole Suburb","Whole Suburb",1695]
["Hamilton","Hillcrest","Lower Quartile","HillcrestLower Quartile","Whole Suburb","Whole Suburb",250]
["Hamilton","Hillcrest","Median","HillcrestMedian","Whole Suburb","Whole Suburb",450]
["Hamilton","Hillcrest","Upper Quartile","HillcrestUpper Quartile","Whole Suburb","Whole Suburb",540]
["Hamilton","Melville","Bonds",{"$f":"B2178&C2178","v":"MelvilleBonds"},"Whole Suburb","Whole Suburb",1515]
["Hamilton","Melville","Lower Quartile","MelvilleLower Quartile","Whole Suburb","Whole Suburb",280]
["Hamilton","Melville","Median","MelvilleMedian","Whole Suburb","Whole Suburb",420]
["Hamilton","Melville","Upper Quartile","MelvilleUpper Quartile","Whole Suburb","Whole Suburb",500]
["Hamilton","Eureka","Bonds","EurekaBonds","Whole Suburb","Whole Suburb",24]
["Hamilton","Eureka","Lower Quartile","EurekaLower Quartile","Whole Suburb","Whole Suburb",395]
["Hamilton","Eureka","Median","EurekaMedian","Whole Suburb","Whole Suburb",450]
["Hamilton","Eureka","Upper Quartile","EurekaUpper Quartile","Whole Suburb","Whole Suburb",540]
["Hamilton","Fairfield","Bonds","FairfieldBonds","Whole Suburb","Whole Suburb",801]
["Hamilton","Fairfield","Lower Quartile","FairfieldLower Quartile","Whole Suburb","Whole Suburb",450]
["Hamilton","Fairfield","Median","FairfieldMedian","Whole Suburb","Whole Suburb",490]
["Hamilton","Fairfield","Upper Quartile","FairfieldUpper Quartile","Whole Suburb","Whole Suburb",530]
["Hamilton","Fitzroy","Bonds","FitzroyBonds","Whole Suburb","Whole Suburb",186]
["Hamilton","Fitzroy","Lower Quartile","FitzroyLower Quartile","Whole Suburb","Whole Suburb",500]
["Hamilton","Fitzroy","Median","FitzroyMedian","Whole Suburb","Whole Suburb",540]
["Hamilton","Fitzroy","Upper Quartile","FitzroyUpper Quartile","Whole Suburb","Whole Suburb",579]
["Hamilton","Flagstaff","Bonds","FlagstaffBonds","Whole Suburb","Whole Suburb",795]
["Hamilton","Flagstaff","Lower Quartile","FlagstaffLower Quartile","Whole Suburb","Whole Suburb",575]
["Hamilton","Flagstaff","Median","FlagstaffMedian","Whole Suburb","Whole Suburb",620]
["Hamilton","Flagstaff","Upper Quartile","FlagstaffUpper Quartile","Whole Suburb","Whole Suburb",680]
["Hamilton","Forest Lake","Bonds","Forest LakeBonds","Whole Suburb","Whole Suburb",273]
["Hamilton","Forest Lake","Lower Quartile","Forest LakeLower Quartile","Whole Suburb","Whole Suburb",480]
["Hamilton","Forest Lake","Median","Forest LakeMedian","Whole Suburb","Whole Suburb",520]
["Hamilton","Forest Lake","Upper Quartile","Forest LakeUpper Quartile","Whole Suburb","Whole Suburb",578]
["Hamilton","Frankton","Bonds","FranktonBonds","Whole Suburb","Whole Suburb",1902]
["Hamilton","Frankton","Lower Quartile","FranktonLower Quartile","Whole Suburb","Whole Suburb",375]
["Hamilton","Frankton","Median","FranktonMedian","Whole Suburb","Whole Suburb",445]
["Hamilton","Frankton","Upper Quartile","FranktonUpper Quartile","Whole Suburb","Whole Suburb",495]
["Hamilton","Horotiu","Bonds","HorotiuBonds","Whole Suburb","Whole Suburb",30]
["Hamilton","Horotiu","Lower Quartile","HorotiuLower Quartile","Whole Suburb","Whole Suburb",465]
["Hamilton","Horotiu","Median","HorotiuMedian","Whole Suburb","Whole Suburb",520]
["Hamilton","Horotiu","Upper Quartile","HorotiuUpper Quartile","Whole Suburb","Whole Suburb",600]
["Hamilton","Huntington","Bonds","HuntingtonBonds","Whole Suburb","Whole Suburb",735]
["Hamilton","Huntington","Lower Quartile","HuntingtonLower Quartile","Whole Suburb","Whole Suburb",560]
["Hamilton","Huntington","Median","HuntingtonMedian","Whole Suburb","Whole Suburb",600]
["Hamilton","Huntington","Upper Quartile","HuntingtonUpper Quartile","Whole Suburb","Whole Suburb",650]
["Hamilton","Te Rapa","Bonds","Te RapaBonds","Whole Suburb","Whole Suburb",""]
["Hamilton","Te Rapa","Lower Quartile","Te RapaLower Quartile","Whole Suburb","Whole Suburb",""]
["Hamilton","Te Rapa","Median","Te RapaMedian","Whole Suburb","Whole Suburb",""]
["Hamilton","Te Rapa","Upper Quartile","Te RapaUpper Quartile","Whole Suburb","Whole Suburb",""]
["Hamilton","Newstead","Bonds","NewsteadBonds","Whole Suburb","Whole Suburb",69]
["Hamilton","Newstead","Lower Quartile","NewsteadLower Quartile","Whole Suburb","Whole Suburb",460]
["Hamilton","Newstead","Median","NewsteadMedian","Whole Suburb","Whole Suburb",533]
["Hamilton","Newstead","Upper Quartile","NewsteadUpper Quartile","Whole Suburb","Whole Suburb",579]
["Hamilton","Baverstock","Bonds","BaverstockBonds","Whole Suburb","Whole Suburb",""]
["Hamilton","Baverstock","Lower Quartile","BaverstockLower Quartile","Whole Suburb","Whole Suburb",""]
["Hamilton","Baverstock","Median","BaverstockMedian","Whole Suburb","Whole Suburb",""]
["Hamilton","Baverstock","Upper Quartile","BaverstockUpper Quartile","Whole Suburb","Whole Suburb",""]
["Hamilton","Riverlea","Bonds","RiverleaBonds","Whole Suburb","Whole Suburb",135]
["Hamilton","Riverlea","Lower Quartile","RiverleaLower Quartile","Whole Suburb","Whole Suburb",450]
["Hamilton","Riverlea","Median","RiverleaMedian","Whole Suburb","Whole Suburb",520]
["Hamilton","Riverlea","Upper Quartile","RiverleaUpper Quartile","Whole Suburb","Whole Suburb",593]
["Hamilton","Rotokauri","Bonds","RotokauriBonds","Whole Suburb","Whole Suburb",""]
["Hamilton","Rotokauri","Lower Quartile","RotokauriLower Quartile","Whole Suburb","Whole Suburb",""]
["Hamilton","Rotokauri","Median","RotokauriMedian","Whole Suburb","Whole Suburb",""]
["Hamilton","Rotokauri","Upper Quartile","RotokauriUpper Quartile","Whole Suburb","Whole Suburb",""]
["Hamilton","Rototuna","Bonds","RototunaBonds","Whole Suburb","Whole Suburb",273]
["Hamilton","Rototuna","Lower Quartile","RototunaLower Quartile","Whole Suburb","Whole Suburb",600]
["Hamilton","Rototuna","Median","RototunaMedian","Whole Suburb","Whole Suburb",640]
["Hamilton","Rototuna","Upper Quartile","RototunaUpper Quartile","Whole Suburb","Whole Suburb",670]
["Hamilton","Rototuna North","Bonds","Rototuna NorthBonds","Whole Suburb","Whole Suburb",693]
["Hamilton","Rototuna North","Lower Quartile","Rototuna NorthLower Quartile","Whole Suburb","Whole Suburb",570]
["Hamilton","Rototuna North","Median","Rototuna NorthMedian","Whole Suburb","Whole Suburb",600]
["Hamilton","Rototuna North","Upper Quartile","Rototuna NorthUpper Quartile","Whole Suburb","Whole Suburb",660]
["Hamilton","Bader","Bonds",{"$f":"B2242&C2242","v":"BaderBonds"},"Whole Suburb","Whole Suburb",303]
["Hamilton","Bader","Lower Quartile","BaderLower Quartile","Whole Suburb","Whole Suburb",433]
["Hamilton","Bader","Median","BaderMedian","Whole Suburb","Whole Suburb",453]
["Hamilton","Bader","Upper Quartile","BaderUpper Quartile","Whole Suburb","Whole Suburb",485]
["Hamilton","Maeroa","Bonds","MaeroaBonds","Whole Suburb","Whole Suburb",351]
["Hamilton","Maeroa","Lower Quartile","MaeroaLower Quartile","Whole Suburb","Whole Suburb",450]
["Hamilton","Maeroa","Median","MaeroaMedian","Whole Suburb","Whole Suburb",480]
["Hamilton","Maeroa","Upper Quartile","MaeroaUpper Quartile","Whole Suburb","Whole Suburb",511]
["Hamilton","Tamahere","Bonds","TamahereBonds","Whole Suburb","Whole Suburb",168]
["Hamilton","Tamahere","Lower Quartile","TamahereLower Quartile","Whole Suburb","Whole Suburb",425]
["Hamilton","Tamahere","Median","TamahereMedian","Whole Suburb","Whole Suburb",500]
["Hamilton","Tamahere","Upper Quartile","TamahereUpper Quartile","Whole Suburb","Whole Suburb",600]
["Hamilton","Rukuhia","Bonds","RukuhiaBonds","Whole Suburb","Whole Suburb",48]
["Hamilton","Rukuhia","Lower Quartile","RukuhiaLower Quartile","Whole Suburb","Whole Suburb",389]
["Hamilton","Rukuhia","Median","RukuhiaMedian","Whole Suburb","Whole Suburb",600]
["Hamilton","Rukuhia","Upper Quartile","RukuhiaUpper Quartile","Whole Suburb","Whole Suburb",680]
["Hampden","Hampden","Bonds","HampdenBonds","Whole Suburb","Whole Suburb",""]
["Hampden","Hampden","Lower Quartile","HampdenLower Quartile","Whole Suburb","Whole Suburb",""]
["Hampden","Hampden","Median","HampdenMedian","Whole Suburb","Whole Suburb",""]
["Hampden","Hampden","Upper Quartile","HampdenUpper Quartile","Whole Suburb","Whole Suburb",""]
["Hamurana","Hamurana","Bonds","HamuranaBonds","Whole Suburb","Whole Suburb",81]
["Hamurana","Hamurana","Lower Quartile","HamuranaLower Quartile","Whole Suburb","Whole Suburb",405]
["Hamurana","Hamurana","Median","HamuranaMedian","Whole Suburb","Whole Suburb",460]
["Hamurana","Hamurana","Upper Quartile","HamuranaUpper Quartile","Whole Suburb","Whole Suburb",513]
["Hanmer Springs","Hanmer Springs","Bonds","Hanmer SpringsBonds","Whole Suburb","Whole Suburb",129]
["Hanmer Springs","Hanmer Springs","Lower Quartile","Hanmer SpringsLower Quartile","Whole Suburb","Whole Suburb",308]
["Hanmer Springs","Hanmer Springs","Median","Hanmer SpringsMedian","Whole Suburb","Whole Suburb",388]
["Hanmer Springs","Hanmer Springs","Upper Quartile","Hanmer SpringsUpper Quartile","Whole Suburb","Whole Suburb",450]
["Harihari","Harihari","Bonds","HarihariBonds","Whole Suburb","Whole Suburb",""]
["Harihari","Harihari","Lower Quartile","HarihariLower Quartile","Whole Suburb","Whole Suburb",""]
["Harihari","Harihari","Median","HarihariMedian","Whole Suburb","Whole Suburb",""]
["Harihari","Harihari","Upper Quartile","HarihariUpper Quartile","Whole Suburb","Whole Suburb",""]
["Haruru","Haruru","Bonds","HaruruBonds","Whole Suburb","Whole Suburb",93]
["Haruru","Haruru","Lower Quartile","HaruruLower Quartile","Whole Suburb","Whole Suburb",338]
["Haruru","Haruru","Median","HaruruMedian","Whole Suburb","Whole Suburb",410]
["Haruru","Haruru","Upper Quartile","HaruruUpper Quartile","Whole Suburb","Whole Suburb",559]
["Hastings","Flaxmere","Bonds","FlaxmereBonds","Whole Suburb","Whole Suburb",942]
["Hastings","Flaxmere","Lower Quartile","FlaxmereLower Quartile","Whole Suburb","Whole Suburb",400]
["Hastings","Flaxmere","Median","FlaxmereMedian","Whole Suburb","Whole Suburb",430]
["Hastings","Flaxmere","Upper Quartile","FlaxmereUpper Quartile","Whole Suburb","Whole Suburb",460]
["Hastings","Twyford","Bonds","TwyfordBonds","Whole Suburb","Whole Suburb",""]
["Hastings","Twyford","Lower Quartile","TwyfordLower Quartile","Whole Suburb","Whole Suburb",""]
["Hastings","Twyford","Median","TwyfordMedian","Whole Suburb","Whole Suburb",""]
["Hastings","Twyford","Upper Quartile","TwyfordUpper Quartile","Whole Suburb","Whole Suburb",""]
["Hastings","Crownthorpe","Bonds","CrownthorpeBonds","Whole Suburb","Whole Suburb",""]
["Hastings","Crownthorpe","Lower Quartile","CrownthorpeLower Quartile","Whole Suburb","Whole Suburb",""]
["Hastings","Crownthorpe","Median","CrownthorpeMedian","Whole Suburb","Whole Suburb",""]
["Hastings","Crownthorpe","Upper Quartile","CrownthorpeUpper Quartile","Whole Suburb","Whole Suburb",""]
["Hastings","Mayfair","Bonds","MayfairBonds","Whole Suburb","Whole Suburb",360]
["Hastings","Mayfair","Lower Quartile","MayfairLower Quartile","Whole Suburb","Whole Suburb",393]
["Hastings","Mayfair","Median","MayfairMedian","Whole Suburb","Whole Suburb",500]
["Hastings","Mayfair","Upper Quartile","MayfairUpper Quartile","Whole Suburb","Whole Suburb",550]
["Hastings","Camberley","Bonds","CamberleyBonds","Whole Suburb","Whole Suburb",150]
["Hastings","Camberley","Lower Quartile","CamberleyLower Quartile","Whole Suburb","Whole Suburb",380]
["Hastings","Camberley","Median","CamberleyMedian","Whole Suburb","Whole Suburb",450]
["Hastings","Camberley","Upper Quartile","CamberleyUpper Quartile","Whole Suburb","Whole Suburb",475]
["Hastings","Pakipaki","Bonds","PakipakiBonds","Whole Suburb","Whole Suburb",30]
["Hastings","Pakipaki","Lower Quartile","PakipakiLower Quartile","Whole Suburb","Whole Suburb",480]
["Hastings","Pakipaki","Median","PakipakiMedian","Whole Suburb","Whole Suburb",565]
["Hastings","Pakipaki","Upper Quartile","PakipakiUpper Quartile","Whole Suburb","Whole Suburb",670]
["Hastings","Pukahu","Bonds","PukahuBonds","Whole Suburb","Whole Suburb",""]
["Hastings","Pukahu","Lower Quartile","PukahuLower Quartile","Whole Suburb","Whole Suburb",""]
["Hastings","Pukahu","Median","PukahuMedian","Whole Suburb","Whole Suburb",""]
["Hastings","Pukahu","Upper Quartile","PukahuUpper Quartile","Whole Suburb","Whole Suburb",""]
["Hastings","Hastings","Bonds",{"$f":"B2306&C2306","v":"HastingsBonds"},"Whole Suburb","Whole Suburb",477]
["Hastings","Hastings","Lower Quartile","HastingsLower Quartile","Whole Suburb","Whole Suburb",380]
["Hastings","Hastings","Median","HastingsMedian","Whole Suburb","Whole Suburb",450]
["Hastings","Hastings","Upper Quartile","HastingsUpper Quartile","Whole Suburb","Whole Suburb",500]
["Hastings","Karamu","Bonds","KaramuBonds","Whole Suburb","Whole Suburb",""]
["Hastings","Karamu","Lower Quartile","KaramuLower Quartile","Whole Suburb","Whole Suburb",""]
["Hastings","Karamu","Median","KaramuMedian","Whole Suburb","Whole Suburb",""]
["Hastings","Karamu","Upper Quartile","KaramuUpper Quartile","Whole Suburb","Whole Suburb",""]
["Hastings","Waipatu","Bonds","WaipatuBonds","Whole Suburb","Whole Suburb",""]
["Hastings","Waipatu","Lower Quartile","WaipatuLower Quartile","Whole Suburb","Whole Suburb",""]
["Hastings","Waipatu","Median","WaipatuMedian","Whole Suburb","Whole Suburb",""]
["Hastings","Waipatu","Upper Quartile","WaipatuUpper Quartile","Whole Suburb","Whole Suburb",""]
["Hastings","Frimley","Bonds","FrimleyBonds","Whole Suburb","Whole Suburb",186]
["Hastings","Frimley","Lower Quartile","FrimleyLower Quartile","Whole Suburb","Whole Suburb",470]
["Hastings","Frimley","Median","FrimleyMedian","Whole Suburb","Whole Suburb",550]
["Hastings","Frimley","Upper Quartile","FrimleyUpper Quartile","Whole Suburb","Whole Suburb",620]
["Hastings","Whakatu","Bonds","WhakatuBonds","Whole Suburb","Whole Suburb",""]
["Hastings","Whakatu","Lower Quartile","WhakatuLower Quartile","Whole Suburb","Whole Suburb",""]
["Hastings","Whakatu","Median","WhakatuMedian","Whole Suburb","Whole Suburb",""]
["Hastings","Whakatu","Upper Quartile","WhakatuUpper Quartile","Whole Suburb","Whole Suburb",""]
["Hastings","Parkvale","Bonds","ParkvaleBonds","Whole Suburb","Whole Suburb",303]
["Hastings","Parkvale","Lower Quartile","ParkvaleLower Quartile","Whole Suburb","Whole Suburb",378]
["Hastings","Parkvale","Median","ParkvaleMedian","Whole Suburb","Whole Suburb",480]
["Hastings","Parkvale","Upper Quartile","ParkvaleUpper Quartile","Whole Suburb","Whole Suburb",535]
["Hastings","Raureka","Bonds","RaurekaBonds","Whole Suburb","Whole Suburb",342]
["Hastings","Raureka","Lower Quartile","RaurekaLower Quartile","Whole Suburb","Whole Suburb",426]
["Hastings","Raureka","Median","RaurekaMedian","Whole Suburb","Whole Suburb",500]
["Hastings","Raureka","Upper Quartile","RaurekaUpper Quartile","Whole Suburb","Whole Suburb",528]
["Hastings","Akina","Bonds","AkinaBonds","Whole Suburb","Whole Suburb",429]
["Hastings","Akina","Lower Quartile","AkinaLower Quartile","Whole Suburb","Whole Suburb",390]
["Hastings","Akina","Median","AkinaMedian","Whole Suburb","Whole Suburb",480]
["Hastings","Akina","Upper Quartile","AkinaUpper Quartile","Whole Suburb","Whole Suburb",540]
["Hastings","Longlands","Bonds","LonglandsBonds","Whole Suburb","Whole Suburb",42]
["Hastings","Longlands","Lower Quartile","LonglandsLower Quartile","Whole Suburb","Whole Suburb",293]
["Hastings","Longlands","Median","LonglandsMedian","Whole Suburb","Whole Suburb",350]
["Hastings","Longlands","Upper Quartile","LonglandsUpper Quartile","Whole Suburb","Whole Suburb",415]
["Hastings","Mahora","Bonds","MahoraBonds","Whole Suburb","Whole Suburb",327]
["Hastings","Mahora","Lower Quartile","MahoraLower Quartile","Whole Suburb","Whole Suburb",438]
["Hastings","Mahora","Median","MahoraMedian","Whole Suburb","Whole Suburb",525]
["Hastings","Mahora","Upper Quartile","MahoraUpper Quartile","Whole Suburb","Whole Suburb",600]
["Hastings","Roys Hill","Bonds","Roys HillBonds","Whole Suburb","Whole Suburb",""]
["Hastings","Roys Hill","Lower Quartile","Roys HillLower Quartile","Whole Suburb","Whole Suburb",""]
["Hastings","Roys Hill","Median","Roys HillMedian","Whole Suburb","Whole Suburb",""]
["Hastings","Roys Hill","Upper Quartile","Roys HillUpper Quartile","Whole Suburb","Whole Suburb",""]
["Hastings","Saint Leonards","Bonds","Saint LeonardsBonds","Whole Suburb","Whole Suburb",306]
["Hastings","Saint Leonards","Lower Quartile","Saint LeonardsLower Quartile","Whole Suburb","Whole Suburb",428]
["Hastings","Saint Leonards","Median","Saint LeonardsMedian","Whole Suburb","Whole Suburb",505]
["Hastings","Saint Leonards","Upper Quartile","Saint LeonardsUpper Quartile","Whole Suburb","Whole Suburb",556]
["Hastings","Sherenden","Bonds","SherendenBonds","Whole Suburb","Whole Suburb",""]
["Hastings","Sherenden","Lower Quartile","SherendenLower Quartile","Whole Suburb","Whole Suburb",""]
["Hastings","Sherenden","Median","SherendenMedian","Whole Suburb","Whole Suburb",""]
["Hastings","Sherenden","Upper Quartile","SherendenUpper Quartile","Whole Suburb","Whole Suburb",""]
["Hastings","Bridge Pa","Bonds","Bridge PaBonds","Whole Suburb","Whole Suburb",30]
["Hastings","Bridge Pa","Lower Quartile","Bridge PaLower Quartile","Whole Suburb","Whole Suburb",170]
["Hastings","Bridge Pa","Median","Bridge PaMedian","Whole Suburb","Whole Suburb",255]
["Hastings","Bridge Pa","Upper Quartile","Bridge PaUpper Quartile","Whole Suburb","Whole Suburb",413]
["Haumoana","Haumoana","Bonds","HaumoanaBonds","Whole Suburb","Whole Suburb",93]
["Haumoana","Haumoana","Lower Quartile","HaumoanaLower Quartile","Whole Suburb","Whole Suburb",350]
["Haumoana","Haumoana","Median","HaumoanaMedian","Whole Suburb","Whole Suburb",428]
["Haumoana","Haumoana","Upper Quartile","HaumoanaUpper Quartile","Whole Suburb","Whole Suburb",598]
["Havelock","Havelock","Bonds","HavelockBonds","Whole Suburb","Whole Suburb",51]
["Havelock","Havelock","Lower Quartile","HavelockLower Quartile","Whole Suburb","Whole Suburb",275]
["Havelock","Havelock","Median","HavelockMedian","Whole Suburb","Whole Suburb",375]
["Havelock","Havelock","Upper Quartile","HavelockUpper Quartile","Whole Suburb","Whole Suburb",505]
["Havelock North","Tuki Tuki","Bonds",{"$f":"B2370&C2370","v":"Tuki TukiBonds"},"Whole Suburb","Whole Suburb",""]
["Havelock North","Tuki Tuki","Lower Quartile","Tuki TukiLower Quartile","Whole Suburb","Whole Suburb",""]
["Havelock North","Tuki Tuki","Median","Tuki TukiMedian","Whole Suburb","Whole Suburb",""]
["Havelock North","Tuki Tuki","Upper Quartile","Tuki TukiUpper Quartile","Whole Suburb","Whole Suburb",""]
["Havelock North","Havelock North","Bonds","Havelock NorthBonds","Whole Suburb","Whole Suburb",891]
["Havelock North","Havelock North","Lower Quartile","Havelock NorthLower Quartile","Whole Suburb","Whole Suburb",525]
["Havelock North","Havelock North","Median","Havelock NorthMedian","Whole Suburb","Whole Suburb",590]
["Havelock North","Havelock North","Upper Quartile","Havelock NorthUpper Quartile","Whole Suburb","Whole Suburb",680]
["Hawarden","Hawarden","Bonds","HawardenBonds","Whole Suburb","Whole Suburb",""]
["Hawarden","Hawarden","Lower Quartile","HawardenLower Quartile","Whole Suburb","Whole Suburb",""]
["Hawarden","Hawarden","Median","HawardenMedian","Whole Suburb","Whole Suburb",""]
["Hawarden","Hawarden","Upper Quartile","HawardenUpper Quartile","Whole Suburb","Whole Suburb",""]
["Hawarden","The Peaks","Bonds","The PeaksBonds","Whole Suburb","Whole Suburb",""]
["Hawarden","The Peaks","Lower Quartile","The PeaksLower Quartile","Whole Suburb","Whole Suburb",""]
["Hawarden","The Peaks","Median","The PeaksMedian","Whole Suburb","Whole Suburb",""]
["Hawarden","The Peaks","Upper Quartile","The PeaksUpper Quartile","Whole Suburb","Whole Suburb",""]
["Hawera","Mokoia","Bonds","MokoiaBonds","Whole Suburb","Whole Suburb",""]
["Hawera","Mokoia","Lower Quartile","MokoiaLower Quartile","Whole Suburb","Whole Suburb",""]
["Hawera","Mokoia","Median","MokoiaMedian","Whole Suburb","Whole Suburb",""]
["Hawera","Mokoia","Upper Quartile","MokoiaUpper Quartile","Whole Suburb","Whole Suburb",""]
["Hawera","Te Roti","Bonds","Te RotiBonds","Whole Suburb","Whole Suburb",""]
["Hawera","Te Roti","Lower Quartile","Te RotiLower Quartile","Whole Suburb","Whole Suburb",""]
["Hawera","Te Roti","Median","Te RotiMedian","Whole Suburb","Whole Suburb",""]
["Hawera","Te Roti","Upper Quartile","Te RotiUpper Quartile","Whole Suburb","Whole Suburb",""]
["Hawera","Ararata","Bonds","ArarataBonds","Whole Suburb","Whole Suburb",""]
["Hawera","Ararata","Lower Quartile","ArarataLower Quartile","Whole Suburb","Whole Suburb",""]
["Hawera","Ararata","Median","ArarataMedian","Whole Suburb","Whole Suburb",""]
["Hawera","Ararata","Upper Quartile","ArarataUpper Quartile","Whole Suburb","Whole Suburb",""]
["Hawera","Hawera","Bonds","HaweraBonds","Whole Suburb","Whole Suburb",936]
["Hawera","Hawera","Lower Quartile","HaweraLower Quartile","Whole Suburb","Whole Suburb",360]
["Hawera","Hawera","Median","HaweraMedian","Whole Suburb","Whole Suburb",400]
["Hawera","Hawera","Upper Quartile","HaweraUpper Quartile","Whole Suburb","Whole Suburb",450]
["Hawera","Kaponga","Bonds","KapongaBonds","Whole Suburb","Whole Suburb",""]
["Hawera","Kaponga","Lower Quartile","KapongaLower Quartile","Whole Suburb","Whole Suburb",""]
["Hawera","Kaponga","Median","KapongaMedian","Whole Suburb","Whole Suburb",""]
["Hawera","Kaponga","Upper Quartile","KapongaUpper Quartile","Whole Suburb","Whole Suburb",""]
["Hawera","Kapuni","Bonds","KapuniBonds","Whole Suburb","Whole Suburb",15]
["Hawera","Kapuni","Lower Quartile","KapuniLower Quartile","Whole Suburb","Whole Suburb",243]
["Hawera","Kapuni","Median","KapuniMedian","Whole Suburb","Whole Suburb",260]
["Hawera","Kapuni","Upper Quartile","KapuniUpper Quartile","Whole Suburb","Whole Suburb",330]
["Hawera","Normanby","Bonds","NormanbyBonds","Whole Suburb","Whole Suburb",84]
["Hawera","Normanby","Lower Quartile","NormanbyLower Quartile","Whole Suburb","Whole Suburb",323]
["Hawera","Normanby","Median","NormanbyMedian","Whole Suburb","Whole Suburb",380]
["Hawera","Normanby","Upper Quartile","NormanbyUpper Quartile","Whole Suburb","Whole Suburb",383]
["Hawera","Ohangai","Bonds","OhangaiBonds","Whole Suburb","Whole Suburb",""]
["Hawera","Ohangai","Lower Quartile","OhangaiLower Quartile","Whole Suburb","Whole Suburb",""]
["Hawera","Ohangai","Median","OhangaiMedian","Whole Suburb","Whole Suburb",""]
["Hawera","Ohangai","Upper Quartile","OhangaiUpper Quartile","Whole Suburb","Whole Suburb",""]
["Hawera","Ohawe","Bonds","OhaweBonds","Whole Suburb","Whole Suburb",""]
["Hawera","Ohawe","Lower Quartile","OhaweLower Quartile","Whole Suburb","Whole Suburb",""]
["Hawera","Ohawe","Median","OhaweMedian","Whole Suburb","Whole Suburb",""]
["Hawera","Ohawe","Upper Quartile","OhaweUpper Quartile","Whole Suburb","Whole Suburb",""]
["Hawera","Okaiawa","Bonds","OkaiawaBonds","Whole Suburb","Whole Suburb",""]
["Hawera","Okaiawa","Lower Quartile","OkaiawaLower Quartile","Whole Suburb","Whole Suburb",""]
["Hawera","Okaiawa","Median","OkaiawaMedian","Whole Suburb","Whole Suburb",""]
["Hawera","Okaiawa","Upper Quartile","OkaiawaUpper Quartile","Whole Suburb","Whole Suburb",""]
["Hector","Hector","Bonds","HectorBonds","Whole Suburb","Whole Suburb",""]
["Hector","Hector","Lower Quartile","HectorLower Quartile","Whole Suburb","Whole Suburb",""]
["Hector","Hector","Median","HectorMedian","Whole Suburb","Whole Suburb",""]
["Hector","Hector","Upper Quartile","HectorUpper Quartile","Whole Suburb","Whole Suburb",""]
["Helensville","Helensville","Bonds","HelensvilleBonds","Whole Suburb","Whole Suburb",297]
["Helensville","Helensville","Lower Quartile","HelensvilleLower Quartile","Whole Suburb","Whole Suburb",400]
["Helensville","Helensville","Median","HelensvilleMedian","Whole Suburb","Whole Suburb",550]
["Helensville","Helensville","Upper Quartile","HelensvilleUpper Quartile","Whole Suburb","Whole Suburb",590]
["Hikuai","Hikuai","Bonds",{"$f":"B2434&C2434","v":"HikuaiBonds"},"Whole Suburb","Whole Suburb",""]
["Hikuai","Hikuai","Lower Quartile","HikuaiLower Quartile","Whole Suburb","Whole Suburb",""]
["Hikuai","Hikuai","Median","HikuaiMedian","Whole Suburb","Whole Suburb",""]
["Hikuai","Hikuai","Upper Quartile","HikuaiUpper Quartile","Whole Suburb","Whole Suburb",""]
["Hikurangi","Hikurangi","Bonds","HikurangiBonds","Whole Suburb","Whole Suburb",105]
["Hikurangi","Hikurangi","Lower Quartile","HikurangiLower Quartile","Whole Suburb","Whole Suburb",435]
["Hikurangi","Hikurangi","Median","HikurangiMedian","Whole Suburb","Whole Suburb",460]
["Hikurangi","Hikurangi","Upper Quartile","HikurangiUpper Quartile","Whole Suburb","Whole Suburb",495]
["Hikurangi","Hukerenui","Bonds","HukerenuiBonds","Whole Suburb","Whole Suburb",""]
["Hikurangi","Hukerenui","Lower Quartile","HukerenuiLower Quartile","Whole Suburb","Whole Suburb",""]
["Hikurangi","Hukerenui","Median","HukerenuiMedian","Whole Suburb","Whole Suburb",""]
["Hikurangi","Hukerenui","Upper Quartile","HukerenuiUpper Quartile","Whole Suburb","Whole Suburb",""]
["Himatangi Beach","Himatangi Beach","Bonds","Himatangi BeachBonds","Whole Suburb","Whole Suburb",24]
["Himatangi Beach","Himatangi Beach","Lower Quartile","Himatangi BeachLower Quartile","Whole Suburb","Whole Suburb",350]
["Himatangi Beach","Himatangi Beach","Median","Himatangi BeachMedian","Whole Suburb","Whole Suburb",420]
["Himatangi Beach","Himatangi Beach","Upper Quartile","Himatangi BeachUpper Quartile","Whole Suburb","Whole Suburb",430]
["Hira","Cable Bay","Bonds","Cable BayBonds","Whole Suburb","Whole Suburb",""]
["Hira","Cable Bay","Lower Quartile","Cable BayLower Quartile","Whole Suburb","Whole Suburb",""]
["Hira","Cable Bay","Median","Cable BayMedian","Whole Suburb","Whole Suburb",""]
["Hira","Cable Bay","Upper Quartile","Cable BayUpper Quartile","Whole Suburb","Whole Suburb",""]
["Hira","Hira","Bonds","HiraBonds","Whole Suburb","Whole Suburb",""]
["Hira","Hira","Lower Quartile","HiraLower Quartile","Whole Suburb","Whole Suburb",""]
["Hira","Hira","Median","HiraMedian","Whole Suburb","Whole Suburb",""]
["Hira","Hira","Upper Quartile","HiraUpper Quartile","Whole Suburb","Whole Suburb",""]
["Hokitika","Arahura Valley","Bonds","Arahura ValleyBonds","Whole Suburb","Whole Suburb",""]
["Hokitika","Arahura Valley","Lower Quartile","Arahura ValleyLower Quartile","Whole Suburb","Whole Suburb",""]
["Hokitika","Arahura Valley","Median","Arahura ValleyMedian","Whole Suburb","Whole Suburb",""]
["Hokitika","Arahura Valley","Upper Quartile","Arahura ValleyUpper Quartile","Whole Suburb","Whole Suburb",""]
["Hokitika","Kaniere","Bonds","KaniereBonds","Whole Suburb","Whole Suburb",""]
["Hokitika","Kaniere","Lower Quartile","KaniereLower Quartile","Whole Suburb","Whole Suburb",""]
["Hokitika","Kaniere","Median","KaniereMedian","Whole Suburb","Whole Suburb",""]
["Hokitika","Kaniere","Upper Quartile","KaniereUpper Quartile","Whole Suburb","Whole Suburb",""]
["Hokitika","Hokitika","Bonds","HokitikaBonds","Whole Suburb","Whole Suburb",249]
["Hokitika","Hokitika","Lower Quartile","HokitikaLower Quartile","Whole Suburb","Whole Suburb",310]
["Hokitika","Hokitika","Median","HokitikaMedian","Whole Suburb","Whole Suburb",350]
["Hokitika","Hokitika","Upper Quartile","HokitikaUpper Quartile","Whole Suburb","Whole Suburb",380]
["Hororata","Windwhistle","Bonds","WindwhistleBonds","Whole Suburb","Whole Suburb",""]
["Hororata","Windwhistle","Lower Quartile","WindwhistleLower Quartile","Whole Suburb","Whole Suburb",""]
["Hororata","Windwhistle","Median","WindwhistleMedian","Whole Suburb","Whole Suburb",""]
["Hororata","Windwhistle","Upper Quartile","WindwhistleUpper Quartile","Whole Suburb","Whole Suburb",""]
["Hororata","Hororata","Bonds","HororataBonds","Whole Suburb","Whole Suburb",36]
["Hororata","Hororata","Lower Quartile","HororataLower Quartile","Whole Suburb","Whole Suburb",200]
["Hororata","Hororata","Median","HororataMedian","Whole Suburb","Whole Suburb",200]
["Hororata","Hororata","Upper Quartile","HororataUpper Quartile","Whole Suburb","Whole Suburb",280]
["Huntly","Ohinewai","Bonds","OhinewaiBonds","Whole Suburb","Whole Suburb",""]
["Huntly","Ohinewai","Lower Quartile","OhinewaiLower Quartile","Whole Suburb","Whole Suburb",""]
["Huntly","Ohinewai","Median","OhinewaiMedian","Whole Suburb","Whole Suburb",""]
["Huntly","Ohinewai","Upper Quartile","OhinewaiUpper Quartile","Whole Suburb","Whole Suburb",""]
["Huntly","Huntly","Bonds","HuntlyBonds","Whole Suburb","Whole Suburb",849]
["Huntly","Huntly","Lower Quartile","HuntlyLower Quartile","Whole Suburb","Whole Suburb",370]
["Huntly","Huntly","Median","HuntlyMedian","Whole Suburb","Whole Suburb",405]
["Huntly","Huntly","Upper Quartile","HuntlyUpper Quartile","Whole Suburb","Whole Suburb",493]
["Hunua","Hunua","Bonds","HunuaBonds","Whole Suburb","Whole Suburb",72]
["Hunua","Hunua","Lower Quartile","HunuaLower Quartile","Whole Suburb","Whole Suburb",598]
["Hunua","Hunua","Median","HunuaMedian","Whole Suburb","Whole Suburb",768]
["Hunua","Hunua","Upper Quartile","HunuaUpper Quartile","Whole Suburb","Whole Suburb",931]
["Inglewood","Everett Park","Bonds","Everett ParkBonds","Whole Suburb","Whole Suburb",""]
["Inglewood","Everett Park","Lower Quartile","Everett ParkLower Quartile","Whole Suburb","Whole Suburb",""]
["Inglewood","Everett Park","Median","Everett ParkMedian","Whole Suburb","Whole Suburb",""]
["Inglewood","Everett Park","Upper Quartile","Everett ParkUpper Quartile","Whole Suburb","Whole Suburb",""]
["Inglewood","Inglewood","Bonds","InglewoodBonds","Whole Suburb","Whole Suburb",273]
["Inglewood","Inglewood","Lower Quartile","InglewoodLower Quartile","Whole Suburb","Whole Suburb",325]
["Inglewood","Inglewood","Median","InglewoodMedian","Whole Suburb","Whole Suburb",450]
["Inglewood","Inglewood","Upper Quartile","InglewoodUpper Quartile","Whole Suburb","Whole Suburb",480]
["Invercargill","Seaward Bush","Bonds",{"$f":"B2498&C2498","v":"Seaward BushBonds"},"Whole Suburb","Whole Suburb",""]
["Invercargill","Seaward Bush","Lower Quartile","Seaward BushLower Quartile","Whole Suburb","Whole Suburb",""]
["Invercargill","Seaward Bush","Median","Seaward BushMedian","Whole Suburb","Whole Suburb",""]
["Invercargill","Seaward Bush","Upper Quartile","Seaward BushUpper Quartile","Whole Suburb","Whole Suburb",""]
["Invercargill","Windsor","Bonds","WindsorBonds","Whole Suburb","Whole Suburb",381]
["Invercargill","Windsor","Lower Quartile","WindsorLower Quartile","Whole Suburb","Whole Suburb",340]
["Invercargill","Windsor","Median","WindsorMedian","Whole Suburb","Whole Suburb",380]
["Invercargill","Windsor","Upper Quartile","WindsorUpper Quartile","Whole Suburb","Whole Suburb",440]
["Invercargill","Woodlands","Bonds","WoodlandsBonds","Whole Suburb","Whole Suburb",""]
["Invercargill","Woodlands","Lower Quartile","WoodlandsLower Quartile","Whole Suburb","Whole Suburb",""]
["Invercargill","Woodlands","Median","WoodlandsMedian","Whole Suburb","Whole Suburb",""]
["Invercargill","Woodlands","Upper Quartile","WoodlandsUpper Quartile","Whole Suburb","Whole Suburb",""]
["Invercargill","Newfield","Bonds","NewfieldBonds","Whole Suburb","Whole Suburb",117]
["Invercargill","Newfield","Lower Quartile","NewfieldLower Quartile","Whole Suburb","Whole Suburb",380]
["Invercargill","Newfield","Median","NewfieldMedian","Whole Suburb","Whole Suburb",400]
["Invercargill","Newfield","Upper Quartile","NewfieldUpper Quartile","Whole Suburb","Whole Suburb",440]
["Invercargill","Waianiwa","Bonds","WaianiwaBonds","Whole Suburb","Whole Suburb",""]
["Invercargill","Waianiwa","Lower Quartile","WaianiwaLower Quartile","Whole Suburb","Whole Suburb",""]
["Invercargill","Waianiwa","Median","WaianiwaMedian","Whole Suburb","Whole Suburb",""]
["Invercargill","Waianiwa","Upper Quartile","WaianiwaUpper Quartile","Whole Suburb","Whole Suburb",""]
["Invercargill","Ascot","Bonds","AscotBonds","Whole Suburb","Whole Suburb",""]
["Invercargill","Ascot","Lower Quartile","AscotLower Quartile","Whole Suburb","Whole Suburb",""]
["Invercargill","Ascot","Median","AscotMedian","Whole Suburb","Whole Suburb",""]
["Invercargill","Ascot","Upper Quartile","AscotUpper Quartile","Whole Suburb","Whole Suburb",""]
["Invercargill","Avenal","Bonds","AvenalBonds","Whole Suburb","Whole Suburb",246]
["Invercargill","Avenal","Lower Quartile","AvenalLower Quartile","Whole Suburb","Whole Suburb",255]
["Invercargill","Avenal","Median","AvenalMedian","Whole Suburb","Whole Suburb",305]
["Invercargill","Avenal","Upper Quartile","AvenalUpper Quartile","Whole Suburb","Whole Suburb",383]
["Invercargill","Georgetown","Bonds","GeorgetownBonds","Whole Suburb","Whole Suburb",315]
["Invercargill","Georgetown","Lower Quartile","GeorgetownLower Quartile","Whole Suburb","Whole Suburb",250]
["Invercargill","Georgetown","Median","GeorgetownMedian","Whole Suburb","Whole Suburb",360]
["Invercargill","Georgetown","Upper Quartile","GeorgetownUpper Quartile","Whole Suburb","Whole Suburb",400]
["Invercargill","Tisbury","Bonds","TisburyBonds","Whole Suburb","Whole Suburb",""]
["Invercargill","Tisbury","Lower Quartile","TisburyLower Quartile","Whole Suburb","Whole Suburb",""]
["Invercargill","Tisbury","Median","TisburyMedian","Whole Suburb","Whole Suburb",""]
["Invercargill","Tisbury","Upper Quartile","TisburyUpper Quartile","Whole Suburb","Whole Suburb",""]
["Invercargill","Turnbull Thomson Park","Bonds","Turnbull Thomson ParkBonds","Whole Suburb","Whole Suburb",93]
["Invercargill","Turnbull Thomson Park","Lower Quartile","Turnbull Thomson ParkLower Quartile","Whole Suburb","Whole Suburb",180]
["Invercargill","Turnbull Thomson Park","Median","Turnbull Thomson ParkMedian","Whole Suburb","Whole Suburb",320]
["Invercargill","Turnbull Thomson Park","Upper Quartile","Turnbull Thomson ParkUpper Quartile","Whole Suburb","Whole Suburb",400]
["Invercargill","Hawthorndale","Bonds","HawthorndaleBonds","Whole Suburb","Whole Suburb",123]
["Invercargill","Hawthorndale","Lower Quartile","HawthorndaleLower Quartile","Whole Suburb","Whole Suburb",240]
["Invercargill","Hawthorndale","Median","HawthorndaleMedian","Whole Suburb","Whole Suburb",360]
["Invercargill","Hawthorndale","Upper Quartile","HawthorndaleUpper Quartile","Whole Suburb","Whole Suburb",420]
["Invercargill","Rockdale","Bonds","RockdaleBonds","Whole Suburb","Whole Suburb",51]
["Invercargill","Rockdale","Lower Quartile","RockdaleLower Quartile","Whole Suburb","Whole Suburb",370]
["Invercargill","Rockdale","Median","RockdaleMedian","Whole Suburb","Whole Suburb",390]
["Invercargill","Rockdale","Upper Quartile","RockdaleUpper Quartile","Whole Suburb","Whole Suburb",393]
["Invercargill","Rosedale","Bonds","RosedaleBonds","Whole Suburb","Whole Suburb",45]
["Invercargill","Rosedale","Lower Quartile","RosedaleLower Quartile","Whole Suburb","Whole Suburb",415]
["Invercargill","Rosedale","Median","RosedaleMedian","Whole Suburb","Whole Suburb",450]
["Invercargill","Rosedale","Upper Quartile","RosedaleUpper Quartile","Whole Suburb","Whole Suburb",453]
["Invercargill","Strathern","Bonds","StrathernBonds","Whole Suburb","Whole Suburb",399]
["Invercargill","Strathern","Lower Quartile","StrathernLower Quartile","Whole Suburb","Whole Suburb",350]
["Invercargill","Strathern","Median","StrathernMedian","Whole Suburb","Whole Suburb",370]
["Invercargill","Strathern","Upper Quartile","StrathernUpper Quartile","Whole Suburb","Whole Suburb",410]
["Invercargill","West Invercargill","Bonds","West InvercargillBonds","Whole Suburb","Whole Suburb",33]
["Invercargill","West Invercargill","Lower Quartile","West InvercargillLower Quartile","Whole Suburb","Whole Suburb",295]
["Invercargill","West Invercargill","Median","West InvercargillMedian","Whole Suburb","Whole Suburb",350]
["Invercargill","West Invercargill","Upper Quartile","West InvercargillUpper Quartile","Whole Suburb","Whole Suburb",350]
["Invercargill","West Plains","Bonds","West PlainsBonds","Whole Suburb","Whole Suburb",""]
["Invercargill","West Plains","Lower Quartile","West PlainsLower Quartile","Whole Suburb","Whole Suburb",""]
["Invercargill","West Plains","Median","West PlainsMedian","Whole Suburb","Whole Suburb",""]
["Invercargill","West Plains","Upper Quartile","West PlainsUpper Quartile","Whole Suburb","Whole Suburb",""]
["Invercargill","Gladstone","Bonds",{"$f":"B2562&C2562","v":"GladstoneBonds"},"Whole Suburb","Whole Suburb",231]
["Invercargill","Gladstone","Lower Quartile","GladstoneLower Quartile","Whole Suburb","Whole Suburb",313]
["Invercargill","Gladstone","Median","GladstoneMedian","Whole Suburb","Whole Suburb",375]
["Invercargill","Gladstone","Upper Quartile","GladstoneUpper Quartile","Whole Suburb","Whole Suburb",450]
["Invercargill","Glengarry","Bonds","GlengarryBonds","Whole Suburb","Whole Suburb",399]
["Invercargill","Glengarry","Lower Quartile","GlengarryLower Quartile","Whole Suburb","Whole Suburb",340]
["Invercargill","Glengarry","Median","GlengarryMedian","Whole Suburb","Whole Suburb",375]
["Invercargill","Glengarry","Upper Quartile","GlengarryUpper Quartile","Whole Suburb","Whole Suburb",400]
["Invercargill","Grasmere","Bonds","GrasmereBonds","Whole Suburb","Whole Suburb",195]
["Invercargill","Grasmere","Lower Quartile","GrasmereLower Quartile","Whole Suburb","Whole Suburb",348]
["Invercargill","Grasmere","Median","GrasmereMedian","Whole Suburb","Whole Suburb",400]
["Invercargill","Grasmere","Upper Quartile","GrasmereUpper Quartile","Whole Suburb","Whole Suburb",450]
["Invercargill","Hargest","Bonds","HargestBonds","Whole Suburb","Whole Suburb",78]
["Invercargill","Hargest","Lower Quartile","HargestLower Quartile","Whole Suburb","Whole Suburb",400]
["Invercargill","Hargest","Median","HargestMedian","Whole Suburb","Whole Suburb",400]
["Invercargill","Hargest","Upper Quartile","HargestUpper Quartile","Whole Suburb","Whole Suburb",420]
["Invercargill","Heidelberg","Bonds","HeidelbergBonds","Whole Suburb","Whole Suburb",195]
["Invercargill","Heidelberg","Lower Quartile","HeidelbergLower Quartile","Whole Suburb","Whole Suburb",350]
["Invercargill","Heidelberg","Median","HeidelbergMedian","Whole Suburb","Whole Suburb",380]
["Invercargill","Heidelberg","Upper Quartile","HeidelbergUpper Quartile","Whole Suburb","Whole Suburb",410]
["Invercargill","Appleby","Bonds","ApplebyBonds","Whole Suburb","Whole Suburb",807]
["Invercargill","Appleby","Lower Quartile","ApplebyLower Quartile","Whole Suburb","Whole Suburb",202]
["Invercargill","Appleby","Median","ApplebyMedian","Whole Suburb","Whole Suburb",310]
["Invercargill","Appleby","Upper Quartile","ApplebyUpper Quartile","Whole Suburb","Whole Suburb",370]
["Invercargill","Invercargill","Bonds","InvercargillBonds","Whole Suburb","Whole Suburb",306]
["Invercargill","Invercargill","Lower Quartile","InvercargillLower Quartile","Whole Suburb","Whole Suburb",240]
["Invercargill","Invercargill","Median","InvercargillMedian","Whole Suburb","Whole Suburb",290]
["Invercargill","Invercargill","Upper Quartile","InvercargillUpper Quartile","Whole Suburb","Whole Suburb",330]
["Invercargill","Kennington","Bonds","KenningtonBonds","Whole Suburb","Whole Suburb",""]
["Invercargill","Kennington","Lower Quartile","KenningtonLower Quartile","Whole Suburb","Whole Suburb",""]
["Invercargill","Kennington","Median","KenningtonMedian","Whole Suburb","Whole Suburb",""]
["Invercargill","Kennington","Upper Quartile","KenningtonUpper Quartile","Whole Suburb","Whole Suburb",""]
["Invercargill","Otatara","Bonds","OtataraBonds","Whole Suburb","Whole Suburb",42]
["Invercargill","Otatara","Lower Quartile","OtataraLower Quartile","Whole Suburb","Whole Suburb",371]
["Invercargill","Otatara","Median","OtataraMedian","Whole Suburb","Whole Suburb",385]
["Invercargill","Otatara","Upper Quartile","OtataraUpper Quartile","Whole Suburb","Whole Suburb",399]
["Invercargill","Waverley","Bonds","WaverleyBonds","Whole Suburb","Whole Suburb",129]
["Invercargill","Waverley","Lower Quartile","WaverleyLower Quartile","Whole Suburb","Whole Suburb",368]
["Invercargill","Waverley","Median","WaverleyMedian","Whole Suburb","Whole Suburb",430]
["Invercargill","Waverley","Upper Quartile","WaverleyUpper Quartile","Whole Suburb","Whole Suburb",458]
["Invercargill","Kew","Bonds","KewBonds","Whole Suburb","Whole Suburb",69]
["Invercargill","Kew","Lower Quartile","KewLower Quartile","Whole Suburb","Whole Suburb",356]
["Invercargill","Kew","Median","KewMedian","Whole Suburb","Whole Suburb",365]
["Invercargill","Kew","Upper Quartile","KewUpper Quartile","Whole Suburb","Whole Suburb",380]
["Invercargill","Kingswell","Bonds","KingswellBonds","Whole Suburb","Whole Suburb",174]
["Invercargill","Kingswell","Lower Quartile","KingswellLower Quartile","Whole Suburb","Whole Suburb",360]
["Invercargill","Kingswell","Median","KingswellMedian","Whole Suburb","Whole Suburb",390]
["Invercargill","Kingswell","Upper Quartile","KingswellUpper Quartile","Whole Suburb","Whole Suburb",400]
["Invercargill","Waikiwi","Bonds","WaikiwiBonds","Whole Suburb","Whole Suburb",168]
["Invercargill","Waikiwi","Lower Quartile","WaikiwiLower Quartile","Whole Suburb","Whole Suburb",333]
["Invercargill","Waikiwi","Median","WaikiwiMedian","Whole Suburb","Whole Suburb",395]
["Invercargill","Waikiwi","Upper Quartile","WaikiwiUpper Quartile","Whole Suburb","Whole Suburb",420]
["Invercargill","Pebbly Hill","Bonds","Pebbly HillBonds","Whole Suburb","Whole Suburb",""]
["Invercargill","Pebbly Hill","Lower Quartile","Pebbly HillLower Quartile","Whole Suburb","Whole Suburb",""]
["Invercargill","Pebbly Hill","Median","Pebbly HillMedian","Whole Suburb","Whole Suburb",""]
["Invercargill","Pebbly Hill","Upper Quartile","Pebbly HillUpper Quartile","Whole Suburb","Whole Suburb",""]
["Invercargill","Prestonville","Bonds","PrestonvilleBonds","Whole Suburb","Whole Suburb",""]
["Invercargill","Prestonville","Lower Quartile","PrestonvilleLower Quartile","Whole Suburb","Whole Suburb",""]
["Invercargill","Prestonville","Median","PrestonvilleMedian","Whole Suburb","Whole Suburb",""]
["Invercargill","Prestonville","Upper Quartile","PrestonvilleUpper Quartile","Whole Suburb","Whole Suburb",""]
["Invercargill","Queens Park","Bonds","Queens ParkBonds","Whole Suburb","Whole Suburb",""]
["Invercargill","Queens Park","Lower Quartile","Queens ParkLower Quartile","Whole Suburb","Whole Suburb",""]
["Invercargill","Queens Park","Median","Queens ParkMedian","Whole Suburb","Whole Suburb",""]
["Invercargill","Queens Park","Upper Quartile","Queens ParkUpper Quartile","Whole Suburb","Whole Suburb",""]
["Invercargill","Richmond","Bonds",{"$f":"B2626&C2626","v":"RichmondBonds"},"Whole Suburb","Whole Suburb",345]
["Invercargill","Richmond","Lower Quartile","RichmondLower Quartile","Whole Suburb","Whole Suburb",195]
["Invercargill","Richmond","Median","RichmondMedian","Whole Suburb","Whole Suburb",335]
["Invercargill","Richmond","Upper Quartile","RichmondUpper Quartile","Whole Suburb","Whole Suburb",399]
["Invercargill","Clifton","Bonds","CliftonBonds","Whole Suburb","Whole Suburb",60]
["Invercargill","Clifton","Lower Quartile","CliftonLower Quartile","Whole Suburb","Whole Suburb",350]
["Invercargill","Clifton","Median","CliftonMedian","Whole Suburb","Whole Suburb",355]
["Invercargill","Clifton","Upper Quartile","CliftonUpper Quartile","Whole Suburb","Whole Suburb",390]
["Kaeo","Kaeo","Bonds","KaeoBonds","Whole Suburb","Whole Suburb",63]
["Kaeo","Kaeo","Lower Quartile","KaeoLower Quartile","Whole Suburb","Whole Suburb",320]
["Kaeo","Kaeo","Median","KaeoMedian","Whole Suburb","Whole Suburb",390]
["Kaeo","Kaeo","Upper Quartile","KaeoUpper Quartile","Whole Suburb","Whole Suburb",426]
["Kahutara","Kahutara","Bonds","KahutaraBonds","Whole Suburb","Whole Suburb",""]
["Kahutara","Kahutara","Lower Quartile","KahutaraLower Quartile","Whole Suburb","Whole Suburb",""]
["Kahutara","Kahutara","Median","KahutaraMedian","Whole Suburb","Whole Suburb",""]
["Kahutara","Kahutara","Upper Quartile","KahutaraUpper Quartile","Whole Suburb","Whole Suburb",""]
["Kaiapoi","Tuahiwi","Bonds","TuahiwiBonds","Whole Suburb","Whole Suburb",""]
["Kaiapoi","Tuahiwi","Lower Quartile","TuahiwiLower Quartile","Whole Suburb","Whole Suburb",""]
["Kaiapoi","Tuahiwi","Median","TuahiwiMedian","Whole Suburb","Whole Suburb",""]
["Kaiapoi","Tuahiwi","Upper Quartile","TuahiwiUpper Quartile","Whole Suburb","Whole Suburb",""]
["Kaiapoi","Kaiapoi","Bonds","KaiapoiBonds","Whole Suburb","Whole Suburb",627]
["Kaiapoi","Kaiapoi","Lower Quartile","KaiapoiLower Quartile","Whole Suburb","Whole Suburb",410]
["Kaiapoi","Kaiapoi","Median","KaiapoiMedian","Whole Suburb","Whole Suburb",445]
["Kaiapoi","Kaiapoi","Upper Quartile","KaiapoiUpper Quartile","Whole Suburb","Whole Suburb",520]
["Kaiapoi","Clarkville","Bonds","ClarkvilleBonds","Whole Suburb","Whole Suburb",""]
["Kaiapoi","Clarkville","Lower Quartile","ClarkvilleLower Quartile","Whole Suburb","Whole Suburb",""]
["Kaiapoi","Clarkville","Median","ClarkvilleMedian","Whole Suburb","Whole Suburb",""]
["Kaiapoi","Clarkville","Upper Quartile","ClarkvilleUpper Quartile","Whole Suburb","Whole Suburb",""]
["Kaiaua","Kaiaua","Bonds","KaiauaBonds","Whole Suburb","Whole Suburb",""]
["Kaiaua","Kaiaua","Lower Quartile","KaiauaLower Quartile","Whole Suburb","Whole Suburb",""]
["Kaiaua","Kaiaua","Median","KaiauaMedian","Whole Suburb","Whole Suburb",""]
["Kaiaua","Kaiaua","Upper Quartile","KaiauaUpper Quartile","Whole Suburb","Whole Suburb",""]
["Kaiaua","Whakatiwai","Bonds","WhakatiwaiBonds","Whole Suburb","Whole Suburb",""]
["Kaiaua","Whakatiwai","Lower Quartile","WhakatiwaiLower Quartile","Whole Suburb","Whole Suburb",""]
["Kaiaua","Whakatiwai","Median","WhakatiwaiMedian","Whole Suburb","Whole Suburb",""]
["Kaiaua","Whakatiwai","Upper Quartile","WhakatiwaiUpper Quartile","Whole Suburb","Whole Suburb",""]
["Kaiaua","Miranda","Bonds","MirandaBonds","Whole Suburb","Whole Suburb",""]
["Kaiaua","Miranda","Lower Quartile","MirandaLower Quartile","Whole Suburb","Whole Suburb",""]
["Kaiaua","Miranda","Median","MirandaMedian","Whole Suburb","Whole Suburb",""]
["Kaiaua","Miranda","Upper Quartile","MirandaUpper Quartile","Whole Suburb","Whole Suburb",""]
["Kaikohe","Rawene","Bonds","RaweneBonds","Whole Suburb","Whole Suburb",33]
["Kaikohe","Rawene","Lower Quartile","RaweneLower Quartile","Whole Suburb","Whole Suburb",275]
["Kaikohe","Rawene","Median","RaweneMedian","Whole Suburb","Whole Suburb",300]
["Kaikohe","Rawene","Upper Quartile","RaweneUpper Quartile","Whole Suburb","Whole Suburb",350]
["Kaikohe","Opononi","Bonds","OpononiBonds","Whole Suburb","Whole Suburb",""]
["Kaikohe","Opononi","Lower Quartile","OpononiLower Quartile","Whole Suburb","Whole Suburb",""]
["Kaikohe","Opononi","Median","OpononiMedian","Whole Suburb","Whole Suburb",""]
["Kaikohe","Opononi","Upper Quartile","OpononiUpper Quartile","Whole Suburb","Whole Suburb",""]
["Kaikohe","Kaikohe","Bonds","KaikoheBonds","Whole Suburb","Whole Suburb",444]
["Kaikohe","Kaikohe","Lower Quartile","KaikoheLower Quartile","Whole Suburb","Whole Suburb",300]
["Kaikohe","Kaikohe","Median","KaikoheMedian","Whole Suburb","Whole Suburb",350]
["Kaikohe","Kaikohe","Upper Quartile","KaikoheUpper Quartile","Whole Suburb","Whole Suburb",400]
["Kaikohe","Ohaeawai","Bonds","OhaeawaiBonds","Whole Suburb","Whole Suburb",""]
["Kaikohe","Ohaeawai","Lower Quartile","OhaeawaiLower Quartile","Whole Suburb","Whole Suburb",""]
["Kaikohe","Ohaeawai","Median","OhaeawaiMedian","Whole Suburb","Whole Suburb",""]
["Kaikohe","Ohaeawai","Upper Quartile","OhaeawaiUpper Quartile","Whole Suburb","Whole Suburb",""]
["Kaikoura","South Bay","Bonds","South BayBonds","Whole Suburb","Whole Suburb",""]
["Kaikoura","South Bay","Lower Quartile","South BayLower Quartile","Whole Suburb","Whole Suburb",""]
["Kaikoura","South Bay","Median","South BayMedian","Whole Suburb","Whole Suburb",""]
["Kaikoura","South Bay","Upper Quartile","South BayUpper Quartile","Whole Suburb","Whole Suburb",""]
["Kaikoura","Inland Road","Bonds","Inland RoadBonds","Whole Suburb","Whole Suburb",""]
["Kaikoura","Inland Road","Lower Quartile","Inland RoadLower Quartile","Whole Suburb","Whole Suburb",""]
["Kaikoura","Inland Road","Median","Inland RoadMedian","Whole Suburb","Whole Suburb",""]
["Kaikoura","Inland Road","Upper Quartile","Inland RoadUpper Quartile","Whole Suburb","Whole Suburb",""]
["Kaikoura","Kaikoura","Bonds",{"$f":"B2690&C2690","v":"KaikouraBonds"},"Whole Suburb","Whole Suburb",177]
["Kaikoura","Kaikoura","Lower Quartile","KaikouraLower Quartile","Whole Suburb","Whole Suburb",280]
["Kaikoura","Kaikoura","Median","KaikouraMedian","Whole Suburb","Whole Suburb",335]
["Kaikoura","Kaikoura","Upper Quartile","KaikouraUpper Quartile","Whole Suburb","Whole Suburb",400]
["Kaikoura","Kaikoura Flat","Bonds","Kaikoura FlatBonds","Whole Suburb","Whole Suburb",""]
["Kaikoura","Kaikoura Flat","Lower Quartile","Kaikoura FlatLower Quartile","Whole Suburb","Whole Suburb",""]
["Kaikoura","Kaikoura Flat","Median","Kaikoura FlatMedian","Whole Suburb","Whole Suburb",""]
["Kaikoura","Kaikoura Flat","Upper Quartile","Kaikoura FlatUpper Quartile","Whole Suburb","Whole Suburb",""]
["Kaimiro","Kaimiro","Bonds","KaimiroBonds","Whole Suburb","Whole Suburb",""]
["Kaimiro","Kaimiro","Lower Quartile","KaimiroLower Quartile","Whole Suburb","Whole Suburb",""]
["Kaimiro","Kaimiro","Median","KaimiroMedian","Whole Suburb","Whole Suburb",""]
["Kaimiro","Kaimiro","Upper Quartile","KaimiroUpper Quartile","Whole Suburb","Whole Suburb",""]
["Kairanga","Kairanga","Bonds","KairangaBonds","Whole Suburb","Whole Suburb",""]
["Kairanga","Kairanga","Lower Quartile","KairangaLower Quartile","Whole Suburb","Whole Suburb",""]
["Kairanga","Kairanga","Median","KairangaMedian","Whole Suburb","Whole Suburb",""]
["Kairanga","Kairanga","Upper Quartile","KairangaUpper Quartile","Whole Suburb","Whole Suburb",""]
["Kaitaia","Kaitaia","Bonds","KaitaiaBonds","Whole Suburb","Whole Suburb",582]
["Kaitaia","Kaitaia","Lower Quartile","KaitaiaLower Quartile","Whole Suburb","Whole Suburb",350]
["Kaitaia","Kaitaia","Median","KaitaiaMedian","Whole Suburb","Whole Suburb",400]
["Kaitaia","Kaitaia","Upper Quartile","KaitaiaUpper Quartile","Whole Suburb","Whole Suburb",450]
["Kaitaia","Peria","Bonds","PeriaBonds","Whole Suburb","Whole Suburb",""]
["Kaitaia","Peria","Lower Quartile","PeriaLower Quartile","Whole Suburb","Whole Suburb",""]
["Kaitaia","Peria","Median","PeriaMedian","Whole Suburb","Whole Suburb",""]
["Kaitaia","Peria","Upper Quartile","PeriaUpper Quartile","Whole Suburb","Whole Suburb",""]
["Kaitaia","Ahipara","Bonds","AhiparaBonds","Whole Suburb","Whole Suburb",63]
["Kaitaia","Ahipara","Lower Quartile","AhiparaLower Quartile","Whole Suburb","Whole Suburb",380]
["Kaitaia","Ahipara","Median","AhiparaMedian","Whole Suburb","Whole Suburb",380]
["Kaitaia","Ahipara","Upper Quartile","AhiparaUpper Quartile","Whole Suburb","Whole Suburb",500]
["Kaitangata","Kaitangata","Bonds","KaitangataBonds","Whole Suburb","Whole Suburb",""]
["Kaitangata","Kaitangata","Lower Quartile","KaitangataLower Quartile","Whole Suburb","Whole Suburb",""]
["Kaitangata","Kaitangata","Median","KaitangataMedian","Whole Suburb","Whole Suburb",""]
["Kaitangata","Kaitangata","Upper Quartile","KaitangataUpper Quartile","Whole Suburb","Whole Suburb",""]
["Kaiwaka","Hakaru","Bonds","HakaruBonds","Whole Suburb","Whole Suburb",""]
["Kaiwaka","Hakaru","Lower Quartile","HakaruLower Quartile","Whole Suburb","Whole Suburb",""]
["Kaiwaka","Hakaru","Median","HakaruMedian","Whole Suburb","Whole Suburb",""]
["Kaiwaka","Hakaru","Upper Quartile","HakaruUpper Quartile","Whole Suburb","Whole Suburb",""]
["Kaiwaka","Kaiwaka","Bonds","KaiwakaBonds","Whole Suburb","Whole Suburb",84]
["Kaiwaka","Kaiwaka","Lower Quartile","KaiwakaLower Quartile","Whole Suburb","Whole Suburb",430]
["Kaiwaka","Kaiwaka","Median","KaiwakaMedian","Whole Suburb","Whole Suburb",493]
["Kaiwaka","Kaiwaka","Upper Quartile","KaiwakaUpper Quartile","Whole Suburb","Whole Suburb",513]
["Kaka Point","Kaka Point","Bonds","Kaka PointBonds","Whole Suburb","Whole Suburb",18]
["Kaka Point","Kaka Point","Lower Quartile","Kaka PointLower Quartile","Whole Suburb","Whole Suburb",270]
["Kaka Point","Kaka Point","Median","Kaka PointMedian","Whole Suburb","Whole Suburb",310]
["Kaka Point","Kaka Point","Upper Quartile","Kaka PointUpper Quartile","Whole Suburb","Whole Suburb",410]
["Karamea","Karamea","Bonds","KarameaBonds","Whole Suburb","Whole Suburb",""]
["Karamea","Karamea","Lower Quartile","KarameaLower Quartile","Whole Suburb","Whole Suburb",""]
["Karamea","Karamea","Median","KarameaMedian","Whole Suburb","Whole Suburb",""]
["Karamea","Karamea","Upper Quartile","KarameaUpper Quartile","Whole Suburb","Whole Suburb",""]
["Karamu","Karamu","Bonds","KaramuBonds","Whole Suburb","Whole Suburb",""]
["Karamu","Karamu","Lower Quartile","KaramuLower Quartile","Whole Suburb","Whole Suburb",""]
["Karamu","Karamu","Median","KaramuMedian","Whole Suburb","Whole Suburb",""]
["Karamu","Karamu","Upper Quartile","KaramuUpper Quartile","Whole Suburb","Whole Suburb",""]
["Karangahake","Karangahake","Bonds","KarangahakeBonds","Whole Suburb","Whole Suburb",""]
["Karangahake","Karangahake","Lower Quartile","KarangahakeLower Quartile","Whole Suburb","Whole Suburb",""]
["Karangahake","Karangahake","Median","KarangahakeMedian","Whole Suburb","Whole Suburb",""]
["Karangahake","Karangahake","Upper Quartile","KarangahakeUpper Quartile","Whole Suburb","Whole Suburb",""]
["Karikari Peninsula","Karikari Peninsula","Bonds","Karikari PeninsulaBonds","Whole Suburb","Whole Suburb",39]
["Karikari Peninsula","Karikari Peninsula","Lower Quartile","Karikari PeninsulaLower Quartile","Whole Suburb","Whole Suburb",385]
["Karikari Peninsula","Karikari Peninsula","Median","Karikari PeninsulaMedian","Whole Suburb","Whole Suburb",415]
["Karikari Peninsula","Karikari Peninsula","Upper Quartile","Karikari PeninsulaUpper Quartile","Whole Suburb","Whole Suburb",438]
["Katikati","Katikati","Bonds","KatikatiBonds","Whole Suburb","Whole Suburb",432]
["Katikati","Katikati","Lower Quartile","KatikatiLower Quartile","Whole Suburb","Whole Suburb",400]
["Katikati","Katikati","Median","KatikatiMedian","Whole Suburb","Whole Suburb",450]
["Katikati","Katikati","Upper Quartile","KatikatiUpper Quartile","Whole Suburb","Whole Suburb",510]
["Kaukapakapa","Kaukapakapa","Bonds",{"$f":"B2754&C2754","v":"KaukapakapaBonds"},"Whole Suburb","Whole Suburb",87]
["Kaukapakapa","Kaukapakapa","Lower Quartile","KaukapakapaLower Quartile","Whole Suburb","Whole Suburb",450]
["Kaukapakapa","Kaukapakapa","Median","KaukapakapaMedian","Whole Suburb","Whole Suburb",513]
["Kaukapakapa","Kaukapakapa","Upper Quartile","KaukapakapaUpper Quartile","Whole Suburb","Whole Suburb",708]
["Kauri","Kauri","Bonds","KauriBonds","Whole Suburb","Whole Suburb",36]
["Kauri","Kauri","Lower Quartile","KauriLower Quartile","Whole Suburb","Whole Suburb",410]
["Kauri","Kauri","Median","KauriMedian","Whole Suburb","Whole Suburb",435]
["Kauri","Kauri","Upper Quartile","KauriUpper Quartile","Whole Suburb","Whole Suburb",540]
["Kawakawa","Kawakawa","Bonds","KawakawaBonds","Whole Suburb","Whole Suburb",129]
["Kawakawa","Kawakawa","Lower Quartile","KawakawaLower Quartile","Whole Suburb","Whole Suburb",350]
["Kawakawa","Kawakawa","Median","KawakawaMedian","Whole Suburb","Whole Suburb",390]
["Kawakawa","Kawakawa","Upper Quartile","KawakawaUpper Quartile","Whole Suburb","Whole Suburb",415]
["Kawakawa Bay","Kawakawa Bay","Bonds","Kawakawa BayBonds","Whole Suburb","Whole Suburb",""]
["Kawakawa Bay","Kawakawa Bay","Lower Quartile","Kawakawa BayLower Quartile","Whole Suburb","Whole Suburb",""]
["Kawakawa Bay","Kawakawa Bay","Median","Kawakawa BayMedian","Whole Suburb","Whole Suburb",""]
["Kawakawa Bay","Kawakawa Bay","Upper Quartile","Kawakawa BayUpper Quartile","Whole Suburb","Whole Suburb",""]
["Kawerau","Kawerau","Bonds","KawerauBonds","Whole Suburb","Whole Suburb",561]
["Kawerau","Kawerau","Lower Quartile","KawerauLower Quartile","Whole Suburb","Whole Suburb",308]
["Kawerau","Kawerau","Median","KawerauMedian","Whole Suburb","Whole Suburb",350]
["Kawerau","Kawerau","Upper Quartile","KawerauUpper Quartile","Whole Suburb","Whole Suburb",380]
["Kerikeri","Waimate North","Bonds","Waimate NorthBonds","Whole Suburb","Whole Suburb",""]
["Kerikeri","Waimate North","Lower Quartile","Waimate NorthLower Quartile","Whole Suburb","Whole Suburb",""]
["Kerikeri","Waimate North","Median","Waimate NorthMedian","Whole Suburb","Whole Suburb",""]
["Kerikeri","Waimate North","Upper Quartile","Waimate NorthUpper Quartile","Whole Suburb","Whole Suburb",""]
["Kerikeri","Te Tii","Bonds","Te TiiBonds","Whole Suburb","Whole Suburb",""]
["Kerikeri","Te Tii","Lower Quartile","Te TiiLower Quartile","Whole Suburb","Whole Suburb",""]
["Kerikeri","Te Tii","Median","Te TiiMedian","Whole Suburb","Whole Suburb",""]
["Kerikeri","Te Tii","Upper Quartile","Te TiiUpper Quartile","Whole Suburb","Whole Suburb",""]
["Kerikeri","Kerikeri","Bonds","KerikeriBonds","Whole Suburb","Whole Suburb",849]
["Kerikeri","Kerikeri","Lower Quartile","KerikeriLower Quartile","Whole Suburb","Whole Suburb",430]
["Kerikeri","Kerikeri","Median","KerikeriMedian","Whole Suburb","Whole Suburb",520]
["Kerikeri","Kerikeri","Upper Quartile","KerikeriUpper Quartile","Whole Suburb","Whole Suburb",591]
["Kimbolton","Rangiwahia","Bonds","RangiwahiaBonds","Whole Suburb","Whole Suburb",""]
["Kimbolton","Rangiwahia","Lower Quartile","RangiwahiaLower Quartile","Whole Suburb","Whole Suburb",""]
["Kimbolton","Rangiwahia","Median","RangiwahiaMedian","Whole Suburb","Whole Suburb",""]
["Kimbolton","Rangiwahia","Upper Quartile","RangiwahiaUpper Quartile","Whole Suburb","Whole Suburb",""]
["Kingston","Kingston","Bonds","KingstonBonds","Whole Suburb","Whole Suburb",39]
["Kingston","Kingston","Lower Quartile","KingstonLower Quartile","Whole Suburb","Whole Suburb",410]
["Kingston","Kingston","Median","KingstonMedian","Whole Suburb","Whole Suburb",450]
["Kingston","Kingston","Upper Quartile","KingstonUpper Quartile","Whole Suburb","Whole Suburb",485]
["Kirwee","Kirwee","Bonds","KirweeBonds","Whole Suburb","Whole Suburb",39]
["Kirwee","Kirwee","Lower Quartile","KirweeLower Quartile","Whole Suburb","Whole Suburb",400]
["Kirwee","Kirwee","Median","KirweeMedian","Whole Suburb","Whole Suburb",425]
["Kirwee","Kirwee","Upper Quartile","KirweeUpper Quartile","Whole Suburb","Whole Suburb",488]
["Kohukohu","Broadwood","Bonds","BroadwoodBonds","Whole Suburb","Whole Suburb",""]
["Kohukohu","Broadwood","Lower Quartile","BroadwoodLower Quartile","Whole Suburb","Whole Suburb",""]
["Kohukohu","Broadwood","Median","BroadwoodMedian","Whole Suburb","Whole Suburb",""]
["Kohukohu","Broadwood","Upper Quartile","BroadwoodUpper Quartile","Whole Suburb","Whole Suburb",""]
["Kokatahi","Kokatahi","Bonds","KokatahiBonds","Whole Suburb","Whole Suburb",""]
["Kokatahi","Kokatahi","Lower Quartile","KokatahiLower Quartile","Whole Suburb","Whole Suburb",""]
["Kokatahi","Kokatahi","Median","KokatahiMedian","Whole Suburb","Whole Suburb",""]
["Kokatahi","Kokatahi","Upper Quartile","KokatahiUpper Quartile","Whole Suburb","Whole Suburb",""]
["Kumara","Kumara","Bonds","KumaraBonds","Whole Suburb","Whole Suburb",""]
["Kumara","Kumara","Lower Quartile","KumaraLower Quartile","Whole Suburb","Whole Suburb",""]
["Kumara","Kumara","Median","KumaraMedian","Whole Suburb","Whole Suburb",""]
["Kumara","Kumara","Upper Quartile","KumaraUpper Quartile","Whole Suburb","Whole Suburb",""]
["Kumeroa","Kumeroa","Bonds","KumeroaBonds","Whole Suburb","Whole Suburb",""]
["Kumeroa","Kumeroa","Lower Quartile","KumeroaLower Quartile","Whole Suburb","Whole Suburb",""]
["Kumeroa","Kumeroa","Median","KumeroaMedian","Whole Suburb","Whole Suburb",""]
["Kumeroa","Kumeroa","Upper Quartile","KumeroaUpper Quartile","Whole Suburb","Whole Suburb",""]
["Kumeu","Kumeu","Bonds","KumeuBonds","Whole Suburb","Whole Suburb",384]
["Kumeu","Kumeu","Lower Quartile","KumeuLower Quartile","Whole Suburb","Whole Suburb",558]
["Kumeu","Kumeu","Median","KumeuMedian","Whole Suburb","Whole Suburb",755]
["Kumeu","Kumeu","Upper Quartile","KumeuUpper Quartile","Whole Suburb","Whole Suburb",800]
["Kumeu","Huapai","Bonds",{"$f":"B2818&C2818","v":"HuapaiBonds"},"Whole Suburb","Whole Suburb",198]
["Kumeu","Huapai","Lower Quartile","HuapaiLower Quartile","Whole Suburb","Whole Suburb",498]
["Kumeu","Huapai","Median","HuapaiMedian","Whole Suburb","Whole Suburb",638]
["Kumeu","Huapai","Upper Quartile","HuapaiUpper Quartile","Whole Suburb","Whole Suburb",724]
["Kurow","Kurow","Bonds","KurowBonds","Whole Suburb","Whole Suburb",""]
["Kurow","Kurow","Lower Quartile","KurowLower Quartile","Whole Suburb","Whole Suburb",""]
["Kurow","Kurow","Median","KurowMedian","Whole Suburb","Whole Suburb",""]
["Kurow","Kurow","Upper Quartile","KurowUpper Quartile","Whole Suburb","Whole Suburb",""]
["Lake Hawea","Hawea Flat","Bonds","Hawea FlatBonds","Whole Suburb","Whole Suburb",""]
["Lake Hawea","Hawea Flat","Lower Quartile","Hawea FlatLower Quartile","Whole Suburb","Whole Suburb",""]
["Lake Hawea","Hawea Flat","Median","Hawea FlatMedian","Whole Suburb","Whole Suburb",""]
["Lake Hawea","Hawea Flat","Upper Quartile","Hawea FlatUpper Quartile","Whole Suburb","Whole Suburb",""]
["Lake Hawea","Lake Hawea","Bonds","Lake HaweaBonds","Whole Suburb","Whole Suburb",150]
["Lake Hawea","Lake Hawea","Lower Quartile","Lake HaweaLower Quartile","Whole Suburb","Whole Suburb",490]
["Lake Hawea","Lake Hawea","Median","Lake HaweaMedian","Whole Suburb","Whole Suburb",560]
["Lake Hawea","Lake Hawea","Upper Quartile","Lake HaweaUpper Quartile","Whole Suburb","Whole Suburb",600]
["Lake Tekapo","Lake Tekapo","Bonds","Lake TekapoBonds","Whole Suburb","Whole Suburb",93]
["Lake Tekapo","Lake Tekapo","Lower Quartile","Lake TekapoLower Quartile","Whole Suburb","Whole Suburb",170]
["Lake Tekapo","Lake Tekapo","Median","Lake TekapoMedian","Whole Suburb","Whole Suburb",238]
["Lake Tekapo","Lake Tekapo","Upper Quartile","Lake TekapoUpper Quartile","Whole Suburb","Whole Suburb",343]
["Lawrence","Lawrence","Bonds","LawrenceBonds","Whole Suburb","Whole Suburb",""]
["Lawrence","Lawrence","Lower Quartile","LawrenceLower Quartile","Whole Suburb","Whole Suburb",""]
["Lawrence","Lawrence","Median","LawrenceMedian","Whole Suburb","Whole Suburb",""]
["Lawrence","Lawrence","Upper Quartile","LawrenceUpper Quartile","Whole Suburb","Whole Suburb",""]
["Leeston","Leeston","Bonds","LeestonBonds","Whole Suburb","Whole Suburb",159]
["Leeston","Leeston","Lower Quartile","LeestonLower Quartile","Whole Suburb","Whole Suburb",410]
["Leeston","Leeston","Median","LeestonMedian","Whole Suburb","Whole Suburb",430]
["Leeston","Leeston","Upper Quartile","LeestonUpper Quartile","Whole Suburb","Whole Suburb",488]
["Leigh","Leigh","Bonds","LeighBonds","Whole Suburb","Whole Suburb",51]
["Leigh","Leigh","Lower Quartile","LeighLower Quartile","Whole Suburb","Whole Suburb",431]
["Leigh","Leigh","Median","LeighMedian","Whole Suburb","Whole Suburb",515]
["Leigh","Leigh","Upper Quartile","LeighUpper Quartile","Whole Suburb","Whole Suburb",558]
["Leigh","Ti Point","Bonds","Ti PointBonds","Whole Suburb","Whole Suburb",""]
["Leigh","Ti Point","Lower Quartile","Ti PointLower Quartile","Whole Suburb","Whole Suburb",""]
["Leigh","Ti Point","Median","Ti PointMedian","Whole Suburb","Whole Suburb",""]
["Leigh","Ti Point","Upper Quartile","Ti PointUpper Quartile","Whole Suburb","Whole Suburb",""]
["Leithfield","Leithfield","Bonds","LeithfieldBonds","Whole Suburb","Whole Suburb",""]
["Leithfield","Leithfield","Lower Quartile","LeithfieldLower Quartile","Whole Suburb","Whole Suburb",""]
["Leithfield","Leithfield","Median","LeithfieldMedian","Whole Suburb","Whole Suburb",""]
["Leithfield","Leithfield","Upper Quartile","LeithfieldUpper Quartile","Whole Suburb","Whole Suburb",""]
["Levin","Hokio Beach","Bonds","Hokio BeachBonds","Whole Suburb","Whole Suburb",""]
["Levin","Hokio Beach","Lower Quartile","Hokio BeachLower Quartile","Whole Suburb","Whole Suburb",""]
["Levin","Hokio Beach","Median","Hokio BeachMedian","Whole Suburb","Whole Suburb",""]
["Levin","Hokio Beach","Upper Quartile","Hokio BeachUpper Quartile","Whole Suburb","Whole Suburb",""]
["Levin","Waitarere Beach","Bonds","Waitarere BeachBonds","Whole Suburb","Whole Suburb",66]
["Levin","Waitarere Beach","Lower Quartile","Waitarere BeachLower Quartile","Whole Suburb","Whole Suburb",343]
["Levin","Waitarere Beach","Median","Waitarere BeachMedian","Whole Suburb","Whole Suburb",385]
["Levin","Waitarere Beach","Upper Quartile","Waitarere BeachUpper Quartile","Whole Suburb","Whole Suburb",450]
["Levin","Levin","Bonds","LevinBonds","Whole Suburb","Whole Suburb",2016]
["Levin","Levin","Lower Quartile","LevinLower Quartile","Whole Suburb","Whole Suburb",380]
["Levin","Levin","Median","LevinMedian","Whole Suburb","Whole Suburb",440]
["Levin","Levin","Upper Quartile","LevinUpper Quartile","Whole Suburb","Whole Suburb",500]
["Levin","Muhunoa East","Bonds","Muhunoa EastBonds","Whole Suburb","Whole Suburb",""]
["Levin","Muhunoa East","Lower Quartile","Muhunoa EastLower Quartile","Whole Suburb","Whole Suburb",""]
["Levin","Muhunoa East","Median","Muhunoa EastMedian","Whole Suburb","Whole Suburb",""]
["Levin","Muhunoa East","Upper Quartile","Muhunoa EastUpper Quartile","Whole Suburb","Whole Suburb",""]
["Lincoln","Lincoln","Bonds","LincolnBonds","Whole Suburb","Whole Suburb",522]
["Lincoln","Lincoln","Lower Quartile","LincolnLower Quartile","Whole Suburb","Whole Suburb",428]
["Lincoln","Lincoln","Median","LincolnMedian","Whole Suburb","Whole Suburb",530]
["Lincoln","Lincoln","Upper Quartile","LincolnUpper Quartile","Whole Suburb","Whole Suburb",590]
["Lincoln","Lincoln University","Bonds","Lincoln UniversityBonds","Whole Suburb","Whole Suburb",""]
["Lincoln","Lincoln University","Lower Quartile","Lincoln UniversityLower Quartile","Whole Suburb","Whole Suburb",""]
["Lincoln","Lincoln University","Median","Lincoln UniversityMedian","Whole Suburb","Whole Suburb",""]
["Lincoln","Lincoln University","Upper Quartile","Lincoln UniversityUpper Quartile","Whole Suburb","Whole Suburb",""]
["Little River","Little River","Bonds",{"$f":"B2882&C2882","v":"Little RiverBonds"},"Whole Suburb","Whole Suburb",27]
["Little River","Little River","Lower Quartile","Little RiverLower Quartile","Whole Suburb","Whole Suburb",300]
["Little River","Little River","Median","Little RiverMedian","Whole Suburb","Whole Suburb",348]
["Little River","Little River","Upper Quartile","Little RiverUpper Quartile","Whole Suburb","Whole Suburb",415]
["Little River","Birdlings Flat","Bonds","Birdlings FlatBonds","Whole Suburb","Whole Suburb",""]
["Little River","Birdlings Flat","Lower Quartile","Birdlings FlatLower Quartile","Whole Suburb","Whole Suburb",""]
["Little River","Birdlings Flat","Median","Birdlings FlatMedian","Whole Suburb","Whole Suburb",""]
["Little River","Birdlings Flat","Upper Quartile","Birdlings FlatUpper Quartile","Whole Suburb","Whole Suburb",""]
["Loburn","Loburn","Bonds","LoburnBonds","Whole Suburb","Whole Suburb",54]
["Loburn","Loburn","Lower Quartile","LoburnLower Quartile","Whole Suburb","Whole Suburb",429]
["Loburn","Loburn","Median","LoburnMedian","Whole Suburb","Whole Suburb",450]
["Loburn","Loburn","Upper Quartile","LoburnUpper Quartile","Whole Suburb","Whole Suburb",528]
["Longbush","Longbush","Bonds","LongbushBonds","Whole Suburb","Whole Suburb",""]
["Longbush","Longbush","Lower Quartile","LongbushLower Quartile","Whole Suburb","Whole Suburb",""]
["Longbush","Longbush","Median","LongbushMedian","Whole Suburb","Whole Suburb",""]
["Longbush","Longbush","Upper Quartile","LongbushUpper Quartile","Whole Suburb","Whole Suburb",""]
["Lower Hutt","Wainuiomata","Bonds","WainuiomataBonds","Whole Suburb","Whole Suburb",1047]
["Lower Hutt","Wainuiomata","Lower Quartile","WainuiomataLower Quartile","Whole Suburb","Whole Suburb",475]
["Lower Hutt","Wainuiomata","Median","WainuiomataMedian","Whole Suburb","Whole Suburb",548]
["Lower Hutt","Wainuiomata","Upper Quartile","WainuiomataUpper Quartile","Whole Suburb","Whole Suburb",600]
["Lower Hutt","Woburn","Bonds","WoburnBonds","Whole Suburb","Whole Suburb",198]
["Lower Hutt","Woburn","Lower Quartile","WoburnLower Quartile","Whole Suburb","Whole Suburb",550]
["Lower Hutt","Woburn","Median","WoburnMedian","Whole Suburb","Whole Suburb",650]
["Lower Hutt","Woburn","Upper Quartile","WoburnUpper Quartile","Whole Suburb","Whole Suburb",750]
["Lower Hutt","York Bay","Bonds","York BayBonds","Whole Suburb","Whole Suburb",""]
["Lower Hutt","York Bay","Lower Quartile","York BayLower Quartile","Whole Suburb","Whole Suburb",""]
["Lower Hutt","York Bay","Median","York BayMedian","Whole Suburb","Whole Suburb",""]
["Lower Hutt","York Bay","Upper Quartile","York BayUpper Quartile","Whole Suburb","Whole Suburb",""]
["Lower Hutt","Petone","Bonds","PetoneBonds","Whole Suburb","Whole Suburb",1212]
["Lower Hutt","Petone","Lower Quartile","PetoneLower Quartile","Whole Suburb","Whole Suburb",380]
["Lower Hutt","Petone","Median","PetoneMedian","Whole Suburb","Whole Suburb",500]
["Lower Hutt","Petone","Upper Quartile","PetoneUpper Quartile","Whole Suburb","Whole Suburb",600]
["Lower Hutt","Point Howard","Bonds","Point HowardBonds","Whole Suburb","Whole Suburb",""]
["Lower Hutt","Point Howard","Lower Quartile","Point HowardLower Quartile","Whole Suburb","Whole Suburb",""]
["Lower Hutt","Point Howard","Median","Point HowardMedian","Whole Suburb","Whole Suburb",""]
["Lower Hutt","Point Howard","Upper Quartile","Point HowardUpper Quartile","Whole Suburb","Whole Suburb",""]
["Lower Hutt","Stokes Valley","Bonds","Stokes ValleyBonds","Whole Suburb","Whole Suburb",528]
["Lower Hutt","Stokes Valley","Lower Quartile","Stokes ValleyLower Quartile","Whole Suburb","Whole Suburb",500]
["Lower Hutt","Stokes Valley","Median","Stokes ValleyMedian","Whole Suburb","Whole Suburb",585]
["Lower Hutt","Stokes Valley","Upper Quartile","Stokes ValleyUpper Quartile","Whole Suburb","Whole Suburb",650]
["Lower Hutt","Taita","Bonds","TaitaBonds","Whole Suburb","Whole Suburb",465]
["Lower Hutt","Taita","Lower Quartile","TaitaLower Quartile","Whole Suburb","Whole Suburb",365]
["Lower Hutt","Taita","Median","TaitaMedian","Whole Suburb","Whole Suburb",470]
["Lower Hutt","Taita","Upper Quartile","TaitaUpper Quartile","Whole Suburb","Whole Suburb",590]
["Lower Hutt","Waterloo","Bonds","WaterlooBonds","Whole Suburb","Whole Suburb",375]
["Lower Hutt","Waterloo","Lower Quartile","WaterlooLower Quartile","Whole Suburb","Whole Suburb",524]
["Lower Hutt","Waterloo","Median","WaterlooMedian","Whole Suburb","Whole Suburb",650]
["Lower Hutt","Waterloo","Upper Quartile","WaterlooUpper Quartile","Whole Suburb","Whole Suburb",691]
["Lower Hutt","Harbour View","Bonds","Harbour ViewBonds","Whole Suburb","Whole Suburb",""]
["Lower Hutt","Harbour View","Lower Quartile","Harbour ViewLower Quartile","Whole Suburb","Whole Suburb",""]
["Lower Hutt","Harbour View","Median","Harbour ViewMedian","Whole Suburb","Whole Suburb",""]
["Lower Hutt","Harbour View","Upper Quartile","Harbour ViewUpper Quartile","Whole Suburb","Whole Suburb",""]
["Lower Hutt","Melling","Bonds","MellingBonds","Whole Suburb","Whole Suburb",159]
["Lower Hutt","Melling","Lower Quartile","MellingLower Quartile","Whole Suburb","Whole Suburb",400]
["Lower Hutt","Melling","Median","MellingMedian","Whole Suburb","Whole Suburb",410]
["Lower Hutt","Melling","Upper Quartile","MellingUpper Quartile","Whole Suburb","Whole Suburb",505]
["Lower Hutt","Moera","Bonds","MoeraBonds","Whole Suburb","Whole Suburb",180]
["Lower Hutt","Moera","Lower Quartile","MoeraLower Quartile","Whole Suburb","Whole Suburb",435]
["Lower Hutt","Moera","Median","MoeraMedian","Whole Suburb","Whole Suburb",500]
["Lower Hutt","Moera","Upper Quartile","MoeraUpper Quartile","Whole Suburb","Whole Suburb",610]
["Lower Hutt","Naenae","Bonds","NaenaeBonds","Whole Suburb","Whole Suburb",696]
["Lower Hutt","Naenae","Lower Quartile","NaenaeLower Quartile","Whole Suburb","Whole Suburb",450]
["Lower Hutt","Naenae","Median","NaenaeMedian","Whole Suburb","Whole Suburb",510]
["Lower Hutt","Naenae","Upper Quartile","NaenaeUpper Quartile","Whole Suburb","Whole Suburb",584]
["Lower Hutt","Maungaraki","Bonds",{"$f":"B2946&C2946","v":"MaungarakiBonds"},"Whole Suburb","Whole Suburb",312]
["Lower Hutt","Maungaraki","Lower Quartile","MaungarakiLower Quartile","Whole Suburb","Whole Suburb",508]
["Lower Hutt","Maungaraki","Median","MaungarakiMedian","Whole Suburb","Whole Suburb",605]
["Lower Hutt","Maungaraki","Upper Quartile","MaungarakiUpper Quartile","Whole Suburb","Whole Suburb",695]
["Lower Hutt","Tirohanga","Bonds","TirohangaBonds","Whole Suburb","Whole Suburb",42]
["Lower Hutt","Tirohanga","Lower Quartile","TirohangaLower Quartile","Whole Suburb","Whole Suburb",623]
["Lower Hutt","Tirohanga","Median","TirohangaMedian","Whole Suburb","Whole Suburb",630]
["Lower Hutt","Tirohanga","Upper Quartile","TirohangaUpper Quartile","Whole Suburb","Whole Suburb",705]
["Lower Hutt","Korokoro","Bonds","KorokoroBonds","Whole Suburb","Whole Suburb",87]
["Lower Hutt","Korokoro","Lower Quartile","KorokoroLower Quartile","Whole Suburb","Whole Suburb",420]
["Lower Hutt","Korokoro","Median","KorokoroMedian","Whole Suburb","Whole Suburb",550]
["Lower Hutt","Korokoro","Upper Quartile","KorokoroUpper Quartile","Whole Suburb","Whole Suburb",600]
["Lower Hutt","Lowry Bay","Bonds","Lowry BayBonds","Whole Suburb","Whole Suburb",""]
["Lower Hutt","Lowry Bay","Lower Quartile","Lowry BayLower Quartile","Whole Suburb","Whole Suburb",""]
["Lower Hutt","Lowry Bay","Median","Lowry BayMedian","Whole Suburb","Whole Suburb",""]
["Lower Hutt","Lowry Bay","Upper Quartile","Lowry BayUpper Quartile","Whole Suburb","Whole Suburb",""]
["Lower Hutt","Mahina Bay","Bonds","Mahina BayBonds","Whole Suburb","Whole Suburb",""]
["Lower Hutt","Mahina Bay","Lower Quartile","Mahina BayLower Quartile","Whole Suburb","Whole Suburb",""]
["Lower Hutt","Mahina Bay","Median","Mahina BayMedian","Whole Suburb","Whole Suburb",""]
["Lower Hutt","Mahina Bay","Upper Quartile","Mahina BayUpper Quartile","Whole Suburb","Whole Suburb",""]
["Lower Hutt","Alicetown","Bonds","AlicetownBonds","Whole Suburb","Whole Suburb",261]
["Lower Hutt","Alicetown","Lower Quartile","AlicetownLower Quartile","Whole Suburb","Whole Suburb",423]
["Lower Hutt","Alicetown","Median","AlicetownMedian","Whole Suburb","Whole Suburb",500]
["Lower Hutt","Alicetown","Upper Quartile","AlicetownUpper Quartile","Whole Suburb","Whole Suburb",678]
["Lower Hutt","Days Bay","Bonds","Days BayBonds","Whole Suburb","Whole Suburb",30]
["Lower Hutt","Days Bay","Lower Quartile","Days BayLower Quartile","Whole Suburb","Whole Suburb",468]
["Lower Hutt","Days Bay","Median","Days BayMedian","Whole Suburb","Whole Suburb",600]
["Lower Hutt","Days Bay","Upper Quartile","Days BayUpper Quartile","Whole Suburb","Whole Suburb",850]
["Lower Hutt","Eastbourne","Bonds","EastbourneBonds","Whole Suburb","Whole Suburb",189]
["Lower Hutt","Eastbourne","Lower Quartile","EastbourneLower Quartile","Whole Suburb","Whole Suburb",536]
["Lower Hutt","Eastbourne","Median","EastbourneMedian","Whole Suburb","Whole Suburb",638]
["Lower Hutt","Eastbourne","Upper Quartile","EastbourneUpper Quartile","Whole Suburb","Whole Suburb",813]
["Lower Hutt","Epuni","Bonds","EpuniBonds","Whole Suburb","Whole Suburb",267]
["Lower Hutt","Epuni","Lower Quartile","EpuniLower Quartile","Whole Suburb","Whole Suburb",284]
["Lower Hutt","Epuni","Median","EpuniMedian","Whole Suburb","Whole Suburb",540]
["Lower Hutt","Epuni","Upper Quartile","EpuniUpper Quartile","Whole Suburb","Whole Suburb",658]
["Lower Hutt","Fairfield","Bonds","FairfieldBonds","Whole Suburb","Whole Suburb",234]
["Lower Hutt","Fairfield","Lower Quartile","FairfieldLower Quartile","Whole Suburb","Whole Suburb",528]
["Lower Hutt","Fairfield","Median","FairfieldMedian","Whole Suburb","Whole Suburb",600]
["Lower Hutt","Fairfield","Upper Quartile","FairfieldUpper Quartile","Whole Suburb","Whole Suburb",675]
["Lower Hutt","Haywards","Bonds","HaywardsBonds","Whole Suburb","Whole Suburb",""]
["Lower Hutt","Haywards","Lower Quartile","HaywardsLower Quartile","Whole Suburb","Whole Suburb",""]
["Lower Hutt","Haywards","Median","HaywardsMedian","Whole Suburb","Whole Suburb",""]
["Lower Hutt","Haywards","Upper Quartile","HaywardsUpper Quartile","Whole Suburb","Whole Suburb",""]
["Lower Hutt","Hutt Central","Bonds","Hutt CentralBonds","Whole Suburb","Whole Suburb",678]
["Lower Hutt","Hutt Central","Lower Quartile","Hutt CentralLower Quartile","Whole Suburb","Whole Suburb",205]
["Lower Hutt","Hutt Central","Median","Hutt CentralMedian","Whole Suburb","Whole Suburb",405]
["Lower Hutt","Hutt Central","Upper Quartile","Hutt CentralUpper Quartile","Whole Suburb","Whole Suburb",614]
["Lower Hutt","Belmont","Bonds","BelmontBonds","Whole Suburb","Whole Suburb",147]
["Lower Hutt","Belmont","Lower Quartile","BelmontLower Quartile","Whole Suburb","Whole Suburb",343]
["Lower Hutt","Belmont","Median","BelmontMedian","Whole Suburb","Whole Suburb",450]
["Lower Hutt","Belmont","Upper Quartile","BelmontUpper Quartile","Whole Suburb","Whole Suburb",610]
["Lower Hutt","Boulcott","Bonds","BoulcottBonds","Whole Suburb","Whole Suburb",294]
["Lower Hutt","Boulcott","Lower Quartile","BoulcottLower Quartile","Whole Suburb","Whole Suburb",479]
["Lower Hutt","Boulcott","Median","BoulcottMedian","Whole Suburb","Whole Suburb",565]
["Lower Hutt","Boulcott","Upper Quartile","BoulcottUpper Quartile","Whole Suburb","Whole Suburb",750]
["Lower Hutt","Manor Park","Bonds","Manor ParkBonds","Whole Suburb","Whole Suburb",""]
["Lower Hutt","Manor Park","Lower Quartile","Manor ParkLower Quartile","Whole Suburb","Whole Suburb",""]
["Lower Hutt","Manor Park","Median","Manor ParkMedian","Whole Suburb","Whole Suburb",""]
["Lower Hutt","Manor Park","Upper Quartile","Manor ParkUpper Quartile","Whole Suburb","Whole Suburb",""]
["Lower Hutt","Waiwhetu","Bonds","WaiwhetuBonds","Whole Suburb","Whole Suburb",402]
["Lower Hutt","Waiwhetu","Lower Quartile","WaiwhetuLower Quartile","Whole Suburb","Whole Suburb",500]
["Lower Hutt","Waiwhetu","Median","WaiwhetuMedian","Whole Suburb","Whole Suburb",615]
["Lower Hutt","Waiwhetu","Upper Quartile","WaiwhetuUpper Quartile","Whole Suburb","Whole Suburb",663]
["Lower Hutt","Avalon","Bonds",{"$f":"B3010&C3010","v":"AvalonBonds"},"Whole Suburb","Whole Suburb",456]
["Lower Hutt","Avalon","Lower Quartile","AvalonLower Quartile","Whole Suburb","Whole Suburb",520]
["Lower Hutt","Avalon","Median","AvalonMedian","Whole Suburb","Whole Suburb",580]
["Lower Hutt","Avalon","Upper Quartile","AvalonUpper Quartile","Whole Suburb","Whole Suburb",640]
["Lower Hutt","Normandale","Bonds","NormandaleBonds","Whole Suburb","Whole Suburb",78]
["Lower Hutt","Normandale","Lower Quartile","NormandaleLower Quartile","Whole Suburb","Whole Suburb",475]
["Lower Hutt","Normandale","Median","NormandaleMedian","Whole Suburb","Whole Suburb",520]
["Lower Hutt","Normandale","Upper Quartile","NormandaleUpper Quartile","Whole Suburb","Whole Suburb",690]
["Lower Hutt","Kelson","Bonds","KelsonBonds","Whole Suburb","Whole Suburb",141]
["Lower Hutt","Kelson","Lower Quartile","KelsonLower Quartile","Whole Suburb","Whole Suburb",570]
["Lower Hutt","Kelson","Median","KelsonMedian","Whole Suburb","Whole Suburb",643]
["Lower Hutt","Kelson","Upper Quartile","KelsonUpper Quartile","Whole Suburb","Whole Suburb",738]
["Lower Moutere","Lower Moutere","Bonds","Lower MoutereBonds","Whole Suburb","Whole Suburb",45]
["Lower Moutere","Lower Moutere","Lower Quartile","Lower MoutereLower Quartile","Whole Suburb","Whole Suburb",245]
["Lower Moutere","Lower Moutere","Median","Lower MoutereMedian","Whole Suburb","Whole Suburb",260]
["Lower Moutere","Lower Moutere","Upper Quartile","Lower MoutereUpper Quartile","Whole Suburb","Whole Suburb",425]
["Lumsden","Lumsden","Bonds","LumsdenBonds","Whole Suburb","Whole Suburb",48]
["Lumsden","Lumsden","Lower Quartile","LumsdenLower Quartile","Whole Suburb","Whole Suburb",154]
["Lumsden","Lumsden","Median","LumsdenMedian","Whole Suburb","Whole Suburb",218]
["Lumsden","Lumsden","Upper Quartile","LumsdenUpper Quartile","Whole Suburb","Whole Suburb",251]
["Lyttelton","Rapaki","Bonds","RapakiBonds","Whole Suburb","Whole Suburb",""]
["Lyttelton","Rapaki","Lower Quartile","RapakiLower Quartile","Whole Suburb","Whole Suburb",""]
["Lyttelton","Rapaki","Median","RapakiMedian","Whole Suburb","Whole Suburb",""]
["Lyttelton","Rapaki","Upper Quartile","RapakiUpper Quartile","Whole Suburb","Whole Suburb",""]
["Lyttelton","Cass Bay","Bonds","Cass BayBonds","Whole Suburb","Whole Suburb",""]
["Lyttelton","Cass Bay","Lower Quartile","Cass BayLower Quartile","Whole Suburb","Whole Suburb",""]
["Lyttelton","Cass Bay","Median","Cass BayMedian","Whole Suburb","Whole Suburb",""]
["Lyttelton","Cass Bay","Upper Quartile","Cass BayUpper Quartile","Whole Suburb","Whole Suburb",""]
["Lyttelton","Lyttelton","Bonds","LytteltonBonds","Whole Suburb","Whole Suburb",219]
["Lyttelton","Lyttelton","Lower Quartile","LytteltonLower Quartile","Whole Suburb","Whole Suburb",403]
["Lyttelton","Lyttelton","Median","LytteltonMedian","Whole Suburb","Whole Suburb",465]
["Lyttelton","Lyttelton","Upper Quartile","LytteltonUpper Quartile","Whole Suburb","Whole Suburb",543]
["Mamaku","Mamaku","Bonds","MamakuBonds","Whole Suburb","Whole Suburb",""]
["Mamaku","Mamaku","Lower Quartile","MamakuLower Quartile","Whole Suburb","Whole Suburb",""]
["Mamaku","Mamaku","Median","MamakuMedian","Whole Suburb","Whole Suburb",""]
["Mamaku","Mamaku","Upper Quartile","MamakuUpper Quartile","Whole Suburb","Whole Suburb",""]
["Manaia","Manaia","Bonds","ManaiaBonds","Whole Suburb","Whole Suburb",""]
["Manaia","Manaia","Lower Quartile","ManaiaLower Quartile","Whole Suburb","Whole Suburb",""]
["Manaia","Manaia","Median","ManaiaMedian","Whole Suburb","Whole Suburb",""]
["Manaia","Manaia","Upper Quartile","ManaiaUpper Quartile","Whole Suburb","Whole Suburb",""]
["Manakau","Manakau","Bonds","ManakauBonds","Whole Suburb","Whole Suburb",39]
["Manakau","Manakau","Lower Quartile","ManakauLower Quartile","Whole Suburb","Whole Suburb",463]
["Manakau","Manakau","Median","ManakauMedian","Whole Suburb","Whole Suburb",590]
["Manakau","Manakau","Upper Quartile","ManakauUpper Quartile","Whole Suburb","Whole Suburb",638]
["Manakau","Waikawa Beach","Bonds","Waikawa BeachBonds","Whole Suburb","Whole Suburb",""]
["Manakau","Waikawa Beach","Lower Quartile","Waikawa BeachLower Quartile","Whole Suburb","Whole Suburb",""]
["Manakau","Waikawa Beach","Median","Waikawa BeachMedian","Whole Suburb","Whole Suburb",""]
["Manakau","Waikawa Beach","Upper Quartile","Waikawa BeachUpper Quartile","Whole Suburb","Whole Suburb",""]
["Manapouri","Manapouri","Bonds","ManapouriBonds","Whole Suburb","Whole Suburb",27]
["Manapouri","Manapouri","Lower Quartile","ManapouriLower Quartile","Whole Suburb","Whole Suburb",270]
["Manapouri","Manapouri","Median","ManapouriMedian","Whole Suburb","Whole Suburb",285]
["Manapouri","Manapouri","Upper Quartile","ManapouriUpper Quartile","Whole Suburb","Whole Suburb",323]
["Manawaru","Manawaru","Bonds","ManawaruBonds","Whole Suburb","Whole Suburb",48]
["Manawaru","Manawaru","Lower Quartile","ManawaruLower Quartile","Whole Suburb","Whole Suburb",310]
["Manawaru","Manawaru","Median","ManawaruMedian","Whole Suburb","Whole Suburb",370]
["Manawaru","Manawaru","Upper Quartile","ManawaruUpper Quartile","Whole Suburb","Whole Suburb",400]
["Mangakino","Whakamaru","Bonds","WhakamaruBonds","Whole Suburb","Whole Suburb",""]
["Mangakino","Whakamaru","Lower Quartile","WhakamaruLower Quartile","Whole Suburb","Whole Suburb",""]
["Mangakino","Whakamaru","Median","WhakamaruMedian","Whole Suburb","Whole Suburb",""]
["Mangakino","Whakamaru","Upper Quartile","WhakamaruUpper Quartile","Whole Suburb","Whole Suburb",""]
["Mangakino","Mangakino","Bonds","MangakinoBonds","Whole Suburb","Whole Suburb",126]
["Mangakino","Mangakino","Lower Quartile","MangakinoLower Quartile","Whole Suburb","Whole Suburb",150]
["Mangakino","Mangakino","Median","MangakinoMedian","Whole Suburb","Whole Suburb",200]
["Mangakino","Mangakino","Upper Quartile","MangakinoUpper Quartile","Whole Suburb","Whole Suburb",238]
["Mangatawhiri","Mangatangi","Bonds",{"$f":"B3074&C3074","v":"MangatangiBonds"},"Whole Suburb","Whole Suburb",""]
["Mangatawhiri","Mangatangi","Lower Quartile","MangatangiLower Quartile","Whole Suburb","Whole Suburb",""]
["Mangatawhiri","Mangatangi","Median","MangatangiMedian","Whole Suburb","Whole Suburb",""]
["Mangatawhiri","Mangatangi","Upper Quartile","MangatangiUpper Quartile","Whole Suburb","Whole Suburb",""]
["Mangatawhiri","Mangatawhiri","Bonds","MangatawhiriBonds","Whole Suburb","Whole Suburb",36]
["Mangatawhiri","Mangatawhiri","Lower Quartile","MangatawhiriLower Quartile","Whole Suburb","Whole Suburb",400]
["Mangatawhiri","Mangatawhiri","Median","MangatawhiriMedian","Whole Suburb","Whole Suburb",400]
["Mangatawhiri","Mangatawhiri","Upper Quartile","MangatawhiriUpper Quartile","Whole Suburb","Whole Suburb",475]
["Mangawhai","Mangawhai","Bonds","MangawhaiBonds","Whole Suburb","Whole Suburb",216]
["Mangawhai","Mangawhai","Lower Quartile","MangawhaiLower Quartile","Whole Suburb","Whole Suburb",483]
["Mangawhai","Mangawhai","Median","MangawhaiMedian","Whole Suburb","Whole Suburb",550]
["Mangawhai","Mangawhai","Upper Quartile","MangawhaiUpper Quartile","Whole Suburb","Whole Suburb",600]
["Mangawhai","Mangawhai Heads","Bonds","Mangawhai HeadsBonds","Whole Suburb","Whole Suburb",219]
["Mangawhai","Mangawhai Heads","Lower Quartile","Mangawhai HeadsLower Quartile","Whole Suburb","Whole Suburb",520]
["Mangawhai","Mangawhai Heads","Median","Mangawhai HeadsMedian","Whole Suburb","Whole Suburb",568]
["Mangawhai","Mangawhai Heads","Upper Quartile","Mangawhai HeadsUpper Quartile","Whole Suburb","Whole Suburb",600]
["Mangonui","Mangonui","Bonds","MangonuiBonds","Whole Suburb","Whole Suburb",63]
["Mangonui","Mangonui","Lower Quartile","MangonuiLower Quartile","Whole Suburb","Whole Suburb",340]
["Mangonui","Mangonui","Median","MangonuiMedian","Whole Suburb","Whole Suburb",420]
["Mangonui","Mangonui","Upper Quartile","MangonuiUpper Quartile","Whole Suburb","Whole Suburb",476]
["Mangonui","Hihi","Bonds","HihiBonds","Whole Suburb","Whole Suburb",""]
["Mangonui","Hihi","Lower Quartile","HihiLower Quartile","Whole Suburb","Whole Suburb",""]
["Mangonui","Hihi","Median","HihiMedian","Whole Suburb","Whole Suburb",""]
["Mangonui","Hihi","Upper Quartile","HihiUpper Quartile","Whole Suburb","Whole Suburb",""]
["Manutuke","Muriwai","Bonds","MuriwaiBonds","Whole Suburb","Whole Suburb",""]
["Manutuke","Muriwai","Lower Quartile","MuriwaiLower Quartile","Whole Suburb","Whole Suburb",""]
["Manutuke","Muriwai","Median","MuriwaiMedian","Whole Suburb","Whole Suburb",""]
["Manutuke","Muriwai","Upper Quartile","MuriwaiUpper Quartile","Whole Suburb","Whole Suburb",""]
["Manutuke","Waerengaokuri","Bonds","WaerengaokuriBonds","Whole Suburb","Whole Suburb",""]
["Manutuke","Waerengaokuri","Lower Quartile","WaerengaokuriLower Quartile","Whole Suburb","Whole Suburb",""]
["Manutuke","Waerengaokuri","Median","WaerengaokuriMedian","Whole Suburb","Whole Suburb",""]
["Manutuke","Waerengaokuri","Upper Quartile","WaerengaokuriUpper Quartile","Whole Suburb","Whole Suburb",""]
["Manutuke","Manutuke","Bonds","ManutukeBonds","Whole Suburb","Whole Suburb",""]
["Manutuke","Manutuke","Lower Quartile","ManutukeLower Quartile","Whole Suburb","Whole Suburb",""]
["Manutuke","Manutuke","Median","ManutukeMedian","Whole Suburb","Whole Suburb",""]
["Manutuke","Manutuke","Upper Quartile","ManutukeUpper Quartile","Whole Suburb","Whole Suburb",""]
["Mapua","Mapua","Bonds","MapuaBonds","Whole Suburb","Whole Suburb",111]
["Mapua","Mapua","Lower Quartile","MapuaLower Quartile","Whole Suburb","Whole Suburb",445]
["Mapua","Mapua","Median","MapuaMedian","Whole Suburb","Whole Suburb",540]
["Mapua","Mapua","Upper Quartile","MapuaUpper Quartile","Whole Suburb","Whole Suburb",600]
["Mapua","Ruby Bay","Bonds","Ruby BayBonds","Whole Suburb","Whole Suburb",33]
["Mapua","Ruby Bay","Lower Quartile","Ruby BayLower Quartile","Whole Suburb","Whole Suburb",320]
["Mapua","Ruby Bay","Median","Ruby BayMedian","Whole Suburb","Whole Suburb",425]
["Mapua","Ruby Bay","Upper Quartile","Ruby BayUpper Quartile","Whole Suburb","Whole Suburb",460]
["Maraekakaho","Maraekakaho","Bonds","MaraekakahoBonds","Whole Suburb","Whole Suburb",""]
["Maraekakaho","Maraekakaho","Lower Quartile","MaraekakahoLower Quartile","Whole Suburb","Whole Suburb",""]
["Maraekakaho","Maraekakaho","Median","MaraekakahoMedian","Whole Suburb","Whole Suburb",""]
["Maraekakaho","Maraekakaho","Upper Quartile","MaraekakahoUpper Quartile","Whole Suburb","Whole Suburb",""]
["Maramarua","Maramarua","Bonds","MaramaruaBonds","Whole Suburb","Whole Suburb",""]
["Maramarua","Maramarua","Lower Quartile","MaramaruaLower Quartile","Whole Suburb","Whole Suburb",""]
["Maramarua","Maramarua","Median","MaramaruaMedian","Whole Suburb","Whole Suburb",""]
["Maramarua","Maramarua","Upper Quartile","MaramaruaUpper Quartile","Whole Suburb","Whole Suburb",""]
["Martinborough","Martinborough","Bonds","MartinboroughBonds","Whole Suburb","Whole Suburb",117]
["Martinborough","Martinborough","Lower Quartile","MartinboroughLower Quartile","Whole Suburb","Whole Suburb",476]
["Martinborough","Martinborough","Median","MartinboroughMedian","Whole Suburb","Whole Suburb",510]
["Martinborough","Martinborough","Upper Quartile","MartinboroughUpper Quartile","Whole Suburb","Whole Suburb",550]
["Marton","Turakina","Bonds","TurakinaBonds","Whole Suburb","Whole Suburb",""]
["Marton","Turakina","Lower Quartile","TurakinaLower Quartile","Whole Suburb","Whole Suburb",""]
["Marton","Turakina","Median","TurakinaMedian","Whole Suburb","Whole Suburb",""]
["Marton","Turakina","Upper Quartile","TurakinaUpper Quartile","Whole Suburb","Whole Suburb",""]
["Marton","Marton","Bonds","MartonBonds","Whole Suburb","Whole Suburb",360]
["Marton","Marton","Lower Quartile","MartonLower Quartile","Whole Suburb","Whole Suburb",350]
["Marton","Marton","Median","MartonMedian","Whole Suburb","Whole Suburb",380]
["Marton","Marton","Upper Quartile","MartonUpper Quartile","Whole Suburb","Whole Suburb",450]
["Masterton","Lansdowne","Bonds",{"$f":"B3138&C3138","v":"LansdowneBonds"},"Whole Suburb","Whole Suburb",489]
["Masterton","Lansdowne","Lower Quartile","LansdowneLower Quartile","Whole Suburb","Whole Suburb",328]
["Masterton","Lansdowne","Median","LansdowneMedian","Whole Suburb","Whole Suburb",420]
["Masterton","Lansdowne","Upper Quartile","LansdowneUpper Quartile","Whole Suburb","Whole Suburb",480]
["Masterton","Kuripuni","Bonds","KuripuniBonds","Whole Suburb","Whole Suburb",195]
["Masterton","Kuripuni","Lower Quartile","KuripuniLower Quartile","Whole Suburb","Whole Suburb",400]
["Masterton","Kuripuni","Median","KuripuniMedian","Whole Suburb","Whole Suburb",450]
["Masterton","Kuripuni","Upper Quartile","KuripuniUpper Quartile","Whole Suburb","Whole Suburb",500]
["Masterton","Riversdale Beach","Bonds","Riversdale BeachBonds","Whole Suburb","Whole Suburb",""]
["Masterton","Riversdale Beach","Lower Quartile","Riversdale BeachLower Quartile","Whole Suburb","Whole Suburb",""]
["Masterton","Riversdale Beach","Median","Riversdale BeachMedian","Whole Suburb","Whole Suburb",""]
["Masterton","Riversdale Beach","Upper Quartile","Riversdale BeachUpper Quartile","Whole Suburb","Whole Suburb",""]
["Masterton","Te Ore Ore","Bonds","Te Ore OreBonds","Whole Suburb","Whole Suburb",""]
["Masterton","Te Ore Ore","Lower Quartile","Te Ore OreLower Quartile","Whole Suburb","Whole Suburb",""]
["Masterton","Te Ore Ore","Median","Te Ore OreMedian","Whole Suburb","Whole Suburb",""]
["Masterton","Te Ore Ore","Upper Quartile","Te Ore OreUpper Quartile","Whole Suburb","Whole Suburb",""]
["Masterton","Solway","Bonds","SolwayBonds","Whole Suburb","Whole Suburb",423]
["Masterton","Solway","Lower Quartile","SolwayLower Quartile","Whole Suburb","Whole Suburb",360]
["Masterton","Solway","Median","SolwayMedian","Whole Suburb","Whole Suburb",400]
["Masterton","Solway","Upper Quartile","SolwayUpper Quartile","Whole Suburb","Whole Suburb",450]
["Masterton","Upper Plain","Bonds","Upper PlainBonds","Whole Suburb","Whole Suburb",""]
["Masterton","Upper Plain","Lower Quartile","Upper PlainLower Quartile","Whole Suburb","Whole Suburb",""]
["Masterton","Upper Plain","Median","Upper PlainMedian","Whole Suburb","Whole Suburb",""]
["Masterton","Upper Plain","Upper Quartile","Upper PlainUpper Quartile","Whole Suburb","Whole Suburb",""]
["Masterton","Masterton","Bonds","MastertonBonds","Whole Suburb","Whole Suburb",1221]
["Masterton","Masterton","Lower Quartile","MastertonLower Quartile","Whole Suburb","Whole Suburb",310]
["Masterton","Masterton","Median","MastertonMedian","Whole Suburb","Whole Suburb",398]
["Masterton","Masterton","Upper Quartile","MastertonUpper Quartile","Whole Suburb","Whole Suburb",469]
["Matakana","Matakana","Bonds","MatakanaBonds","Whole Suburb","Whole Suburb",63]
["Matakana","Matakana","Lower Quartile","MatakanaLower Quartile","Whole Suburb","Whole Suburb",500]
["Matakana","Matakana","Median","MatakanaMedian","Whole Suburb","Whole Suburb",520]
["Matakana","Matakana","Upper Quartile","MatakanaUpper Quartile","Whole Suburb","Whole Suburb",560]
["Matakana","Tawharanui Peninsula","Bonds","Tawharanui PeninsulaBonds","Whole Suburb","Whole Suburb",30]
["Matakana","Tawharanui Peninsula","Lower Quartile","Tawharanui PeninsulaLower Quartile","Whole Suburb","Whole Suburb",450]
["Matakana","Tawharanui Peninsula","Median","Tawharanui PeninsulaMedian","Whole Suburb","Whole Suburb",510]
["Matakana","Tawharanui Peninsula","Upper Quartile","Tawharanui PeninsulaUpper Quartile","Whole Suburb","Whole Suburb",600]
["Matakohe","Matakohe","Bonds","MatakoheBonds","Whole Suburb","Whole Suburb",""]
["Matakohe","Matakohe","Lower Quartile","MatakoheLower Quartile","Whole Suburb","Whole Suburb",""]
["Matakohe","Matakohe","Median","MatakoheMedian","Whole Suburb","Whole Suburb",""]
["Matakohe","Matakohe","Upper Quartile","MatakoheUpper Quartile","Whole Suburb","Whole Suburb",""]
["Matamata","Matamata","Bonds","MatamataBonds","Whole Suburb","Whole Suburb",720]
["Matamata","Matamata","Lower Quartile","MatamataLower Quartile","Whole Suburb","Whole Suburb",400]
["Matamata","Matamata","Median","MatamataMedian","Whole Suburb","Whole Suburb",450]
["Matamata","Matamata","Upper Quartile","MatamataUpper Quartile","Whole Suburb","Whole Suburb",500]
["Matamata","Te Poi","Bonds","Te PoiBonds","Whole Suburb","Whole Suburb",""]
["Matamata","Te Poi","Lower Quartile","Te PoiLower Quartile","Whole Suburb","Whole Suburb",""]
["Matamata","Te Poi","Median","Te PoiMedian","Whole Suburb","Whole Suburb",""]
["Matamata","Te Poi","Upper Quartile","Te PoiUpper Quartile","Whole Suburb","Whole Suburb",""]
["Matamata","Okauia","Bonds","OkauiaBonds","Whole Suburb","Whole Suburb",""]
["Matamata","Okauia","Lower Quartile","OkauiaLower Quartile","Whole Suburb","Whole Suburb",""]
["Matamata","Okauia","Median","OkauiaMedian","Whole Suburb","Whole Suburb",""]
["Matamata","Okauia","Upper Quartile","OkauiaUpper Quartile","Whole Suburb","Whole Suburb",""]
["Matata","Matata","Bonds","MatataBonds","Whole Suburb","Whole Suburb",51]
["Matata","Matata","Lower Quartile","MatataLower Quartile","Whole Suburb","Whole Suburb",419]
["Matata","Matata","Median","MatataMedian","Whole Suburb","Whole Suburb",488]
["Matata","Matata","Upper Quartile","MatataUpper Quartile","Whole Suburb","Whole Suburb",519]
["Mataura","Mataura","Bonds","MatauraBonds","Whole Suburb","Whole Suburb",123]
["Mataura","Mataura","Lower Quartile","MatauraLower Quartile","Whole Suburb","Whole Suburb",200]
["Mataura","Mataura","Median","MatauraMedian","Whole Suburb","Whole Suburb",290]
["Mataura","Mataura","Upper Quartile","MatauraUpper Quartile","Whole Suburb","Whole Suburb",300]
["Mataura","Waikana","Bonds","WaikanaBonds","Whole Suburb","Whole Suburb",""]
["Mataura","Waikana","Lower Quartile","WaikanaLower Quartile","Whole Suburb","Whole Suburb",""]
["Mataura","Waikana","Median","WaikanaMedian","Whole Suburb","Whole Suburb",""]
["Mataura","Waikana","Upper Quartile","WaikanaUpper Quartile","Whole Suburb","Whole Suburb",""]
["Matawai","Matawai","Bonds",{"$f":"B3202&C3202","v":"MatawaiBonds"},"Whole Suburb","Whole Suburb",""]
["Matawai","Matawai","Lower Quartile","MatawaiLower Quartile","Whole Suburb","Whole Suburb",""]
["Matawai","Matawai","Median","MatawaiMedian","Whole Suburb","Whole Suburb",""]
["Matawai","Matawai","Upper Quartile","MatawaiUpper Quartile","Whole Suburb","Whole Suburb",""]
["Maungakaramea","Maungakaramea","Bonds","MaungakarameaBonds","Whole Suburb","Whole Suburb",""]
["Maungakaramea","Maungakaramea","Lower Quartile","MaungakarameaLower Quartile","Whole Suburb","Whole Suburb",""]
["Maungakaramea","Maungakaramea","Median","MaungakarameaMedian","Whole Suburb","Whole Suburb",""]
["Maungakaramea","Maungakaramea","Upper Quartile","MaungakarameaUpper Quartile","Whole Suburb","Whole Suburb",""]
["Maungaturoto","Maungaturoto","Bonds","MaungaturotoBonds","Whole Suburb","Whole Suburb",96]
["Maungaturoto","Maungaturoto","Lower Quartile","MaungaturotoLower Quartile","Whole Suburb","Whole Suburb",400]
["Maungaturoto","Maungaturoto","Median","MaungaturotoMedian","Whole Suburb","Whole Suburb",420]
["Maungaturoto","Maungaturoto","Upper Quartile","MaungaturotoUpper Quartile","Whole Suburb","Whole Suburb",430]
["Mauriceville","Mauriceville","Bonds","MauricevilleBonds","Whole Suburb","Whole Suburb",""]
["Mauriceville","Mauriceville","Lower Quartile","MauricevilleLower Quartile","Whole Suburb","Whole Suburb",""]
["Mauriceville","Mauriceville","Median","MauricevilleMedian","Whole Suburb","Whole Suburb",""]
["Mauriceville","Mauriceville","Upper Quartile","MauricevilleUpper Quartile","Whole Suburb","Whole Suburb",""]
["Mercer","Mercer","Bonds","MercerBonds","Whole Suburb","Whole Suburb",33]
["Mercer","Mercer","Lower Quartile","MercerLower Quartile","Whole Suburb","Whole Suburb",400]
["Mercer","Mercer","Median","MercerMedian","Whole Suburb","Whole Suburb",460]
["Mercer","Mercer","Upper Quartile","MercerUpper Quartile","Whole Suburb","Whole Suburb",470]
["Mercer","Meremere","Bonds","MeremereBonds","Whole Suburb","Whole Suburb",""]
["Mercer","Meremere","Lower Quartile","MeremereLower Quartile","Whole Suburb","Whole Suburb",""]
["Mercer","Meremere","Median","MeremereMedian","Whole Suburb","Whole Suburb",""]
["Mercer","Meremere","Upper Quartile","MeremereUpper Quartile","Whole Suburb","Whole Suburb",""]
["Methven","Methven","Bonds","MethvenBonds","Whole Suburb","Whole Suburb",222]
["Methven","Methven","Lower Quartile","MethvenLower Quartile","Whole Suburb","Whole Suburb",300]
["Methven","Methven","Median","MethvenMedian","Whole Suburb","Whole Suburb",360]
["Methven","Methven","Upper Quartile","MethvenUpper Quartile","Whole Suburb","Whole Suburb",425]
["Milton","Waihola","Bonds","WaiholaBonds","Whole Suburb","Whole Suburb",""]
["Milton","Waihola","Lower Quartile","WaiholaLower Quartile","Whole Suburb","Whole Suburb",""]
["Milton","Waihola","Median","WaiholaMedian","Whole Suburb","Whole Suburb",""]
["Milton","Waihola","Upper Quartile","WaiholaUpper Quartile","Whole Suburb","Whole Suburb",""]
["Milton","Milton","Bonds","MiltonBonds","Whole Suburb","Whole Suburb",138]
["Milton","Milton","Lower Quartile","MiltonLower Quartile","Whole Suburb","Whole Suburb",268]
["Milton","Milton","Median","MiltonMedian","Whole Suburb","Whole Suburb",328]
["Milton","Milton","Upper Quartile","MiltonUpper Quartile","Whole Suburb","Whole Suburb",350]
["Moana","Moana","Bonds","MoanaBonds","Whole Suburb","Whole Suburb",""]
["Moana","Moana","Lower Quartile","MoanaLower Quartile","Whole Suburb","Whole Suburb",""]
["Moana","Moana","Median","MoanaMedian","Whole Suburb","Whole Suburb",""]
["Moana","Moana","Upper Quartile","MoanaUpper Quartile","Whole Suburb","Whole Suburb",""]
["Moerewa","Moerewa","Bonds","MoerewaBonds","Whole Suburb","Whole Suburb",""]
["Moerewa","Moerewa","Lower Quartile","MoerewaLower Quartile","Whole Suburb","Whole Suburb",""]
["Moerewa","Moerewa","Median","MoerewaMedian","Whole Suburb","Whole Suburb",""]
["Moerewa","Moerewa","Upper Quartile","MoerewaUpper Quartile","Whole Suburb","Whole Suburb",""]
["Moerewa","Pakaraka","Bonds","PakarakaBonds","Whole Suburb","Whole Suburb",""]
["Moerewa","Pakaraka","Lower Quartile","PakarakaLower Quartile","Whole Suburb","Whole Suburb",""]
["Moerewa","Pakaraka","Median","PakarakaMedian","Whole Suburb","Whole Suburb",""]
["Moerewa","Pakaraka","Upper Quartile","PakarakaUpper Quartile","Whole Suburb","Whole Suburb",""]
["Mokau","Mokau","Bonds","MokauBonds","Whole Suburb","Whole Suburb",""]
["Mokau","Mokau","Lower Quartile","MokauLower Quartile","Whole Suburb","Whole Suburb",""]
["Mokau","Mokau","Median","MokauMedian","Whole Suburb","Whole Suburb",""]
["Mokau","Mokau","Upper Quartile","MokauUpper Quartile","Whole Suburb","Whole Suburb",""]
["Morrinsville","Tatuanui","Bonds","TatuanuiBonds","Whole Suburb","Whole Suburb",""]
["Morrinsville","Tatuanui","Lower Quartile","TatuanuiLower Quartile","Whole Suburb","Whole Suburb",""]
["Morrinsville","Tatuanui","Median","TatuanuiMedian","Whole Suburb","Whole Suburb",""]
["Morrinsville","Tatuanui","Upper Quartile","TatuanuiUpper Quartile","Whole Suburb","Whole Suburb",""]
["Morrinsville","Mangateparu","Bonds","MangateparuBonds","Whole Suburb","Whole Suburb",""]
["Morrinsville","Mangateparu","Lower Quartile","MangateparuLower Quartile","Whole Suburb","Whole Suburb",""]
["Morrinsville","Mangateparu","Median","MangateparuMedian","Whole Suburb","Whole Suburb",""]
["Morrinsville","Mangateparu","Upper Quartile","MangateparuUpper Quartile","Whole Suburb","Whole Suburb",""]
["Morrinsville","Morrinsville","Bonds","MorrinsvilleBonds","Whole Suburb","Whole Suburb",618]
["Morrinsville","Morrinsville","Lower Quartile","MorrinsvilleLower Quartile","Whole Suburb","Whole Suburb",363]
["Morrinsville","Morrinsville","Median","MorrinsvilleMedian","Whole Suburb","Whole Suburb",440]
["Morrinsville","Morrinsville","Upper Quartile","MorrinsvilleUpper Quartile","Whole Suburb","Whole Suburb",500]
["Morrinsville","Motumaoho","Bonds",{"$f":"B3266&C3266","v":"MotumaohoBonds"},"Whole Suburb","Whole Suburb",""]
["Morrinsville","Motumaoho","Lower Quartile","MotumaohoLower Quartile","Whole Suburb","Whole Suburb",""]
["Morrinsville","Motumaoho","Median","MotumaohoMedian","Whole Suburb","Whole Suburb",""]
["Morrinsville","Motumaoho","Upper Quartile","MotumaohoUpper Quartile","Whole Suburb","Whole Suburb",""]
["Mosgiel","Kinmont Park","Bonds","Kinmont ParkBonds","Whole Suburb","Whole Suburb",""]
["Mosgiel","Kinmont Park","Lower Quartile","Kinmont ParkLower Quartile","Whole Suburb","Whole Suburb",""]
["Mosgiel","Kinmont Park","Median","Kinmont ParkMedian","Whole Suburb","Whole Suburb",""]
["Mosgiel","Kinmont Park","Upper Quartile","Kinmont ParkUpper Quartile","Whole Suburb","Whole Suburb",""]
["Mosgiel","Momona","Bonds","MomonaBonds","Whole Suburb","Whole Suburb",""]
["Mosgiel","Momona","Lower Quartile","MomonaLower Quartile","Whole Suburb","Whole Suburb",""]
["Mosgiel","Momona","Median","MomonaMedian","Whole Suburb","Whole Suburb",""]
["Mosgiel","Momona","Upper Quartile","MomonaUpper Quartile","Whole Suburb","Whole Suburb",""]
["Mosgiel","Mosgiel","Bonds","MosgielBonds","Whole Suburb","Whole Suburb",879]
["Mosgiel","Mosgiel","Lower Quartile","MosgielLower Quartile","Whole Suburb","Whole Suburb",381]
["Mosgiel","Mosgiel","Median","MosgielMedian","Whole Suburb","Whole Suburb",460]
["Mosgiel","Mosgiel","Upper Quartile","MosgielUpper Quartile","Whole Suburb","Whole Suburb",500]
["Mosgiel","Henley","Bonds","HenleyBonds","Whole Suburb","Whole Suburb",""]
["Mosgiel","Henley","Lower Quartile","HenleyLower Quartile","Whole Suburb","Whole Suburb",""]
["Mosgiel","Henley","Median","HenleyMedian","Whole Suburb","Whole Suburb",""]
["Mosgiel","Henley","Upper Quartile","HenleyUpper Quartile","Whole Suburb","Whole Suburb",""]
["Mosgiel","North Taieri","Bonds","North TaieriBonds","Whole Suburb","Whole Suburb",""]
["Mosgiel","North Taieri","Lower Quartile","North TaieriLower Quartile","Whole Suburb","Whole Suburb",""]
["Mosgiel","North Taieri","Median","North TaieriMedian","Whole Suburb","Whole Suburb",""]
["Mosgiel","North Taieri","Upper Quartile","North TaieriUpper Quartile","Whole Suburb","Whole Suburb",""]
["Mosgiel","East Taieri","Bonds","East TaieriBonds","Whole Suburb","Whole Suburb",""]
["Mosgiel","East Taieri","Lower Quartile","East TaieriLower Quartile","Whole Suburb","Whole Suburb",""]
["Mosgiel","East Taieri","Median","East TaieriMedian","Whole Suburb","Whole Suburb",""]
["Mosgiel","East Taieri","Upper Quartile","East TaieriUpper Quartile","Whole Suburb","Whole Suburb",""]
["Mosgiel","Allanton","Bonds","AllantonBonds","Whole Suburb","Whole Suburb",""]
["Mosgiel","Allanton","Lower Quartile","AllantonLower Quartile","Whole Suburb","Whole Suburb",""]
["Mosgiel","Allanton","Median","AllantonMedian","Whole Suburb","Whole Suburb",""]
["Mosgiel","Allanton","Upper Quartile","AllantonUpper Quartile","Whole Suburb","Whole Suburb",""]
["Mossburn","Mossburn","Bonds","MossburnBonds","Whole Suburb","Whole Suburb",""]
["Mossburn","Mossburn","Lower Quartile","MossburnLower Quartile","Whole Suburb","Whole Suburb",""]
["Mossburn","Mossburn","Median","MossburnMedian","Whole Suburb","Whole Suburb",""]
["Mossburn","Mossburn","Upper Quartile","MossburnUpper Quartile","Whole Suburb","Whole Suburb",""]
["Motueka","Riwaka","Bonds","RiwakaBonds","Whole Suburb","Whole Suburb",60]
["Motueka","Riwaka","Lower Quartile","RiwakaLower Quartile","Whole Suburb","Whole Suburb",430]
["Motueka","Riwaka","Median","RiwakaMedian","Whole Suburb","Whole Suburb",520]
["Motueka","Riwaka","Upper Quartile","RiwakaUpper Quartile","Whole Suburb","Whole Suburb",550]
["Motueka","Brooklyn","Bonds","BrooklynBonds","Whole Suburb","Whole Suburb",""]
["Motueka","Brooklyn","Lower Quartile","BrooklynLower Quartile","Whole Suburb","Whole Suburb",""]
["Motueka","Brooklyn","Median","BrooklynMedian","Whole Suburb","Whole Suburb",""]
["Motueka","Brooklyn","Upper Quartile","BrooklynUpper Quartile","Whole Suburb","Whole Suburb",""]
["Motueka","Motueka","Bonds","MotuekaBonds","Whole Suburb","Whole Suburb",615]
["Motueka","Motueka","Lower Quartile","MotuekaLower Quartile","Whole Suburb","Whole Suburb",368]
["Motueka","Motueka","Median","MotuekaMedian","Whole Suburb","Whole Suburb",430]
["Motueka","Motueka","Upper Quartile","MotuekaUpper Quartile","Whole Suburb","Whole Suburb",500]
["Motueka","Marahau","Bonds","MarahauBonds","Whole Suburb","Whole Suburb",""]
["Motueka","Marahau","Lower Quartile","MarahauLower Quartile","Whole Suburb","Whole Suburb",""]
["Motueka","Marahau","Median","MarahauMedian","Whole Suburb","Whole Suburb",""]
["Motueka","Marahau","Upper Quartile","MarahauUpper Quartile","Whole Suburb","Whole Suburb",""]
["Motueka","Ngatimoti","Bonds","NgatimotiBonds","Whole Suburb","Whole Suburb",""]
["Motueka","Ngatimoti","Lower Quartile","NgatimotiLower Quartile","Whole Suburb","Whole Suburb",""]
["Motueka","Ngatimoti","Median","NgatimotiMedian","Whole Suburb","Whole Suburb",""]
["Motueka","Ngatimoti","Upper Quartile","NgatimotiUpper Quartile","Whole Suburb","Whole Suburb",""]
["Motueka","Kaiteriteri","Bonds","KaiteriteriBonds","Whole Suburb","Whole Suburb",24]
["Motueka","Kaiteriteri","Lower Quartile","KaiteriteriLower Quartile","Whole Suburb","Whole Suburb",450]
["Motueka","Kaiteriteri","Median","KaiteriteriMedian","Whole Suburb","Whole Suburb",450]
["Motueka","Kaiteriteri","Upper Quartile","KaiteriteriUpper Quartile","Whole Suburb","Whole Suburb",675]
["Motuoapa","Motuoapa","Bonds","MotuoapaBonds","Whole Suburb","Whole Suburb",30]
["Motuoapa","Motuoapa","Lower Quartile","MotuoapaLower Quartile","Whole Suburb","Whole Suburb",353]
["Motuoapa","Motuoapa","Median","MotuoapaMedian","Whole Suburb","Whole Suburb",400]
["Motuoapa","Motuoapa","Upper Quartile","MotuoapaUpper Quartile","Whole Suburb","Whole Suburb",435]
["Mount Maunganui","Mount Maunganui","Bonds",{"$f":"B3330&C3330","v":"Mount MaunganuiBonds"},"Whole Suburb","Whole Suburb",2682]
["Mount Maunganui","Mount Maunganui","Lower Quartile","Mount MaunganuiLower Quartile","Whole Suburb","Whole Suburb",506]
["Mount Maunganui","Mount Maunganui","Median","Mount MaunganuiMedian","Whole Suburb","Whole Suburb",575]
["Mount Maunganui","Mount Maunganui","Upper Quartile","Mount MaunganuiUpper Quartile","Whole Suburb","Whole Suburb",650]
["Mount Maunganui","Matapihi","Bonds","MatapihiBonds","Whole Suburb","Whole Suburb",""]
["Mount Maunganui","Matapihi","Lower Quartile","MatapihiLower Quartile","Whole Suburb","Whole Suburb",""]
["Mount Maunganui","Matapihi","Median","MatapihiMedian","Whole Suburb","Whole Suburb",""]
["Mount Maunganui","Matapihi","Upper Quartile","MatapihiUpper Quartile","Whole Suburb","Whole Suburb",""]
["Mount Peel","Peel Forest","Bonds","Peel ForestBonds","Whole Suburb","Whole Suburb",""]
["Mount Peel","Peel Forest","Lower Quartile","Peel ForestLower Quartile","Whole Suburb","Whole Suburb",""]
["Mount Peel","Peel Forest","Median","Peel ForestMedian","Whole Suburb","Whole Suburb",""]
["Mount Peel","Peel Forest","Upper Quartile","Peel ForestUpper Quartile","Whole Suburb","Whole Suburb",""]
["Mount Somers","Surrey Hills","Bonds","Surrey HillsBonds","Whole Suburb","Whole Suburb",""]
["Mount Somers","Surrey Hills","Lower Quartile","Surrey HillsLower Quartile","Whole Suburb","Whole Suburb",""]
["Mount Somers","Surrey Hills","Median","Surrey HillsMedian","Whole Suburb","Whole Suburb",""]
["Mount Somers","Surrey Hills","Upper Quartile","Surrey HillsUpper Quartile","Whole Suburb","Whole Suburb",""]
["Mount Somers","Staveley","Bonds","StaveleyBonds","Whole Suburb","Whole Suburb",""]
["Mount Somers","Staveley","Lower Quartile","StaveleyLower Quartile","Whole Suburb","Whole Suburb",""]
["Mount Somers","Staveley","Median","StaveleyMedian","Whole Suburb","Whole Suburb",""]
["Mount Somers","Staveley","Upper Quartile","StaveleyUpper Quartile","Whole Suburb","Whole Suburb",""]
["Murchison","Murchison","Bonds","MurchisonBonds","Whole Suburb","Whole Suburb",27]
["Murchison","Murchison","Lower Quartile","MurchisonLower Quartile","Whole Suburb","Whole Suburb",175]
["Murchison","Murchison","Median","MurchisonMedian","Whole Suburb","Whole Suburb",260]
["Murchison","Murchison","Upper Quartile","MurchisonUpper Quartile","Whole Suburb","Whole Suburb",323]
["Muriwai","Muriwai","Bonds","MuriwaiBonds","Whole Suburb","Whole Suburb",78]
["Muriwai","Muriwai","Lower Quartile","MuriwaiLower Quartile","Whole Suburb","Whole Suburb",455]
["Muriwai","Muriwai","Median","MuriwaiMedian","Whole Suburb","Whole Suburb",485]
["Muriwai","Muriwai","Upper Quartile","MuriwaiUpper Quartile","Whole Suburb","Whole Suburb",615]
["Murupara","Murupara","Bonds","MuruparaBonds","Whole Suburb","Whole Suburb",105]
["Murupara","Murupara","Lower Quartile","MuruparaLower Quartile","Whole Suburb","Whole Suburb",265]
["Murupara","Murupara","Median","MuruparaMedian","Whole Suburb","Whole Suburb",290]
["Murupara","Murupara","Upper Quartile","MuruparaUpper Quartile","Whole Suburb","Whole Suburb",330]
["Murupara","Galatea","Bonds","GalateaBonds","Whole Suburb","Whole Suburb",""]
["Murupara","Galatea","Lower Quartile","GalateaLower Quartile","Whole Suburb","Whole Suburb",""]
["Murupara","Galatea","Median","GalateaMedian","Whole Suburb","Whole Suburb",""]
["Murupara","Galatea","Upper Quartile","GalateaUpper Quartile","Whole Suburb","Whole Suburb",""]
["Napier","Rissington","Bonds","RissingtonBonds","Whole Suburb","Whole Suburb",""]
["Napier","Rissington","Lower Quartile","RissingtonLower Quartile","Whole Suburb","Whole Suburb",""]
["Napier","Rissington","Median","RissingtonMedian","Whole Suburb","Whole Suburb",""]
["Napier","Rissington","Upper Quartile","RissingtonUpper Quartile","Whole Suburb","Whole Suburb",""]
["Napier","Tamatea","Bonds","TamateaBonds","Whole Suburb","Whole Suburb",411]
["Napier","Tamatea","Lower Quartile","TamateaLower Quartile","Whole Suburb","Whole Suburb",315]
["Napier","Tamatea","Median","TamateaMedian","Whole Suburb","Whole Suburb",450]
["Napier","Tamatea","Upper Quartile","TamateaUpper Quartile","Whole Suburb","Whole Suburb",570]
["Napier","Taradale","Bonds","TaradaleBonds","Whole Suburb","Whole Suburb",888]
["Napier","Taradale","Lower Quartile","TaradaleLower Quartile","Whole Suburb","Whole Suburb",458]
["Napier","Taradale","Median","TaradaleMedian","Whole Suburb","Whole Suburb",540]
["Napier","Taradale","Upper Quartile","TaradaleUpper Quartile","Whole Suburb","Whole Suburb",610]
["Napier","Marewa","Bonds","MarewaBonds","Whole Suburb","Whole Suburb",414]
["Napier","Marewa","Lower Quartile","MarewaLower Quartile","Whole Suburb","Whole Suburb",380]
["Napier","Marewa","Median","MarewaMedian","Whole Suburb","Whole Suburb",468]
["Napier","Marewa","Upper Quartile","MarewaUpper Quartile","Whole Suburb","Whole Suburb",520]
["Napier","Te Awa","Bonds","Te AwaBonds","Whole Suburb","Whole Suburb",60]
["Napier","Te Awa","Lower Quartile","Te AwaLower Quartile","Whole Suburb","Whole Suburb",444]
["Napier","Te Awa","Median","Te AwaMedian","Whole Suburb","Whole Suburb",550]
["Napier","Te Awa","Upper Quartile","Te AwaUpper Quartile","Whole Suburb","Whole Suburb",650]
["Napier","Onekawa","Bonds","OnekawaBonds","Whole Suburb","Whole Suburb",450]
["Napier","Onekawa","Lower Quartile","OnekawaLower Quartile","Whole Suburb","Whole Suburb",458]
["Napier","Onekawa","Median","OnekawaMedian","Whole Suburb","Whole Suburb",520]
["Napier","Onekawa","Upper Quartile","OnekawaUpper Quartile","Whole Suburb","Whole Suburb",550]
["Napier","Pakowhai","Bonds","PakowhaiBonds","Whole Suburb","Whole Suburb",""]
["Napier","Pakowhai","Lower Quartile","PakowhaiLower Quartile","Whole Suburb","Whole Suburb",""]
["Napier","Pakowhai","Median","PakowhaiMedian","Whole Suburb","Whole Suburb",""]
["Napier","Pakowhai","Upper Quartile","PakowhaiUpper Quartile","Whole Suburb","Whole Suburb",""]
["Napier","Eskdale","Bonds",{"$f":"B3394&C3394","v":"EskdaleBonds"},"Whole Suburb","Whole Suburb",30]
["Napier","Eskdale","Lower Quartile","EskdaleLower Quartile","Whole Suburb","Whole Suburb",425]
["Napier","Eskdale","Median","EskdaleMedian","Whole Suburb","Whole Suburb",550]
["Napier","Eskdale","Upper Quartile","EskdaleUpper Quartile","Whole Suburb","Whole Suburb",660]
["Napier","Maraenui","Bonds","MaraenuiBonds","Whole Suburb","Whole Suburb",234]
["Napier","Maraenui","Lower Quartile","MaraenuiLower Quartile","Whole Suburb","Whole Suburb",420]
["Napier","Maraenui","Median","MaraenuiMedian","Whole Suburb","Whole Suburb",470]
["Napier","Maraenui","Upper Quartile","MaraenuiUpper Quartile","Whole Suburb","Whole Suburb",500]
["Napier","Meeanee","Bonds","MeeaneeBonds","Whole Suburb","Whole Suburb",33]
["Napier","Meeanee","Lower Quartile","MeeaneeLower Quartile","Whole Suburb","Whole Suburb",530]
["Napier","Meeanee","Median","MeeaneeMedian","Whole Suburb","Whole Suburb",530]
["Napier","Meeanee","Upper Quartile","MeeaneeUpper Quartile","Whole Suburb","Whole Suburb",570]
["Napier","Jervoistown","Bonds","JervoistownBonds","Whole Suburb","Whole Suburb",""]
["Napier","Jervoistown","Lower Quartile","JervoistownLower Quartile","Whole Suburb","Whole Suburb",""]
["Napier","Jervoistown","Median","JervoistownMedian","Whole Suburb","Whole Suburb",""]
["Napier","Jervoistown","Upper Quartile","JervoistownUpper Quartile","Whole Suburb","Whole Suburb",""]
["Napier","Poraiti","Bonds","PoraitiBonds","Whole Suburb","Whole Suburb",36]
["Napier","Poraiti","Lower Quartile","PoraitiLower Quartile","Whole Suburb","Whole Suburb",660]
["Napier","Poraiti","Median","PoraitiMedian","Whole Suburb","Whole Suburb",690]
["Napier","Poraiti","Upper Quartile","PoraitiUpper Quartile","Whole Suburb","Whole Suburb",700]
["Napier","Napier South","Bonds","Napier SouthBonds","Whole Suburb","Whole Suburb",573]
["Napier","Napier South","Lower Quartile","Napier SouthLower Quartile","Whole Suburb","Whole Suburb",420]
["Napier","Napier South","Median","Napier SouthMedian","Whole Suburb","Whole Suburb",500]
["Napier","Napier South","Upper Quartile","Napier SouthUpper Quartile","Whole Suburb","Whole Suburb",550]
["Napier","Greenmeadows","Bonds","GreenmeadowsBonds","Whole Suburb","Whole Suburb",363]
["Napier","Greenmeadows","Lower Quartile","GreenmeadowsLower Quartile","Whole Suburb","Whole Suburb",418]
["Napier","Greenmeadows","Median","GreenmeadowsMedian","Whole Suburb","Whole Suburb",530]
["Napier","Greenmeadows","Upper Quartile","GreenmeadowsUpper Quartile","Whole Suburb","Whole Suburb",615]
["Napier","Patoka","Bonds","PatokaBonds","Whole Suburb","Whole Suburb",9]
["Napier","Patoka","Lower Quartile","PatokaLower Quartile","Whole Suburb","Whole Suburb",338]
["Napier","Patoka","Median","PatokaMedian","Whole Suburb","Whole Suburb",475]
["Napier","Patoka","Upper Quartile","PatokaUpper Quartile","Whole Suburb","Whole Suburb",500]
["Napier","Awatoto","Bonds","AwatotoBonds","Whole Suburb","Whole Suburb",60]
["Napier","Awatoto","Lower Quartile","AwatotoLower Quartile","Whole Suburb","Whole Suburb",450]
["Napier","Awatoto","Median","AwatotoMedian","Whole Suburb","Whole Suburb",650]
["Napier","Awatoto","Upper Quartile","AwatotoUpper Quartile","Whole Suburb","Whole Suburb",650]
["Napier","Bay View","Bonds","Bay ViewBonds","Whole Suburb","Whole Suburb",66]
["Napier","Bay View","Lower Quartile","Bay ViewLower Quartile","Whole Suburb","Whole Suburb",320]
["Napier","Bay View","Median","Bay ViewMedian","Whole Suburb","Whole Suburb",470]
["Napier","Bay View","Upper Quartile","Bay ViewUpper Quartile","Whole Suburb","Whole Suburb",530]
["Napier","Westshore","Bonds","WestshoreBonds","Whole Suburb","Whole Suburb",105]
["Napier","Westshore","Lower Quartile","WestshoreLower Quartile","Whole Suburb","Whole Suburb",440]
["Napier","Westshore","Median","WestshoreMedian","Whole Suburb","Whole Suburb",540]
["Napier","Westshore","Upper Quartile","WestshoreUpper Quartile","Whole Suburb","Whole Suburb",600]
["Napier","Hospital Hill","Bonds","Hospital HillBonds","Whole Suburb","Whole Suburb",222]
["Napier","Hospital Hill","Lower Quartile","Hospital HillLower Quartile","Whole Suburb","Whole Suburb",408]
["Napier","Hospital Hill","Median","Hospital HillMedian","Whole Suburb","Whole Suburb",518]
["Napier","Hospital Hill","Upper Quartile","Hospital HillUpper Quartile","Whole Suburb","Whole Suburb",615]
["Napier","Tangoio","Bonds","TangoioBonds","Whole Suburb","Whole Suburb",""]
["Napier","Tangoio","Lower Quartile","TangoioLower Quartile","Whole Suburb","Whole Suburb",""]
["Napier","Tangoio","Median","TangoioMedian","Whole Suburb","Whole Suburb",""]
["Napier","Tangoio","Upper Quartile","TangoioUpper Quartile","Whole Suburb","Whole Suburb",""]
["Napier","Pirimai","Bonds","PirimaiBonds","Whole Suburb","Whole Suburb",342]
["Napier","Pirimai","Lower Quartile","PirimaiLower Quartile","Whole Suburb","Whole Suburb",400]
["Napier","Pirimai","Median","PirimaiMedian","Whole Suburb","Whole Suburb",520]
["Napier","Pirimai","Upper Quartile","PirimaiUpper Quartile","Whole Suburb","Whole Suburb",550]
["Napier","Puketapu","Bonds","PuketapuBonds","Whole Suburb","Whole Suburb",33]
["Napier","Puketapu","Lower Quartile","PuketapuLower Quartile","Whole Suburb","Whole Suburb",490]
["Napier","Puketapu","Median","PuketapuMedian","Whole Suburb","Whole Suburb",550]
["Napier","Puketapu","Upper Quartile","PuketapuUpper Quartile","Whole Suburb","Whole Suburb",605]
["Napier","Pandora","Bonds","PandoraBonds","Whole Suburb","Whole Suburb",24]
["Napier","Pandora","Lower Quartile","PandoraLower Quartile","Whole Suburb","Whole Suburb",613]
["Napier","Pandora","Median","PandoraMedian","Whole Suburb","Whole Suburb",650]
["Napier","Pandora","Upper Quartile","PandoraUpper Quartile","Whole Suburb","Whole Suburb",684]
["Napier","Ahuriri","Bonds",{"$f":"B3458&C3458","v":"AhuririBonds"},"Whole Suburb","Whole Suburb",189]
["Napier","Ahuriri","Lower Quartile","AhuririLower Quartile","Whole Suburb","Whole Suburb",458]
["Napier","Ahuriri","Median","AhuririMedian","Whole Suburb","Whole Suburb",520]
["Napier","Ahuriri","Upper Quartile","AhuririUpper Quartile","Whole Suburb","Whole Suburb",628]
["Napier","Bluff Hill","Bonds","Bluff HillBonds","Whole Suburb","Whole Suburb",309]
["Napier","Bluff Hill","Lower Quartile","Bluff HillLower Quartile","Whole Suburb","Whole Suburb",354]
["Napier","Bluff Hill","Median","Bluff HillMedian","Whole Suburb","Whole Suburb",445]
["Napier","Bluff Hill","Upper Quartile","Bluff HillUpper Quartile","Whole Suburb","Whole Suburb",550]
["Naseby","Naseby","Bonds","NasebyBonds","Whole Suburb","Whole Suburb",""]
["Naseby","Naseby","Lower Quartile","NasebyLower Quartile","Whole Suburb","Whole Suburb",""]
["Naseby","Naseby","Median","NasebyMedian","Whole Suburb","Whole Suburb",""]
["Naseby","Naseby","Upper Quartile","NasebyUpper Quartile","Whole Suburb","Whole Suburb",""]
["National Park","National Park","Bonds","National ParkBonds","Whole Suburb","Whole Suburb",""]
["National Park","National Park","Lower Quartile","National ParkLower Quartile","Whole Suburb","Whole Suburb",""]
["National Park","National Park","Median","National ParkMedian","Whole Suburb","Whole Suburb",""]
["National Park","National Park","Upper Quartile","National ParkUpper Quartile","Whole Suburb","Whole Suburb",""]
["Nelson","Wakatu","Bonds","WakatuBonds","Whole Suburb","Whole Suburb",126]
["Nelson","Wakatu","Lower Quartile","WakatuLower Quartile","Whole Suburb","Whole Suburb",443]
["Nelson","Wakatu","Median","WakatuMedian","Whole Suburb","Whole Suburb",460]
["Nelson","Wakatu","Upper Quartile","WakatuUpper Quartile","Whole Suburb","Whole Suburb",500]
["Nelson","Washington Valley","Bonds","Washington ValleyBonds","Whole Suburb","Whole Suburb",240]
["Nelson","Washington Valley","Lower Quartile","Washington ValleyLower Quartile","Whole Suburb","Whole Suburb",396]
["Nelson","Washington Valley","Median","Washington ValleyMedian","Whole Suburb","Whole Suburb",448]
["Nelson","Washington Valley","Upper Quartile","Washington ValleyUpper Quartile","Whole Suburb","Whole Suburb",468]
["Nelson","Tahunanui","Bonds","TahunanuiBonds","Whole Suburb","Whole Suburb",579]
["Nelson","Tahunanui","Lower Quartile","TahunanuiLower Quartile","Whole Suburb","Whole Suburb",375]
["Nelson","Tahunanui","Median","TahunanuiMedian","Whole Suburb","Whole Suburb",400]
["Nelson","Tahunanui","Upper Quartile","TahunanuiUpper Quartile","Whole Suburb","Whole Suburb",500]
["Nelson","The Wood","Bonds","The WoodBonds","Whole Suburb","Whole Suburb",420]
["Nelson","The Wood","Lower Quartile","The WoodLower Quartile","Whole Suburb","Whole Suburb",398]
["Nelson","The Wood","Median","The WoodMedian","Whole Suburb","Whole Suburb",440]
["Nelson","The Wood","Upper Quartile","The WoodUpper Quartile","Whole Suburb","Whole Suburb",510]
["Nelson","Atawhai","Bonds","AtawhaiBonds","Whole Suburb","Whole Suburb",183]
["Nelson","Atawhai","Lower Quartile","AtawhaiLower Quartile","Whole Suburb","Whole Suburb",445]
["Nelson","Atawhai","Median","AtawhaiMedian","Whole Suburb","Whole Suburb",520]
["Nelson","Atawhai","Upper Quartile","AtawhaiUpper Quartile","Whole Suburb","Whole Suburb",585]
["Nelson","Todds Valley","Bonds","Todds ValleyBonds","Whole Suburb","Whole Suburb",""]
["Nelson","Todds Valley","Lower Quartile","Todds ValleyLower Quartile","Whole Suburb","Whole Suburb",""]
["Nelson","Todds Valley","Median","Todds ValleyMedian","Whole Suburb","Whole Suburb",""]
["Nelson","Todds Valley","Upper Quartile","Todds ValleyUpper Quartile","Whole Suburb","Whole Suburb",""]
["Nelson","Maitai","Bonds","MaitaiBonds","Whole Suburb","Whole Suburb",93]
["Nelson","Maitai","Lower Quartile","MaitaiLower Quartile","Whole Suburb","Whole Suburb",415]
["Nelson","Maitai","Median","MaitaiMedian","Whole Suburb","Whole Suburb",460]
["Nelson","Maitai","Upper Quartile","MaitaiUpper Quartile","Whole Suburb","Whole Suburb",520]
["Nelson","Monaco","Bonds","MonacoBonds","Whole Suburb","Whole Suburb",81]
["Nelson","Monaco","Lower Quartile","MonacoLower Quartile","Whole Suburb","Whole Suburb",383]
["Nelson","Monaco","Median","MonacoMedian","Whole Suburb","Whole Suburb",460]
["Nelson","Monaco","Upper Quartile","MonacoUpper Quartile","Whole Suburb","Whole Suburb",495]
["Nelson","Stepneyville","Bonds","StepneyvilleBonds","Whole Suburb","Whole Suburb",147]
["Nelson","Stepneyville","Lower Quartile","StepneyvilleLower Quartile","Whole Suburb","Whole Suburb",418]
["Nelson","Stepneyville","Median","StepneyvilleMedian","Whole Suburb","Whole Suburb",470]
["Nelson","Stepneyville","Upper Quartile","StepneyvilleUpper Quartile","Whole Suburb","Whole Suburb",581]
["Nelson","Stoke","Bonds","StokeBonds","Whole Suburb","Whole Suburb",1221]
["Nelson","Stoke","Lower Quartile","StokeLower Quartile","Whole Suburb","Whole Suburb",440]
["Nelson","Stoke","Median","StokeMedian","Whole Suburb","Whole Suburb",485]
["Nelson","Stoke","Upper Quartile","StokeUpper Quartile","Whole Suburb","Whole Suburb",550]
["Nelson","Nelson South","Bonds","Nelson SouthBonds","Whole Suburb","Whole Suburb",876]
["Nelson","Nelson South","Lower Quartile","Nelson SouthLower Quartile","Whole Suburb","Whole Suburb",180]
["Nelson","Nelson South","Median","Nelson SouthMedian","Whole Suburb","Whole Suburb",330]
["Nelson","Nelson South","Upper Quartile","Nelson SouthUpper Quartile","Whole Suburb","Whole Suburb",450]
["Nelson","Bishopdale","Bonds","BishopdaleBonds","Whole Suburb","Whole Suburb",93]
["Nelson","Bishopdale","Lower Quartile","BishopdaleLower Quartile","Whole Suburb","Whole Suburb",450]
["Nelson","Bishopdale","Median","BishopdaleMedian","Whole Suburb","Whole Suburb",480]
["Nelson","Bishopdale","Upper Quartile","BishopdaleUpper Quartile","Whole Suburb","Whole Suburb",530]
["Nelson","Toi Toi","Bonds",{"$f":"B3522&C3522","v":"Toi ToiBonds"},"Whole Suburb","Whole Suburb",240]
["Nelson","Toi Toi","Lower Quartile","Toi ToiLower Quartile","Whole Suburb","Whole Suburb",380]
["Nelson","Toi Toi","Median","Toi ToiMedian","Whole Suburb","Whole Suburb",435]
["Nelson","Toi Toi","Upper Quartile","Toi ToiUpper Quartile","Whole Suburb","Whole Suburb",485]
["Nelson","Wakapuaka","Bonds","WakapuakaBonds","Whole Suburb","Whole Suburb",""]
["Nelson","Wakapuaka","Lower Quartile","WakapuakaLower Quartile","Whole Suburb","Whole Suburb",""]
["Nelson","Wakapuaka","Median","WakapuakaMedian","Whole Suburb","Whole Suburb",""]
["Nelson","Wakapuaka","Upper Quartile","WakapuakaUpper Quartile","Whole Suburb","Whole Suburb",""]
["Nelson","Nelson","Bonds","NelsonBonds","Whole Suburb","Whole Suburb",246]
["Nelson","Nelson","Lower Quartile","NelsonLower Quartile","Whole Suburb","Whole Suburb",380]
["Nelson","Nelson","Median","NelsonMedian","Whole Suburb","Whole Suburb",478]
["Nelson","Nelson","Upper Quartile","NelsonUpper Quartile","Whole Suburb","Whole Suburb",560]
["Nelson","The Brook","Bonds","The BrookBonds","Whole Suburb","Whole Suburb",153]
["Nelson","The Brook","Lower Quartile","The BrookLower Quartile","Whole Suburb","Whole Suburb",453]
["Nelson","The Brook","Median","The BrookMedian","Whole Suburb","Whole Suburb",490]
["Nelson","The Brook","Upper Quartile","The BrookUpper Quartile","Whole Suburb","Whole Suburb",524]
["Nelson","Marybank","Bonds","MarybankBonds","Whole Suburb","Whole Suburb",66]
["Nelson","Marybank","Lower Quartile","MarybankLower Quartile","Whole Suburb","Whole Suburb",388]
["Nelson","Marybank","Median","MarybankMedian","Whole Suburb","Whole Suburb",520]
["Nelson","Marybank","Upper Quartile","MarybankUpper Quartile","Whole Suburb","Whole Suburb",553]
["Nelson","Glenduan","Bonds","GlenduanBonds","Whole Suburb","Whole Suburb",""]
["Nelson","Glenduan","Lower Quartile","GlenduanLower Quartile","Whole Suburb","Whole Suburb",""]
["Nelson","Glenduan","Median","GlenduanMedian","Whole Suburb","Whole Suburb",""]
["Nelson","Glenduan","Upper Quartile","GlenduanUpper Quartile","Whole Suburb","Whole Suburb",""]
["Nelson","Beachville","Bonds","BeachvilleBonds","Whole Suburb","Whole Suburb",54]
["Nelson","Beachville","Lower Quartile","BeachvilleLower Quartile","Whole Suburb","Whole Suburb",443]
["Nelson","Beachville","Median","BeachvilleMedian","Whole Suburb","Whole Suburb",493]
["Nelson","Beachville","Upper Quartile","BeachvilleUpper Quartile","Whole Suburb","Whole Suburb",513]
["Nelson","Annesbrook","Bonds","AnnesbrookBonds","Whole Suburb","Whole Suburb",99]
["Nelson","Annesbrook","Lower Quartile","AnnesbrookLower Quartile","Whole Suburb","Whole Suburb",478]
["Nelson","Annesbrook","Median","AnnesbrookMedian","Whole Suburb","Whole Suburb",493]
["Nelson","Annesbrook","Upper Quartile","AnnesbrookUpper Quartile","Whole Suburb","Whole Suburb",539]
["Nelson","Moana","Bonds","MoanaBonds","Whole Suburb","Whole Suburb",30]
["Nelson","Moana","Lower Quartile","MoanaLower Quartile","Whole Suburb","Whole Suburb",528]
["Nelson","Moana","Median","MoanaMedian","Whole Suburb","Whole Suburb",575]
["Nelson","Moana","Upper Quartile","MoanaUpper Quartile","Whole Suburb","Whole Suburb",713]
["Nelson","Enner Glynn","Bonds","Enner GlynnBonds","Whole Suburb","Whole Suburb",135]
["Nelson","Enner Glynn","Lower Quartile","Enner GlynnLower Quartile","Whole Suburb","Whole Suburb",458]
["Nelson","Enner Glynn","Median","Enner GlynnMedian","Whole Suburb","Whole Suburb",533]
["Nelson","Enner Glynn","Upper Quartile","Enner GlynnUpper Quartile","Whole Suburb","Whole Suburb",570]
["Nelson","Britannia Heights","Bonds","Britannia HeightsBonds","Whole Suburb","Whole Suburb",72]
["Nelson","Britannia Heights","Lower Quartile","Britannia HeightsLower Quartile","Whole Suburb","Whole Suburb",526]
["Nelson","Britannia Heights","Median","Britannia HeightsMedian","Whole Suburb","Whole Suburb",588]
["Nelson","Britannia Heights","Upper Quartile","Britannia HeightsUpper Quartile","Whole Suburb","Whole Suburb",628]
["New Plymouth","Strandon","Bonds","StrandonBonds","Whole Suburb","Whole Suburb",288]
["New Plymouth","Strandon","Lower Quartile","StrandonLower Quartile","Whole Suburb","Whole Suburb",375]
["New Plymouth","Strandon","Median","StrandonMedian","Whole Suburb","Whole Suburb",430]
["New Plymouth","Strandon","Upper Quartile","StrandonUpper Quartile","Whole Suburb","Whole Suburb",495]
["New Plymouth","Ridgewood","Bonds","RidgewoodBonds","Whole Suburb","Whole Suburb",""]
["New Plymouth","Ridgewood","Lower Quartile","RidgewoodLower Quartile","Whole Suburb","Whole Suburb",""]
["New Plymouth","Ridgewood","Median","RidgewoodMedian","Whole Suburb","Whole Suburb",""]
["New Plymouth","Ridgewood","Upper Quartile","RidgewoodUpper Quartile","Whole Suburb","Whole Suburb",""]
["New Plymouth","Merrilands","Bonds","MerrilandsBonds","Whole Suburb","Whole Suburb",291]
["New Plymouth","Merrilands","Lower Quartile","MerrilandsLower Quartile","Whole Suburb","Whole Suburb",430]
["New Plymouth","Merrilands","Median","MerrilandsMedian","Whole Suburb","Whole Suburb",490]
["New Plymouth","Merrilands","Upper Quartile","MerrilandsUpper Quartile","Whole Suburb","Whole Suburb",550]
["New Plymouth","Moturoa","Bonds","MoturoaBonds","Whole Suburb","Whole Suburb",315]
["New Plymouth","Moturoa","Lower Quartile","MoturoaLower Quartile","Whole Suburb","Whole Suburb",365]
["New Plymouth","Moturoa","Median","MoturoaMedian","Whole Suburb","Whole Suburb",435]
["New Plymouth","Moturoa","Upper Quartile","MoturoaUpper Quartile","Whole Suburb","Whole Suburb",500]
["New Plymouth","New Plymouth","Bonds","New PlymouthBonds","Whole Suburb","Whole Suburb",798]
["New Plymouth","New Plymouth","Lower Quartile","New PlymouthLower Quartile","Whole Suburb","Whole Suburb",325]
["New Plymouth","New Plymouth","Median","New PlymouthMedian","Whole Suburb","Whole Suburb",395]
["New Plymouth","New Plymouth","Upper Quartile","New PlymouthUpper Quartile","Whole Suburb","Whole Suburb",475]
["New Plymouth","Brooklands","Bonds",{"$f":"B3586&C3586","v":"BrooklandsBonds"},"Whole Suburb","Whole Suburb",78]
["New Plymouth","Brooklands","Lower Quartile","BrooklandsLower Quartile","Whole Suburb","Whole Suburb",425]
["New Plymouth","Brooklands","Median","BrooklandsMedian","Whole Suburb","Whole Suburb",520]
["New Plymouth","Brooklands","Upper Quartile","BrooklandsUpper Quartile","Whole Suburb","Whole Suburb",580]
["New Plymouth","Burgess Park","Bonds","Burgess ParkBonds","Whole Suburb","Whole Suburb",""]
["New Plymouth","Burgess Park","Lower Quartile","Burgess ParkLower Quartile","Whole Suburb","Whole Suburb",""]
["New Plymouth","Burgess Park","Median","Burgess ParkMedian","Whole Suburb","Whole Suburb",""]
["New Plymouth","Burgess Park","Upper Quartile","Burgess ParkUpper Quartile","Whole Suburb","Whole Suburb",""]
["New Plymouth","Marfell","Bonds","MarfellBonds","Whole Suburb","Whole Suburb",126]
["New Plymouth","Marfell","Lower Quartile","MarfellLower Quartile","Whole Suburb","Whole Suburb",338]
["New Plymouth","Marfell","Median","MarfellMedian","Whole Suburb","Whole Suburb",350]
["New Plymouth","Marfell","Upper Quartile","MarfellUpper Quartile","Whole Suburb","Whole Suburb",445]
["New Plymouth","Tarurutangi","Bonds","TarurutangiBonds","Whole Suburb","Whole Suburb",""]
["New Plymouth","Tarurutangi","Lower Quartile","TarurutangiLower Quartile","Whole Suburb","Whole Suburb",""]
["New Plymouth","Tarurutangi","Median","TarurutangiMedian","Whole Suburb","Whole Suburb",""]
["New Plymouth","Tarurutangi","Upper Quartile","TarurutangiUpper Quartile","Whole Suburb","Whole Suburb",""]
["New Plymouth","Tataraimaka","Bonds","TataraimakaBonds","Whole Suburb","Whole Suburb",""]
["New Plymouth","Tataraimaka","Lower Quartile","TataraimakaLower Quartile","Whole Suburb","Whole Suburb",""]
["New Plymouth","Tataraimaka","Median","TataraimakaMedian","Whole Suburb","Whole Suburb",""]
["New Plymouth","Tataraimaka","Upper Quartile","TataraimakaUpper Quartile","Whole Suburb","Whole Suburb",""]
["New Plymouth","Upper Vogeltown","Bonds","Upper VogeltownBonds","Whole Suburb","Whole Suburb",96]
["New Plymouth","Upper Vogeltown","Lower Quartile","Upper VogeltownLower Quartile","Whole Suburb","Whole Suburb",300]
["New Plymouth","Upper Vogeltown","Median","Upper VogeltownMedian","Whole Suburb","Whole Suburb",390]
["New Plymouth","Upper Vogeltown","Upper Quartile","Upper VogeltownUpper Quartile","Whole Suburb","Whole Suburb",480]
["New Plymouth","Vogeltown","Bonds","VogeltownBonds","Whole Suburb","Whole Suburb",168]
["New Plymouth","Vogeltown","Lower Quartile","VogeltownLower Quartile","Whole Suburb","Whole Suburb",375]
["New Plymouth","Vogeltown","Median","VogeltownMedian","Whole Suburb","Whole Suburb",388]
["New Plymouth","Vogeltown","Upper Quartile","VogeltownUpper Quartile","Whole Suburb","Whole Suburb",463]
["New Plymouth","Omata","Bonds","OmataBonds","Whole Suburb","Whole Suburb",""]
["New Plymouth","Omata","Lower Quartile","OmataLower Quartile","Whole Suburb","Whole Suburb",""]
["New Plymouth","Omata","Median","OmataMedian","Whole Suburb","Whole Suburb",""]
["New Plymouth","Omata","Upper Quartile","OmataUpper Quartile","Whole Suburb","Whole Suburb",""]
["New Plymouth","Paraite","Bonds","ParaiteBonds","Whole Suburb","Whole Suburb",""]
["New Plymouth","Paraite","Lower Quartile","ParaiteLower Quartile","Whole Suburb","Whole Suburb",""]
["New Plymouth","Paraite","Median","ParaiteMedian","Whole Suburb","Whole Suburb",""]
["New Plymouth","Paraite","Upper Quartile","ParaiteUpper Quartile","Whole Suburb","Whole Suburb",""]
["New Plymouth","Koru","Bonds","KoruBonds","Whole Suburb","Whole Suburb",""]
["New Plymouth","Koru","Lower Quartile","KoruLower Quartile","Whole Suburb","Whole Suburb",""]
["New Plymouth","Koru","Median","KoruMedian","Whole Suburb","Whole Suburb",""]
["New Plymouth","Koru","Upper Quartile","KoruUpper Quartile","Whole Suburb","Whole Suburb",""]
["New Plymouth","Lepperton","Bonds","LeppertonBonds","Whole Suburb","Whole Suburb",""]
["New Plymouth","Lepperton","Lower Quartile","LeppertonLower Quartile","Whole Suburb","Whole Suburb",""]
["New Plymouth","Lepperton","Median","LeppertonMedian","Whole Suburb","Whole Suburb",""]
["New Plymouth","Lepperton","Upper Quartile","LeppertonUpper Quartile","Whole Suburb","Whole Suburb",""]
["New Plymouth","Lower Vogeltown","Bonds","Lower VogeltownBonds","Whole Suburb","Whole Suburb",165]
["New Plymouth","Lower Vogeltown","Lower Quartile","Lower VogeltownLower Quartile","Whole Suburb","Whole Suburb",350]
["New Plymouth","Lower Vogeltown","Median","Lower VogeltownMedian","Whole Suburb","Whole Suburb",425]
["New Plymouth","Lower Vogeltown","Upper Quartile","Lower VogeltownUpper Quartile","Whole Suburb","Whole Suburb",499]
["New Plymouth","Lynmouth","Bonds","LynmouthBonds","Whole Suburb","Whole Suburb",162]
["New Plymouth","Lynmouth","Lower Quartile","LynmouthLower Quartile","Whole Suburb","Whole Suburb",410]
["New Plymouth","Lynmouth","Median","LynmouthMedian","Whole Suburb","Whole Suburb",465]
["New Plymouth","Lynmouth","Upper Quartile","LynmouthUpper Quartile","Whole Suburb","Whole Suburb",540]
["New Plymouth","Ferndale","Bonds","FerndaleBonds","Whole Suburb","Whole Suburb",54]
["New Plymouth","Ferndale","Lower Quartile","FerndaleLower Quartile","Whole Suburb","Whole Suburb",470]
["New Plymouth","Ferndale","Median","FerndaleMedian","Whole Suburb","Whole Suburb",500]
["New Plymouth","Ferndale","Upper Quartile","FerndaleUpper Quartile","Whole Suburb","Whole Suburb",530]
["New Plymouth","Fitzroy","Bonds","FitzroyBonds","Whole Suburb","Whole Suburb",207]
["New Plymouth","Fitzroy","Lower Quartile","FitzroyLower Quartile","Whole Suburb","Whole Suburb",395]
["New Plymouth","Fitzroy","Median","FitzroyMedian","Whole Suburb","Whole Suburb",440]
["New Plymouth","Fitzroy","Upper Quartile","FitzroyUpper Quartile","Whole Suburb","Whole Suburb",550]
["New Plymouth","Frankleigh Park","Bonds","Frankleigh ParkBonds","Whole Suburb","Whole Suburb",186]
["New Plymouth","Frankleigh Park","Lower Quartile","Frankleigh ParkLower Quartile","Whole Suburb","Whole Suburb",450]
["New Plymouth","Frankleigh Park","Median","Frankleigh ParkMedian","Whole Suburb","Whole Suburb",480]
["New Plymouth","Frankleigh Park","Upper Quartile","Frankleigh ParkUpper Quartile","Whole Suburb","Whole Suburb",518]
["New Plymouth","Glen Avon","Bonds",{"$f":"B3650&C3650","v":"Glen AvonBonds"},"Whole Suburb","Whole Suburb",75]
["New Plymouth","Glen Avon","Lower Quartile","Glen AvonLower Quartile","Whole Suburb","Whole Suburb",429]
["New Plymouth","Glen Avon","Median","Glen AvonMedian","Whole Suburb","Whole Suburb",468]
["New Plymouth","Glen Avon","Upper Quartile","Glen AvonUpper Quartile","Whole Suburb","Whole Suburb",596]
["New Plymouth","Highlands Park","Bonds","Highlands ParkBonds","Whole Suburb","Whole Suburb",81]
["New Plymouth","Highlands Park","Lower Quartile","Highlands ParkLower Quartile","Whole Suburb","Whole Suburb",510]
["New Plymouth","Highlands Park","Median","Highlands ParkMedian","Whole Suburb","Whole Suburb",575]
["New Plymouth","Highlands Park","Upper Quartile","Highlands ParkUpper Quartile","Whole Suburb","Whole Suburb",640]
["New Plymouth","Hillsborough","Bonds","HillsboroughBonds","Whole Suburb","Whole Suburb",""]
["New Plymouth","Hillsborough","Lower Quartile","HillsboroughLower Quartile","Whole Suburb","Whole Suburb",""]
["New Plymouth","Hillsborough","Median","HillsboroughMedian","Whole Suburb","Whole Suburb",""]
["New Plymouth","Hillsborough","Upper Quartile","HillsboroughUpper Quartile","Whole Suburb","Whole Suburb",""]
["New Plymouth","Huirangi","Bonds","HuirangiBonds","Whole Suburb","Whole Suburb",""]
["New Plymouth","Huirangi","Lower Quartile","HuirangiLower Quartile","Whole Suburb","Whole Suburb",""]
["New Plymouth","Huirangi","Median","HuirangiMedian","Whole Suburb","Whole Suburb",""]
["New Plymouth","Huirangi","Upper Quartile","HuirangiUpper Quartile","Whole Suburb","Whole Suburb",""]
["New Plymouth","Hurdon","Bonds","HurdonBonds","Whole Suburb","Whole Suburb",48]
["New Plymouth","Hurdon","Lower Quartile","HurdonLower Quartile","Whole Suburb","Whole Suburb",463]
["New Plymouth","Hurdon","Median","HurdonMedian","Whole Suburb","Whole Suburb",555]
["New Plymouth","Hurdon","Upper Quartile","HurdonUpper Quartile","Whole Suburb","Whole Suburb",614]
["New Plymouth","Hurworth","Bonds","HurworthBonds","Whole Suburb","Whole Suburb",""]
["New Plymouth","Hurworth","Lower Quartile","HurworthLower Quartile","Whole Suburb","Whole Suburb",""]
["New Plymouth","Hurworth","Median","HurworthMedian","Whole Suburb","Whole Suburb",""]
["New Plymouth","Hurworth","Upper Quartile","HurworthUpper Quartile","Whole Suburb","Whole Suburb",""]
["New Plymouth","Kaitake","Bonds","KaitakeBonds","Whole Suburb","Whole Suburb",""]
["New Plymouth","Kaitake","Lower Quartile","KaitakeLower Quartile","Whole Suburb","Whole Suburb",""]
["New Plymouth","Kaitake","Median","KaitakeMedian","Whole Suburb","Whole Suburb",""]
["New Plymouth","Kaitake","Upper Quartile","KaitakeUpper Quartile","Whole Suburb","Whole Suburb",""]
["New Plymouth","Bell Block","Bonds","Bell BlockBonds","Whole Suburb","Whole Suburb",441]
["New Plymouth","Bell Block","Lower Quartile","Bell BlockLower Quartile","Whole Suburb","Whole Suburb",398]
["New Plymouth","Bell Block","Median","Bell BlockMedian","Whole Suburb","Whole Suburb",460]
["New Plymouth","Bell Block","Upper Quartile","Bell BlockUpper Quartile","Whole Suburb","Whole Suburb",550]
["New Plymouth","Blagdon","Bonds","BlagdonBonds","Whole Suburb","Whole Suburb",126]
["New Plymouth","Blagdon","Lower Quartile","BlagdonLower Quartile","Whole Suburb","Whole Suburb",450]
["New Plymouth","Blagdon","Median","BlagdonMedian","Whole Suburb","Whole Suburb",480]
["New Plymouth","Blagdon","Upper Quartile","BlagdonUpper Quartile","Whole Suburb","Whole Suburb",530]
["New Plymouth","Sentry Hill","Bonds","Sentry HillBonds","Whole Suburb","Whole Suburb",""]
["New Plymouth","Sentry Hill","Lower Quartile","Sentry HillLower Quartile","Whole Suburb","Whole Suburb",""]
["New Plymouth","Sentry Hill","Median","Sentry HillMedian","Whole Suburb","Whole Suburb",""]
["New Plymouth","Sentry Hill","Upper Quartile","Sentry HillUpper Quartile","Whole Suburb","Whole Suburb",""]
["New Plymouth","Spotswood","Bonds","SpotswoodBonds","Whole Suburb","Whole Suburb",252]
["New Plymouth","Spotswood","Lower Quartile","SpotswoodLower Quartile","Whole Suburb","Whole Suburb",420]
["New Plymouth","Spotswood","Median","SpotswoodMedian","Whole Suburb","Whole Suburb",450]
["New Plymouth","Spotswood","Upper Quartile","SpotswoodUpper Quartile","Whole Suburb","Whole Suburb",500]
["New Plymouth","Mangorei","Bonds","MangoreiBonds","Whole Suburb","Whole Suburb",""]
["New Plymouth","Mangorei","Lower Quartile","MangoreiLower Quartile","Whole Suburb","Whole Suburb",""]
["New Plymouth","Mangorei","Median","MangoreiMedian","Whole Suburb","Whole Suburb",""]
["New Plymouth","Mangorei","Upper Quartile","MangoreiUpper Quartile","Whole Suburb","Whole Suburb",""]
["New Plymouth","Waiwhakaiho","Bonds","WaiwhakaihoBonds","Whole Suburb","Whole Suburb",42]
["New Plymouth","Waiwhakaiho","Lower Quartile","WaiwhakaihoLower Quartile","Whole Suburb","Whole Suburb",418]
["New Plymouth","Waiwhakaiho","Median","WaiwhakaihoMedian","Whole Suburb","Whole Suburb",525]
["New Plymouth","Waiwhakaiho","Upper Quartile","WaiwhakaihoUpper Quartile","Whole Suburb","Whole Suburb",665]
["New Plymouth","Westown","Bonds","WestownBonds","Whole Suburb","Whole Suburb",618]
["New Plymouth","Westown","Lower Quartile","WestownLower Quartile","Whole Suburb","Whole Suburb",350]
["New Plymouth","Westown","Median","WestownMedian","Whole Suburb","Whole Suburb",450]
["New Plymouth","Westown","Upper Quartile","WestownUpper Quartile","Whole Suburb","Whole Suburb",490]
["New Plymouth","Whalers Gate","Bonds","Whalers GateBonds","Whole Suburb","Whole Suburb",96]
["New Plymouth","Whalers Gate","Lower Quartile","Whalers GateLower Quartile","Whole Suburb","Whole Suburb",488]
["New Plymouth","Whalers Gate","Median","Whalers GateMedian","Whole Suburb","Whole Suburb",550]
["New Plymouth","Whalers Gate","Upper Quartile","Whalers GateUpper Quartile","Whole Suburb","Whole Suburb",620]
["New Plymouth","Welbourn","Bonds","WelbournBonds","Whole Suburb","Whole Suburb",321]
["New Plymouth","Welbourn","Lower Quartile","WelbournLower Quartile","Whole Suburb","Whole Suburb",190]
["New Plymouth","Welbourn","Median","WelbournMedian","Whole Suburb","Whole Suburb",220]
["New Plymouth","Welbourn","Upper Quartile","WelbournUpper Quartile","Whole Suburb","Whole Suburb",350]
["Ngakuru","Ngakuru","Bonds",{"$f":"B3714&C3714","v":"NgakuruBonds"},"Whole Suburb","Whole Suburb",""]
["Ngakuru","Ngakuru","Lower Quartile","NgakuruLower Quartile","Whole Suburb","Whole Suburb",""]
["Ngakuru","Ngakuru","Median","NgakuruMedian","Whole Suburb","Whole Suburb",""]
["Ngakuru","Ngakuru","Upper Quartile","NgakuruUpper Quartile","Whole Suburb","Whole Suburb",""]
["Ngakuru","Waikite Valley","Bonds","Waikite ValleyBonds","Whole Suburb","Whole Suburb",""]
["Ngakuru","Waikite Valley","Lower Quartile","Waikite ValleyLower Quartile","Whole Suburb","Whole Suburb",""]
["Ngakuru","Waikite Valley","Median","Waikite ValleyMedian","Whole Suburb","Whole Suburb",""]
["Ngakuru","Waikite Valley","Upper Quartile","Waikite ValleyUpper Quartile","Whole Suburb","Whole Suburb",""]
["Ngaruawahia","Waingaro","Bonds","WaingaroBonds","Whole Suburb","Whole Suburb",""]
["Ngaruawahia","Waingaro","Lower Quartile","WaingaroLower Quartile","Whole Suburb","Whole Suburb",""]
["Ngaruawahia","Waingaro","Median","WaingaroMedian","Whole Suburb","Whole Suburb",""]
["Ngaruawahia","Waingaro","Upper Quartile","WaingaroUpper Quartile","Whole Suburb","Whole Suburb",""]
["Ngaruawahia","Ngaruawahia","Bonds","NgaruawahiaBonds","Whole Suburb","Whole Suburb",567]
["Ngaruawahia","Ngaruawahia","Lower Quartile","NgaruawahiaLower Quartile","Whole Suburb","Whole Suburb",360]
["Ngaruawahia","Ngaruawahia","Median","NgaruawahiaMedian","Whole Suburb","Whole Suburb",430]
["Ngaruawahia","Ngaruawahia","Upper Quartile","NgaruawahiaUpper Quartile","Whole Suburb","Whole Suburb",503]
["Ngatea","Ngatea","Bonds","NgateaBonds","Whole Suburb","Whole Suburb",120]
["Ngatea","Ngatea","Lower Quartile","NgateaLower Quartile","Whole Suburb","Whole Suburb",316]
["Ngatea","Ngatea","Median","NgateaMedian","Whole Suburb","Whole Suburb",450]
["Ngatea","Ngatea","Upper Quartile","NgateaUpper Quartile","Whole Suburb","Whole Suburb",458]
["Ngatea","Kaihere","Bonds","KaihereBonds","Whole Suburb","Whole Suburb",""]
["Ngatea","Kaihere","Lower Quartile","KaihereLower Quartile","Whole Suburb","Whole Suburb",""]
["Ngatea","Kaihere","Median","KaihereMedian","Whole Suburb","Whole Suburb",""]
["Ngatea","Kaihere","Upper Quartile","KaihereUpper Quartile","Whole Suburb","Whole Suburb",""]
["Ngatea","Waitakaruru","Bonds","WaitakaruruBonds","Whole Suburb","Whole Suburb",""]
["Ngatea","Waitakaruru","Lower Quartile","WaitakaruruLower Quartile","Whole Suburb","Whole Suburb",""]
["Ngatea","Waitakaruru","Median","WaitakaruruMedian","Whole Suburb","Whole Suburb",""]
["Ngatea","Waitakaruru","Upper Quartile","WaitakaruruUpper Quartile","Whole Suburb","Whole Suburb",""]
["Ngatea","Mangatarata","Bonds","MangatarataBonds","Whole Suburb","Whole Suburb",""]
["Ngatea","Mangatarata","Lower Quartile","MangatarataLower Quartile","Whole Suburb","Whole Suburb",""]
["Ngatea","Mangatarata","Median","MangatarataMedian","Whole Suburb","Whole Suburb",""]
["Ngatea","Mangatarata","Upper Quartile","MangatarataUpper Quartile","Whole Suburb","Whole Suburb",""]
["Norfolk","Norfolk","Bonds","NorfolkBonds","Whole Suburb","Whole Suburb",""]
["Norfolk","Norfolk","Lower Quartile","NorfolkLower Quartile","Whole Suburb","Whole Suburb",""]
["Norfolk","Norfolk","Median","NorfolkMedian","Whole Suburb","Whole Suburb",""]
["Norfolk","Norfolk","Upper Quartile","NorfolkUpper Quartile","Whole Suburb","Whole Suburb",""]
["Norsewood","Norsewood","Bonds","NorsewoodBonds","Whole Suburb","Whole Suburb",""]
["Norsewood","Norsewood","Lower Quartile","NorsewoodLower Quartile","Whole Suburb","Whole Suburb",""]
["Norsewood","Norsewood","Median","NorsewoodMedian","Whole Suburb","Whole Suburb",""]
["Norsewood","Norsewood","Upper Quartile","NorsewoodUpper Quartile","Whole Suburb","Whole Suburb",""]
["Oakura","Oakura","Bonds","OakuraBonds","Whole Suburb","Whole Suburb",93]
["Oakura","Oakura","Lower Quartile","OakuraLower Quartile","Whole Suburb","Whole Suburb",530]
["Oakura","Oakura","Median","OakuraMedian","Whole Suburb","Whole Suburb",660]
["Oakura","Oakura","Upper Quartile","OakuraUpper Quartile","Whole Suburb","Whole Suburb",725]
["Oamaru","Pukeuri","Bonds","PukeuriBonds","Whole Suburb","Whole Suburb",""]
["Oamaru","Pukeuri","Lower Quartile","PukeuriLower Quartile","Whole Suburb","Whole Suburb",""]
["Oamaru","Pukeuri","Median","PukeuriMedian","Whole Suburb","Whole Suburb",""]
["Oamaru","Pukeuri","Upper Quartile","PukeuriUpper Quartile","Whole Suburb","Whole Suburb",""]
["Oamaru","South Hill","Bonds","South HillBonds","Whole Suburb","Whole Suburb",267]
["Oamaru","South Hill","Lower Quartile","South HillLower Quartile","Whole Suburb","Whole Suburb",300]
["Oamaru","South Hill","Median","South HillMedian","Whole Suburb","Whole Suburb",350]
["Oamaru","South Hill","Upper Quartile","South HillUpper Quartile","Whole Suburb","Whole Suburb",400]
["Oamaru","Oamaru North","Bonds","Oamaru NorthBonds","Whole Suburb","Whole Suburb",453]
["Oamaru","Oamaru North","Lower Quartile","Oamaru NorthLower Quartile","Whole Suburb","Whole Suburb",300]
["Oamaru","Oamaru North","Median","Oamaru NorthMedian","Whole Suburb","Whole Suburb",340]
["Oamaru","Oamaru North","Upper Quartile","Oamaru NorthUpper Quartile","Whole Suburb","Whole Suburb",370]
["Oamaru","Awamoa","Bonds","AwamoaBonds","Whole Suburb","Whole Suburb",""]
["Oamaru","Awamoa","Lower Quartile","AwamoaLower Quartile","Whole Suburb","Whole Suburb",""]
["Oamaru","Awamoa","Median","AwamoaMedian","Whole Suburb","Whole Suburb",""]
["Oamaru","Awamoa","Upper Quartile","AwamoaUpper Quartile","Whole Suburb","Whole Suburb",""]
["Oamaru","Weston","Bonds","WestonBonds","Whole Suburb","Whole Suburb",""]
["Oamaru","Weston","Lower Quartile","WestonLower Quartile","Whole Suburb","Whole Suburb",""]
["Oamaru","Weston","Median","WestonMedian","Whole Suburb","Whole Suburb",""]
["Oamaru","Weston","Upper Quartile","WestonUpper Quartile","Whole Suburb","Whole Suburb",""]
["Oamaru","Oamaru","Bonds",{"$f":"B3778&C3778","v":"OamaruBonds"},"Whole Suburb","Whole Suburb",279]
["Oamaru","Oamaru","Lower Quartile","OamaruLower Quartile","Whole Suburb","Whole Suburb",290]
["Oamaru","Oamaru","Median","OamaruMedian","Whole Suburb","Whole Suburb",340]
["Oamaru","Oamaru","Upper Quartile","OamaruUpper Quartile","Whole Suburb","Whole Suburb",360]
["Oamaru","Holmes Hill","Bonds","Holmes HillBonds","Whole Suburb","Whole Suburb",102]
["Oamaru","Holmes Hill","Lower Quartile","Holmes HillLower Quartile","Whole Suburb","Whole Suburb",335]
["Oamaru","Holmes Hill","Median","Holmes HillMedian","Whole Suburb","Whole Suburb",350]
["Oamaru","Holmes Hill","Upper Quartile","Holmes HillUpper Quartile","Whole Suburb","Whole Suburb",395]
["Oamaru","Kakanui","Bonds","KakanuiBonds","Whole Suburb","Whole Suburb",""]
["Oamaru","Kakanui","Lower Quartile","KakanuiLower Quartile","Whole Suburb","Whole Suburb",""]
["Oamaru","Kakanui","Median","KakanuiMedian","Whole Suburb","Whole Suburb",""]
["Oamaru","Kakanui","Upper Quartile","KakanuiUpper Quartile","Whole Suburb","Whole Suburb",""]
["Oamaru","Maheno","Bonds","MahenoBonds","Whole Suburb","Whole Suburb",""]
["Oamaru","Maheno","Lower Quartile","MahenoLower Quartile","Whole Suburb","Whole Suburb",""]
["Oamaru","Maheno","Median","MahenoMedian","Whole Suburb","Whole Suburb",""]
["Oamaru","Maheno","Upper Quartile","MahenoUpper Quartile","Whole Suburb","Whole Suburb",""]
["Ohai","Ohai","Bonds","OhaiBonds","Whole Suburb","Whole Suburb",""]
["Ohai","Ohai","Lower Quartile","OhaiLower Quartile","Whole Suburb","Whole Suburb",""]
["Ohai","Ohai","Median","OhaiMedian","Whole Suburb","Whole Suburb",""]
["Ohai","Ohai","Upper Quartile","OhaiUpper Quartile","Whole Suburb","Whole Suburb",""]
["Ohakune","Ohakune","Bonds","OhakuneBonds","Whole Suburb","Whole Suburb",171]
["Ohakune","Ohakune","Lower Quartile","OhakuneLower Quartile","Whole Suburb","Whole Suburb",175]
["Ohakune","Ohakune","Median","OhakuneMedian","Whole Suburb","Whole Suburb",180]
["Ohakune","Ohakune","Upper Quartile","OhakuneUpper Quartile","Whole Suburb","Whole Suburb",350]
["Ohakune","Rangataua","Bonds","RangatauaBonds","Whole Suburb","Whole Suburb",""]
["Ohakune","Rangataua","Lower Quartile","RangatauaLower Quartile","Whole Suburb","Whole Suburb",""]
["Ohakune","Rangataua","Median","RangatauaMedian","Whole Suburb","Whole Suburb",""]
["Ohakune","Rangataua","Upper Quartile","RangatauaUpper Quartile","Whole Suburb","Whole Suburb",""]
["Ohau","Ohau","Bonds","OhauBonds","Whole Suburb","Whole Suburb",""]
["Ohau","Ohau","Lower Quartile","OhauLower Quartile","Whole Suburb","Whole Suburb",""]
["Ohau","Ohau","Median","OhauMedian","Whole Suburb","Whole Suburb",""]
["Ohau","Ohau","Upper Quartile","OhauUpper Quartile","Whole Suburb","Whole Suburb",""]
["Ohaupo","Ngahinapouri","Bonds","NgahinapouriBonds","Whole Suburb","Whole Suburb",""]
["Ohaupo","Ngahinapouri","Lower Quartile","NgahinapouriLower Quartile","Whole Suburb","Whole Suburb",""]
["Ohaupo","Ngahinapouri","Median","NgahinapouriMedian","Whole Suburb","Whole Suburb",""]
["Ohaupo","Ngahinapouri","Upper Quartile","NgahinapouriUpper Quartile","Whole Suburb","Whole Suburb",""]
["Ohaupo","Ohaupo","Bonds","OhaupoBonds","Whole Suburb","Whole Suburb",102]
["Ohaupo","Ohaupo","Lower Quartile","OhaupoLower Quartile","Whole Suburb","Whole Suburb",385]
["Ohaupo","Ohaupo","Median","OhaupoMedian","Whole Suburb","Whole Suburb",500]
["Ohaupo","Ohaupo","Upper Quartile","OhaupoUpper Quartile","Whole Suburb","Whole Suburb",640]
["Ohoka","Ohoka","Bonds","OhokaBonds","Whole Suburb","Whole Suburb",30]
["Ohoka","Ohoka","Lower Quartile","OhokaLower Quartile","Whole Suburb","Whole Suburb",425]
["Ohoka","Ohoka","Median","OhokaMedian","Whole Suburb","Whole Suburb",513]
["Ohoka","Ohoka","Upper Quartile","OhokaUpper Quartile","Whole Suburb","Whole Suburb",656]
["Ohope","Ohope","Bonds","OhopeBonds","Whole Suburb","Whole Suburb",285]
["Ohope","Ohope","Lower Quartile","OhopeLower Quartile","Whole Suburb","Whole Suburb",383]
["Ohope","Ohope","Median","OhopeMedian","Whole Suburb","Whole Suburb",495]
["Ohope","Ohope","Upper Quartile","OhopeUpper Quartile","Whole Suburb","Whole Suburb",590]
["Ohura","Ohura","Bonds","OhuraBonds","Whole Suburb","Whole Suburb",""]
["Ohura","Ohura","Lower Quartile","OhuraLower Quartile","Whole Suburb","Whole Suburb",""]
["Ohura","Ohura","Median","OhuraMedian","Whole Suburb","Whole Suburb",""]
["Ohura","Ohura","Upper Quartile","OhuraUpper Quartile","Whole Suburb","Whole Suburb",""]
["Okaihau","Umawera","Bonds","UmaweraBonds","Whole Suburb","Whole Suburb",""]
["Okaihau","Umawera","Lower Quartile","UmaweraLower Quartile","Whole Suburb","Whole Suburb",""]
["Okaihau","Umawera","Median","UmaweraMedian","Whole Suburb","Whole Suburb",""]
["Okaihau","Umawera","Upper Quartile","UmaweraUpper Quartile","Whole Suburb","Whole Suburb",""]
["Okaihau","Okaihau","Bonds","OkaihauBonds","Whole Suburb","Whole Suburb",42]
["Okaihau","Okaihau","Lower Quartile","OkaihauLower Quartile","Whole Suburb","Whole Suburb",162]
["Okaihau","Okaihau","Median","OkaihauMedian","Whole Suburb","Whole Suburb",231]
["Okaihau","Okaihau","Upper Quartile","OkaihauUpper Quartile","Whole Suburb","Whole Suburb",350]
["Okato","Okato","Bonds","OkatoBonds","Whole Suburb","Whole Suburb",63]
["Okato","Okato","Lower Quartile","OkatoLower Quartile","Whole Suburb","Whole Suburb",322]
["Okato","Okato","Median","OkatoMedian","Whole Suburb","Whole Suburb",430]
["Okato","Okato","Upper Quartile","OkatoUpper Quartile","Whole Suburb","Whole Suburb",463]
["Okuku","Okuku","Bonds",{"$f":"B3842&C3842","v":"OkukuBonds"},"Whole Suburb","Whole Suburb",""]
["Okuku","Okuku","Lower Quartile","OkukuLower Quartile","Whole Suburb","Whole Suburb",""]
["Okuku","Okuku","Median","OkukuMedian","Whole Suburb","Whole Suburb",""]
["Okuku","Okuku","Upper Quartile","OkukuUpper Quartile","Whole Suburb","Whole Suburb",""]
["Omaha","Omaha","Bonds","OmahaBonds","Whole Suburb","Whole Suburb",42]
["Omaha","Omaha","Lower Quartile","OmahaLower Quartile","Whole Suburb","Whole Suburb",650]
["Omaha","Omaha","Median","OmahaMedian","Whole Suburb","Whole Suburb",700]
["Omaha","Omaha","Upper Quartile","OmahaUpper Quartile","Whole Suburb","Whole Suburb",800]
["Omakau","Omakau","Bonds","OmakauBonds","Whole Suburb","Whole Suburb",""]
["Omakau","Omakau","Lower Quartile","OmakauLower Quartile","Whole Suburb","Whole Suburb",""]
["Omakau","Omakau","Median","OmakauMedian","Whole Suburb","Whole Suburb",""]
["Omakau","Omakau","Upper Quartile","OmakauUpper Quartile","Whole Suburb","Whole Suburb",""]
["Omakere","Omakere","Bonds","OmakereBonds","Whole Suburb","Whole Suburb",""]
["Omakere","Omakere","Lower Quartile","OmakereLower Quartile","Whole Suburb","Whole Suburb",""]
["Omakere","Omakere","Median","OmakereMedian","Whole Suburb","Whole Suburb",""]
["Omakere","Omakere","Upper Quartile","OmakereUpper Quartile","Whole Suburb","Whole Suburb",""]
["Omanawa","Omanawa","Bonds","OmanawaBonds","Whole Suburb","Whole Suburb",57]
["Omanawa","Omanawa","Lower Quartile","OmanawaLower Quartile","Whole Suburb","Whole Suburb",449]
["Omanawa","Omanawa","Median","OmanawaMedian","Whole Suburb","Whole Suburb",520]
["Omanawa","Omanawa","Upper Quartile","OmanawaUpper Quartile","Whole Suburb","Whole Suburb",550]
["Omarama","Omarama","Bonds","OmaramaBonds","Whole Suburb","Whole Suburb",""]
["Omarama","Omarama","Lower Quartile","OmaramaLower Quartile","Whole Suburb","Whole Suburb",""]
["Omarama","Omarama","Median","OmaramaMedian","Whole Suburb","Whole Suburb",""]
["Omarama","Omarama","Upper Quartile","OmaramaUpper Quartile","Whole Suburb","Whole Suburb",""]
["Omokoroa","Omokoroa","Bonds","OmokoroaBonds","Whole Suburb","Whole Suburb",129]
["Omokoroa","Omokoroa","Lower Quartile","OmokoroaLower Quartile","Whole Suburb","Whole Suburb",535]
["Omokoroa","Omokoroa","Median","OmokoroaMedian","Whole Suburb","Whole Suburb",580]
["Omokoroa","Omokoroa","Upper Quartile","OmokoroaUpper Quartile","Whole Suburb","Whole Suburb",650]
["One Tree Point","One Tree Point","Bonds","One Tree PointBonds","Whole Suburb","Whole Suburb",225]
["One Tree Point","One Tree Point","Lower Quartile","One Tree PointLower Quartile","Whole Suburb","Whole Suburb",510]
["One Tree Point","One Tree Point","Median","One Tree PointMedian","Whole Suburb","Whole Suburb",595]
["One Tree Point","One Tree Point","Upper Quartile","One Tree PointUpper Quartile","Whole Suburb","Whole Suburb",630]
["Onewhero","Onewhero","Bonds","OnewheroBonds","Whole Suburb","Whole Suburb",""]
["Onewhero","Onewhero","Lower Quartile","OnewheroLower Quartile","Whole Suburb","Whole Suburb",""]
["Onewhero","Onewhero","Median","OnewheroMedian","Whole Suburb","Whole Suburb",""]
["Onewhero","Onewhero","Upper Quartile","OnewheroUpper Quartile","Whole Suburb","Whole Suburb",""]
["Ongaonga","Ongaonga","Bonds","OngaongaBonds","Whole Suburb","Whole Suburb",""]
["Ongaonga","Ongaonga","Lower Quartile","OngaongaLower Quartile","Whole Suburb","Whole Suburb",""]
["Ongaonga","Ongaonga","Median","OngaongaMedian","Whole Suburb","Whole Suburb",""]
["Ongaonga","Ongaonga","Upper Quartile","OngaongaUpper Quartile","Whole Suburb","Whole Suburb",""]
["Opaki","Opaki","Bonds","OpakiBonds","Whole Suburb","Whole Suburb",""]
["Opaki","Opaki","Lower Quartile","OpakiLower Quartile","Whole Suburb","Whole Suburb",""]
["Opaki","Opaki","Median","OpakiMedian","Whole Suburb","Whole Suburb",""]
["Opaki","Opaki","Upper Quartile","OpakiUpper Quartile","Whole Suburb","Whole Suburb",""]
["Opotiki","Opotiki","Bonds","OpotikiBonds","Whole Suburb","Whole Suburb",414]
["Opotiki","Opotiki","Lower Quartile","OpotikiLower Quartile","Whole Suburb","Whole Suburb",300]
["Opotiki","Opotiki","Median","OpotikiMedian","Whole Suburb","Whole Suburb",335]
["Opotiki","Opotiki","Upper Quartile","OpotikiUpper Quartile","Whole Suburb","Whole Suburb",385]
["Opotiki","Waiotahe","Bonds","WaiotaheBonds","Whole Suburb","Whole Suburb",""]
["Opotiki","Waiotahe","Lower Quartile","WaiotaheLower Quartile","Whole Suburb","Whole Suburb",""]
["Opotiki","Waiotahe","Median","WaiotaheMedian","Whole Suburb","Whole Suburb",""]
["Opotiki","Waiotahe","Upper Quartile","WaiotaheUpper Quartile","Whole Suburb","Whole Suburb",""]
["Opotiki","Otara","Bonds","OtaraBonds","Whole Suburb","Whole Suburb",""]
["Opotiki","Otara","Lower Quartile","OtaraLower Quartile","Whole Suburb","Whole Suburb",""]
["Opotiki","Otara","Median","OtaraMedian","Whole Suburb","Whole Suburb",""]
["Opotiki","Otara","Upper Quartile","OtaraUpper Quartile","Whole Suburb","Whole Suburb",""]
["Opotiki","Tirohanga","Bonds","TirohangaBonds","Whole Suburb","Whole Suburb",""]
["Opotiki","Tirohanga","Lower Quartile","TirohangaLower Quartile","Whole Suburb","Whole Suburb",""]
["Opotiki","Tirohanga","Median","TirohangaMedian","Whole Suburb","Whole Suburb",""]
["Opotiki","Tirohanga","Upper Quartile","TirohangaUpper Quartile","Whole Suburb","Whole Suburb",""]
["Opua","Opua","Bonds","OpuaBonds","Whole Suburb","Whole Suburb",""]
["Opua","Opua","Lower Quartile","OpuaLower Quartile","Whole Suburb","Whole Suburb",""]
["Opua","Opua","Median","OpuaMedian","Whole Suburb","Whole Suburb",""]
["Opua","Opua","Upper Quartile","OpuaUpper Quartile","Whole Suburb","Whole Suburb",""]
["Opunake","Opunake","Bonds",{"$f":"B3906&C3906","v":"OpunakeBonds"},"Whole Suburb","Whole Suburb",108]
["Opunake","Opunake","Lower Quartile","OpunakeLower Quartile","Whole Suburb","Whole Suburb",338]
["Opunake","Opunake","Median","OpunakeMedian","Whole Suburb","Whole Suburb",390]
["Opunake","Opunake","Upper Quartile","OpunakeUpper Quartile","Whole Suburb","Whole Suburb",420]
["Opunake","Rahotu","Bonds","RahotuBonds","Whole Suburb","Whole Suburb",""]
["Opunake","Rahotu","Lower Quartile","RahotuLower Quartile","Whole Suburb","Whole Suburb",""]
["Opunake","Rahotu","Median","RahotuMedian","Whole Suburb","Whole Suburb",""]
["Opunake","Rahotu","Upper Quartile","RahotuUpper Quartile","Whole Suburb","Whole Suburb",""]
["Orere Point","Orere Point","Bonds","Orere PointBonds","Whole Suburb","Whole Suburb",""]
["Orere Point","Orere Point","Lower Quartile","Orere PointLower Quartile","Whole Suburb","Whole Suburb",""]
["Orere Point","Orere Point","Median","Orere PointMedian","Whole Suburb","Whole Suburb",""]
["Orere Point","Orere Point","Upper Quartile","Orere PointUpper Quartile","Whole Suburb","Whole Suburb",""]
["Orewa","Hatfields Beach","Bonds","Hatfields BeachBonds","Whole Suburb","Whole Suburb",81]
["Orewa","Hatfields Beach","Lower Quartile","Hatfields BeachLower Quartile","Whole Suburb","Whole Suburb",340]
["Orewa","Hatfields Beach","Median","Hatfields BeachMedian","Whole Suburb","Whole Suburb",495]
["Orewa","Hatfields Beach","Upper Quartile","Hatfields BeachUpper Quartile","Whole Suburb","Whole Suburb",573]
["Orewa","Orewa","Bonds","OrewaBonds","Whole Suburb","Whole Suburb",1131]
["Orewa","Orewa","Lower Quartile","OrewaLower Quartile","Whole Suburb","Whole Suburb",530]
["Orewa","Orewa","Median","OrewaMedian","Whole Suburb","Whole Suburb",610]
["Orewa","Orewa","Upper Quartile","OrewaUpper Quartile","Whole Suburb","Whole Suburb",750]
["Orewa","Waiwera","Bonds","WaiweraBonds","Whole Suburb","Whole Suburb",69]
["Orewa","Waiwera","Lower Quartile","WaiweraLower Quartile","Whole Suburb","Whole Suburb",383]
["Orewa","Waiwera","Median","WaiweraMedian","Whole Suburb","Whole Suburb",488]
["Orewa","Waiwera","Upper Quartile","WaiweraUpper Quartile","Whole Suburb","Whole Suburb",608]
["Orini","Orini","Bonds","OriniBonds","Whole Suburb","Whole Suburb",""]
["Orini","Orini","Lower Quartile","OriniLower Quartile","Whole Suburb","Whole Suburb",""]
["Orini","Orini","Median","OriniMedian","Whole Suburb","Whole Suburb",""]
["Orini","Orini","Upper Quartile","OriniUpper Quartile","Whole Suburb","Whole Suburb",""]
["Ormondville","Ormondville","Bonds","OrmondvilleBonds","Whole Suburb","Whole Suburb",""]
["Ormondville","Ormondville","Lower Quartile","OrmondvilleLower Quartile","Whole Suburb","Whole Suburb",""]
["Ormondville","Ormondville","Median","OrmondvilleMedian","Whole Suburb","Whole Suburb",""]
["Ormondville","Ormondville","Upper Quartile","OrmondvilleUpper Quartile","Whole Suburb","Whole Suburb",""]
["Oropi","Oropi","Bonds","OropiBonds","Whole Suburb","Whole Suburb",87]
["Oropi","Oropi","Lower Quartile","OropiLower Quartile","Whole Suburb","Whole Suburb",375]
["Oropi","Oropi","Median","OropiMedian","Whole Suburb","Whole Suburb",460]
["Oropi","Oropi","Upper Quartile","OropiUpper Quartile","Whole Suburb","Whole Suburb",600]
["Otaika","Otaika","Bonds","OtaikaBonds","Whole Suburb","Whole Suburb",""]
["Otaika","Otaika","Lower Quartile","OtaikaLower Quartile","Whole Suburb","Whole Suburb",""]
["Otaika","Otaika","Median","OtaikaMedian","Whole Suburb","Whole Suburb",""]
["Otaika","Otaika","Upper Quartile","OtaikaUpper Quartile","Whole Suburb","Whole Suburb",""]
["Otaki","Otaki","Bonds","OtakiBonds","Whole Suburb","Whole Suburb",450]
["Otaki","Otaki","Lower Quartile","OtakiLower Quartile","Whole Suburb","Whole Suburb",425]
["Otaki","Otaki","Median","OtakiMedian","Whole Suburb","Whole Suburb",470]
["Otaki","Otaki","Upper Quartile","OtakiUpper Quartile","Whole Suburb","Whole Suburb",510]
["Otaki","Otaki Beach","Bonds","Otaki BeachBonds","Whole Suburb","Whole Suburb",228]
["Otaki","Otaki Beach","Lower Quartile","Otaki BeachLower Quartile","Whole Suburb","Whole Suburb",400]
["Otaki","Otaki Beach","Median","Otaki BeachMedian","Whole Suburb","Whole Suburb",425]
["Otaki","Otaki Beach","Upper Quartile","Otaki BeachUpper Quartile","Whole Suburb","Whole Suburb",498]
["Otaki","Hautere","Bonds","HautereBonds","Whole Suburb","Whole Suburb",""]
["Otaki","Hautere","Lower Quartile","HautereLower Quartile","Whole Suburb","Whole Suburb",""]
["Otaki","Hautere","Median","HautereMedian","Whole Suburb","Whole Suburb",""]
["Otaki","Hautere","Upper Quartile","HautereUpper Quartile","Whole Suburb","Whole Suburb",""]
["Otaki","Te Horo","Bonds","Te HoroBonds","Whole Suburb","Whole Suburb",""]
["Otaki","Te Horo","Lower Quartile","Te HoroLower Quartile","Whole Suburb","Whole Suburb",""]
["Otaki","Te Horo","Median","Te HoroMedian","Whole Suburb","Whole Suburb",""]
["Otaki","Te Horo","Upper Quartile","Te HoroUpper Quartile","Whole Suburb","Whole Suburb",""]
["Otaki","Te Horo Beach","Bonds","Te Horo BeachBonds","Whole Suburb","Whole Suburb",""]
["Otaki","Te Horo Beach","Lower Quartile","Te Horo BeachLower Quartile","Whole Suburb","Whole Suburb",""]
["Otaki","Te Horo Beach","Median","Te Horo BeachMedian","Whole Suburb","Whole Suburb",""]
["Otaki","Te Horo Beach","Upper Quartile","Te Horo BeachUpper Quartile","Whole Suburb","Whole Suburb",""]
["Otane","Argyll","Bonds","ArgyllBonds","Whole Suburb","Whole Suburb",""]
["Otane","Argyll","Lower Quartile","ArgyllLower Quartile","Whole Suburb","Whole Suburb",""]
["Otane","Argyll","Median","ArgyllMedian","Whole Suburb","Whole Suburb",""]
["Otane","Argyll","Upper Quartile","ArgyllUpper Quartile","Whole Suburb","Whole Suburb",""]
["Otane","Otane","Bonds",{"$f":"B3970&C3970","v":"OtaneBonds"},"Whole Suburb","Whole Suburb",54]
["Otane","Otane","Lower Quartile","OtaneLower Quartile","Whole Suburb","Whole Suburb",356]
["Otane","Otane","Median","OtaneMedian","Whole Suburb","Whole Suburb",450]
["Otane","Otane","Upper Quartile","OtaneUpper Quartile","Whole Suburb","Whole Suburb",456]
["Otaua","Otaua","Bonds","OtauaBonds","Whole Suburb","Whole Suburb",""]
["Otaua","Otaua","Lower Quartile","OtauaLower Quartile","Whole Suburb","Whole Suburb",""]
["Otaua","Otaua","Median","OtauaMedian","Whole Suburb","Whole Suburb",""]
["Otaua","Otaua","Upper Quartile","OtauaUpper Quartile","Whole Suburb","Whole Suburb",""]
["Otautau","Otautau","Bonds","OtautauBonds","Whole Suburb","Whole Suburb",""]
["Otautau","Otautau","Lower Quartile","OtautauLower Quartile","Whole Suburb","Whole Suburb",""]
["Otautau","Otautau","Median","OtautauMedian","Whole Suburb","Whole Suburb",""]
["Otautau","Otautau","Upper Quartile","OtautauUpper Quartile","Whole Suburb","Whole Suburb",""]
["Otautau","Isla Bank","Bonds","Isla BankBonds","Whole Suburb","Whole Suburb",""]
["Otautau","Isla Bank","Lower Quartile","Isla BankLower Quartile","Whole Suburb","Whole Suburb",""]
["Otautau","Isla Bank","Median","Isla BankMedian","Whole Suburb","Whole Suburb",""]
["Otautau","Isla Bank","Upper Quartile","Isla BankUpper Quartile","Whole Suburb","Whole Suburb",""]
["Otematata","Otematata","Bonds","OtematataBonds","Whole Suburb","Whole Suburb",""]
["Otematata","Otematata","Lower Quartile","OtematataLower Quartile","Whole Suburb","Whole Suburb",""]
["Otematata","Otematata","Median","OtematataMedian","Whole Suburb","Whole Suburb",""]
["Otematata","Otematata","Upper Quartile","OtematataUpper Quartile","Whole Suburb","Whole Suburb",""]
["Otorohanga","Otewa","Bonds","OtewaBonds","Whole Suburb","Whole Suburb",""]
["Otorohanga","Otewa","Lower Quartile","OtewaLower Quartile","Whole Suburb","Whole Suburb",""]
["Otorohanga","Otewa","Median","OtewaMedian","Whole Suburb","Whole Suburb",""]
["Otorohanga","Otewa","Upper Quartile","OtewaUpper Quartile","Whole Suburb","Whole Suburb",""]
["Otorohanga","Otorohanga","Bonds","OtorohangaBonds","Whole Suburb","Whole Suburb",330]
["Otorohanga","Otorohanga","Lower Quartile","OtorohangaLower Quartile","Whole Suburb","Whole Suburb",300]
["Otorohanga","Otorohanga","Median","OtorohangaMedian","Whole Suburb","Whole Suburb",400]
["Otorohanga","Otorohanga","Upper Quartile","OtorohangaUpper Quartile","Whole Suburb","Whole Suburb",450]
["Otorohanga","Maihiihi","Bonds","MaihiihiBonds","Whole Suburb","Whole Suburb",""]
["Otorohanga","Maihiihi","Lower Quartile","MaihiihiLower Quartile","Whole Suburb","Whole Suburb",""]
["Otorohanga","Maihiihi","Median","MaihiihiMedian","Whole Suburb","Whole Suburb",""]
["Otorohanga","Maihiihi","Upper Quartile","MaihiihiUpper Quartile","Whole Suburb","Whole Suburb",""]
["Outram","Woodside","Bonds","WoodsideBonds","Whole Suburb","Whole Suburb",""]
["Outram","Woodside","Lower Quartile","WoodsideLower Quartile","Whole Suburb","Whole Suburb",""]
["Outram","Woodside","Median","WoodsideMedian","Whole Suburb","Whole Suburb",""]
["Outram","Woodside","Upper Quartile","WoodsideUpper Quartile","Whole Suburb","Whole Suburb",""]
["Outram","Outram","Bonds","OutramBonds","Whole Suburb","Whole Suburb",36]
["Outram","Outram","Lower Quartile","OutramLower Quartile","Whole Suburb","Whole Suburb",270]
["Outram","Outram","Median","OutramMedian","Whole Suburb","Whole Suburb",380]
["Outram","Outram","Upper Quartile","OutramUpper Quartile","Whole Suburb","Whole Suburb",450]
["Owaka","Owaka","Bonds","OwakaBonds","Whole Suburb","Whole Suburb",18]
["Owaka","Owaka","Lower Quartile","OwakaLower Quartile","Whole Suburb","Whole Suburb",200]
["Owaka","Owaka","Median","OwakaMedian","Whole Suburb","Whole Suburb",250]
["Owaka","Owaka","Upper Quartile","OwakaUpper Quartile","Whole Suburb","Whole Suburb",320]
["Owhango","Owhango","Bonds","OwhangoBonds","Whole Suburb","Whole Suburb",""]
["Owhango","Owhango","Lower Quartile","OwhangoLower Quartile","Whole Suburb","Whole Suburb",""]
["Owhango","Owhango","Median","OwhangoMedian","Whole Suburb","Whole Suburb",""]
["Owhango","Owhango","Upper Quartile","OwhangoUpper Quartile","Whole Suburb","Whole Suburb",""]
["Oxford","Burnt Hill","Bonds","Burnt HillBonds","Whole Suburb","Whole Suburb",""]
["Oxford","Burnt Hill","Lower Quartile","Burnt HillLower Quartile","Whole Suburb","Whole Suburb",""]
["Oxford","Burnt Hill","Median","Burnt HillMedian","Whole Suburb","Whole Suburb",""]
["Oxford","Burnt Hill","Upper Quartile","Burnt HillUpper Quartile","Whole Suburb","Whole Suburb",""]
["Oxford","Oxford","Bonds","OxfordBonds","Whole Suburb","Whole Suburb",120]
["Oxford","Oxford","Lower Quartile","OxfordLower Quartile","Whole Suburb","Whole Suburb",358]
["Oxford","Oxford","Median","OxfordMedian","Whole Suburb","Whole Suburb",385]
["Oxford","Oxford","Upper Quartile","OxfordUpper Quartile","Whole Suburb","Whole Suburb",423]
["Paekakariki","Paekakariki","Bonds","PaekakarikiBonds","Whole Suburb","Whole Suburb",144]
["Paekakariki","Paekakariki","Lower Quartile","PaekakarikiLower Quartile","Whole Suburb","Whole Suburb",399]
["Paekakariki","Paekakariki","Median","PaekakarikiMedian","Whole Suburb","Whole Suburb",480]
["Paekakariki","Paekakariki","Upper Quartile","PaekakarikiUpper Quartile","Whole Suburb","Whole Suburb",563]
["Paengaroa","Paengaroa","Bonds","PaengaroaBonds","Whole Suburb","Whole Suburb",120]
["Paengaroa","Paengaroa","Lower Quartile","PaengaroaLower Quartile","Whole Suburb","Whole Suburb",320]
["Paengaroa","Paengaroa","Median","PaengaroaMedian","Whole Suburb","Whole Suburb",400]
["Paengaroa","Paengaroa","Upper Quartile","PaengaroaUpper Quartile","Whole Suburb","Whole Suburb",588]
["Paengaroa","Maketu","Bonds",{"$f":"B4034&C4034","v":"MaketuBonds"},"Whole Suburb","Whole Suburb",60]
["Paengaroa","Maketu","Lower Quartile","MaketuLower Quartile","Whole Suburb","Whole Suburb",488]
["Paengaroa","Maketu","Median","MaketuMedian","Whole Suburb","Whole Suburb",550]
["Paengaroa","Maketu","Upper Quartile","MaketuUpper Quartile","Whole Suburb","Whole Suburb",583]
["Paeroa","Komata","Bonds","KomataBonds","Whole Suburb","Whole Suburb",""]
["Paeroa","Komata","Lower Quartile","KomataLower Quartile","Whole Suburb","Whole Suburb",""]
["Paeroa","Komata","Median","KomataMedian","Whole Suburb","Whole Suburb",""]
["Paeroa","Komata","Upper Quartile","KomataUpper Quartile","Whole Suburb","Whole Suburb",""]
["Paeroa","Netherton","Bonds","NethertonBonds","Whole Suburb","Whole Suburb",""]
["Paeroa","Netherton","Lower Quartile","NethertonLower Quartile","Whole Suburb","Whole Suburb",""]
["Paeroa","Netherton","Median","NethertonMedian","Whole Suburb","Whole Suburb",""]
["Paeroa","Netherton","Upper Quartile","NethertonUpper Quartile","Whole Suburb","Whole Suburb",""]
["Paeroa","Kerepehi","Bonds","KerepehiBonds","Whole Suburb","Whole Suburb",39]
["Paeroa","Kerepehi","Lower Quartile","KerepehiLower Quartile","Whole Suburb","Whole Suburb",270]
["Paeroa","Kerepehi","Median","KerepehiMedian","Whole Suburb","Whole Suburb",270]
["Paeroa","Kerepehi","Upper Quartile","KerepehiUpper Quartile","Whole Suburb","Whole Suburb",370]
["Paeroa","Hikutaia","Bonds","HikutaiaBonds","Whole Suburb","Whole Suburb",""]
["Paeroa","Hikutaia","Lower Quartile","HikutaiaLower Quartile","Whole Suburb","Whole Suburb",""]
["Paeroa","Hikutaia","Median","HikutaiaMedian","Whole Suburb","Whole Suburb",""]
["Paeroa","Hikutaia","Upper Quartile","HikutaiaUpper Quartile","Whole Suburb","Whole Suburb",""]
["Paeroa","Awaiti","Bonds","AwaitiBonds","Whole Suburb","Whole Suburb",""]
["Paeroa","Awaiti","Lower Quartile","AwaitiLower Quartile","Whole Suburb","Whole Suburb",""]
["Paeroa","Awaiti","Median","AwaitiMedian","Whole Suburb","Whole Suburb",""]
["Paeroa","Awaiti","Upper Quartile","AwaitiUpper Quartile","Whole Suburb","Whole Suburb",""]
["Paeroa","Paeroa","Bonds","PaeroaBonds","Whole Suburb","Whole Suburb",321]
["Paeroa","Paeroa","Lower Quartile","PaeroaLower Quartile","Whole Suburb","Whole Suburb",350]
["Paeroa","Paeroa","Median","PaeroaMedian","Whole Suburb","Whole Suburb",400]
["Paeroa","Paeroa","Upper Quartile","PaeroaUpper Quartile","Whole Suburb","Whole Suburb",450]
["Paeroa","Tirohia","Bonds","TirohiaBonds","Whole Suburb","Whole Suburb",""]
["Paeroa","Tirohia","Lower Quartile","TirohiaLower Quartile","Whole Suburb","Whole Suburb",""]
["Paeroa","Tirohia","Median","TirohiaMedian","Whole Suburb","Whole Suburb",""]
["Paeroa","Tirohia","Upper Quartile","TirohiaUpper Quartile","Whole Suburb","Whole Suburb",""]
["Pahiatua","Pahiatua","Bonds","PahiatuaBonds","Whole Suburb","Whole Suburb",228]
["Pahiatua","Pahiatua","Lower Quartile","PahiatuaLower Quartile","Whole Suburb","Whole Suburb",291]
["Pahiatua","Pahiatua","Median","PahiatuaMedian","Whole Suburb","Whole Suburb",320]
["Pahiatua","Pahiatua","Upper Quartile","PahiatuaUpper Quartile","Whole Suburb","Whole Suburb",350]
["Paihia","Paihia","Bonds","PaihiaBonds","Whole Suburb","Whole Suburb",288]
["Paihia","Paihia","Lower Quartile","PaihiaLower Quartile","Whole Suburb","Whole Suburb",300]
["Paihia","Paihia","Median","PaihiaMedian","Whole Suburb","Whole Suburb",393]
["Paihia","Paihia","Upper Quartile","PaihiaUpper Quartile","Whole Suburb","Whole Suburb",500]
["Palmerston","Palmerston","Bonds","PalmerstonBonds","Whole Suburb","Whole Suburb",""]
["Palmerston","Palmerston","Lower Quartile","PalmerstonLower Quartile","Whole Suburb","Whole Suburb",""]
["Palmerston","Palmerston","Median","PalmerstonMedian","Whole Suburb","Whole Suburb",""]
["Palmerston","Palmerston","Upper Quartile","PalmerstonUpper Quartile","Whole Suburb","Whole Suburb",""]
["Palmerston North","Newbury","Bonds","NewburyBonds","Whole Suburb","Whole Suburb",""]
["Palmerston North","Newbury","Lower Quartile","NewburyLower Quartile","Whole Suburb","Whole Suburb",""]
["Palmerston North","Newbury","Median","NewburyMedian","Whole Suburb","Whole Suburb",""]
["Palmerston North","Newbury","Upper Quartile","NewburyUpper Quartile","Whole Suburb","Whole Suburb",""]
["Palmerston North","Hokowhitu","Bonds","HokowhituBonds","Whole Suburb","Whole Suburb",1203]
["Palmerston North","Hokowhitu","Lower Quartile","HokowhituLower Quartile","Whole Suburb","Whole Suburb",340]
["Palmerston North","Hokowhitu","Median","HokowhituMedian","Whole Suburb","Whole Suburb",450]
["Palmerston North","Hokowhitu","Upper Quartile","HokowhituUpper Quartile","Whole Suburb","Whole Suburb",530]
["Palmerston North","West End","Bonds","West EndBonds","Whole Suburb","Whole Suburb",1008]
["Palmerston North","West End","Lower Quartile","West EndLower Quartile","Whole Suburb","Whole Suburb",280]
["Palmerston North","West End","Median","West EndMedian","Whole Suburb","Whole Suburb",380]
["Palmerston North","West End","Upper Quartile","West EndUpper Quartile","Whole Suburb","Whole Suburb",450]
["Palmerston North","Westbrook","Bonds","WestbrookBonds","Whole Suburb","Whole Suburb",105]
["Palmerston North","Westbrook","Lower Quartile","WestbrookLower Quartile","Whole Suburb","Whole Suburb",206]
["Palmerston North","Westbrook","Median","WestbrookMedian","Whole Suburb","Whole Suburb",420]
["Palmerston North","Westbrook","Upper Quartile","WestbrookUpper Quartile","Whole Suburb","Whole Suburb",455]
["Palmerston North","Milson","Bonds","MilsonBonds","Whole Suburb","Whole Suburb",441]
["Palmerston North","Milson","Lower Quartile","MilsonLower Quartile","Whole Suburb","Whole Suburb",450]
["Palmerston North","Milson","Median","MilsonMedian","Whole Suburb","Whole Suburb",490]
["Palmerston North","Milson","Upper Quartile","MilsonUpper Quartile","Whole Suburb","Whole Suburb",550]
["Palmerston North","Bunnythorpe","Bonds",{"$f":"B4098&C4098","v":"BunnythorpeBonds"},"Whole Suburb","Whole Suburb",39]
["Palmerston North","Bunnythorpe","Lower Quartile","BunnythorpeLower Quartile","Whole Suburb","Whole Suburb",403]
["Palmerston North","Bunnythorpe","Median","BunnythorpeMedian","Whole Suburb","Whole Suburb",510]
["Palmerston North","Bunnythorpe","Upper Quartile","BunnythorpeUpper Quartile","Whole Suburb","Whole Suburb",520]
["Palmerston North","Opiki","Bonds","OpikiBonds","Whole Suburb","Whole Suburb",""]
["Palmerston North","Opiki","Lower Quartile","OpikiLower Quartile","Whole Suburb","Whole Suburb",""]
["Palmerston North","Opiki","Median","OpikiMedian","Whole Suburb","Whole Suburb",""]
["Palmerston North","Opiki","Upper Quartile","OpikiUpper Quartile","Whole Suburb","Whole Suburb",""]
["Palmerston North","Palmerston North","Bonds","Palmerston NorthBonds","Whole Suburb","Whole Suburb",1923]
["Palmerston North","Palmerston North","Lower Quartile","Palmerston NorthLower Quartile","Whole Suburb","Whole Suburb",260]
["Palmerston North","Palmerston North","Median","Palmerston NorthMedian","Whole Suburb","Whole Suburb",375]
["Palmerston North","Palmerston North","Upper Quartile","Palmerston NorthUpper Quartile","Whole Suburb","Whole Suburb",483]
["Palmerston North","Linton","Bonds","LintonBonds","Whole Suburb","Whole Suburb",""]
["Palmerston North","Linton","Lower Quartile","LintonLower Quartile","Whole Suburb","Whole Suburb",""]
["Palmerston North","Linton","Median","LintonMedian","Whole Suburb","Whole Suburb",""]
["Palmerston North","Linton","Upper Quartile","LintonUpper Quartile","Whole Suburb","Whole Suburb",""]
["Palmerston North","Longburn","Bonds","LongburnBonds","Whole Suburb","Whole Suburb",42]
["Palmerston North","Longburn","Lower Quartile","LongburnLower Quartile","Whole Suburb","Whole Suburb",480]
["Palmerston North","Longburn","Median","LongburnMedian","Whole Suburb","Whole Suburb",550]
["Palmerston North","Longburn","Upper Quartile","LongburnUpper Quartile","Whole Suburb","Whole Suburb",600]
["Palmerston North","Kelvin Grove","Bonds","Kelvin GroveBonds","Whole Suburb","Whole Suburb",438]
["Palmerston North","Kelvin Grove","Lower Quartile","Kelvin GroveLower Quartile","Whole Suburb","Whole Suburb",476]
["Palmerston North","Kelvin Grove","Median","Kelvin GroveMedian","Whole Suburb","Whole Suburb",528]
["Palmerston North","Kelvin Grove","Upper Quartile","Kelvin GroveUpper Quartile","Whole Suburb","Whole Suburb",584]
["Palmerston North","Massey University","Bonds","Massey UniversityBonds","Whole Suburb","Whole Suburb",102]
["Palmerston North","Massey University","Lower Quartile","Massey UniversityLower Quartile","Whole Suburb","Whole Suburb",240]
["Palmerston North","Massey University","Median","Massey UniversityMedian","Whole Suburb","Whole Suburb",255]
["Palmerston North","Massey University","Upper Quartile","Massey UniversityUpper Quartile","Whole Suburb","Whole Suburb",255]
["Palmerston North","Awahuri","Bonds","AwahuriBonds","Whole Suburb","Whole Suburb",""]
["Palmerston North","Awahuri","Lower Quartile","AwahuriLower Quartile","Whole Suburb","Whole Suburb",""]
["Palmerston North","Awahuri","Median","AwahuriMedian","Whole Suburb","Whole Suburb",""]
["Palmerston North","Awahuri","Upper Quartile","AwahuriUpper Quartile","Whole Suburb","Whole Suburb",""]
["Palmerston North","Awapuni","Bonds","AwapuniBonds","Whole Suburb","Whole Suburb",687]
["Palmerston North","Awapuni","Lower Quartile","AwapuniLower Quartile","Whole Suburb","Whole Suburb",400]
["Palmerston North","Awapuni","Median","AwapuniMedian","Whole Suburb","Whole Suburb",450]
["Palmerston North","Awapuni","Upper Quartile","AwapuniUpper Quartile","Whole Suburb","Whole Suburb",490]
["Palmerston North","Fitzherbert","Bonds","FitzherbertBonds","Whole Suburb","Whole Suburb",156]
["Palmerston North","Fitzherbert","Lower Quartile","FitzherbertLower Quartile","Whole Suburb","Whole Suburb",565]
["Palmerston North","Fitzherbert","Median","FitzherbertMedian","Whole Suburb","Whole Suburb",600]
["Palmerston North","Fitzherbert","Upper Quartile","FitzherbertUpper Quartile","Whole Suburb","Whole Suburb",665]
["Palmerston North","Whakarongo","Bonds","WhakarongoBonds","Whole Suburb","Whole Suburb",""]
["Palmerston North","Whakarongo","Lower Quartile","WhakarongoLower Quartile","Whole Suburb","Whole Suburb",""]
["Palmerston North","Whakarongo","Median","WhakarongoMedian","Whole Suburb","Whole Suburb",""]
["Palmerston North","Whakarongo","Upper Quartile","WhakarongoUpper Quartile","Whole Suburb","Whole Suburb",""]
["Palmerston North","Terrace End","Bonds","Terrace EndBonds","Whole Suburb","Whole Suburb",609]
["Palmerston North","Terrace End","Lower Quartile","Terrace EndLower Quartile","Whole Suburb","Whole Suburb",380]
["Palmerston North","Terrace End","Median","Terrace EndMedian","Whole Suburb","Whole Suburb",480]
["Palmerston North","Terrace End","Upper Quartile","Terrace EndUpper Quartile","Whole Suburb","Whole Suburb",530]
["Palmerston North","Tiakitahuna","Bonds","TiakitahunaBonds","Whole Suburb","Whole Suburb",""]
["Palmerston North","Tiakitahuna","Lower Quartile","TiakitahunaLower Quartile","Whole Suburb","Whole Suburb",""]
["Palmerston North","Tiakitahuna","Median","TiakitahunaMedian","Whole Suburb","Whole Suburb",""]
["Palmerston North","Tiakitahuna","Upper Quartile","TiakitahunaUpper Quartile","Whole Suburb","Whole Suburb",""]
["Palmerston North","Rangiotu","Bonds","RangiotuBonds","Whole Suburb","Whole Suburb",""]
["Palmerston North","Rangiotu","Lower Quartile","RangiotuLower Quartile","Whole Suburb","Whole Suburb",""]
["Palmerston North","Rangiotu","Median","RangiotuMedian","Whole Suburb","Whole Suburb",""]
["Palmerston North","Rangiotu","Upper Quartile","RangiotuUpper Quartile","Whole Suburb","Whole Suburb",""]
["Palmerston North","Roslyn","Bonds","RoslynBonds","Whole Suburb","Whole Suburb",801]
["Palmerston North","Roslyn","Lower Quartile","RoslynLower Quartile","Whole Suburb","Whole Suburb",360]
["Palmerston North","Roslyn","Median","RoslynMedian","Whole Suburb","Whole Suburb",430]
["Palmerston North","Roslyn","Upper Quartile","RoslynUpper Quartile","Whole Suburb","Whole Suburb",520]
["Palmerston North","Cloverlea","Bonds","CloverleaBonds","Whole Suburb","Whole Suburb",174]
["Palmerston North","Cloverlea","Lower Quartile","CloverleaLower Quartile","Whole Suburb","Whole Suburb",450]
["Palmerston North","Cloverlea","Median","CloverleaMedian","Whole Suburb","Whole Suburb",480]
["Palmerston North","Cloverlea","Upper Quartile","CloverleaUpper Quartile","Whole Suburb","Whole Suburb",490]
["Palmerston North","Highbury","Bonds",{"$f":"B4162&C4162","v":"HighburyBonds"},"Whole Suburb","Whole Suburb",348]
["Palmerston North","Highbury","Lower Quartile","HighburyLower Quartile","Whole Suburb","Whole Suburb",400]
["Palmerston North","Highbury","Median","HighburyMedian","Whole Suburb","Whole Suburb",445]
["Palmerston North","Highbury","Upper Quartile","HighburyUpper Quartile","Whole Suburb","Whole Suburb",484]
["Palmerston North","Takaro","Bonds","TakaroBonds","Whole Suburb","Whole Suburb",684]
["Palmerston North","Takaro","Lower Quartile","TakaroLower Quartile","Whole Suburb","Whole Suburb",330]
["Palmerston North","Takaro","Median","TakaroMedian","Whole Suburb","Whole Suburb",435]
["Palmerston North","Takaro","Upper Quartile","TakaroUpper Quartile","Whole Suburb","Whole Suburb",500]
["Palmerston North","Tokomaru","Bonds","TokomaruBonds","Whole Suburb","Whole Suburb",39]
["Palmerston North","Tokomaru","Lower Quartile","TokomaruLower Quartile","Whole Suburb","Whole Suburb",448]
["Palmerston North","Tokomaru","Median","TokomaruMedian","Whole Suburb","Whole Suburb",520]
["Palmerston North","Tokomaru","Upper Quartile","TokomaruUpper Quartile","Whole Suburb","Whole Suburb",520]
["Panguru","Panguru","Bonds","PanguruBonds","Whole Suburb","Whole Suburb",""]
["Panguru","Panguru","Lower Quartile","PanguruLower Quartile","Whole Suburb","Whole Suburb",""]
["Panguru","Panguru","Median","PanguruMedian","Whole Suburb","Whole Suburb",""]
["Panguru","Panguru","Upper Quartile","PanguruUpper Quartile","Whole Suburb","Whole Suburb",""]
["Papakura","Papakura","Bonds","PapakuraBonds","Whole Suburb","Whole Suburb",2943]
["Papakura","Papakura","Lower Quartile","PapakuraLower Quartile","Whole Suburb","Whole Suburb",500]
["Papakura","Papakura","Median","PapakuraMedian","Whole Suburb","Whole Suburb",580]
["Papakura","Papakura","Upper Quartile","PapakuraUpper Quartile","Whole Suburb","Whole Suburb",650]
["Papakura","Opaheke","Bonds","OpahekeBonds","Whole Suburb","Whole Suburb",318]
["Papakura","Opaheke","Lower Quartile","OpahekeLower Quartile","Whole Suburb","Whole Suburb",550]
["Papakura","Opaheke","Median","OpahekeMedian","Whole Suburb","Whole Suburb",595]
["Papakura","Opaheke","Upper Quartile","OpahekeUpper Quartile","Whole Suburb","Whole Suburb",638]
["Papakura","Pahurehure","Bonds","PahurehureBonds","Whole Suburb","Whole Suburb",219]
["Papakura","Pahurehure","Lower Quartile","PahurehureLower Quartile","Whole Suburb","Whole Suburb",493]
["Papakura","Pahurehure","Median","PahurehureMedian","Whole Suburb","Whole Suburb",590]
["Papakura","Pahurehure","Upper Quartile","PahurehureUpper Quartile","Whole Suburb","Whole Suburb",650]
["Papakura","Karaka","Bonds","KarakaBonds","Whole Suburb","Whole Suburb",474]
["Papakura","Karaka","Lower Quartile","KarakaLower Quartile","Whole Suburb","Whole Suburb",650]
["Papakura","Karaka","Median","KarakaMedian","Whole Suburb","Whole Suburb",750]
["Papakura","Karaka","Upper Quartile","KarakaUpper Quartile","Whole Suburb","Whole Suburb",830]
["Papakura","Ardmore","Bonds","ArdmoreBonds","Whole Suburb","Whole Suburb",""]
["Papakura","Ardmore","Lower Quartile","ArdmoreLower Quartile","Whole Suburb","Whole Suburb",""]
["Papakura","Ardmore","Median","ArdmoreMedian","Whole Suburb","Whole Suburb",""]
["Papakura","Ardmore","Upper Quartile","ArdmoreUpper Quartile","Whole Suburb","Whole Suburb",""]
["Papakura","Red Hill","Bonds","Red HillBonds","Whole Suburb","Whole Suburb",165]
["Papakura","Red Hill","Lower Quartile","Red HillLower Quartile","Whole Suburb","Whole Suburb",530]
["Papakura","Red Hill","Median","Red HillMedian","Whole Suburb","Whole Suburb",550]
["Papakura","Red Hill","Upper Quartile","Red HillUpper Quartile","Whole Suburb","Whole Suburb",640]
["Papakura","Rosehill","Bonds","RosehillBonds","Whole Suburb","Whole Suburb",279]
["Papakura","Rosehill","Lower Quartile","RosehillLower Quartile","Whole Suburb","Whole Suburb",550]
["Papakura","Rosehill","Median","RosehillMedian","Whole Suburb","Whole Suburb",580]
["Papakura","Rosehill","Upper Quartile","RosehillUpper Quartile","Whole Suburb","Whole Suburb",620]
["Papamoa","Papamoa Beach","Bonds","Papamoa BeachBonds","Whole Suburb","Whole Suburb",2685]
["Papamoa","Papamoa Beach","Lower Quartile","Papamoa BeachLower Quartile","Whole Suburb","Whole Suburb",540]
["Papamoa","Papamoa Beach","Median","Papamoa BeachMedian","Whole Suburb","Whole Suburb",590]
["Papamoa","Papamoa Beach","Upper Quartile","Papamoa BeachUpper Quartile","Whole Suburb","Whole Suburb",640]
["Papamoa","Papamoa","Bonds","PapamoaBonds","Whole Suburb","Whole Suburb",459]
["Papamoa","Papamoa","Lower Quartile","PapamoaLower Quartile","Whole Suburb","Whole Suburb",580]
["Papamoa","Papamoa","Median","PapamoaMedian","Whole Suburb","Whole Suburb",600]
["Papamoa","Papamoa","Upper Quartile","PapamoaUpper Quartile","Whole Suburb","Whole Suburb",635]
["Paparoa","Taipuha","Bonds","TaipuhaBonds","Whole Suburb","Whole Suburb",""]
["Paparoa","Taipuha","Lower Quartile","TaipuhaLower Quartile","Whole Suburb","Whole Suburb",""]
["Paparoa","Taipuha","Median","TaipuhaMedian","Whole Suburb","Whole Suburb",""]
["Paparoa","Taipuha","Upper Quartile","TaipuhaUpper Quartile","Whole Suburb","Whole Suburb",""]
["Paparoa","Pahi","Bonds","PahiBonds","Whole Suburb","Whole Suburb",""]
["Paparoa","Pahi","Lower Quartile","PahiLower Quartile","Whole Suburb","Whole Suburb",""]
["Paparoa","Pahi","Median","PahiMedian","Whole Suburb","Whole Suburb",""]
["Paparoa","Pahi","Upper Quartile","PahiUpper Quartile","Whole Suburb","Whole Suburb",""]
["Paparoa","Paparoa","Bonds","PaparoaBonds","Whole Suburb","Whole Suburb",24]
["Paparoa","Paparoa","Lower Quartile","PaparoaLower Quartile","Whole Suburb","Whole Suburb",400]
["Paparoa","Paparoa","Median","PaparoaMedian","Whole Suburb","Whole Suburb",400]
["Paparoa","Paparoa","Upper Quartile","PaparoaUpper Quartile","Whole Suburb","Whole Suburb",413]
["Parakai","Parakai","Bonds",{"$f":"B4226&C4226","v":"ParakaiBonds"},"Whole Suburb","Whole Suburb",102]
["Parakai","Parakai","Lower Quartile","ParakaiLower Quartile","Whole Suburb","Whole Suburb",443]
["Parakai","Parakai","Median","ParakaiMedian","Whole Suburb","Whole Suburb",520]
["Parakai","Parakai","Upper Quartile","ParakaiUpper Quartile","Whole Suburb","Whole Suburb",581]
["Paraparaumu","Paraparaumu","Bonds","ParaparaumuBonds","Whole Suburb","Whole Suburb",834]
["Paraparaumu","Paraparaumu","Lower Quartile","ParaparaumuLower Quartile","Whole Suburb","Whole Suburb",295]
["Paraparaumu","Paraparaumu","Median","ParaparaumuMedian","Whole Suburb","Whole Suburb",460]
["Paraparaumu","Paraparaumu","Upper Quartile","ParaparaumuUpper Quartile","Whole Suburb","Whole Suburb",550]
["Paraparaumu","Otaihanga","Bonds","OtaihangaBonds","Whole Suburb","Whole Suburb",""]
["Paraparaumu","Otaihanga","Lower Quartile","OtaihangaLower Quartile","Whole Suburb","Whole Suburb",""]
["Paraparaumu","Otaihanga","Median","OtaihangaMedian","Whole Suburb","Whole Suburb",""]
["Paraparaumu","Otaihanga","Upper Quartile","OtaihangaUpper Quartile","Whole Suburb","Whole Suburb",""]
["Paraparaumu","Paraparaumu Beach","Bonds","Paraparaumu BeachBonds","Whole Suburb","Whole Suburb",837]
["Paraparaumu","Paraparaumu Beach","Lower Quartile","Paraparaumu BeachLower Quartile","Whole Suburb","Whole Suburb",475]
["Paraparaumu","Paraparaumu Beach","Median","Paraparaumu BeachMedian","Whole Suburb","Whole Suburb",550]
["Paraparaumu","Paraparaumu Beach","Upper Quartile","Paraparaumu BeachUpper Quartile","Whole Suburb","Whole Suburb",613]
["Paraparaumu","Raumati Beach","Bonds","Raumati BeachBonds","Whole Suburb","Whole Suburb",468]
["Paraparaumu","Raumati Beach","Lower Quartile","Raumati BeachLower Quartile","Whole Suburb","Whole Suburb",488]
["Paraparaumu","Raumati Beach","Median","Raumati BeachMedian","Whole Suburb","Whole Suburb",560]
["Paraparaumu","Raumati Beach","Upper Quartile","Raumati BeachUpper Quartile","Whole Suburb","Whole Suburb",616]
["Paraparaumu","Raumati South","Bonds","Raumati SouthBonds","Whole Suburb","Whole Suburb",288]
["Paraparaumu","Raumati South","Lower Quartile","Raumati SouthLower Quartile","Whole Suburb","Whole Suburb",480]
["Paraparaumu","Raumati South","Median","Raumati SouthMedian","Whole Suburb","Whole Suburb",585]
["Paraparaumu","Raumati South","Upper Quartile","Raumati SouthUpper Quartile","Whole Suburb","Whole Suburb",673]
["Pareora","Pareora","Bonds","PareoraBonds","Whole Suburb","Whole Suburb",""]
["Pareora","Pareora","Lower Quartile","PareoraLower Quartile","Whole Suburb","Whole Suburb",""]
["Pareora","Pareora","Median","PareoraMedian","Whole Suburb","Whole Suburb",""]
["Pareora","Pareora","Upper Quartile","PareoraUpper Quartile","Whole Suburb","Whole Suburb",""]
["Parua Bay","Parua Bay","Bonds","Parua BayBonds","Whole Suburb","Whole Suburb",60]
["Parua Bay","Parua Bay","Lower Quartile","Parua BayLower Quartile","Whole Suburb","Whole Suburb",510]
["Parua Bay","Parua Bay","Median","Parua BayMedian","Whole Suburb","Whole Suburb",620]
["Parua Bay","Parua Bay","Upper Quartile","Parua BayUpper Quartile","Whole Suburb","Whole Suburb",695]
["Parua Bay","Taiharuru","Bonds","TaiharuruBonds","Whole Suburb","Whole Suburb",""]
["Parua Bay","Taiharuru","Lower Quartile","TaiharuruLower Quartile","Whole Suburb","Whole Suburb",""]
["Parua Bay","Taiharuru","Median","TaiharuruMedian","Whole Suburb","Whole Suburb",""]
["Parua Bay","Taiharuru","Upper Quartile","TaiharuruUpper Quartile","Whole Suburb","Whole Suburb",""]
["Patea","Kakaramea","Bonds","KakarameaBonds","Whole Suburb","Whole Suburb",""]
["Patea","Kakaramea","Lower Quartile","KakarameaLower Quartile","Whole Suburb","Whole Suburb",""]
["Patea","Kakaramea","Median","KakarameaMedian","Whole Suburb","Whole Suburb",""]
["Patea","Kakaramea","Upper Quartile","KakarameaUpper Quartile","Whole Suburb","Whole Suburb",""]
["Patea","Manutahi","Bonds","ManutahiBonds","Whole Suburb","Whole Suburb",""]
["Patea","Manutahi","Lower Quartile","ManutahiLower Quartile","Whole Suburb","Whole Suburb",""]
["Patea","Manutahi","Median","ManutahiMedian","Whole Suburb","Whole Suburb",""]
["Patea","Manutahi","Upper Quartile","ManutahiUpper Quartile","Whole Suburb","Whole Suburb",""]
["Patea","Patea","Bonds","PateaBonds","Whole Suburb","Whole Suburb",117]
["Patea","Patea","Lower Quartile","PateaLower Quartile","Whole Suburb","Whole Suburb",235]
["Patea","Patea","Median","PateaMedian","Whole Suburb","Whole Suburb",300]
["Patea","Patea","Upper Quartile","PateaUpper Quartile","Whole Suburb","Whole Suburb",325]
["Pauanui","Pauanui","Bonds","PauanuiBonds","Whole Suburb","Whole Suburb",""]
["Pauanui","Pauanui","Lower Quartile","PauanuiLower Quartile","Whole Suburb","Whole Suburb",""]
["Pauanui","Pauanui","Median","PauanuiMedian","Whole Suburb","Whole Suburb",""]
["Pauanui","Pauanui","Upper Quartile","PauanuiUpper Quartile","Whole Suburb","Whole Suburb",""]
["Pegasus","Pegasus","Bonds","PegasusBonds","Whole Suburb","Whole Suburb",255]
["Pegasus","Pegasus","Lower Quartile","PegasusLower Quartile","Whole Suburb","Whole Suburb",450]
["Pegasus","Pegasus","Median","PegasusMedian","Whole Suburb","Whole Suburb",485]
["Pegasus","Pegasus","Upper Quartile","PegasusUpper Quartile","Whole Suburb","Whole Suburb",550]
["Picton","Koromiko","Bonds","KoromikoBonds","Whole Suburb","Whole Suburb",""]
["Picton","Koromiko","Lower Quartile","KoromikoLower Quartile","Whole Suburb","Whole Suburb",""]
["Picton","Koromiko","Median","KoromikoMedian","Whole Suburb","Whole Suburb",""]
["Picton","Koromiko","Upper Quartile","KoromikoUpper Quartile","Whole Suburb","Whole Suburb",""]
["Picton","Picton","Bonds","PictonBonds","Whole Suburb","Whole Suburb",339]
["Picton","Picton","Lower Quartile","PictonLower Quartile","Whole Suburb","Whole Suburb",300]
["Picton","Picton","Median","PictonMedian","Whole Suburb","Whole Suburb",400]
["Picton","Picton","Upper Quartile","PictonUpper Quartile","Whole Suburb","Whole Suburb",476]
["Picton","Waikawa","Bonds",{"$f":"B4290&C4290","v":"WaikawaBonds"},"Whole Suburb","Whole Suburb",102]
["Picton","Waikawa","Lower Quartile","WaikawaLower Quartile","Whole Suburb","Whole Suburb",443]
["Picton","Waikawa","Median","WaikawaMedian","Whole Suburb","Whole Suburb",460]
["Picton","Waikawa","Upper Quartile","WaikawaUpper Quartile","Whole Suburb","Whole Suburb",484]
["Piha","Piha","Bonds","PihaBonds","Whole Suburb","Whole Suburb",""]
["Piha","Piha","Lower Quartile","PihaLower Quartile","Whole Suburb","Whole Suburb",""]
["Piha","Piha","Median","PihaMedian","Whole Suburb","Whole Suburb",""]
["Piha","Piha","Upper Quartile","PihaUpper Quartile","Whole Suburb","Whole Suburb",""]
["Piopio","Piopio","Bonds","PiopioBonds","Whole Suburb","Whole Suburb",""]
["Piopio","Piopio","Lower Quartile","PiopioLower Quartile","Whole Suburb","Whole Suburb",""]
["Piopio","Piopio","Median","PiopioMedian","Whole Suburb","Whole Suburb",""]
["Piopio","Piopio","Upper Quartile","PiopioUpper Quartile","Whole Suburb","Whole Suburb",""]
["Pirongia","Puketotara","Bonds","PuketotaraBonds","Whole Suburb","Whole Suburb",""]
["Pirongia","Puketotara","Lower Quartile","PuketotaraLower Quartile","Whole Suburb","Whole Suburb",""]
["Pirongia","Puketotara","Median","PuketotaraMedian","Whole Suburb","Whole Suburb",""]
["Pirongia","Puketotara","Upper Quartile","PuketotaraUpper Quartile","Whole Suburb","Whole Suburb",""]
["Pirongia","Pirongia","Bonds","PirongiaBonds","Whole Suburb","Whole Suburb",45]
["Pirongia","Pirongia","Lower Quartile","PirongiaLower Quartile","Whole Suburb","Whole Suburb",400]
["Pirongia","Pirongia","Median","PirongiaMedian","Whole Suburb","Whole Suburb",500]
["Pirongia","Pirongia","Upper Quartile","PirongiaUpper Quartile","Whole Suburb","Whole Suburb",530]
["Pleasant Point","Pleasant Point","Bonds","Pleasant PointBonds","Whole Suburb","Whole Suburb",72]
["Pleasant Point","Pleasant Point","Lower Quartile","Pleasant PointLower Quartile","Whole Suburb","Whole Suburb",353]
["Pleasant Point","Pleasant Point","Median","Pleasant PointMedian","Whole Suburb","Whole Suburb",383]
["Pleasant Point","Pleasant Point","Upper Quartile","Pleasant PointUpper Quartile","Whole Suburb","Whole Suburb",415]
["Pleasant Point","Hazelburn","Bonds","HazelburnBonds","Whole Suburb","Whole Suburb",""]
["Pleasant Point","Hazelburn","Lower Quartile","HazelburnLower Quartile","Whole Suburb","Whole Suburb",""]
["Pleasant Point","Hazelburn","Median","HazelburnMedian","Whole Suburb","Whole Suburb",""]
["Pleasant Point","Hazelburn","Upper Quartile","HazelburnUpper Quartile","Whole Suburb","Whole Suburb",""]
["Point Wells","Point Wells","Bonds","Point WellsBonds","Whole Suburb","Whole Suburb",36]
["Point Wells","Point Wells","Lower Quartile","Point WellsLower Quartile","Whole Suburb","Whole Suburb",370]
["Point Wells","Point Wells","Median","Point WellsMedian","Whole Suburb","Whole Suburb",560]
["Point Wells","Point Wells","Upper Quartile","Point WellsUpper Quartile","Whole Suburb","Whole Suburb",648]
["Pokeno","Pokeno","Bonds","PokenoBonds","Whole Suburb","Whole Suburb",126]
["Pokeno","Pokeno","Lower Quartile","PokenoLower Quartile","Whole Suburb","Whole Suburb",583]
["Pokeno","Pokeno","Median","PokenoMedian","Whole Suburb","Whole Suburb",665]
["Pokeno","Pokeno","Upper Quartile","PokenoUpper Quartile","Whole Suburb","Whole Suburb",773]
["Pollok","Pollok","Bonds","PollokBonds","Whole Suburb","Whole Suburb",""]
["Pollok","Pollok","Lower Quartile","PollokLower Quartile","Whole Suburb","Whole Suburb",""]
["Pollok","Pollok","Median","PollokMedian","Whole Suburb","Whole Suburb",""]
["Pollok","Pollok","Upper Quartile","PollokUpper Quartile","Whole Suburb","Whole Suburb",""]
["Pongakawa","Pongakawa","Bonds","PongakawaBonds","Whole Suburb","Whole Suburb",54]
["Pongakawa","Pongakawa","Lower Quartile","PongakawaLower Quartile","Whole Suburb","Whole Suburb",454]
["Pongakawa","Pongakawa","Median","PongakawaMedian","Whole Suburb","Whole Suburb",515]
["Pongakawa","Pongakawa","Upper Quartile","PongakawaUpper Quartile","Whole Suburb","Whole Suburb",555]
["Porangahau","Porangahau","Bonds","PorangahauBonds","Whole Suburb","Whole Suburb",""]
["Porangahau","Porangahau","Lower Quartile","PorangahauLower Quartile","Whole Suburb","Whole Suburb",""]
["Porangahau","Porangahau","Median","PorangahauMedian","Whole Suburb","Whole Suburb",""]
["Porangahau","Porangahau","Upper Quartile","PorangahauUpper Quartile","Whole Suburb","Whole Suburb",""]
["Porirua","Camborne","Bonds","CamborneBonds","Whole Suburb","Whole Suburb",96]
["Porirua","Camborne","Lower Quartile","CamborneLower Quartile","Whole Suburb","Whole Suburb",510]
["Porirua","Camborne","Median","CamborneMedian","Whole Suburb","Whole Suburb",595]
["Porirua","Camborne","Upper Quartile","CamborneUpper Quartile","Whole Suburb","Whole Suburb",745]
["Porirua","Cannons Creek","Bonds","Cannons CreekBonds","Whole Suburb","Whole Suburb",408]
["Porirua","Cannons Creek","Lower Quartile","Cannons CreekLower Quartile","Whole Suburb","Whole Suburb",453]
["Porirua","Cannons Creek","Median","Cannons CreekMedian","Whole Suburb","Whole Suburb",500]
["Porirua","Cannons Creek","Upper Quartile","Cannons CreekUpper Quartile","Whole Suburb","Whole Suburb",550]
["Porirua","Ranui","Bonds","RanuiBonds","Whole Suburb","Whole Suburb",267]
["Porirua","Ranui","Lower Quartile","RanuiLower Quartile","Whole Suburb","Whole Suburb",390]
["Porirua","Ranui","Median","RanuiMedian","Whole Suburb","Whole Suburb",500]
["Porirua","Ranui","Upper Quartile","RanuiUpper Quartile","Whole Suburb","Whole Suburb",535]
["Porirua","Whitby","Bonds","WhitbyBonds","Whole Suburb","Whole Suburb",534]
["Porirua","Whitby","Lower Quartile","WhitbyLower Quartile","Whole Suburb","Whole Suburb",623]
["Porirua","Whitby","Median","WhitbyMedian","Whole Suburb","Whole Suburb",688]
["Porirua","Whitby","Upper Quartile","WhitbyUpper Quartile","Whole Suburb","Whole Suburb",769]
["Porirua","Takapuwahia","Bonds",{"$f":"B4354&C4354","v":"TakapuwahiaBonds"},"Whole Suburb","Whole Suburb",105]
["Porirua","Takapuwahia","Lower Quartile","TakapuwahiaLower Quartile","Whole Suburb","Whole Suburb",460]
["Porirua","Takapuwahia","Median","TakapuwahiaMedian","Whole Suburb","Whole Suburb",550]
["Porirua","Takapuwahia","Upper Quartile","TakapuwahiaUpper Quartile","Whole Suburb","Whole Suburb",560]
["Porirua","Papakowhai","Bonds","PapakowhaiBonds","Whole Suburb","Whole Suburb",105]
["Porirua","Papakowhai","Lower Quartile","PapakowhaiLower Quartile","Whole Suburb","Whole Suburb",533]
["Porirua","Papakowhai","Median","PapakowhaiMedian","Whole Suburb","Whole Suburb",605]
["Porirua","Papakowhai","Upper Quartile","PapakowhaiUpper Quartile","Whole Suburb","Whole Suburb",723]
["Porirua","Plimmerton","Bonds","PlimmertonBonds","Whole Suburb","Whole Suburb",171]
["Porirua","Plimmerton","Lower Quartile","PlimmertonLower Quartile","Whole Suburb","Whole Suburb",463]
["Porirua","Plimmerton","Median","PlimmertonMedian","Whole Suburb","Whole Suburb",580]
["Porirua","Plimmerton","Upper Quartile","PlimmertonUpper Quartile","Whole Suburb","Whole Suburb",690]
["Porirua","Paekakariki Hill","Bonds","Paekakariki HillBonds","Whole Suburb","Whole Suburb",""]
["Porirua","Paekakariki Hill","Lower Quartile","Paekakariki HillLower Quartile","Whole Suburb","Whole Suburb",""]
["Porirua","Paekakariki Hill","Median","Paekakariki HillMedian","Whole Suburb","Whole Suburb",""]
["Porirua","Paekakariki Hill","Upper Quartile","Paekakariki HillUpper Quartile","Whole Suburb","Whole Suburb",""]
["Porirua","Pauatahanui","Bonds","PauatahanuiBonds","Whole Suburb","Whole Suburb",""]
["Porirua","Pauatahanui","Lower Quartile","PauatahanuiLower Quartile","Whole Suburb","Whole Suburb",""]
["Porirua","Pauatahanui","Median","PauatahanuiMedian","Whole Suburb","Whole Suburb",""]
["Porirua","Pauatahanui","Upper Quartile","PauatahanuiUpper Quartile","Whole Suburb","Whole Suburb",""]
["Porirua","Paremata","Bonds","ParemataBonds","Whole Suburb","Whole Suburb",195]
["Porirua","Paremata","Lower Quartile","ParemataLower Quartile","Whole Suburb","Whole Suburb",500]
["Porirua","Paremata","Median","ParemataMedian","Whole Suburb","Whole Suburb",595]
["Porirua","Paremata","Upper Quartile","ParemataUpper Quartile","Whole Suburb","Whole Suburb",720]
["Porirua","Aotea","Bonds","AoteaBonds","Whole Suburb","Whole Suburb",123]
["Porirua","Aotea","Lower Quartile","AoteaLower Quartile","Whole Suburb","Whole Suburb",753]
["Porirua","Aotea","Median","AoteaMedian","Whole Suburb","Whole Suburb",780]
["Porirua","Aotea","Upper Quartile","AoteaUpper Quartile","Whole Suburb","Whole Suburb",820]
["Porirua","Ascot Park","Bonds","Ascot ParkBonds","Whole Suburb","Whole Suburb",111]
["Porirua","Ascot Park","Lower Quartile","Ascot ParkLower Quartile","Whole Suburb","Whole Suburb",529]
["Porirua","Ascot Park","Median","Ascot ParkMedian","Whole Suburb","Whole Suburb",550]
["Porirua","Ascot Park","Upper Quartile","Ascot ParkUpper Quartile","Whole Suburb","Whole Suburb",601]
["Porirua","Waitangirua","Bonds","WaitangiruaBonds","Whole Suburb","Whole Suburb",207]
["Porirua","Waitangirua","Lower Quartile","WaitangiruaLower Quartile","Whole Suburb","Whole Suburb",485]
["Porirua","Waitangirua","Median","WaitangiruaMedian","Whole Suburb","Whole Suburb",520]
["Porirua","Waitangirua","Upper Quartile","WaitangiruaUpper Quartile","Whole Suburb","Whole Suburb",553]
["Porirua","Kenepuru","Bonds","KenepuruBonds","Whole Suburb","Whole Suburb",81]
["Porirua","Kenepuru","Lower Quartile","KenepuruLower Quartile","Whole Suburb","Whole Suburb",655]
["Porirua","Kenepuru","Median","KenepuruMedian","Whole Suburb","Whole Suburb",680]
["Porirua","Kenepuru","Upper Quartile","KenepuruUpper Quartile","Whole Suburb","Whole Suburb",710]
["Porirua","Elsdon","Bonds","ElsdonBonds","Whole Suburb","Whole Suburb",""]
["Porirua","Elsdon","Lower Quartile","ElsdonLower Quartile","Whole Suburb","Whole Suburb",""]
["Porirua","Elsdon","Median","ElsdonMedian","Whole Suburb","Whole Suburb",""]
["Porirua","Elsdon","Upper Quartile","ElsdonUpper Quartile","Whole Suburb","Whole Suburb",""]
["Porirua","Judgeford","Bonds","JudgefordBonds","Whole Suburb","Whole Suburb",""]
["Porirua","Judgeford","Lower Quartile","JudgefordLower Quartile","Whole Suburb","Whole Suburb",""]
["Porirua","Judgeford","Median","JudgefordMedian","Whole Suburb","Whole Suburb",""]
["Porirua","Judgeford","Upper Quartile","JudgefordUpper Quartile","Whole Suburb","Whole Suburb",""]
["Porirua","Titahi Bay","Bonds","Titahi BayBonds","Whole Suburb","Whole Suburb",519]
["Porirua","Titahi Bay","Lower Quartile","Titahi BayLower Quartile","Whole Suburb","Whole Suburb",481]
["Porirua","Titahi Bay","Median","Titahi BayMedian","Whole Suburb","Whole Suburb",565]
["Porirua","Titahi Bay","Upper Quartile","Titahi BayUpper Quartile","Whole Suburb","Whole Suburb",629]
["Port Chalmers","Sawyers Bay","Bonds","Sawyers BayBonds","Whole Suburb","Whole Suburb",""]
["Port Chalmers","Sawyers Bay","Lower Quartile","Sawyers BayLower Quartile","Whole Suburb","Whole Suburb",""]
["Port Chalmers","Sawyers Bay","Median","Sawyers BayMedian","Whole Suburb","Whole Suburb",""]
["Port Chalmers","Sawyers Bay","Upper Quartile","Sawyers BayUpper Quartile","Whole Suburb","Whole Suburb",""]
["Port Chalmers","Careys Bay","Bonds","Careys BayBonds","Whole Suburb","Whole Suburb",""]
["Port Chalmers","Careys Bay","Lower Quartile","Careys BayLower Quartile","Whole Suburb","Whole Suburb",""]
["Port Chalmers","Careys Bay","Median","Careys BayMedian","Whole Suburb","Whole Suburb",""]
["Port Chalmers","Careys Bay","Upper Quartile","Careys BayUpper Quartile","Whole Suburb","Whole Suburb",""]
["Port Chalmers","Port Chalmers","Bonds","Port ChalmersBonds","Whole Suburb","Whole Suburb",90]
["Port Chalmers","Port Chalmers","Lower Quartile","Port ChalmersLower Quartile","Whole Suburb","Whole Suburb",260]
["Port Chalmers","Port Chalmers","Median","Port ChalmersMedian","Whole Suburb","Whole Suburb",375]
["Port Chalmers","Port Chalmers","Upper Quartile","Port ChalmersUpper Quartile","Whole Suburb","Whole Suburb",440]
["Port Waikato","Port Waikato","Bonds",{"$f":"B4418&C4418","v":"Port WaikatoBonds"},"Whole Suburb","Whole Suburb",""]
["Port Waikato","Port Waikato","Lower Quartile","Port WaikatoLower Quartile","Whole Suburb","Whole Suburb",""]
["Port Waikato","Port Waikato","Median","Port WaikatoMedian","Whole Suburb","Whole Suburb",""]
["Port Waikato","Port Waikato","Upper Quartile","Port WaikatoUpper Quartile","Whole Suburb","Whole Suburb",""]
["Poukawa","Poukawa","Bonds","PoukawaBonds","Whole Suburb","Whole Suburb",""]
["Poukawa","Poukawa","Lower Quartile","PoukawaLower Quartile","Whole Suburb","Whole Suburb",""]
["Poukawa","Poukawa","Median","PoukawaMedian","Whole Suburb","Whole Suburb",""]
["Poukawa","Poukawa","Upper Quartile","PoukawaUpper Quartile","Whole Suburb","Whole Suburb",""]
["Prebbleton","Prebbleton","Bonds","PrebbletonBonds","Whole Suburb","Whole Suburb",129]
["Prebbleton","Prebbleton","Lower Quartile","PrebbletonLower Quartile","Whole Suburb","Whole Suburb",520]
["Prebbleton","Prebbleton","Median","PrebbletonMedian","Whole Suburb","Whole Suburb",550]
["Prebbleton","Prebbleton","Upper Quartile","PrebbletonUpper Quartile","Whole Suburb","Whole Suburb",600]
["Pukehina","Pukehina","Bonds","PukehinaBonds","Whole Suburb","Whole Suburb",111]
["Pukehina","Pukehina","Lower Quartile","PukehinaLower Quartile","Whole Suburb","Whole Suburb",418]
["Pukehina","Pukehina","Median","PukehinaMedian","Whole Suburb","Whole Suburb",450]
["Pukehina","Pukehina","Upper Quartile","PukehinaUpper Quartile","Whole Suburb","Whole Suburb",505]
["Pukekawa","Pukekawa","Bonds","PukekawaBonds","Whole Suburb","Whole Suburb",""]
["Pukekawa","Pukekawa","Lower Quartile","PukekawaLower Quartile","Whole Suburb","Whole Suburb",""]
["Pukekawa","Pukekawa","Median","PukekawaMedian","Whole Suburb","Whole Suburb",""]
["Pukekawa","Pukekawa","Upper Quartile","PukekawaUpper Quartile","Whole Suburb","Whole Suburb",""]
["Pukekohe","Waiau Pa","Bonds","Waiau PaBonds","Whole Suburb","Whole Suburb",39]
["Pukekohe","Waiau Pa","Lower Quartile","Waiau PaLower Quartile","Whole Suburb","Whole Suburb",400]
["Pukekohe","Waiau Pa","Median","Waiau PaMedian","Whole Suburb","Whole Suburb",550]
["Pukekohe","Waiau Pa","Upper Quartile","Waiau PaUpper Quartile","Whole Suburb","Whole Suburb",620]
["Pukekohe","Paerata","Bonds","PaerataBonds","Whole Suburb","Whole Suburb",90]
["Pukekohe","Paerata","Lower Quartile","PaerataLower Quartile","Whole Suburb","Whole Suburb",460]
["Pukekohe","Paerata","Median","PaerataMedian","Whole Suburb","Whole Suburb",570]
["Pukekohe","Paerata","Upper Quartile","PaerataUpper Quartile","Whole Suburb","Whole Suburb",620]
["Pukekohe","Patumahoe","Bonds","PatumahoeBonds","Whole Suburb","Whole Suburb",90]
["Pukekohe","Patumahoe","Lower Quartile","PatumahoeLower Quartile","Whole Suburb","Whole Suburb",450]
["Pukekohe","Patumahoe","Median","PatumahoeMedian","Whole Suburb","Whole Suburb",600]
["Pukekohe","Patumahoe","Upper Quartile","PatumahoeUpper Quartile","Whole Suburb","Whole Suburb",645]
["Pukekohe","Pukekohe","Bonds","PukekoheBonds","Whole Suburb","Whole Suburb",2646]
["Pukekohe","Pukekohe","Lower Quartile","PukekoheLower Quartile","Whole Suburb","Whole Suburb",480]
["Pukekohe","Pukekohe","Median","PukekoheMedian","Whole Suburb","Whole Suburb",560]
["Pukekohe","Pukekohe","Upper Quartile","PukekoheUpper Quartile","Whole Suburb","Whole Suburb",610]
["Pukekohe","Pukekohe East","Bonds","Pukekohe EastBonds","Whole Suburb","Whole Suburb",30]
["Pukekohe","Pukekohe East","Lower Quartile","Pukekohe EastLower Quartile","Whole Suburb","Whole Suburb",593]
["Pukekohe","Pukekohe East","Median","Pukekohe EastMedian","Whole Suburb","Whole Suburb",640]
["Pukekohe","Pukekohe East","Upper Quartile","Pukekohe EastUpper Quartile","Whole Suburb","Whole Suburb",675]
["Pukekohe","Mauku","Bonds","MaukuBonds","Whole Suburb","Whole Suburb",27]
["Pukekohe","Mauku","Lower Quartile","MaukuLower Quartile","Whole Suburb","Whole Suburb",600]
["Pukekohe","Mauku","Median","MaukuMedian","Whole Suburb","Whole Suburb",620]
["Pukekohe","Mauku","Upper Quartile","MaukuUpper Quartile","Whole Suburb","Whole Suburb",650]
["Pukekohe","Kingseat","Bonds","KingseatBonds","Whole Suburb","Whole Suburb",108]
["Pukekohe","Kingseat","Lower Quartile","KingseatLower Quartile","Whole Suburb","Whole Suburb",470]
["Pukekohe","Kingseat","Median","KingseatMedian","Whole Suburb","Whole Suburb",555]
["Pukekohe","Kingseat","Upper Quartile","KingseatUpper Quartile","Whole Suburb","Whole Suburb",651]
["Pukekohe","Puni","Bonds","PuniBonds","Whole Suburb","Whole Suburb",""]
["Pukekohe","Puni","Lower Quartile","PuniLower Quartile","Whole Suburb","Whole Suburb",""]
["Pukekohe","Puni","Median","PuniMedian","Whole Suburb","Whole Suburb",""]
["Pukekohe","Puni","Upper Quartile","PuniUpper Quartile","Whole Suburb","Whole Suburb",""]
["Pukekohe","Buckland","Bonds","BucklandBonds","Whole Suburb","Whole Suburb",63]
["Pukekohe","Buckland","Lower Quartile","BucklandLower Quartile","Whole Suburb","Whole Suburb",503]
["Pukekohe","Buckland","Median","BucklandMedian","Whole Suburb","Whole Suburb",650]
["Pukekohe","Buckland","Upper Quartile","BucklandUpper Quartile","Whole Suburb","Whole Suburb",795]
["Pukenui","Pukenui","Bonds","PukenuiBonds","Whole Suburb","Whole Suburb",""]
["Pukenui","Pukenui","Lower Quartile","PukenuiLower Quartile","Whole Suburb","Whole Suburb",""]
["Pukenui","Pukenui","Median","PukenuiMedian","Whole Suburb","Whole Suburb",""]
["Pukenui","Pukenui","Upper Quartile","PukenuiUpper Quartile","Whole Suburb","Whole Suburb",""]
["Pukerua Bay","Pukerua Bay","Bonds","Pukerua BayBonds","Whole Suburb","Whole Suburb",84]
["Pukerua Bay","Pukerua Bay","Lower Quartile","Pukerua BayLower Quartile","Whole Suburb","Whole Suburb",550]
["Pukerua Bay","Pukerua Bay","Median","Pukerua BayMedian","Whole Suburb","Whole Suburb",630]
["Pukerua Bay","Pukerua Bay","Upper Quartile","Pukerua BayUpper Quartile","Whole Suburb","Whole Suburb",735]
["Pungarehu","Pungarehu","Bonds",{"$f":"B4482&C4482","v":"PungarehuBonds"},"Whole Suburb","Whole Suburb",""]
["Pungarehu","Pungarehu","Lower Quartile","PungarehuLower Quartile","Whole Suburb","Whole Suburb",""]
["Pungarehu","Pungarehu","Median","PungarehuMedian","Whole Suburb","Whole Suburb",""]
["Pungarehu","Pungarehu","Upper Quartile","PungarehuUpper Quartile","Whole Suburb","Whole Suburb",""]
["Putaruru","Wiltsdown","Bonds","WiltsdownBonds","Whole Suburb","Whole Suburb",""]
["Putaruru","Wiltsdown","Lower Quartile","WiltsdownLower Quartile","Whole Suburb","Whole Suburb",""]
["Putaruru","Wiltsdown","Median","WiltsdownMedian","Whole Suburb","Whole Suburb",""]
["Putaruru","Wiltsdown","Upper Quartile","WiltsdownUpper Quartile","Whole Suburb","Whole Suburb",""]
["Putaruru","Waotu","Bonds","WaotuBonds","Whole Suburb","Whole Suburb",""]
["Putaruru","Waotu","Lower Quartile","WaotuLower Quartile","Whole Suburb","Whole Suburb",""]
["Putaruru","Waotu","Median","WaotuMedian","Whole Suburb","Whole Suburb",""]
["Putaruru","Waotu","Upper Quartile","WaotuUpper Quartile","Whole Suburb","Whole Suburb",""]
["Putaruru","Putaruru","Bonds","PutaruruBonds","Whole Suburb","Whole Suburb",372]
["Putaruru","Putaruru","Lower Quartile","PutaruruLower Quartile","Whole Suburb","Whole Suburb",335]
["Putaruru","Putaruru","Median","PutaruruMedian","Whole Suburb","Whole Suburb",390]
["Putaruru","Putaruru","Upper Quartile","PutaruruUpper Quartile","Whole Suburb","Whole Suburb",450]
["Putaruru","Arapuni","Bonds","ArapuniBonds","Whole Suburb","Whole Suburb",24]
["Putaruru","Arapuni","Lower Quartile","ArapuniLower Quartile","Whole Suburb","Whole Suburb",370]
["Putaruru","Arapuni","Median","ArapuniMedian","Whole Suburb","Whole Suburb",408]
["Putaruru","Arapuni","Upper Quartile","ArapuniUpper Quartile","Whole Suburb","Whole Suburb",419]
["Putaruru","Lichfield","Bonds","LichfieldBonds","Whole Suburb","Whole Suburb",""]
["Putaruru","Lichfield","Lower Quartile","LichfieldLower Quartile","Whole Suburb","Whole Suburb",""]
["Putaruru","Lichfield","Median","LichfieldMedian","Whole Suburb","Whole Suburb",""]
["Putaruru","Lichfield","Upper Quartile","LichfieldUpper Quartile","Whole Suburb","Whole Suburb",""]
["Queenstown","Sunshine Bay","Bonds","Sunshine BayBonds","Whole Suburb","Whole Suburb",135]
["Queenstown","Sunshine Bay","Lower Quartile","Sunshine BayLower Quartile","Whole Suburb","Whole Suburb",428]
["Queenstown","Sunshine Bay","Median","Sunshine BayMedian","Whole Suburb","Whole Suburb",500]
["Queenstown","Sunshine Bay","Upper Quartile","Sunshine BayUpper Quartile","Whole Suburb","Whole Suburb",599]
["Queenstown","Queenstown","Bonds","QueenstownBonds","Whole Suburb","Whole Suburb",1380]
["Queenstown","Queenstown","Lower Quartile","QueenstownLower Quartile","Whole Suburb","Whole Suburb",415]
["Queenstown","Queenstown","Median","QueenstownMedian","Whole Suburb","Whole Suburb",500]
["Queenstown","Queenstown","Upper Quartile","QueenstownUpper Quartile","Whole Suburb","Whole Suburb",630]
["Queenstown","Queenstown Hill","Bonds","Queenstown HillBonds","Whole Suburb","Whole Suburb",""]
["Queenstown","Queenstown Hill","Lower Quartile","Queenstown HillLower Quartile","Whole Suburb","Whole Suburb",""]
["Queenstown","Queenstown Hill","Median","Queenstown HillMedian","Whole Suburb","Whole Suburb",""]
["Queenstown","Queenstown Hill","Upper Quartile","Queenstown HillUpper Quartile","Whole Suburb","Whole Suburb",""]
["Queenstown","Lake Hayes","Bonds","Lake HayesBonds","Whole Suburb","Whole Suburb",231]
["Queenstown","Lake Hayes","Lower Quartile","Lake HayesLower Quartile","Whole Suburb","Whole Suburb",528]
["Queenstown","Lake Hayes","Median","Lake HayesMedian","Whole Suburb","Whole Suburb",650]
["Queenstown","Lake Hayes","Upper Quartile","Lake HayesUpper Quartile","Whole Suburb","Whole Suburb",715]
["Queenstown","Lower Shotover","Bonds","Lower ShotoverBonds","Whole Suburb","Whole Suburb",267]
["Queenstown","Lower Shotover","Lower Quartile","Lower ShotoverLower Quartile","Whole Suburb","Whole Suburb",455]
["Queenstown","Lower Shotover","Median","Lower ShotoverMedian","Whole Suburb","Whole Suburb",600]
["Queenstown","Lower Shotover","Upper Quartile","Lower ShotoverUpper Quartile","Whole Suburb","Whole Suburb",688]
["Queenstown","Arthurs Point","Bonds","Arthurs PointBonds","Whole Suburb","Whole Suburb",129]
["Queenstown","Arthurs Point","Lower Quartile","Arthurs PointLower Quartile","Whole Suburb","Whole Suburb",400]
["Queenstown","Arthurs Point","Median","Arthurs PointMedian","Whole Suburb","Whole Suburb",525]
["Queenstown","Arthurs Point","Upper Quartile","Arthurs PointUpper Quartile","Whole Suburb","Whole Suburb",700]
["Queenstown","Fernhill","Bonds","FernhillBonds","Whole Suburb","Whole Suburb",480]
["Queenstown","Fernhill","Lower Quartile","FernhillLower Quartile","Whole Suburb","Whole Suburb",414]
["Queenstown","Fernhill","Median","FernhillMedian","Whole Suburb","Whole Suburb",500]
["Queenstown","Fernhill","Upper Quartile","FernhillUpper Quartile","Whole Suburb","Whole Suburb",600]
["Queenstown","Frankton","Bonds","FranktonBonds","Whole Suburb","Whole Suburb",804]
["Queenstown","Frankton","Lower Quartile","FranktonLower Quartile","Whole Suburb","Whole Suburb",330]
["Queenstown","Frankton","Median","FranktonMedian","Whole Suburb","Whole Suburb",420]
["Queenstown","Frankton","Upper Quartile","FranktonUpper Quartile","Whole Suburb","Whole Suburb",530]
["Queenstown","Closeburn","Bonds","CloseburnBonds","Whole Suburb","Whole Suburb",""]
["Queenstown","Closeburn","Lower Quartile","CloseburnLower Quartile","Whole Suburb","Whole Suburb",""]
["Queenstown","Closeburn","Median","CloseburnMedian","Whole Suburb","Whole Suburb",""]
["Queenstown","Closeburn","Upper Quartile","CloseburnUpper Quartile","Whole Suburb","Whole Suburb",""]
["Queenstown","Jacks Point","Bonds","Jacks PointBonds","Whole Suburb","Whole Suburb",282]
["Queenstown","Jacks Point","Lower Quartile","Jacks PointLower Quartile","Whole Suburb","Whole Suburb",350]
["Queenstown","Jacks Point","Median","Jacks PointMedian","Whole Suburb","Whole Suburb",600]
["Queenstown","Jacks Point","Upper Quartile","Jacks PointUpper Quartile","Whole Suburb","Whole Suburb",675]
["Queenstown","Speargrass Flat","Bonds",{"$f":"B4546&C4546","v":"Speargrass FlatBonds"},"Whole Suburb","Whole Suburb",""]
["Queenstown","Speargrass Flat","Lower Quartile","Speargrass FlatLower Quartile","Whole Suburb","Whole Suburb",""]
["Queenstown","Speargrass Flat","Median","Speargrass FlatMedian","Whole Suburb","Whole Suburb",""]
["Queenstown","Speargrass Flat","Upper Quartile","Speargrass FlatUpper Quartile","Whole Suburb","Whole Suburb",""]
["Queenstown","Kawarau Falls","Bonds","Kawarau FallsBonds","Whole Suburb","Whole Suburb",45]
["Queenstown","Kawarau Falls","Lower Quartile","Kawarau FallsLower Quartile","Whole Suburb","Whole Suburb",550]
["Queenstown","Kawarau Falls","Median","Kawarau FallsMedian","Whole Suburb","Whole Suburb",650]
["Queenstown","Kawarau Falls","Upper Quartile","Kawarau FallsUpper Quartile","Whole Suburb","Whole Suburb",850]
["Queenstown","Kelvin Heights","Bonds","Kelvin HeightsBonds","Whole Suburb","Whole Suburb",75]
["Queenstown","Kelvin Heights","Lower Quartile","Kelvin HeightsLower Quartile","Whole Suburb","Whole Suburb",455]
["Queenstown","Kelvin Heights","Median","Kelvin HeightsMedian","Whole Suburb","Whole Suburb",600]
["Queenstown","Kelvin Heights","Upper Quartile","Kelvin HeightsUpper Quartile","Whole Suburb","Whole Suburb",700]
["Raetihi","Raetihi","Bonds","RaetihiBonds","Whole Suburb","Whole Suburb",""]
["Raetihi","Raetihi","Lower Quartile","RaetihiLower Quartile","Whole Suburb","Whole Suburb",""]
["Raetihi","Raetihi","Median","RaetihiMedian","Whole Suburb","Whole Suburb",""]
["Raetihi","Raetihi","Upper Quartile","RaetihiUpper Quartile","Whole Suburb","Whole Suburb",""]
["Raglan","Raglan","Bonds","RaglanBonds","Whole Suburb","Whole Suburb",378]
["Raglan","Raglan","Lower Quartile","RaglanLower Quartile","Whole Suburb","Whole Suburb",428]
["Raglan","Raglan","Median","RaglanMedian","Whole Suburb","Whole Suburb",475]
["Raglan","Raglan","Upper Quartile","RaglanUpper Quartile","Whole Suburb","Whole Suburb",596]
["Rai Valley","Rai Valley","Bonds","Rai ValleyBonds","Whole Suburb","Whole Suburb",36]
["Rai Valley","Rai Valley","Lower Quartile","Rai ValleyLower Quartile","Whole Suburb","Whole Suburb",340]
["Rai Valley","Rai Valley","Median","Rai ValleyMedian","Whole Suburb","Whole Suburb",350]
["Rai Valley","Rai Valley","Upper Quartile","Rai ValleyUpper Quartile","Whole Suburb","Whole Suburb",350]
["Rakaia","Rakaia","Bonds","RakaiaBonds","Whole Suburb","Whole Suburb",81]
["Rakaia","Rakaia","Lower Quartile","RakaiaLower Quartile","Whole Suburb","Whole Suburb",350]
["Rakaia","Rakaia","Median","RakaiaMedian","Whole Suburb","Whole Suburb",368]
["Rakaia","Rakaia","Upper Quartile","RakaiaUpper Quartile","Whole Suburb","Whole Suburb",380]
["Ranfurly","Ranfurly","Bonds","RanfurlyBonds","Whole Suburb","Whole Suburb",""]
["Ranfurly","Ranfurly","Lower Quartile","RanfurlyLower Quartile","Whole Suburb","Whole Suburb",""]
["Ranfurly","Ranfurly","Median","RanfurlyMedian","Whole Suburb","Whole Suburb",""]
["Ranfurly","Ranfurly","Upper Quartile","RanfurlyUpper Quartile","Whole Suburb","Whole Suburb",""]
["Rangiora","Rangiora","Bonds","RangioraBonds","Whole Suburb","Whole Suburb",1089]
["Rangiora","Rangiora","Lower Quartile","RangioraLower Quartile","Whole Suburb","Whole Suburb",380]
["Rangiora","Rangiora","Median","RangioraMedian","Whole Suburb","Whole Suburb",440]
["Rangiora","Rangiora","Upper Quartile","RangioraUpper Quartile","Whole Suburb","Whole Suburb",520]
["Rangiora","Flaxton","Bonds","FlaxtonBonds","Whole Suburb","Whole Suburb",""]
["Rangiora","Flaxton","Lower Quartile","FlaxtonLower Quartile","Whole Suburb","Whole Suburb",""]
["Rangiora","Flaxton","Median","FlaxtonMedian","Whole Suburb","Whole Suburb",""]
["Rangiora","Flaxton","Upper Quartile","FlaxtonUpper Quartile","Whole Suburb","Whole Suburb",""]
["Rangiora","Fernside","Bonds","FernsideBonds","Whole Suburb","Whole Suburb",33]
["Rangiora","Fernside","Lower Quartile","FernsideLower Quartile","Whole Suburb","Whole Suburb",450]
["Rangiora","Fernside","Median","FernsideMedian","Whole Suburb","Whole Suburb",460]
["Rangiora","Fernside","Upper Quartile","FernsideUpper Quartile","Whole Suburb","Whole Suburb",520]
["Rangiora","Ashley","Bonds","AshleyBonds","Whole Suburb","Whole Suburb",""]
["Rangiora","Ashley","Lower Quartile","AshleyLower Quartile","Whole Suburb","Whole Suburb",""]
["Rangiora","Ashley","Median","AshleyMedian","Whole Suburb","Whole Suburb",""]
["Rangiora","Ashley","Upper Quartile","AshleyUpper Quartile","Whole Suburb","Whole Suburb",""]
["Ratapiko","Ratapiko","Bonds","RatapikoBonds","Whole Suburb","Whole Suburb",""]
["Ratapiko","Ratapiko","Lower Quartile","RatapikoLower Quartile","Whole Suburb","Whole Suburb",""]
["Ratapiko","Ratapiko","Median","RatapikoMedian","Whole Suburb","Whole Suburb",""]
["Ratapiko","Ratapiko","Upper Quartile","RatapikoUpper Quartile","Whole Suburb","Whole Suburb",""]
["Raukawa","Raukawa","Bonds","RaukawaBonds","Whole Suburb","Whole Suburb",""]
["Raukawa","Raukawa","Lower Quartile","RaukawaLower Quartile","Whole Suburb","Whole Suburb",""]
["Raukawa","Raukawa","Median","RaukawaMedian","Whole Suburb","Whole Suburb",""]
["Raukawa","Raukawa","Upper Quartile","RaukawaUpper Quartile","Whole Suburb","Whole Suburb",""]
["Red Beach","Red Beach","Bonds","Red BeachBonds","Whole Suburb","Whole Suburb",675]
["Red Beach","Red Beach","Lower Quartile","Red BeachLower Quartile","Whole Suburb","Whole Suburb",520]
["Red Beach","Red Beach","Median","Red BeachMedian","Whole Suburb","Whole Suburb",640]
["Red Beach","Red Beach","Upper Quartile","Red BeachUpper Quartile","Whole Suburb","Whole Suburb",750]
["Reefton","Reefton","Bonds","ReeftonBonds","Whole Suburb","Whole Suburb",84]
["Reefton","Reefton","Lower Quartile","ReeftonLower Quartile","Whole Suburb","Whole Suburb",150]
["Reefton","Reefton","Median","ReeftonMedian","Whole Suburb","Whole Suburb",260]
["Reefton","Reefton","Upper Quartile","ReeftonUpper Quartile","Whole Suburb","Whole Suburb",300]
["Renwick","Renwick","Bonds",{"$f":"B4610&C4610","v":"RenwickBonds"},"Whole Suburb","Whole Suburb",138]
["Renwick","Renwick","Lower Quartile","RenwickLower Quartile","Whole Suburb","Whole Suburb",390]
["Renwick","Renwick","Median","RenwickMedian","Whole Suburb","Whole Suburb",470]
["Renwick","Renwick","Upper Quartile","RenwickUpper Quartile","Whole Suburb","Whole Suburb",520]
["Renwick","Hawkesbury","Bonds","HawkesburyBonds","Whole Suburb","Whole Suburb",""]
["Renwick","Hawkesbury","Lower Quartile","HawkesburyLower Quartile","Whole Suburb","Whole Suburb",""]
["Renwick","Hawkesbury","Median","HawkesburyMedian","Whole Suburb","Whole Suburb",""]
["Renwick","Hawkesbury","Upper Quartile","HawkesburyUpper Quartile","Whole Suburb","Whole Suburb",""]
["Renwick","Kaituna","Bonds","KaitunaBonds","Whole Suburb","Whole Suburb",""]
["Renwick","Kaituna","Lower Quartile","KaitunaLower Quartile","Whole Suburb","Whole Suburb",""]
["Renwick","Kaituna","Median","KaitunaMedian","Whole Suburb","Whole Suburb",""]
["Renwick","Kaituna","Upper Quartile","KaitunaUpper Quartile","Whole Suburb","Whole Suburb",""]
["Reporoa","Reporoa","Bonds","ReporoaBonds","Whole Suburb","Whole Suburb",""]
["Reporoa","Reporoa","Lower Quartile","ReporoaLower Quartile","Whole Suburb","Whole Suburb",""]
["Reporoa","Reporoa","Median","ReporoaMedian","Whole Suburb","Whole Suburb",""]
["Reporoa","Reporoa","Upper Quartile","ReporoaUpper Quartile","Whole Suburb","Whole Suburb",""]
["Rerewhakaaitu","Rerewhakaaitu","Bonds","RerewhakaaituBonds","Whole Suburb","Whole Suburb",""]
["Rerewhakaaitu","Rerewhakaaitu","Lower Quartile","RerewhakaaituLower Quartile","Whole Suburb","Whole Suburb",""]
["Rerewhakaaitu","Rerewhakaaitu","Median","RerewhakaaituMedian","Whole Suburb","Whole Suburb",""]
["Rerewhakaaitu","Rerewhakaaitu","Upper Quartile","RerewhakaaituUpper Quartile","Whole Suburb","Whole Suburb",""]
["Richmond","Redwood Valley","Bonds","Redwood ValleyBonds","Whole Suburb","Whole Suburb",45]
["Richmond","Redwood Valley","Lower Quartile","Redwood ValleyLower Quartile","Whole Suburb","Whole Suburb",290]
["Richmond","Redwood Valley","Median","Redwood ValleyMedian","Whole Suburb","Whole Suburb",300]
["Richmond","Redwood Valley","Upper Quartile","Redwood ValleyUpper Quartile","Whole Suburb","Whole Suburb",320]
["Richmond","Hope","Bonds","HopeBonds","Whole Suburb","Whole Suburb",87]
["Richmond","Hope","Lower Quartile","HopeLower Quartile","Whole Suburb","Whole Suburb",340]
["Richmond","Hope","Median","HopeMedian","Whole Suburb","Whole Suburb",440]
["Richmond","Hope","Upper Quartile","HopeUpper Quartile","Whole Suburb","Whole Suburb",695]
["Richmond","Richmond","Bonds","RichmondBonds","Whole Suburb","Whole Suburb",1248]
["Richmond","Richmond","Lower Quartile","RichmondLower Quartile","Whole Suburb","Whole Suburb",480]
["Richmond","Richmond","Median","RichmondMedian","Whole Suburb","Whole Suburb",520]
["Richmond","Richmond","Upper Quartile","RichmondUpper Quartile","Whole Suburb","Whole Suburb",580]
["Richmond","Appleby","Bonds","ApplebyBonds","Whole Suburb","Whole Suburb",60]
["Richmond","Appleby","Lower Quartile","ApplebyLower Quartile","Whole Suburb","Whole Suburb",559]
["Richmond","Appleby","Median","ApplebyMedian","Whole Suburb","Whole Suburb",600]
["Richmond","Appleby","Upper Quartile","ApplebyUpper Quartile","Whole Suburb","Whole Suburb",650]
["Richmond Downs","Richmond Downs","Bonds","Richmond DownsBonds","Whole Suburb","Whole Suburb",39]
["Richmond Downs","Richmond Downs","Lower Quartile","Richmond DownsLower Quartile","Whole Suburb","Whole Suburb",348]
["Richmond Downs","Richmond Downs","Median","Richmond DownsMedian","Whole Suburb","Whole Suburb",390]
["Richmond Downs","Richmond Downs","Upper Quartile","Richmond DownsUpper Quartile","Whole Suburb","Whole Suburb",470]
["Riverhead","Riverhead","Bonds","RiverheadBonds","Whole Suburb","Whole Suburb",288]
["Riverhead","Riverhead","Lower Quartile","RiverheadLower Quartile","Whole Suburb","Whole Suburb",515]
["Riverhead","Riverhead","Median","RiverheadMedian","Whole Suburb","Whole Suburb",650]
["Riverhead","Riverhead","Upper Quartile","RiverheadUpper Quartile","Whole Suburb","Whole Suburb",790]
["Riverlands","Riverlands","Bonds","RiverlandsBonds","Whole Suburb","Whole Suburb",""]
["Riverlands","Riverlands","Lower Quartile","RiverlandsLower Quartile","Whole Suburb","Whole Suburb",""]
["Riverlands","Riverlands","Median","RiverlandsMedian","Whole Suburb","Whole Suburb",""]
["Riverlands","Riverlands","Upper Quartile","RiverlandsUpper Quartile","Whole Suburb","Whole Suburb",""]
["Riversdale","Riversdale","Bonds","RiversdaleBonds","Whole Suburb","Whole Suburb",21]
["Riversdale","Riversdale","Lower Quartile","RiversdaleLower Quartile","Whole Suburb","Whole Suburb",240]
["Riversdale","Riversdale","Median","RiversdaleMedian","Whole Suburb","Whole Suburb",265]
["Riversdale","Riversdale","Upper Quartile","RiversdaleUpper Quartile","Whole Suburb","Whole Suburb",280]
["Riverton","Riverton","Bonds","RivertonBonds","Whole Suburb","Whole Suburb",96]
["Riverton","Riverton","Lower Quartile","RivertonLower Quartile","Whole Suburb","Whole Suburb",300]
["Riverton","Riverton","Median","RivertonMedian","Whole Suburb","Whole Suburb",345]
["Riverton","Riverton","Upper Quartile","RivertonUpper Quartile","Whole Suburb","Whole Suburb",379]
["Riverton","Colac Bay","Bonds","Colac BayBonds","Whole Suburb","Whole Suburb",""]
["Riverton","Colac Bay","Lower Quartile","Colac BayLower Quartile","Whole Suburb","Whole Suburb",""]
["Riverton","Colac Bay","Median","Colac BayMedian","Whole Suburb","Whole Suburb",""]
["Riverton","Colac Bay","Upper Quartile","Colac BayUpper Quartile","Whole Suburb","Whole Suburb",""]
["Rolleston","Rolleston","Bonds","RollestonBonds","Whole Suburb","Whole Suburb",1008]
["Rolleston","Rolleston","Lower Quartile","RollestonLower Quartile","Whole Suburb","Whole Suburb",480]
["Rolleston","Rolleston","Median","RollestonMedian","Whole Suburb","Whole Suburb",520]
["Rolleston","Rolleston","Upper Quartile","RollestonUpper Quartile","Whole Suburb","Whole Suburb",540]
["Rongotea","Rongotea","Bonds",{"$f":"B4674&C4674","v":"RongoteaBonds"},"Whole Suburb","Whole Suburb",54]
["Rongotea","Rongotea","Lower Quartile","RongoteaLower Quartile","Whole Suburb","Whole Suburb",400]
["Rongotea","Rongotea","Median","RongoteaMedian","Whole Suburb","Whole Suburb",405]
["Rongotea","Rongotea","Upper Quartile","RongoteaUpper Quartile","Whole Suburb","Whole Suburb",433]
["Rotorua","Rotoiti Forest","Bonds","Rotoiti ForestBonds","Whole Suburb","Whole Suburb",""]
["Rotorua","Rotoiti Forest","Lower Quartile","Rotoiti ForestLower Quartile","Whole Suburb","Whole Suburb",""]
["Rotorua","Rotoiti Forest","Median","Rotoiti ForestMedian","Whole Suburb","Whole Suburb",""]
["Rotorua","Rotoiti Forest","Upper Quartile","Rotoiti ForestUpper Quartile","Whole Suburb","Whole Suburb",""]
["Rotorua","Rotorua","Bonds","RotoruaBonds","Whole Suburb","Whole Suburb",330]
["Rotorua","Rotorua","Lower Quartile","RotoruaLower Quartile","Whole Suburb","Whole Suburb",340]
["Rotorua","Rotorua","Median","RotoruaMedian","Whole Suburb","Whole Suburb",410]
["Rotorua","Rotorua","Upper Quartile","RotoruaUpper Quartile","Whole Suburb","Whole Suburb",455]
["Rotorua","Selwyn Heights","Bonds","Selwyn HeightsBonds","Whole Suburb","Whole Suburb",120]
["Rotorua","Selwyn Heights","Lower Quartile","Selwyn HeightsLower Quartile","Whole Suburb","Whole Suburb",460]
["Rotorua","Selwyn Heights","Median","Selwyn HeightsMedian","Whole Suburb","Whole Suburb",480]
["Rotorua","Selwyn Heights","Upper Quartile","Selwyn HeightsUpper Quartile","Whole Suburb","Whole Suburb",510]
["Rotorua","Sunnybrook","Bonds","SunnybrookBonds","Whole Suburb","Whole Suburb",162]
["Rotorua","Sunnybrook","Lower Quartile","SunnybrookLower Quartile","Whole Suburb","Whole Suburb",464]
["Rotorua","Sunnybrook","Median","SunnybrookMedian","Whole Suburb","Whole Suburb",515]
["Rotorua","Sunnybrook","Upper Quartile","SunnybrookUpper Quartile","Whole Suburb","Whole Suburb",545]
["Rotorua","Owhata","Bonds","OwhataBonds","Whole Suburb","Whole Suburb",525]
["Rotorua","Owhata","Lower Quartile","OwhataLower Quartile","Whole Suburb","Whole Suburb",439]
["Rotorua","Owhata","Median","OwhataMedian","Whole Suburb","Whole Suburb",503]
["Rotorua","Owhata","Upper Quartile","OwhataUpper Quartile","Whole Suburb","Whole Suburb",570]
["Rotorua","Lake Tarawera","Bonds","Lake TaraweraBonds","Whole Suburb","Whole Suburb",""]
["Rotorua","Lake Tarawera","Lower Quartile","Lake TaraweraLower Quartile","Whole Suburb","Whole Suburb",""]
["Rotorua","Lake Tarawera","Median","Lake TaraweraMedian","Whole Suburb","Whole Suburb",""]
["Rotorua","Lake Tarawera","Upper Quartile","Lake TaraweraUpper Quartile","Whole Suburb","Whole Suburb",""]
["Rotorua","Victoria","Bonds","VictoriaBonds","Whole Suburb","Whole Suburb",810]
["Rotorua","Victoria","Lower Quartile","VictoriaLower Quartile","Whole Suburb","Whole Suburb",320]
["Rotorua","Victoria","Median","VictoriaMedian","Whole Suburb","Whole Suburb",370]
["Rotorua","Victoria","Upper Quartile","VictoriaUpper Quartile","Whole Suburb","Whole Suburb",479]
["Rotorua","Koutu","Bonds","KoutuBonds","Whole Suburb","Whole Suburb",231]
["Rotorua","Koutu","Lower Quartile","KoutuLower Quartile","Whole Suburb","Whole Suburb",380]
["Rotorua","Koutu","Median","KoutuMedian","Whole Suburb","Whole Suburb",460]
["Rotorua","Koutu","Upper Quartile","KoutuUpper Quartile","Whole Suburb","Whole Suburb",490]
["Rotorua","Lake Okareka","Bonds","Lake OkarekaBonds","Whole Suburb","Whole Suburb",""]
["Rotorua","Lake Okareka","Lower Quartile","Lake OkarekaLower Quartile","Whole Suburb","Whole Suburb",""]
["Rotorua","Lake Okareka","Median","Lake OkarekaMedian","Whole Suburb","Whole Suburb",""]
["Rotorua","Lake Okareka","Upper Quartile","Lake OkarekaUpper Quartile","Whole Suburb","Whole Suburb",""]
["Rotorua","Lake Rotoma","Bonds","Lake RotomaBonds","Whole Suburb","Whole Suburb",""]
["Rotorua","Lake Rotoma","Lower Quartile","Lake RotomaLower Quartile","Whole Suburb","Whole Suburb",""]
["Rotorua","Lake Rotoma","Median","Lake RotomaMedian","Whole Suburb","Whole Suburb",""]
["Rotorua","Lake Rotoma","Upper Quartile","Lake RotomaUpper Quartile","Whole Suburb","Whole Suburb",""]
["Rotorua","Pomare","Bonds","PomareBonds","Whole Suburb","Whole Suburb",123]
["Rotorua","Pomare","Lower Quartile","PomareLower Quartile","Whole Suburb","Whole Suburb",508]
["Rotorua","Pomare","Median","PomareMedian","Whole Suburb","Whole Suburb",525]
["Rotorua","Pomare","Upper Quartile","PomareUpper Quartile","Whole Suburb","Whole Suburb",561]
["Rotorua","Tikitere","Bonds","TikitereBonds","Whole Suburb","Whole Suburb",""]
["Rotorua","Tikitere","Lower Quartile","TikitereLower Quartile","Whole Suburb","Whole Suburb",""]
["Rotorua","Tikitere","Median","TikitereMedian","Whole Suburb","Whole Suburb",""]
["Rotorua","Tikitere","Upper Quartile","TikitereUpper Quartile","Whole Suburb","Whole Suburb",""]
["Rotorua","Western Heights","Bonds","Western HeightsBonds","Whole Suburb","Whole Suburb",531]
["Rotorua","Western Heights","Lower Quartile","Western HeightsLower Quartile","Whole Suburb","Whole Suburb",410]
["Rotorua","Western Heights","Median","Western HeightsMedian","Whole Suburb","Whole Suburb",480]
["Rotorua","Western Heights","Upper Quartile","Western HeightsUpper Quartile","Whole Suburb","Whole Suburb",520]
["Rotorua","Springfield","Bonds","SpringfieldBonds","Whole Suburb","Whole Suburb",237]
["Rotorua","Springfield","Lower Quartile","SpringfieldLower Quartile","Whole Suburb","Whole Suburb",540]
["Rotorua","Springfield","Median","SpringfieldMedian","Whole Suburb","Whole Suburb",555]
["Rotorua","Springfield","Upper Quartile","SpringfieldUpper Quartile","Whole Suburb","Whole Suburb",596]
["Rotorua","Utuhina","Bonds","UtuhinaBonds","Whole Suburb","Whole Suburb",210]
["Rotorua","Utuhina","Lower Quartile","UtuhinaLower Quartile","Whole Suburb","Whole Suburb",430]
["Rotorua","Utuhina","Median","UtuhinaMedian","Whole Suburb","Whole Suburb",520]
["Rotorua","Utuhina","Upper Quartile","UtuhinaUpper Quartile","Whole Suburb","Whole Suburb",540]
["Rotorua","Pukehangi","Bonds",{"$f":"B4738&C4738","v":"PukehangiBonds"},"Whole Suburb","Whole Suburb",408]
["Rotorua","Pukehangi","Lower Quartile","PukehangiLower Quartile","Whole Suburb","Whole Suburb",461]
["Rotorua","Pukehangi","Median","PukehangiMedian","Whole Suburb","Whole Suburb",493]
["Rotorua","Pukehangi","Upper Quartile","PukehangiUpper Quartile","Whole Suburb","Whole Suburb",520]
["Rotorua","Tumunui","Bonds","TumunuiBonds","Whole Suburb","Whole Suburb",9]
["Rotorua","Tumunui","Lower Quartile","TumunuiLower Quartile","Whole Suburb","Whole Suburb",200]
["Rotorua","Tumunui","Median","TumunuiMedian","Whole Suburb","Whole Suburb",200]
["Rotorua","Tumunui","Upper Quartile","TumunuiUpper Quartile","Whole Suburb","Whole Suburb",200]
["Rotorua","Hannahs Bay","Bonds","Hannahs BayBonds","Whole Suburb","Whole Suburb",60]
["Rotorua","Hannahs Bay","Lower Quartile","Hannahs BayLower Quartile","Whole Suburb","Whole Suburb",465]
["Rotorua","Hannahs Bay","Median","Hannahs BayMedian","Whole Suburb","Whole Suburb",500]
["Rotorua","Hannahs Bay","Upper Quartile","Hannahs BayUpper Quartile","Whole Suburb","Whole Suburb",560]
["Rotorua","Ngongotaha","Bonds","NgongotahaBonds","Whole Suburb","Whole Suburb",360]
["Rotorua","Ngongotaha","Lower Quartile","NgongotahaLower Quartile","Whole Suburb","Whole Suburb",413]
["Rotorua","Ngongotaha","Median","NgongotahaMedian","Whole Suburb","Whole Suburb",493]
["Rotorua","Ngongotaha","Upper Quartile","NgongotahaUpper Quartile","Whole Suburb","Whole Suburb",550]
["Rotorua","Hillcrest","Bonds","HillcrestBonds","Whole Suburb","Whole Suburb",135]
["Rotorua","Hillcrest","Lower Quartile","HillcrestLower Quartile","Whole Suburb","Whole Suburb",490]
["Rotorua","Hillcrest","Median","HillcrestMedian","Whole Suburb","Whole Suburb",525]
["Rotorua","Hillcrest","Upper Quartile","HillcrestUpper Quartile","Whole Suburb","Whole Suburb",558]
["Rotorua","Glenholme","Bonds","GlenholmeBonds","Whole Suburb","Whole Suburb",600]
["Rotorua","Glenholme","Lower Quartile","GlenholmeLower Quartile","Whole Suburb","Whole Suburb",370]
["Rotorua","Glenholme","Median","GlenholmeMedian","Whole Suburb","Whole Suburb",468]
["Rotorua","Glenholme","Upper Quartile","GlenholmeUpper Quartile","Whole Suburb","Whole Suburb",550]
["Rotorua","Kawaha Point","Bonds","Kawaha PointBonds","Whole Suburb","Whole Suburb",162]
["Rotorua","Kawaha Point","Lower Quartile","Kawaha PointLower Quartile","Whole Suburb","Whole Suburb",518]
["Rotorua","Kawaha Point","Median","Kawaha PointMedian","Whole Suburb","Whole Suburb",540]
["Rotorua","Kawaha Point","Upper Quartile","Kawaha PointUpper Quartile","Whole Suburb","Whole Suburb",635]
["Rotorua","Whakarewarewa","Bonds","WhakarewarewaBonds","Whole Suburb","Whole Suburb",75]
["Rotorua","Whakarewarewa","Lower Quartile","WhakarewarewaLower Quartile","Whole Suburb","Whole Suburb",420]
["Rotorua","Whakarewarewa","Median","WhakarewarewaMedian","Whole Suburb","Whole Suburb",458]
["Rotorua","Whakarewarewa","Upper Quartile","WhakarewarewaUpper Quartile","Whole Suburb","Whole Suburb",491]
["Rotorua","Ngapuna","Bonds","NgapunaBonds","Whole Suburb","Whole Suburb",""]
["Rotorua","Ngapuna","Lower Quartile","NgapunaLower Quartile","Whole Suburb","Whole Suburb",""]
["Rotorua","Ngapuna","Median","NgapunaMedian","Whole Suburb","Whole Suburb",""]
["Rotorua","Ngapuna","Upper Quartile","NgapunaUpper Quartile","Whole Suburb","Whole Suburb",""]
["Rotorua","Tihiotonga","Bonds","TihiotongaBonds","Whole Suburb","Whole Suburb",24]
["Rotorua","Tihiotonga","Lower Quartile","TihiotongaLower Quartile","Whole Suburb","Whole Suburb",475]
["Rotorua","Tihiotonga","Median","TihiotongaMedian","Whole Suburb","Whole Suburb",540]
["Rotorua","Tihiotonga","Upper Quartile","TihiotongaUpper Quartile","Whole Suburb","Whole Suburb",605]
["Rotorua","Holdens Bay","Bonds","Holdens BayBonds","Whole Suburb","Whole Suburb",87]
["Rotorua","Holdens Bay","Lower Quartile","Holdens BayLower Quartile","Whole Suburb","Whole Suburb",425]
["Rotorua","Holdens Bay","Median","Holdens BayMedian","Whole Suburb","Whole Suburb",480]
["Rotorua","Holdens Bay","Upper Quartile","Holdens BayUpper Quartile","Whole Suburb","Whole Suburb",495]
["Rotorua","Fenton Park","Bonds","Fenton ParkBonds","Whole Suburb","Whole Suburb",300]
["Rotorua","Fenton Park","Lower Quartile","Fenton ParkLower Quartile","Whole Suburb","Whole Suburb",300]
["Rotorua","Fenton Park","Median","Fenton ParkMedian","Whole Suburb","Whole Suburb",350]
["Rotorua","Fenton Park","Upper Quartile","Fenton ParkUpper Quartile","Whole Suburb","Whole Suburb",426]
["Rotorua","Fordlands","Bonds","FordlandsBonds","Whole Suburb","Whole Suburb",156]
["Rotorua","Fordlands","Lower Quartile","FordlandsLower Quartile","Whole Suburb","Whole Suburb",420]
["Rotorua","Fordlands","Median","FordlandsMedian","Whole Suburb","Whole Suburb",450]
["Rotorua","Fordlands","Upper Quartile","FordlandsUpper Quartile","Whole Suburb","Whole Suburb",491]
["Rotorua","Mourea","Bonds","MoureaBonds","Whole Suburb","Whole Suburb",""]
["Rotorua","Mourea","Lower Quartile","MoureaLower Quartile","Whole Suburb","Whole Suburb",""]
["Rotorua","Mourea","Median","MoureaMedian","Whole Suburb","Whole Suburb",""]
["Rotorua","Mourea","Upper Quartile","MoureaUpper Quartile","Whole Suburb","Whole Suburb",""]
["Rotorua","Ohinemutu","Bonds","OhinemutuBonds","Whole Suburb","Whole Suburb",36]
["Rotorua","Ohinemutu","Lower Quartile","OhinemutuLower Quartile","Whole Suburb","Whole Suburb",325]
["Rotorua","Ohinemutu","Median","OhinemutuMedian","Whole Suburb","Whole Suburb",350]
["Rotorua","Ohinemutu","Upper Quartile","OhinemutuUpper Quartile","Whole Suburb","Whole Suburb",445]
["Rotorua","Fairy Springs","Bonds","Fairy SpringsBonds","Whole Suburb","Whole Suburb",180]
["Rotorua","Fairy Springs","Lower Quartile","Fairy SpringsLower Quartile","Whole Suburb","Whole Suburb",420]
["Rotorua","Fairy Springs","Median","Fairy SpringsMedian","Whole Suburb","Whole Suburb",455]
["Rotorua","Fairy Springs","Upper Quartile","Fairy SpringsUpper Quartile","Whole Suburb","Whole Suburb",518]
["Rotorua","Lynmore","Bonds",{"$f":"B4802&C4802","v":"LynmoreBonds"},"Whole Suburb","Whole Suburb",180]
["Rotorua","Lynmore","Lower Quartile","LynmoreLower Quartile","Whole Suburb","Whole Suburb",505]
["Rotorua","Lynmore","Median","LynmoreMedian","Whole Suburb","Whole Suburb",555]
["Rotorua","Lynmore","Upper Quartile","LynmoreUpper Quartile","Whole Suburb","Whole Suburb",628]
["Rotorua","Okere Falls","Bonds","Okere FallsBonds","Whole Suburb","Whole Suburb",""]
["Rotorua","Okere Falls","Lower Quartile","Okere FallsLower Quartile","Whole Suburb","Whole Suburb",""]
["Rotorua","Okere Falls","Median","Okere FallsMedian","Whole Suburb","Whole Suburb",""]
["Rotorua","Okere Falls","Upper Quartile","Okere FallsUpper Quartile","Whole Suburb","Whole Suburb",""]
["Rotorua","Mangakakahi","Bonds","MangakakahiBonds","Whole Suburb","Whole Suburb",399]
["Rotorua","Mangakakahi","Lower Quartile","MangakakahiLower Quartile","Whole Suburb","Whole Suburb",430]
["Rotorua","Mangakakahi","Median","MangakakahiMedian","Whole Suburb","Whole Suburb",490]
["Rotorua","Mangakakahi","Upper Quartile","MangakakahiUpper Quartile","Whole Suburb","Whole Suburb",520]
["Roxburgh","Ettrick","Bonds","EttrickBonds","Whole Suburb","Whole Suburb",""]
["Roxburgh","Ettrick","Lower Quartile","EttrickLower Quartile","Whole Suburb","Whole Suburb",""]
["Roxburgh","Ettrick","Median","EttrickMedian","Whole Suburb","Whole Suburb",""]
["Roxburgh","Ettrick","Upper Quartile","EttrickUpper Quartile","Whole Suburb","Whole Suburb",""]
["Roxburgh","Roxburgh","Bonds","RoxburghBonds","Whole Suburb","Whole Suburb",63]
["Roxburgh","Roxburgh","Lower Quartile","RoxburghLower Quartile","Whole Suburb","Whole Suburb",315]
["Roxburgh","Roxburgh","Median","RoxburghMedian","Whole Suburb","Whole Suburb",350]
["Roxburgh","Roxburgh","Upper Quartile","RoxburghUpper Quartile","Whole Suburb","Whole Suburb",350]
["Ruakaka","Ruakaka","Bonds","RuakakaBonds","Whole Suburb","Whole Suburb",312]
["Ruakaka","Ruakaka","Lower Quartile","RuakakaLower Quartile","Whole Suburb","Whole Suburb",442]
["Ruakaka","Ruakaka","Median","RuakakaMedian","Whole Suburb","Whole Suburb",525]
["Ruakaka","Ruakaka","Upper Quartile","RuakakaUpper Quartile","Whole Suburb","Whole Suburb",595]
["Ruatapu","Ruatapu","Bonds","RuatapuBonds","Whole Suburb","Whole Suburb",""]
["Ruatapu","Ruatapu","Lower Quartile","RuatapuLower Quartile","Whole Suburb","Whole Suburb",""]
["Ruatapu","Ruatapu","Median","RuatapuMedian","Whole Suburb","Whole Suburb",""]
["Ruatapu","Ruatapu","Upper Quartile","RuatapuUpper Quartile","Whole Suburb","Whole Suburb",""]
["Ruawai","Ruawai","Bonds","RuawaiBonds","Whole Suburb","Whole Suburb",""]
["Ruawai","Ruawai","Lower Quartile","RuawaiLower Quartile","Whole Suburb","Whole Suburb",""]
["Ruawai","Ruawai","Median","RuawaiMedian","Whole Suburb","Whole Suburb",""]
["Ruawai","Ruawai","Upper Quartile","RuawaiUpper Quartile","Whole Suburb","Whole Suburb",""]
["Runanga","Dunollie","Bonds","DunollieBonds","Whole Suburb","Whole Suburb",""]
["Runanga","Dunollie","Lower Quartile","DunollieLower Quartile","Whole Suburb","Whole Suburb",""]
["Runanga","Dunollie","Median","DunollieMedian","Whole Suburb","Whole Suburb",""]
["Runanga","Dunollie","Upper Quartile","DunollieUpper Quartile","Whole Suburb","Whole Suburb",""]
["Runanga","Runanga","Bonds","RunangaBonds","Whole Suburb","Whole Suburb",""]
["Runanga","Runanga","Lower Quartile","RunangaLower Quartile","Whole Suburb","Whole Suburb",""]
["Runanga","Runanga","Median","RunangaMedian","Whole Suburb","Whole Suburb",""]
["Runanga","Runanga","Upper Quartile","RunangaUpper Quartile","Whole Suburb","Whole Suburb",""]
["Russell","Russell","Bonds","RussellBonds","Whole Suburb","Whole Suburb",63]
["Russell","Russell","Lower Quartile","RussellLower Quartile","Whole Suburb","Whole Suburb",380]
["Russell","Russell","Median","RussellMedian","Whole Suburb","Whole Suburb",450]
["Russell","Russell","Upper Quartile","RussellUpper Quartile","Whole Suburb","Whole Suburb",500]
["Russell","Okiato","Bonds","OkiatoBonds","Whole Suburb","Whole Suburb",""]
["Russell","Okiato","Lower Quartile","OkiatoLower Quartile","Whole Suburb","Whole Suburb",""]
["Russell","Okiato","Median","OkiatoMedian","Whole Suburb","Whole Suburb",""]
["Russell","Okiato","Upper Quartile","OkiatoUpper Quartile","Whole Suburb","Whole Suburb",""]
["Sanson","Sanson","Bonds","SansonBonds","Whole Suburb","Whole Suburb",""]
["Sanson","Sanson","Lower Quartile","SansonLower Quartile","Whole Suburb","Whole Suburb",""]
["Sanson","Sanson","Median","SansonMedian","Whole Suburb","Whole Suburb",""]
["Sanson","Sanson","Upper Quartile","SansonUpper Quartile","Whole Suburb","Whole Suburb",""]
["Seadown","Seadown","Bonds","SeadownBonds","Whole Suburb","Whole Suburb",""]
["Seadown","Seadown","Lower Quartile","SeadownLower Quartile","Whole Suburb","Whole Suburb",""]
["Seadown","Seadown","Median","SeadownMedian","Whole Suburb","Whole Suburb",""]
["Seadown","Seadown","Upper Quartile","SeadownUpper Quartile","Whole Suburb","Whole Suburb",""]
["Seddon","Seddon","Bonds","SeddonBonds","Whole Suburb","Whole Suburb",""]
["Seddon","Seddon","Lower Quartile","SeddonLower Quartile","Whole Suburb","Whole Suburb",""]
["Seddon","Seddon","Median","SeddonMedian","Whole Suburb","Whole Suburb",""]
["Seddon","Seddon","Upper Quartile","SeddonUpper Quartile","Whole Suburb","Whole Suburb",""]
["Sefton","Sefton","Bonds","SeftonBonds","Whole Suburb","Whole Suburb",30]
["Sefton","Sefton","Lower Quartile","SeftonLower Quartile","Whole Suburb","Whole Suburb",430]
["Sefton","Sefton","Median","SeftonMedian","Whole Suburb","Whole Suburb",550]
["Sefton","Sefton","Upper Quartile","SeftonUpper Quartile","Whole Suburb","Whole Suburb",600]
["Shannon","Koputaroa","Bonds",{"$f":"B4866&C4866","v":"KoputaroaBonds"},"Whole Suburb","Whole Suburb",""]
["Shannon","Koputaroa","Lower Quartile","KoputaroaLower Quartile","Whole Suburb","Whole Suburb",""]
["Shannon","Koputaroa","Median","KoputaroaMedian","Whole Suburb","Whole Suburb",""]
["Shannon","Koputaroa","Upper Quartile","KoputaroaUpper Quartile","Whole Suburb","Whole Suburb",""]
["Shannon","Shannon","Bonds","ShannonBonds","Whole Suburb","Whole Suburb",78]
["Shannon","Shannon","Lower Quartile","ShannonLower Quartile","Whole Suburb","Whole Suburb",350]
["Shannon","Shannon","Median","ShannonMedian","Whole Suburb","Whole Suburb",405]
["Shannon","Shannon","Upper Quartile","ShannonUpper Quartile","Whole Suburb","Whole Suburb",463]
["Sheffield","Sheffield","Bonds","SheffieldBonds","Whole Suburb","Whole Suburb",""]
["Sheffield","Sheffield","Lower Quartile","SheffieldLower Quartile","Whole Suburb","Whole Suburb",""]
["Sheffield","Sheffield","Median","SheffieldMedian","Whole Suburb","Whole Suburb",""]
["Sheffield","Sheffield","Upper Quartile","SheffieldUpper Quartile","Whole Suburb","Whole Suburb",""]
["Silverdale","Stillwater","Bonds","StillwaterBonds","Whole Suburb","Whole Suburb",147]
["Silverdale","Stillwater","Lower Quartile","StillwaterLower Quartile","Whole Suburb","Whole Suburb",515]
["Silverdale","Stillwater","Median","StillwaterMedian","Whole Suburb","Whole Suburb",650]
["Silverdale","Stillwater","Upper Quartile","StillwaterUpper Quartile","Whole Suburb","Whole Suburb",750]
["Silverdale","Silverdale","Bonds","SilverdaleBonds","Whole Suburb","Whole Suburb",609]
["Silverdale","Silverdale","Lower Quartile","SilverdaleLower Quartile","Whole Suburb","Whole Suburb",700]
["Silverdale","Silverdale","Median","SilverdaleMedian","Whole Suburb","Whole Suburb",795]
["Silverdale","Silverdale","Upper Quartile","SilverdaleUpper Quartile","Whole Suburb","Whole Suburb",850]
["Snells Beach","Snells Beach","Bonds","Snells BeachBonds","Whole Suburb","Whole Suburb",387]
["Snells Beach","Snells Beach","Lower Quartile","Snells BeachLower Quartile","Whole Suburb","Whole Suburb",475]
["Snells Beach","Snells Beach","Median","Snells BeachMedian","Whole Suburb","Whole Suburb",510]
["Snells Beach","Snells Beach","Upper Quartile","Snells BeachUpper Quartile","Whole Suburb","Whole Suburb",628]
["South Head","South Head","Bonds","South HeadBonds","Whole Suburb","Whole Suburb",54]
["South Head","South Head","Lower Quartile","South HeadLower Quartile","Whole Suburb","Whole Suburb",450]
["South Head","South Head","Median","South HeadMedian","Whole Suburb","Whole Suburb",510]
["South Head","South Head","Upper Quartile","South HeadUpper Quartile","Whole Suburb","Whole Suburb",560]
["South Head","Shelly Beach","Bonds","Shelly BeachBonds","Whole Suburb","Whole Suburb",""]
["South Head","Shelly Beach","Lower Quartile","Shelly BeachLower Quartile","Whole Suburb","Whole Suburb",""]
["South Head","Shelly Beach","Median","Shelly BeachMedian","Whole Suburb","Whole Suburb",""]
["South Head","Shelly Beach","Upper Quartile","Shelly BeachUpper Quartile","Whole Suburb","Whole Suburb",""]
["Southbridge","Southbridge","Bonds","SouthbridgeBonds","Whole Suburb","Whole Suburb",36]
["Southbridge","Southbridge","Lower Quartile","SouthbridgeLower Quartile","Whole Suburb","Whole Suburb",350]
["Southbridge","Southbridge","Median","SouthbridgeMedian","Whole Suburb","Whole Suburb",420]
["Southbridge","Southbridge","Upper Quartile","SouthbridgeUpper Quartile","Whole Suburb","Whole Suburb",450]
["Southburn","Maungati","Bonds","MaungatiBonds","Whole Suburb","Whole Suburb",""]
["Southburn","Maungati","Lower Quartile","MaungatiLower Quartile","Whole Suburb","Whole Suburb",""]
["Southburn","Maungati","Median","MaungatiMedian","Whole Suburb","Whole Suburb",""]
["Southburn","Maungati","Upper Quartile","MaungatiUpper Quartile","Whole Suburb","Whole Suburb",""]
["Spring Creek","Spring Creek","Bonds","Spring CreekBonds","Whole Suburb","Whole Suburb",30]
["Spring Creek","Spring Creek","Lower Quartile","Spring CreekLower Quartile","Whole Suburb","Whole Suburb",383]
["Spring Creek","Spring Creek","Median","Spring CreekMedian","Whole Suburb","Whole Suburb",403]
["Spring Creek","Spring Creek","Upper Quartile","Spring CreekUpper Quartile","Whole Suburb","Whole Suburb",456]
["Springdale","Springdale","Bonds","SpringdaleBonds","Whole Suburb","Whole Suburb",""]
["Springdale","Springdale","Lower Quartile","SpringdaleLower Quartile","Whole Suburb","Whole Suburb",""]
["Springdale","Springdale","Median","SpringdaleMedian","Whole Suburb","Whole Suburb",""]
["Springdale","Springdale","Upper Quartile","SpringdaleUpper Quartile","Whole Suburb","Whole Suburb",""]
["Springfield","Springfield","Bonds","SpringfieldBonds","Whole Suburb","Whole Suburb",12]
["Springfield","Springfield","Lower Quartile","SpringfieldLower Quartile","Whole Suburb","Whole Suburb",310]
["Springfield","Springfield","Median","SpringfieldMedian","Whole Suburb","Whole Suburb",350]
["Springfield","Springfield","Upper Quartile","SpringfieldUpper Quartile","Whole Suburb","Whole Suburb",370]
["Springston","Springston","Bonds","SpringstonBonds","Whole Suburb","Whole Suburb",51]
["Springston","Springston","Lower Quartile","SpringstonLower Quartile","Whole Suburb","Whole Suburb",300]
["Springston","Springston","Median","SpringstonMedian","Whole Suburb","Whole Suburb",360]
["Springston","Springston","Upper Quartile","SpringstonUpper Quartile","Whole Suburb","Whole Suburb",500]
["Stewart Island","Halfmoon Bay","Bonds","Halfmoon BayBonds","Whole Suburb","Whole Suburb",""]
["Stewart Island","Halfmoon Bay","Lower Quartile","Halfmoon BayLower Quartile","Whole Suburb","Whole Suburb",""]
["Stewart Island","Halfmoon Bay","Median","Halfmoon BayMedian","Whole Suburb","Whole Suburb",""]
["Stewart Island","Halfmoon Bay","Upper Quartile","Halfmoon BayUpper Quartile","Whole Suburb","Whole Suburb",""]
["Stirling","Stirling","Bonds","StirlingBonds","Whole Suburb","Whole Suburb",""]
["Stirling","Stirling","Lower Quartile","StirlingLower Quartile","Whole Suburb","Whole Suburb",""]
["Stirling","Stirling","Median","StirlingMedian","Whole Suburb","Whole Suburb",""]
["Stirling","Stirling","Upper Quartile","StirlingUpper Quartile","Whole Suburb","Whole Suburb",""]
["Stratford","Pembroke","Bonds",{"$f":"B4930&C4930","v":"PembrokeBonds"},"Whole Suburb","Whole Suburb",""]
["Stratford","Pembroke","Lower Quartile","PembrokeLower Quartile","Whole Suburb","Whole Suburb",""]
["Stratford","Pembroke","Median","PembrokeMedian","Whole Suburb","Whole Suburb",""]
["Stratford","Pembroke","Upper Quartile","PembrokeUpper Quartile","Whole Suburb","Whole Suburb",""]
["Stratford","Stratford","Bonds","StratfordBonds","Whole Suburb","Whole Suburb",447]
["Stratford","Stratford","Lower Quartile","StratfordLower Quartile","Whole Suburb","Whole Suburb",308]
["Stratford","Stratford","Median","StratfordMedian","Whole Suburb","Whole Suburb",390]
["Stratford","Stratford","Upper Quartile","StratfordUpper Quartile","Whole Suburb","Whole Suburb",430]
["Stratford","Midhirst","Bonds","MidhirstBonds","Whole Suburb","Whole Suburb",""]
["Stratford","Midhirst","Lower Quartile","MidhirstLower Quartile","Whole Suburb","Whole Suburb",""]
["Stratford","Midhirst","Median","MidhirstMedian","Whole Suburb","Whole Suburb",""]
["Stratford","Midhirst","Upper Quartile","MidhirstUpper Quartile","Whole Suburb","Whole Suburb",""]
["Stratford","Toko","Bonds","TokoBonds","Whole Suburb","Whole Suburb",""]
["Stratford","Toko","Lower Quartile","TokoLower Quartile","Whole Suburb","Whole Suburb",""]
["Stratford","Toko","Median","TokoMedian","Whole Suburb","Whole Suburb",""]
["Stratford","Toko","Upper Quartile","TokoUpper Quartile","Whole Suburb","Whole Suburb",""]
["Stratford","Ngaere","Bonds","NgaereBonds","Whole Suburb","Whole Suburb",""]
["Stratford","Ngaere","Lower Quartile","NgaereLower Quartile","Whole Suburb","Whole Suburb",""]
["Stratford","Ngaere","Median","NgaereMedian","Whole Suburb","Whole Suburb",""]
["Stratford","Ngaere","Upper Quartile","NgaereUpper Quartile","Whole Suburb","Whole Suburb",""]
["Stratford","Tariki","Bonds","TarikiBonds","Whole Suburb","Whole Suburb",""]
["Stratford","Tariki","Lower Quartile","TarikiLower Quartile","Whole Suburb","Whole Suburb",""]
["Stratford","Tariki","Median","TarikiMedian","Whole Suburb","Whole Suburb",""]
["Stratford","Tariki","Upper Quartile","TarikiUpper Quartile","Whole Suburb","Whole Suburb",""]
["Swannanoa","Swannanoa","Bonds","SwannanoaBonds","Whole Suburb","Whole Suburb",42]
["Swannanoa","Swannanoa","Lower Quartile","SwannanoaLower Quartile","Whole Suburb","Whole Suburb",328]
["Swannanoa","Swannanoa","Median","SwannanoaMedian","Whole Suburb","Whole Suburb",380]
["Swannanoa","Swannanoa","Upper Quartile","SwannanoaUpper Quartile","Whole Suburb","Whole Suburb",465]
["Tahawai","Tahawai","Bonds","TahawaiBonds","Whole Suburb","Whole Suburb",""]
["Tahawai","Tahawai","Lower Quartile","TahawaiLower Quartile","Whole Suburb","Whole Suburb",""]
["Tahawai","Tahawai","Median","TahawaiMedian","Whole Suburb","Whole Suburb",""]
["Tahawai","Tahawai","Upper Quartile","TahawaiUpper Quartile","Whole Suburb","Whole Suburb",""]
["Tahuna","Tahuna","Bonds","TahunaBonds","Whole Suburb","Whole Suburb",""]
["Tahuna","Tahuna","Lower Quartile","TahunaLower Quartile","Whole Suburb","Whole Suburb",""]
["Tahuna","Tahuna","Median","TahunaMedian","Whole Suburb","Whole Suburb",""]
["Tahuna","Tahuna","Upper Quartile","TahunaUpper Quartile","Whole Suburb","Whole Suburb",""]
["Tahuna","Te Hoe","Bonds","Te HoeBonds","Whole Suburb","Whole Suburb",""]
["Tahuna","Te Hoe","Lower Quartile","Te HoeLower Quartile","Whole Suburb","Whole Suburb",""]
["Tahuna","Te Hoe","Median","Te HoeMedian","Whole Suburb","Whole Suburb",""]
["Tahuna","Te Hoe","Upper Quartile","Te HoeUpper Quartile","Whole Suburb","Whole Suburb",""]
["Tai Tapu","Tai Tapu","Bonds","Tai TapuBonds","Whole Suburb","Whole Suburb",""]
["Tai Tapu","Tai Tapu","Lower Quartile","Tai TapuLower Quartile","Whole Suburb","Whole Suburb",""]
["Tai Tapu","Tai Tapu","Median","Tai TapuMedian","Whole Suburb","Whole Suburb",""]
["Tai Tapu","Tai Tapu","Upper Quartile","Tai TapuUpper Quartile","Whole Suburb","Whole Suburb",""]
["Taihape","Taihape","Bonds","TaihapeBonds","Whole Suburb","Whole Suburb",174]
["Taihape","Taihape","Lower Quartile","TaihapeLower Quartile","Whole Suburb","Whole Suburb",270]
["Taihape","Taihape","Median","TaihapeMedian","Whole Suburb","Whole Suburb",300]
["Taihape","Taihape","Upper Quartile","TaihapeUpper Quartile","Whole Suburb","Whole Suburb",355]
["Taipa","Taipa","Bonds","TaipaBonds","Whole Suburb","Whole Suburb",""]
["Taipa","Taipa","Lower Quartile","TaipaLower Quartile","Whole Suburb","Whole Suburb",""]
["Taipa","Taipa","Median","TaipaMedian","Whole Suburb","Whole Suburb",""]
["Taipa","Taipa","Upper Quartile","TaipaUpper Quartile","Whole Suburb","Whole Suburb",""]
["Tairua","Tairua","Bonds","TairuaBonds","Whole Suburb","Whole Suburb",81]
["Tairua","Tairua","Lower Quartile","TairuaLower Quartile","Whole Suburb","Whole Suburb",403]
["Tairua","Tairua","Median","TairuaMedian","Whole Suburb","Whole Suburb",450]
["Tairua","Tairua","Upper Quartile","TairuaUpper Quartile","Whole Suburb","Whole Suburb",495]
["Takaka","Clifton","Bonds","CliftonBonds","Whole Suburb","Whole Suburb",""]
["Takaka","Clifton","Lower Quartile","CliftonLower Quartile","Whole Suburb","Whole Suburb",""]
["Takaka","Clifton","Median","CliftonMedian","Whole Suburb","Whole Suburb",""]
["Takaka","Clifton","Upper Quartile","CliftonUpper Quartile","Whole Suburb","Whole Suburb",""]
["Takaka","East Takaka","Bonds","East TakakaBonds","Whole Suburb","Whole Suburb",""]
["Takaka","East Takaka","Lower Quartile","East TakakaLower Quartile","Whole Suburb","Whole Suburb",""]
["Takaka","East Takaka","Median","East TakakaMedian","Whole Suburb","Whole Suburb",""]
["Takaka","East Takaka","Upper Quartile","East TakakaUpper Quartile","Whole Suburb","Whole Suburb",""]
["Takaka","Takaka","Bonds",{"$f":"B4994&C4994","v":"TakakaBonds"},"Whole Suburb","Whole Suburb",114]
["Takaka","Takaka","Lower Quartile","TakakaLower Quartile","Whole Suburb","Whole Suburb",295]
["Takaka","Takaka","Median","TakakaMedian","Whole Suburb","Whole Suburb",370]
["Takaka","Takaka","Upper Quartile","TakakaUpper Quartile","Whole Suburb","Whole Suburb",415]
["Takaka","Pohara","Bonds","PoharaBonds","Whole Suburb","Whole Suburb",27]
["Takaka","Pohara","Lower Quartile","PoharaLower Quartile","Whole Suburb","Whole Suburb",258]
["Takaka","Pohara","Median","PoharaMedian","Whole Suburb","Whole Suburb",320]
["Takaka","Pohara","Upper Quartile","PoharaUpper Quartile","Whole Suburb","Whole Suburb",390]
["Takaka","Patons Rock","Bonds","Patons RockBonds","Whole Suburb","Whole Suburb",""]
["Takaka","Patons Rock","Lower Quartile","Patons RockLower Quartile","Whole Suburb","Whole Suburb",""]
["Takaka","Patons Rock","Median","Patons RockMedian","Whole Suburb","Whole Suburb",""]
["Takaka","Patons Rock","Upper Quartile","Patons RockUpper Quartile","Whole Suburb","Whole Suburb",""]
["Takaka","Onekaka","Bonds","OnekakaBonds","Whole Suburb","Whole Suburb",""]
["Takaka","Onekaka","Lower Quartile","OnekakaLower Quartile","Whole Suburb","Whole Suburb",""]
["Takaka","Onekaka","Median","OnekakaMedian","Whole Suburb","Whole Suburb",""]
["Takaka","Onekaka","Upper Quartile","OnekakaUpper Quartile","Whole Suburb","Whole Suburb",""]
["Takanini","Takanini","Bonds","TakaniniBonds","Whole Suburb","Whole Suburb",1338]
["Takanini","Takanini","Lower Quartile","TakaniniLower Quartile","Whole Suburb","Whole Suburb",550]
["Takanini","Takanini","Median","TakaniniMedian","Whole Suburb","Whole Suburb",630]
["Takanini","Takanini","Upper Quartile","TakaniniUpper Quartile","Whole Suburb","Whole Suburb",700]
["Takanini","Conifer Grove","Bonds","Conifer GroveBonds","Whole Suburb","Whole Suburb",288]
["Takanini","Conifer Grove","Lower Quartile","Conifer GroveLower Quartile","Whole Suburb","Whole Suburb",500]
["Takanini","Conifer Grove","Median","Conifer GroveMedian","Whole Suburb","Whole Suburb",595]
["Takanini","Conifer Grove","Upper Quartile","Conifer GroveUpper Quartile","Whole Suburb","Whole Suburb",680]
["Takapau","Takapau","Bonds","TakapauBonds","Whole Suburb","Whole Suburb",""]
["Takapau","Takapau","Lower Quartile","TakapauLower Quartile","Whole Suburb","Whole Suburb",""]
["Takapau","Takapau","Median","TakapauMedian","Whole Suburb","Whole Suburb",""]
["Takapau","Takapau","Upper Quartile","TakapauUpper Quartile","Whole Suburb","Whole Suburb",""]
["Takapau","Ashley Clinton","Bonds","Ashley ClintonBonds","Whole Suburb","Whole Suburb",""]
["Takapau","Ashley Clinton","Lower Quartile","Ashley ClintonLower Quartile","Whole Suburb","Whole Suburb",""]
["Takapau","Ashley Clinton","Median","Ashley ClintonMedian","Whole Suburb","Whole Suburb",""]
["Takapau","Ashley Clinton","Upper Quartile","Ashley ClintonUpper Quartile","Whole Suburb","Whole Suburb",""]
["Taneatua","Taneatua","Bonds","TaneatuaBonds","Whole Suburb","Whole Suburb",""]
["Taneatua","Taneatua","Lower Quartile","TaneatuaLower Quartile","Whole Suburb","Whole Suburb",""]
["Taneatua","Taneatua","Median","TaneatuaMedian","Whole Suburb","Whole Suburb",""]
["Taneatua","Taneatua","Upper Quartile","TaneatuaUpper Quartile","Whole Suburb","Whole Suburb",""]
["Tangimoana","Parewanui","Bonds","ParewanuiBonds","Whole Suburb","Whole Suburb",""]
["Tangimoana","Parewanui","Lower Quartile","ParewanuiLower Quartile","Whole Suburb","Whole Suburb",""]
["Tangimoana","Parewanui","Median","ParewanuiMedian","Whole Suburb","Whole Suburb",""]
["Tangimoana","Parewanui","Upper Quartile","ParewanuiUpper Quartile","Whole Suburb","Whole Suburb",""]
["Tangimoana","Tangimoana","Bonds","TangimoanaBonds","Whole Suburb","Whole Suburb",""]
["Tangimoana","Tangimoana","Lower Quartile","TangimoanaLower Quartile","Whole Suburb","Whole Suburb",""]
["Tangimoana","Tangimoana","Median","TangimoanaMedian","Whole Suburb","Whole Suburb",""]
["Tangimoana","Tangimoana","Upper Quartile","TangimoanaUpper Quartile","Whole Suburb","Whole Suburb",""]
["Tapanui","Tapanui","Bonds","TapanuiBonds","Whole Suburb","Whole Suburb",""]
["Tapanui","Tapanui","Lower Quartile","TapanuiLower Quartile","Whole Suburb","Whole Suburb",""]
["Tapanui","Tapanui","Median","TapanuiMedian","Whole Suburb","Whole Suburb",""]
["Tapanui","Tapanui","Upper Quartile","TapanuiUpper Quartile","Whole Suburb","Whole Suburb",""]
["Tapanui","Heriot","Bonds","HeriotBonds","Whole Suburb","Whole Suburb",""]
["Tapanui","Heriot","Lower Quartile","HeriotLower Quartile","Whole Suburb","Whole Suburb",""]
["Tapanui","Heriot","Median","HeriotMedian","Whole Suburb","Whole Suburb",""]
["Tapanui","Heriot","Upper Quartile","HeriotUpper Quartile","Whole Suburb","Whole Suburb",""]
["Tarata","Tarata","Bonds","TarataBonds","Whole Suburb","Whole Suburb",""]
["Tarata","Tarata","Lower Quartile","TarataLower Quartile","Whole Suburb","Whole Suburb",""]
["Tarata","Tarata","Median","TarataMedian","Whole Suburb","Whole Suburb",""]
["Tarata","Tarata","Upper Quartile","TarataUpper Quartile","Whole Suburb","Whole Suburb",""]
["Taringamotu","Taringamotu","Bonds","TaringamotuBonds","Whole Suburb","Whole Suburb",""]
["Taringamotu","Taringamotu","Lower Quartile","TaringamotuLower Quartile","Whole Suburb","Whole Suburb",""]
["Taringamotu","Taringamotu","Median","TaringamotuMedian","Whole Suburb","Whole Suburb",""]
["Taringamotu","Taringamotu","Upper Quartile","TaringamotuUpper Quartile","Whole Suburb","Whole Suburb",""]
["Tauhei","Tauhei","Bonds","TauheiBonds","Whole Suburb","Whole Suburb",""]
["Tauhei","Tauhei","Lower Quartile","TauheiLower Quartile","Whole Suburb","Whole Suburb",""]
["Tauhei","Tauhei","Median","TauheiMedian","Whole Suburb","Whole Suburb",""]
["Tauhei","Tauhei","Upper Quartile","TauheiUpper Quartile","Whole Suburb","Whole Suburb",""]
["Tauherenikau","Tauherenikau","Bonds",{"$f":"B5058&C5058","v":"TauherenikauBonds"},"Whole Suburb","Whole Suburb",""]
["Tauherenikau","Tauherenikau","Lower Quartile","TauherenikauLower Quartile","Whole Suburb","Whole Suburb",""]
["Tauherenikau","Tauherenikau","Median","TauherenikauMedian","Whole Suburb","Whole Suburb",""]
["Tauherenikau","Tauherenikau","Upper Quartile","TauherenikauUpper Quartile","Whole Suburb","Whole Suburb",""]
["Taumarunui","Manunui","Bonds","ManunuiBonds","Whole Suburb","Whole Suburb",""]
["Taumarunui","Manunui","Lower Quartile","ManunuiLower Quartile","Whole Suburb","Whole Suburb",""]
["Taumarunui","Manunui","Median","ManunuiMedian","Whole Suburb","Whole Suburb",""]
["Taumarunui","Manunui","Upper Quartile","ManunuiUpper Quartile","Whole Suburb","Whole Suburb",""]
["Taumarunui","Taumarunui","Bonds","TaumarunuiBonds","Whole Suburb","Whole Suburb",492]
["Taumarunui","Taumarunui","Lower Quartile","TaumarunuiLower Quartile","Whole Suburb","Whole Suburb",300]
["Taumarunui","Taumarunui","Median","TaumarunuiMedian","Whole Suburb","Whole Suburb",325]
["Taumarunui","Taumarunui","Upper Quartile","TaumarunuiUpper Quartile","Whole Suburb","Whole Suburb",350]
["Taupaki","Taupaki","Bonds","TaupakiBonds","Whole Suburb","Whole Suburb",108]
["Taupaki","Taupaki","Lower Quartile","TaupakiLower Quartile","Whole Suburb","Whole Suburb",450]
["Taupaki","Taupaki","Median","TaupakiMedian","Whole Suburb","Whole Suburb",550]
["Taupaki","Taupaki","Upper Quartile","TaupakiUpper Quartile","Whole Suburb","Whole Suburb",580]
["Taupiri","Whitikahu","Bonds","WhitikahuBonds","Whole Suburb","Whole Suburb",""]
["Taupiri","Whitikahu","Lower Quartile","WhitikahuLower Quartile","Whole Suburb","Whole Suburb",""]
["Taupiri","Whitikahu","Median","WhitikahuMedian","Whole Suburb","Whole Suburb",""]
["Taupiri","Whitikahu","Upper Quartile","WhitikahuUpper Quartile","Whole Suburb","Whole Suburb",""]
["Taupiri","Taupiri","Bonds","TaupiriBonds","Whole Suburb","Whole Suburb",75]
["Taupiri","Taupiri","Lower Quartile","TaupiriLower Quartile","Whole Suburb","Whole Suburb",325]
["Taupiri","Taupiri","Median","TaupiriMedian","Whole Suburb","Whole Suburb",400]
["Taupiri","Taupiri","Upper Quartile","TaupiriUpper Quartile","Whole Suburb","Whole Suburb",528]
["Taupo","Rangatira Park","Bonds","Rangatira ParkBonds","Whole Suburb","Whole Suburb",48]
["Taupo","Rangatira Park","Lower Quartile","Rangatira ParkLower Quartile","Whole Suburb","Whole Suburb",488]
["Taupo","Rangatira Park","Median","Rangatira ParkMedian","Whole Suburb","Whole Suburb",560]
["Taupo","Rangatira Park","Upper Quartile","Rangatira ParkUpper Quartile","Whole Suburb","Whole Suburb",583]
["Taupo","Wharewaka","Bonds","WharewakaBonds","Whole Suburb","Whole Suburb",66]
["Taupo","Wharewaka","Lower Quartile","WharewakaLower Quartile","Whole Suburb","Whole Suburb",519]
["Taupo","Wharewaka","Median","WharewakaMedian","Whole Suburb","Whole Suburb",563]
["Taupo","Wharewaka","Upper Quartile","WharewakaUpper Quartile","Whole Suburb","Whole Suburb",583]
["Taupo","Two Mile Bay","Bonds","Two Mile BayBonds","Whole Suburb","Whole Suburb",75]
["Taupo","Two Mile Bay","Lower Quartile","Two Mile BayLower Quartile","Whole Suburb","Whole Suburb",408]
["Taupo","Two Mile Bay","Median","Two Mile BayMedian","Whole Suburb","Whole Suburb",440]
["Taupo","Two Mile Bay","Upper Quartile","Two Mile BayUpper Quartile","Whole Suburb","Whole Suburb",479]
["Taupo","Rainbow Point","Bonds","Rainbow PointBonds","Whole Suburb","Whole Suburb",39]
["Taupo","Rainbow Point","Lower Quartile","Rainbow PointLower Quartile","Whole Suburb","Whole Suburb",435]
["Taupo","Rainbow Point","Median","Rainbow PointMedian","Whole Suburb","Whole Suburb",475]
["Taupo","Rainbow Point","Upper Quartile","Rainbow PointUpper Quartile","Whole Suburb","Whole Suburb",515]
["Taupo","Oruanui","Bonds","OruanuiBonds","Whole Suburb","Whole Suburb",""]
["Taupo","Oruanui","Lower Quartile","OruanuiLower Quartile","Whole Suburb","Whole Suburb",""]
["Taupo","Oruanui","Median","OruanuiMedian","Whole Suburb","Whole Suburb",""]
["Taupo","Oruanui","Upper Quartile","OruanuiUpper Quartile","Whole Suburb","Whole Suburb",""]
["Taupo","Acacia Bay","Bonds","Acacia BayBonds","Whole Suburb","Whole Suburb",90]
["Taupo","Acacia Bay","Lower Quartile","Acacia BayLower Quartile","Whole Suburb","Whole Suburb",405]
["Taupo","Acacia Bay","Median","Acacia BayMedian","Whole Suburb","Whole Suburb",450]
["Taupo","Acacia Bay","Upper Quartile","Acacia BayUpper Quartile","Whole Suburb","Whole Suburb",515]
["Taupo","Nukuhau","Bonds","NukuhauBonds","Whole Suburb","Whole Suburb",324]
["Taupo","Nukuhau","Lower Quartile","NukuhauLower Quartile","Whole Suburb","Whole Suburb",423]
["Taupo","Nukuhau","Median","NukuhauMedian","Whole Suburb","Whole Suburb",490]
["Taupo","Nukuhau","Upper Quartile","NukuhauUpper Quartile","Whole Suburb","Whole Suburb",520]
["Taupo","Kinloch","Bonds","KinlochBonds","Whole Suburb","Whole Suburb",84]
["Taupo","Kinloch","Lower Quartile","KinlochLower Quartile","Whole Suburb","Whole Suburb",450]
["Taupo","Kinloch","Median","KinlochMedian","Whole Suburb","Whole Suburb",480]
["Taupo","Kinloch","Upper Quartile","KinlochUpper Quartile","Whole Suburb","Whole Suburb",543]
["Taupo","Wairakei","Bonds","WairakeiBonds","Whole Suburb","Whole Suburb",""]
["Taupo","Wairakei","Lower Quartile","WairakeiLower Quartile","Whole Suburb","Whole Suburb",""]
["Taupo","Wairakei","Median","WairakeiMedian","Whole Suburb","Whole Suburb",""]
["Taupo","Wairakei","Upper Quartile","WairakeiUpper Quartile","Whole Suburb","Whole Suburb",""]
["Taupo","Waitahanui","Bonds","WaitahanuiBonds","Whole Suburb","Whole Suburb",""]
["Taupo","Waitahanui","Lower Quartile","WaitahanuiLower Quartile","Whole Suburb","Whole Suburb",""]
["Taupo","Waitahanui","Median","WaitahanuiMedian","Whole Suburb","Whole Suburb",""]
["Taupo","Waitahanui","Upper Quartile","WaitahanuiUpper Quartile","Whole Suburb","Whole Suburb",""]
["Taupo","Tihoi","Bonds",{"$f":"B5122&C5122","v":"TihoiBonds"},"Whole Suburb","Whole Suburb",""]
["Taupo","Tihoi","Lower Quartile","TihoiLower Quartile","Whole Suburb","Whole Suburb",""]
["Taupo","Tihoi","Median","TihoiMedian","Whole Suburb","Whole Suburb",""]
["Taupo","Tihoi","Upper Quartile","TihoiUpper Quartile","Whole Suburb","Whole Suburb",""]
["Taupo","Waipahihi","Bonds","WaipahihiBonds","Whole Suburb","Whole Suburb",96]
["Taupo","Waipahihi","Lower Quartile","WaipahihiLower Quartile","Whole Suburb","Whole Suburb",469]
["Taupo","Waipahihi","Median","WaipahihiMedian","Whole Suburb","Whole Suburb",548]
["Taupo","Waipahihi","Upper Quartile","WaipahihiUpper Quartile","Whole Suburb","Whole Suburb",581]
["Taupo","Taupo","Bonds","TaupoBonds","Whole Suburb","Whole Suburb",1050]
["Taupo","Taupo","Lower Quartile","TaupoLower Quartile","Whole Suburb","Whole Suburb",400]
["Taupo","Taupo","Median","TaupoMedian","Whole Suburb","Whole Suburb",440]
["Taupo","Taupo","Upper Quartile","TaupoUpper Quartile","Whole Suburb","Whole Suburb",495]
["Taupo","Hilltop","Bonds","HilltopBonds","Whole Suburb","Whole Suburb",222]
["Taupo","Hilltop","Lower Quartile","HilltopLower Quartile","Whole Suburb","Whole Suburb",415]
["Taupo","Hilltop","Median","HilltopMedian","Whole Suburb","Whole Suburb",480]
["Taupo","Hilltop","Upper Quartile","HilltopUpper Quartile","Whole Suburb","Whole Suburb",545]
["Taupo","Richmond Heights","Bonds","Richmond HeightsBonds","Whole Suburb","Whole Suburb",234]
["Taupo","Richmond Heights","Lower Quartile","Richmond HeightsLower Quartile","Whole Suburb","Whole Suburb",450]
["Taupo","Richmond Heights","Median","Richmond HeightsMedian","Whole Suburb","Whole Suburb",490]
["Taupo","Richmond Heights","Upper Quartile","Richmond HeightsUpper Quartile","Whole Suburb","Whole Suburb",530]
["Taupo","Tauhara","Bonds","TauharaBonds","Whole Suburb","Whole Suburb",216]
["Taupo","Tauhara","Lower Quartile","TauharaLower Quartile","Whole Suburb","Whole Suburb",320]
["Taupo","Tauhara","Median","TauharaMedian","Whole Suburb","Whole Suburb",415]
["Taupo","Tauhara","Upper Quartile","TauharaUpper Quartile","Whole Suburb","Whole Suburb",455]
["Tauranga","Tauranga","Bonds","TaurangaBonds","Whole Suburb","Whole Suburb",459]
["Tauranga","Tauranga","Lower Quartile","TaurangaLower Quartile","Whole Suburb","Whole Suburb",450]
["Tauranga","Tauranga","Median","TaurangaMedian","Whole Suburb","Whole Suburb",500]
["Tauranga","Tauranga","Upper Quartile","TaurangaUpper Quartile","Whole Suburb","Whole Suburb",600]
["Tauranga","Te Puna","Bonds","Te PunaBonds","Whole Suburb","Whole Suburb",54]
["Tauranga","Te Puna","Lower Quartile","Te PunaLower Quartile","Whole Suburb","Whole Suburb",440]
["Tauranga","Te Puna","Median","Te PunaMedian","Whole Suburb","Whole Suburb",520]
["Tauranga","Te Puna","Upper Quartile","Te PunaUpper Quartile","Whole Suburb","Whole Suburb",600]
["Tauranga","Matua","Bonds","MatuaBonds","Whole Suburb","Whole Suburb",420]
["Tauranga","Matua","Lower Quartile","MatuaLower Quartile","Whole Suburb","Whole Suburb",500]
["Tauranga","Matua","Median","MatuaMedian","Whole Suburb","Whole Suburb",570]
["Tauranga","Matua","Upper Quartile","MatuaUpper Quartile","Whole Suburb","Whole Suburb",630]
["Tauranga","Maungatapu","Bonds","MaungatapuBonds","Whole Suburb","Whole Suburb",231]
["Tauranga","Maungatapu","Lower Quartile","MaungatapuLower Quartile","Whole Suburb","Whole Suburb",525]
["Tauranga","Maungatapu","Median","MaungatapuMedian","Whole Suburb","Whole Suburb",568]
["Tauranga","Maungatapu","Upper Quartile","MaungatapuUpper Quartile","Whole Suburb","Whole Suburb",625]
["Tauranga","Pyes Pa","Bonds","Pyes PaBonds","Whole Suburb","Whole Suburb",984]
["Tauranga","Pyes Pa","Lower Quartile","Pyes PaLower Quartile","Whole Suburb","Whole Suburb",580]
["Tauranga","Pyes Pa","Median","Pyes PaMedian","Whole Suburb","Whole Suburb",620]
["Tauranga","Pyes Pa","Upper Quartile","Pyes PaUpper Quartile","Whole Suburb","Whole Suburb",650]
["Tauranga","Gate Pa","Bonds","Gate PaBonds","Whole Suburb","Whole Suburb",687]
["Tauranga","Gate Pa","Lower Quartile","Gate PaLower Quartile","Whole Suburb","Whole Suburb",480]
["Tauranga","Gate Pa","Median","Gate PaMedian","Whole Suburb","Whole Suburb",530]
["Tauranga","Gate Pa","Upper Quartile","Gate PaUpper Quartile","Whole Suburb","Whole Suburb",560]
["Tauranga","Lower Kaimai","Bonds","Lower KaimaiBonds","Whole Suburb","Whole Suburb",""]
["Tauranga","Lower Kaimai","Lower Quartile","Lower KaimaiLower Quartile","Whole Suburb","Whole Suburb",""]
["Tauranga","Lower Kaimai","Median","Lower KaimaiMedian","Whole Suburb","Whole Suburb",""]
["Tauranga","Lower Kaimai","Upper Quartile","Lower KaimaiUpper Quartile","Whole Suburb","Whole Suburb",""]
["Tauranga","Poike","Bonds","PoikeBonds","Whole Suburb","Whole Suburb",138]
["Tauranga","Poike","Lower Quartile","PoikeLower Quartile","Whole Suburb","Whole Suburb",180]
["Tauranga","Poike","Median","PoikeMedian","Whole Suburb","Whole Suburb",190]
["Tauranga","Poike","Upper Quartile","PoikeUpper Quartile","Whole Suburb","Whole Suburb",435]
["Tauranga","Tauriko","Bonds","TaurikoBonds","Whole Suburb","Whole Suburb",45]
["Tauranga","Tauriko","Lower Quartile","TaurikoLower Quartile","Whole Suburb","Whole Suburb",525]
["Tauranga","Tauriko","Median","TaurikoMedian","Whole Suburb","Whole Suburb",580]
["Tauranga","Tauriko","Upper Quartile","TaurikoUpper Quartile","Whole Suburb","Whole Suburb",950]
["Tauranga","Hairini","Bonds","HairiniBonds","Whole Suburb","Whole Suburb",195]
["Tauranga","Hairini","Lower Quartile","HairiniLower Quartile","Whole Suburb","Whole Suburb",463]
["Tauranga","Hairini","Median","HairiniMedian","Whole Suburb","Whole Suburb",525]
["Tauranga","Hairini","Upper Quartile","HairiniUpper Quartile","Whole Suburb","Whole Suburb",565]
["Tauranga","Bethlehem","Bonds",{"$f":"B5186&C5186","v":"BethlehemBonds"},"Whole Suburb","Whole Suburb",486]
["Tauranga","Bethlehem","Lower Quartile","BethlehemLower Quartile","Whole Suburb","Whole Suburb",560]
["Tauranga","Bethlehem","Median","BethlehemMedian","Whole Suburb","Whole Suburb",620]
["Tauranga","Bethlehem","Upper Quartile","BethlehemUpper Quartile","Whole Suburb","Whole Suburb",670]
["Tauranga","Brookfield","Bonds","BrookfieldBonds","Whole Suburb","Whole Suburb",549]
["Tauranga","Brookfield","Lower Quartile","BrookfieldLower Quartile","Whole Suburb","Whole Suburb",483]
["Tauranga","Brookfield","Median","BrookfieldMedian","Whole Suburb","Whole Suburb",535]
["Tauranga","Brookfield","Upper Quartile","BrookfieldUpper Quartile","Whole Suburb","Whole Suburb",570]
["Tauranga","Wairoa","Bonds","WairoaBonds","Whole Suburb","Whole Suburb",42]
["Tauranga","Wairoa","Lower Quartile","WairoaLower Quartile","Whole Suburb","Whole Suburb",480]
["Tauranga","Wairoa","Median","WairoaMedian","Whole Suburb","Whole Suburb",550]
["Tauranga","Wairoa","Upper Quartile","WairoaUpper Quartile","Whole Suburb","Whole Suburb",570]
["Tauranga","Waitao","Bonds","WaitaoBonds","Whole Suburb","Whole Suburb",""]
["Tauranga","Waitao","Lower Quartile","WaitaoLower Quartile","Whole Suburb","Whole Suburb",""]
["Tauranga","Waitao","Median","WaitaoMedian","Whole Suburb","Whole Suburb",""]
["Tauranga","Waitao","Upper Quartile","WaitaoUpper Quartile","Whole Suburb","Whole Suburb",""]
["Tauranga","Parkvale","Bonds","ParkvaleBonds","Whole Suburb","Whole Suburb",288]
["Tauranga","Parkvale","Lower Quartile","ParkvaleLower Quartile","Whole Suburb","Whole Suburb",480]
["Tauranga","Parkvale","Median","ParkvaleMedian","Whole Suburb","Whole Suburb",520]
["Tauranga","Parkvale","Upper Quartile","ParkvaleUpper Quartile","Whole Suburb","Whole Suburb",553]
["Tauranga","Otumoetai","Bonds","OtumoetaiBonds","Whole Suburb","Whole Suburb",936]
["Tauranga","Otumoetai","Lower Quartile","OtumoetaiLower Quartile","Whole Suburb","Whole Suburb",497]
["Tauranga","Otumoetai","Median","OtumoetaiMedian","Whole Suburb","Whole Suburb",560]
["Tauranga","Otumoetai","Upper Quartile","OtumoetaiUpper Quartile","Whole Suburb","Whole Suburb",603]
["Tauranga","Welcome Bay","Bonds","Welcome BayBonds","Whole Suburb","Whole Suburb",729]
["Tauranga","Welcome Bay","Lower Quartile","Welcome BayLower Quartile","Whole Suburb","Whole Suburb",503]
["Tauranga","Welcome Bay","Median","Welcome BayMedian","Whole Suburb","Whole Suburb",585]
["Tauranga","Welcome Bay","Upper Quartile","Welcome BayUpper Quartile","Whole Suburb","Whole Suburb",630]
["Tauranga","Greerton","Bonds","GreertonBonds","Whole Suburb","Whole Suburb",417]
["Tauranga","Greerton","Lower Quartile","GreertonLower Quartile","Whole Suburb","Whole Suburb",495]
["Tauranga","Greerton","Median","GreertonMedian","Whole Suburb","Whole Suburb",533]
["Tauranga","Greerton","Upper Quartile","GreertonUpper Quartile","Whole Suburb","Whole Suburb",551]
["Tauranga","Ohauiti","Bonds","OhauitiBonds","Whole Suburb","Whole Suburb",225]
["Tauranga","Ohauiti","Lower Quartile","OhauitiLower Quartile","Whole Suburb","Whole Suburb",550]
["Tauranga","Ohauiti","Median","OhauitiMedian","Whole Suburb","Whole Suburb",620]
["Tauranga","Ohauiti","Upper Quartile","OhauitiUpper Quartile","Whole Suburb","Whole Suburb",655]
["Tauranga","Bellevue","Bonds","BellevueBonds","Whole Suburb","Whole Suburb",375]
["Tauranga","Bellevue","Lower Quartile","BellevueLower Quartile","Whole Suburb","Whole Suburb",480]
["Tauranga","Bellevue","Median","BellevueMedian","Whole Suburb","Whole Suburb",545]
["Tauranga","Bellevue","Upper Quartile","BellevueUpper Quartile","Whole Suburb","Whole Suburb",603]
["Tauranga","Judea","Bonds","JudeaBonds","Whole Suburb","Whole Suburb",456]
["Tauranga","Judea","Lower Quartile","JudeaLower Quartile","Whole Suburb","Whole Suburb",456]
["Tauranga","Judea","Median","JudeaMedian","Whole Suburb","Whole Suburb",520]
["Tauranga","Judea","Upper Quartile","JudeaUpper Quartile","Whole Suburb","Whole Suburb",550]
["Tauranga","Tauranga South","Bonds","Tauranga SouthBonds","Whole Suburb","Whole Suburb",909]
["Tauranga","Tauranga South","Lower Quartile","Tauranga SouthLower Quartile","Whole Suburb","Whole Suburb",444]
["Tauranga","Tauranga South","Median","Tauranga SouthMedian","Whole Suburb","Whole Suburb",500]
["Tauranga","Tauranga South","Upper Quartile","Tauranga SouthUpper Quartile","Whole Suburb","Whole Suburb",593]
["Te Anau","Te Anau","Bonds","Te AnauBonds","Whole Suburb","Whole Suburb",231]
["Te Anau","Te Anau","Lower Quartile","Te AnauLower Quartile","Whole Suburb","Whole Suburb",300]
["Te Anau","Te Anau","Median","Te AnauMedian","Whole Suburb","Whole Suburb",320]
["Te Anau","Te Anau","Upper Quartile","Te AnauUpper Quartile","Whole Suburb","Whole Suburb",350]
["Te Araroa","Te Araroa","Bonds","Te AraroaBonds","Whole Suburb","Whole Suburb",""]
["Te Araroa","Te Araroa","Lower Quartile","Te AraroaLower Quartile","Whole Suburb","Whole Suburb",""]
["Te Araroa","Te Araroa","Median","Te AraroaMedian","Whole Suburb","Whole Suburb",""]
["Te Araroa","Te Araroa","Upper Quartile","Te AraroaUpper Quartile","Whole Suburb","Whole Suburb",""]
["Te Aroha","Te Aroha West","Bonds","Te Aroha WestBonds","Whole Suburb","Whole Suburb",""]
["Te Aroha","Te Aroha West","Lower Quartile","Te Aroha WestLower Quartile","Whole Suburb","Whole Suburb",""]
["Te Aroha","Te Aroha West","Median","Te Aroha WestMedian","Whole Suburb","Whole Suburb",""]
["Te Aroha","Te Aroha West","Upper Quartile","Te Aroha WestUpper Quartile","Whole Suburb","Whole Suburb",""]
["Te Aroha","Otway","Bonds","OtwayBonds","Whole Suburb","Whole Suburb",""]
["Te Aroha","Otway","Lower Quartile","OtwayLower Quartile","Whole Suburb","Whole Suburb",""]
["Te Aroha","Otway","Median","OtwayMedian","Whole Suburb","Whole Suburb",""]
["Te Aroha","Otway","Upper Quartile","OtwayUpper Quartile","Whole Suburb","Whole Suburb",""]
["Te Aroha","Waihou","Bonds",{"$f":"B5250&C5250","v":"WaihouBonds"},"Whole Suburb","Whole Suburb",""]
["Te Aroha","Waihou","Lower Quartile","WaihouLower Quartile","Whole Suburb","Whole Suburb",""]
["Te Aroha","Waihou","Median","WaihouMedian","Whole Suburb","Whole Suburb",""]
["Te Aroha","Waihou","Upper Quartile","WaihouUpper Quartile","Whole Suburb","Whole Suburb",""]
["Te Aroha","Te Aroha","Bonds","Te ArohaBonds","Whole Suburb","Whole Suburb",351]
["Te Aroha","Te Aroha","Lower Quartile","Te ArohaLower Quartile","Whole Suburb","Whole Suburb",371]
["Te Aroha","Te Aroha","Median","Te ArohaMedian","Whole Suburb","Whole Suburb",400]
["Te Aroha","Te Aroha","Upper Quartile","Te ArohaUpper Quartile","Whole Suburb","Whole Suburb",479]
["Te Awamutu","Wharepapa South","Bonds","Wharepapa SouthBonds","Whole Suburb","Whole Suburb",""]
["Te Awamutu","Wharepapa South","Lower Quartile","Wharepapa SouthLower Quartile","Whole Suburb","Whole Suburb",""]
["Te Awamutu","Wharepapa South","Median","Wharepapa SouthMedian","Whole Suburb","Whole Suburb",""]
["Te Awamutu","Wharepapa South","Upper Quartile","Wharepapa SouthUpper Quartile","Whole Suburb","Whole Suburb",""]
["Te Awamutu","Wharepuhunga","Bonds","WharepuhungaBonds","Whole Suburb","Whole Suburb",""]
["Te Awamutu","Wharepuhunga","Lower Quartile","WharepuhungaLower Quartile","Whole Suburb","Whole Suburb",""]
["Te Awamutu","Wharepuhunga","Median","WharepuhungaMedian","Whole Suburb","Whole Suburb",""]
["Te Awamutu","Wharepuhunga","Upper Quartile","WharepuhungaUpper Quartile","Whole Suburb","Whole Suburb",""]
["Te Awamutu","Te Awamutu","Bonds","Te AwamutuBonds","Whole Suburb","Whole Suburb",1083]
["Te Awamutu","Te Awamutu","Lower Quartile","Te AwamutuLower Quartile","Whole Suburb","Whole Suburb",425]
["Te Awamutu","Te Awamutu","Median","Te AwamutuMedian","Whole Suburb","Whole Suburb",490]
["Te Awamutu","Te Awamutu","Upper Quartile","Te AwamutuUpper Quartile","Whole Suburb","Whole Suburb",545]
["Te Awamutu","Te Kawa","Bonds","Te KawaBonds","Whole Suburb","Whole Suburb",""]
["Te Awamutu","Te Kawa","Lower Quartile","Te KawaLower Quartile","Whole Suburb","Whole Suburb",""]
["Te Awamutu","Te Kawa","Median","Te KawaMedian","Whole Suburb","Whole Suburb",""]
["Te Awamutu","Te Kawa","Upper Quartile","Te KawaUpper Quartile","Whole Suburb","Whole Suburb",""]
["Te Awamutu","Tokanui","Bonds","TokanuiBonds","Whole Suburb","Whole Suburb",""]
["Te Awamutu","Tokanui","Lower Quartile","TokanuiLower Quartile","Whole Suburb","Whole Suburb",""]
["Te Awamutu","Tokanui","Median","TokanuiMedian","Whole Suburb","Whole Suburb",""]
["Te Awamutu","Tokanui","Upper Quartile","TokanuiUpper Quartile","Whole Suburb","Whole Suburb",""]
["Te Awamutu","Pokuru","Bonds","PokuruBonds","Whole Suburb","Whole Suburb",18]
["Te Awamutu","Pokuru","Lower Quartile","PokuruLower Quartile","Whole Suburb","Whole Suburb",280]
["Te Awamutu","Pokuru","Median","PokuruMedian","Whole Suburb","Whole Suburb",350]
["Te Awamutu","Pokuru","Upper Quartile","PokuruUpper Quartile","Whole Suburb","Whole Suburb",375]
["Te Awamutu","Kihikihi","Bonds","KihikihiBonds","Whole Suburb","Whole Suburb",234]
["Te Awamutu","Kihikihi","Lower Quartile","KihikihiLower Quartile","Whole Suburb","Whole Suburb",425]
["Te Awamutu","Kihikihi","Median","KihikihiMedian","Whole Suburb","Whole Suburb",473]
["Te Awamutu","Kihikihi","Upper Quartile","KihikihiUpper Quartile","Whole Suburb","Whole Suburb",516]
["Te Awamutu","Waikeria","Bonds","WaikeriaBonds","Whole Suburb","Whole Suburb",""]
["Te Awamutu","Waikeria","Lower Quartile","WaikeriaLower Quartile","Whole Suburb","Whole Suburb",""]
["Te Awamutu","Waikeria","Median","WaikeriaMedian","Whole Suburb","Whole Suburb",""]
["Te Awamutu","Waikeria","Upper Quartile","WaikeriaUpper Quartile","Whole Suburb","Whole Suburb",""]
["Te Awamutu","Ngahape","Bonds","NgahapeBonds","Whole Suburb","Whole Suburb",""]
["Te Awamutu","Ngahape","Lower Quartile","NgahapeLower Quartile","Whole Suburb","Whole Suburb",""]
["Te Awamutu","Ngahape","Median","NgahapeMedian","Whole Suburb","Whole Suburb",""]
["Te Awamutu","Ngahape","Upper Quartile","NgahapeUpper Quartile","Whole Suburb","Whole Suburb",""]
["Te Awanga","Te Awanga","Bonds","Te AwangaBonds","Whole Suburb","Whole Suburb",36]
["Te Awanga","Te Awanga","Lower Quartile","Te AwangaLower Quartile","Whole Suburb","Whole Suburb",440]
["Te Awanga","Te Awanga","Median","Te AwangaMedian","Whole Suburb","Whole Suburb",510]
["Te Awanga","Te Awanga","Upper Quartile","Te AwangaUpper Quartile","Whole Suburb","Whole Suburb",535]
["Te Kao","Te Kao","Bonds","Te KaoBonds","Whole Suburb","Whole Suburb",""]
["Te Kao","Te Kao","Lower Quartile","Te KaoLower Quartile","Whole Suburb","Whole Suburb",""]
["Te Kao","Te Kao","Median","Te KaoMedian","Whole Suburb","Whole Suburb",""]
["Te Kao","Te Kao","Upper Quartile","Te KaoUpper Quartile","Whole Suburb","Whole Suburb",""]
["Te Karaka","Te Karaka","Bonds","Te KarakaBonds","Whole Suburb","Whole Suburb",""]
["Te Karaka","Te Karaka","Lower Quartile","Te KarakaLower Quartile","Whole Suburb","Whole Suburb",""]
["Te Karaka","Te Karaka","Median","Te KarakaMedian","Whole Suburb","Whole Suburb",""]
["Te Karaka","Te Karaka","Upper Quartile","Te KarakaUpper Quartile","Whole Suburb","Whole Suburb",""]
["Te Kauwhata","Rangiriri","Bonds","RangiririBonds","Whole Suburb","Whole Suburb",""]
["Te Kauwhata","Rangiriri","Lower Quartile","RangiririLower Quartile","Whole Suburb","Whole Suburb",""]
["Te Kauwhata","Rangiriri","Median","RangiririMedian","Whole Suburb","Whole Suburb",""]
["Te Kauwhata","Rangiriri","Upper Quartile","RangiririUpper Quartile","Whole Suburb","Whole Suburb",""]
["Te Kauwhata","Hampton Downs","Bonds","Hampton DownsBonds","Whole Suburb","Whole Suburb",""]
["Te Kauwhata","Hampton Downs","Lower Quartile","Hampton DownsLower Quartile","Whole Suburb","Whole Suburb",""]
["Te Kauwhata","Hampton Downs","Median","Hampton DownsMedian","Whole Suburb","Whole Suburb",""]
["Te Kauwhata","Hampton Downs","Upper Quartile","Hampton DownsUpper Quartile","Whole Suburb","Whole Suburb",""]
["Te Kauwhata","Te Kauwhata","Bonds",{"$f":"B5314&C5314","v":"Te KauwhataBonds"},"Whole Suburb","Whole Suburb",219]
["Te Kauwhata","Te Kauwhata","Lower Quartile","Te KauwhataLower Quartile","Whole Suburb","Whole Suburb",450]
["Te Kauwhata","Te Kauwhata","Median","Te KauwhataMedian","Whole Suburb","Whole Suburb",480]
["Te Kauwhata","Te Kauwhata","Upper Quartile","Te KauwhataUpper Quartile","Whole Suburb","Whole Suburb",535]
["Te Kauwhata","Waerenga","Bonds","WaerengaBonds","Whole Suburb","Whole Suburb",24]
["Te Kauwhata","Waerenga","Lower Quartile","WaerengaLower Quartile","Whole Suburb","Whole Suburb",300]
["Te Kauwhata","Waerenga","Median","WaerengaMedian","Whole Suburb","Whole Suburb",325]
["Te Kauwhata","Waerenga","Upper Quartile","WaerengaUpper Quartile","Whole Suburb","Whole Suburb",400]
["Te Kopuru","Te Kopuru","Bonds","Te KopuruBonds","Whole Suburb","Whole Suburb",33]
["Te Kopuru","Te Kopuru","Lower Quartile","Te KopuruLower Quartile","Whole Suburb","Whole Suburb",380]
["Te Kopuru","Te Kopuru","Median","Te KopuruMedian","Whole Suburb","Whole Suburb",390]
["Te Kopuru","Te Kopuru","Upper Quartile","Te KopuruUpper Quartile","Whole Suburb","Whole Suburb",420]
["Te Kuiti","Te Kuiti","Bonds","Te KuitiBonds","Whole Suburb","Whole Suburb",381]
["Te Kuiti","Te Kuiti","Lower Quartile","Te KuitiLower Quartile","Whole Suburb","Whole Suburb",250]
["Te Kuiti","Te Kuiti","Median","Te KuitiMedian","Whole Suburb","Whole Suburb",300]
["Te Kuiti","Te Kuiti","Upper Quartile","Te KuitiUpper Quartile","Whole Suburb","Whole Suburb",350]
["Te Kuiti","Benneydale","Bonds","BenneydaleBonds","Whole Suburb","Whole Suburb",""]
["Te Kuiti","Benneydale","Lower Quartile","BenneydaleLower Quartile","Whole Suburb","Whole Suburb",""]
["Te Kuiti","Benneydale","Median","BenneydaleMedian","Whole Suburb","Whole Suburb",""]
["Te Kuiti","Benneydale","Upper Quartile","BenneydaleUpper Quartile","Whole Suburb","Whole Suburb",""]
["Te Kuiti","Hangatiki","Bonds","HangatikiBonds","Whole Suburb","Whole Suburb",""]
["Te Kuiti","Hangatiki","Lower Quartile","HangatikiLower Quartile","Whole Suburb","Whole Suburb",""]
["Te Kuiti","Hangatiki","Median","HangatikiMedian","Whole Suburb","Whole Suburb",""]
["Te Kuiti","Hangatiki","Upper Quartile","HangatikiUpper Quartile","Whole Suburb","Whole Suburb",""]
["Te Kuiti","Waitomo","Bonds","WaitomoBonds","Whole Suburb","Whole Suburb",15]
["Te Kuiti","Waitomo","Lower Quartile","WaitomoLower Quartile","Whole Suburb","Whole Suburb",240]
["Te Kuiti","Waitomo","Median","WaitomoMedian","Whole Suburb","Whole Suburb",320]
["Te Kuiti","Waitomo","Upper Quartile","WaitomoUpper Quartile","Whole Suburb","Whole Suburb",460]
["Te Pahu","Te Pahu","Bonds","Te PahuBonds","Whole Suburb","Whole Suburb",""]
["Te Pahu","Te Pahu","Lower Quartile","Te PahuLower Quartile","Whole Suburb","Whole Suburb",""]
["Te Pahu","Te Pahu","Median","Te PahuMedian","Whole Suburb","Whole Suburb",""]
["Te Pahu","Te Pahu","Upper Quartile","Te PahuUpper Quartile","Whole Suburb","Whole Suburb",""]
["Te Puke","Te Ranga","Bonds","Te RangaBonds","Whole Suburb","Whole Suburb",""]
["Te Puke","Te Ranga","Lower Quartile","Te RangaLower Quartile","Whole Suburb","Whole Suburb",""]
["Te Puke","Te Ranga","Median","Te RangaMedian","Whole Suburb","Whole Suburb",""]
["Te Puke","Te Ranga","Upper Quartile","Te RangaUpper Quartile","Whole Suburb","Whole Suburb",""]
["Te Puke","Te Puke","Bonds","Te PukeBonds","Whole Suburb","Whole Suburb",591]
["Te Puke","Te Puke","Lower Quartile","Te PukeLower Quartile","Whole Suburb","Whole Suburb",430]
["Te Puke","Te Puke","Median","Te PukeMedian","Whole Suburb","Whole Suburb",500]
["Te Puke","Te Puke","Upper Quartile","Te PukeUpper Quartile","Whole Suburb","Whole Suburb",550]
["Temuka","Rangitata Island","Bonds","Rangitata IslandBonds","Whole Suburb","Whole Suburb",""]
["Temuka","Rangitata Island","Lower Quartile","Rangitata IslandLower Quartile","Whole Suburb","Whole Suburb",""]
["Temuka","Rangitata Island","Median","Rangitata IslandMedian","Whole Suburb","Whole Suburb",""]
["Temuka","Rangitata Island","Upper Quartile","Rangitata IslandUpper Quartile","Whole Suburb","Whole Suburb",""]
["Temuka","Temuka","Bonds","TemukaBonds","Whole Suburb","Whole Suburb",258]
["Temuka","Temuka","Lower Quartile","TemukaLower Quartile","Whole Suburb","Whole Suburb",300]
["Temuka","Temuka","Median","TemukaMedian","Whole Suburb","Whole Suburb",320]
["Temuka","Temuka","Upper Quartile","TemukaUpper Quartile","Whole Suburb","Whole Suburb",373]
["Temuka","Orari","Bonds","OrariBonds","Whole Suburb","Whole Suburb",""]
["Temuka","Orari","Lower Quartile","OrariLower Quartile","Whole Suburb","Whole Suburb",""]
["Temuka","Orari","Median","OrariMedian","Whole Suburb","Whole Suburb",""]
["Temuka","Orari","Upper Quartile","OrariUpper Quartile","Whole Suburb","Whole Suburb",""]
["Temuka","Milford","Bonds","MilfordBonds","Whole Suburb","Whole Suburb",""]
["Temuka","Milford","Lower Quartile","MilfordLower Quartile","Whole Suburb","Whole Suburb",""]
["Temuka","Milford","Median","MilfordMedian","Whole Suburb","Whole Suburb",""]
["Temuka","Milford","Upper Quartile","MilfordUpper Quartile","Whole Suburb","Whole Suburb",""]
["Thames","Matatoki","Bonds","MatatokiBonds","Whole Suburb","Whole Suburb",""]
["Thames","Matatoki","Lower Quartile","MatatokiLower Quartile","Whole Suburb","Whole Suburb",""]
["Thames","Matatoki","Median","MatatokiMedian","Whole Suburb","Whole Suburb",""]
["Thames","Matatoki","Upper Quartile","MatatokiUpper Quartile","Whole Suburb","Whole Suburb",""]
["Thames","Kopu","Bonds","KopuBonds","Whole Suburb","Whole Suburb",""]
["Thames","Kopu","Lower Quartile","KopuLower Quartile","Whole Suburb","Whole Suburb",""]
["Thames","Kopu","Median","KopuMedian","Whole Suburb","Whole Suburb",""]
["Thames","Kopu","Upper Quartile","KopuUpper Quartile","Whole Suburb","Whole Suburb",""]
["Thames","Te Puru","Bonds",{"$f":"B5378&C5378","v":"Te PuruBonds"},"Whole Suburb","Whole Suburb",48]
["Thames","Te Puru","Lower Quartile","Te PuruLower Quartile","Whole Suburb","Whole Suburb",280]
["Thames","Te Puru","Median","Te PuruMedian","Whole Suburb","Whole Suburb",300]
["Thames","Te Puru","Upper Quartile","Te PuruUpper Quartile","Whole Suburb","Whole Suburb",350]
["Thames","Thames","Bonds","ThamesBonds","Whole Suburb","Whole Suburb",582]
["Thames","Thames","Lower Quartile","ThamesLower Quartile","Whole Suburb","Whole Suburb",390]
["Thames","Thames","Median","ThamesMedian","Whole Suburb","Whole Suburb",440]
["Thames","Thames","Upper Quartile","ThamesUpper Quartile","Whole Suburb","Whole Suburb",500]
["Thames","Thornton Bay","Bonds","Thornton BayBonds","Whole Suburb","Whole Suburb",""]
["Thames","Thornton Bay","Lower Quartile","Thornton BayLower Quartile","Whole Suburb","Whole Suburb",""]
["Thames","Thornton Bay","Median","Thornton BayMedian","Whole Suburb","Whole Suburb",""]
["Thames","Thornton Bay","Upper Quartile","Thornton BayUpper Quartile","Whole Suburb","Whole Suburb",""]
["Thames","Waiomu","Bonds","WaiomuBonds","Whole Suburb","Whole Suburb",""]
["Thames","Waiomu","Lower Quartile","WaiomuLower Quartile","Whole Suburb","Whole Suburb",""]
["Thames","Waiomu","Median","WaiomuMedian","Whole Suburb","Whole Suburb",""]
["Thames","Waiomu","Upper Quartile","WaiomuUpper Quartile","Whole Suburb","Whole Suburb",""]
["Thames","Tapu","Bonds","TapuBonds","Whole Suburb","Whole Suburb",""]
["Thames","Tapu","Lower Quartile","TapuLower Quartile","Whole Suburb","Whole Suburb",""]
["Thames","Tapu","Median","TapuMedian","Whole Suburb","Whole Suburb",""]
["Thames","Tapu","Upper Quartile","TapuUpper Quartile","Whole Suburb","Whole Suburb",""]
["Thames","Te Mata","Bonds","Te MataBonds","Whole Suburb","Whole Suburb",""]
["Thames","Te Mata","Lower Quartile","Te MataLower Quartile","Whole Suburb","Whole Suburb",""]
["Thames","Te Mata","Median","Te MataMedian","Whole Suburb","Whole Suburb",""]
["Thames","Te Mata","Upper Quartile","Te MataUpper Quartile","Whole Suburb","Whole Suburb",""]
["The Pines Beach","The Pines Beach","Bonds","The Pines BeachBonds","Whole Suburb","Whole Suburb",""]
["The Pines Beach","The Pines Beach","Lower Quartile","The Pines BeachLower Quartile","Whole Suburb","Whole Suburb",""]
["The Pines Beach","The Pines Beach","Median","The Pines BeachMedian","Whole Suburb","Whole Suburb",""]
["The Pines Beach","The Pines Beach","Upper Quartile","The Pines BeachUpper Quartile","Whole Suburb","Whole Suburb",""]
["Timaru","Claremont","Bonds","ClaremontBonds","Whole Suburb","Whole Suburb",""]
["Timaru","Claremont","Lower Quartile","ClaremontLower Quartile","Whole Suburb","Whole Suburb",""]
["Timaru","Claremont","Median","ClaremontMedian","Whole Suburb","Whole Suburb",""]
["Timaru","Claremont","Upper Quartile","ClaremontUpper Quartile","Whole Suburb","Whole Suburb",""]
["Timaru","Waimataitai","Bonds","WaimataitaiBonds","Whole Suburb","Whole Suburb",153]
["Timaru","Waimataitai","Lower Quartile","WaimataitaiLower Quartile","Whole Suburb","Whole Suburb",313]
["Timaru","Waimataitai","Median","WaimataitaiMedian","Whole Suburb","Whole Suburb",358]
["Timaru","Waimataitai","Upper Quartile","WaimataitaiUpper Quartile","Whole Suburb","Whole Suburb",380]
["Timaru","Seaview","Bonds","SeaviewBonds","Whole Suburb","Whole Suburb",321]
["Timaru","Seaview","Lower Quartile","SeaviewLower Quartile","Whole Suburb","Whole Suburb",300]
["Timaru","Seaview","Median","SeaviewMedian","Whole Suburb","Whole Suburb",348]
["Timaru","Seaview","Upper Quartile","SeaviewUpper Quartile","Whole Suburb","Whole Suburb",381]
["Timaru","Washdyke","Bonds","WashdykeBonds","Whole Suburb","Whole Suburb",""]
["Timaru","Washdyke","Lower Quartile","WashdykeLower Quartile","Whole Suburb","Whole Suburb",""]
["Timaru","Washdyke","Median","WashdykeMedian","Whole Suburb","Whole Suburb",""]
["Timaru","Washdyke","Upper Quartile","WashdykeUpper Quartile","Whole Suburb","Whole Suburb",""]
["Timaru","Hadlow","Bonds","HadlowBonds","Whole Suburb","Whole Suburb",""]
["Timaru","Hadlow","Lower Quartile","HadlowLower Quartile","Whole Suburb","Whole Suburb",""]
["Timaru","Hadlow","Median","HadlowMedian","Whole Suburb","Whole Suburb",""]
["Timaru","Hadlow","Upper Quartile","HadlowUpper Quartile","Whole Suburb","Whole Suburb",""]
["Timaru","Marchwiel","Bonds","MarchwielBonds","Whole Suburb","Whole Suburb",201]
["Timaru","Marchwiel","Lower Quartile","MarchwielLower Quartile","Whole Suburb","Whole Suburb",348]
["Timaru","Marchwiel","Median","MarchwielMedian","Whole Suburb","Whole Suburb",380]
["Timaru","Marchwiel","Upper Quartile","MarchwielUpper Quartile","Whole Suburb","Whole Suburb",400]
["Timaru","Timaru","Bonds","TimaruBonds","Whole Suburb","Whole Suburb",135]
["Timaru","Timaru","Lower Quartile","TimaruLower Quartile","Whole Suburb","Whole Suburb",321]
["Timaru","Timaru","Median","TimaruMedian","Whole Suburb","Whole Suburb",370]
["Timaru","Timaru","Upper Quartile","TimaruUpper Quartile","Whole Suburb","Whole Suburb",388]
["Timaru","West End","Bonds","West EndBonds","Whole Suburb","Whole Suburb",231]
["Timaru","West End","Lower Quartile","West EndLower Quartile","Whole Suburb","Whole Suburb",310]
["Timaru","West End","Median","West EndMedian","Whole Suburb","Whole Suburb",350]
["Timaru","West End","Upper Quartile","West EndUpper Quartile","Whole Suburb","Whole Suburb",390]
["Timaru","Glenwood","Bonds","GlenwoodBonds","Whole Suburb","Whole Suburb",138]
["Timaru","Glenwood","Lower Quartile","GlenwoodLower Quartile","Whole Suburb","Whole Suburb",360]
["Timaru","Glenwood","Median","GlenwoodMedian","Whole Suburb","Whole Suburb",400]
["Timaru","Glenwood","Upper Quartile","GlenwoodUpper Quartile","Whole Suburb","Whole Suburb",420]
["Timaru","Maori Hill","Bonds",{"$f":"B5442&C5442","v":"Maori HillBonds"},"Whole Suburb","Whole Suburb",213]
["Timaru","Maori Hill","Lower Quartile","Maori HillLower Quartile","Whole Suburb","Whole Suburb",275]
["Timaru","Maori Hill","Median","Maori HillMedian","Whole Suburb","Whole Suburb",300]
["Timaru","Maori Hill","Upper Quartile","Maori HillUpper Quartile","Whole Suburb","Whole Suburb",350]
["Timaru","Levels","Bonds","LevelsBonds","Whole Suburb","Whole Suburb",""]
["Timaru","Levels","Lower Quartile","LevelsLower Quartile","Whole Suburb","Whole Suburb",""]
["Timaru","Levels","Median","LevelsMedian","Whole Suburb","Whole Suburb",""]
["Timaru","Levels","Upper Quartile","LevelsUpper Quartile","Whole Suburb","Whole Suburb",""]
["Timaru","Levels Valley","Bonds","Levels ValleyBonds","Whole Suburb","Whole Suburb",""]
["Timaru","Levels Valley","Lower Quartile","Levels ValleyLower Quartile","Whole Suburb","Whole Suburb",""]
["Timaru","Levels Valley","Median","Levels ValleyMedian","Whole Suburb","Whole Suburb",""]
["Timaru","Levels Valley","Upper Quartile","Levels ValleyUpper Quartile","Whole Suburb","Whole Suburb",""]
["Timaru","Oceanview","Bonds","OceanviewBonds","Whole Suburb","Whole Suburb",""]
["Timaru","Oceanview","Lower Quartile","OceanviewLower Quartile","Whole Suburb","Whole Suburb",""]
["Timaru","Oceanview","Median","OceanviewMedian","Whole Suburb","Whole Suburb",""]
["Timaru","Oceanview","Upper Quartile","OceanviewUpper Quartile","Whole Suburb","Whole Suburb",""]
["Timaru","Kensington","Bonds","KensingtonBonds","Whole Suburb","Whole Suburb",135]
["Timaru","Kensington","Lower Quartile","KensingtonLower Quartile","Whole Suburb","Whole Suburb",335]
["Timaru","Kensington","Median","KensingtonMedian","Whole Suburb","Whole Suburb",370]
["Timaru","Kensington","Upper Quartile","KensingtonUpper Quartile","Whole Suburb","Whole Suburb",415]
["Timaru","Parkside","Bonds","ParksideBonds","Whole Suburb","Whole Suburb",246]
["Timaru","Parkside","Lower Quartile","ParksideLower Quartile","Whole Suburb","Whole Suburb",323]
["Timaru","Parkside","Median","ParksideMedian","Whole Suburb","Whole Suburb",365]
["Timaru","Parkside","Upper Quartile","ParksideUpper Quartile","Whole Suburb","Whole Suburb",409]
["Timaru","Watlington","Bonds","WatlingtonBonds","Whole Suburb","Whole Suburb",159]
["Timaru","Watlington","Lower Quartile","WatlingtonLower Quartile","Whole Suburb","Whole Suburb",310]
["Timaru","Watlington","Median","WatlingtonMedian","Whole Suburb","Whole Suburb",350]
["Timaru","Watlington","Upper Quartile","WatlingtonUpper Quartile","Whole Suburb","Whole Suburb",400]
["Timaru","Gleniti","Bonds","GlenitiBonds","Whole Suburb","Whole Suburb",87]
["Timaru","Gleniti","Lower Quartile","GlenitiLower Quartile","Whole Suburb","Whole Suburb",358]
["Timaru","Gleniti","Median","GlenitiMedian","Whole Suburb","Whole Suburb",400]
["Timaru","Gleniti","Upper Quartile","GlenitiUpper Quartile","Whole Suburb","Whole Suburb",453]
["Timaru","Highfield","Bonds","HighfieldBonds","Whole Suburb","Whole Suburb",300]
["Timaru","Highfield","Lower Quartile","HighfieldLower Quartile","Whole Suburb","Whole Suburb",353]
["Timaru","Highfield","Median","HighfieldMedian","Whole Suburb","Whole Suburb",380]
["Timaru","Highfield","Upper Quartile","HighfieldUpper Quartile","Whole Suburb","Whole Suburb",419]
["Tinui","Tinui","Bonds","TinuiBonds","Whole Suburb","Whole Suburb",""]
["Tinui","Tinui","Lower Quartile","TinuiLower Quartile","Whole Suburb","Whole Suburb",""]
["Tinui","Tinui","Median","TinuiMedian","Whole Suburb","Whole Suburb",""]
["Tinui","Tinui","Upper Quartile","TinuiUpper Quartile","Whole Suburb","Whole Suburb",""]
["Tirau","Tapapa","Bonds","TapapaBonds","Whole Suburb","Whole Suburb",""]
["Tirau","Tapapa","Lower Quartile","TapapaLower Quartile","Whole Suburb","Whole Suburb",""]
["Tirau","Tapapa","Median","TapapaMedian","Whole Suburb","Whole Suburb",""]
["Tirau","Tapapa","Upper Quartile","TapapaUpper Quartile","Whole Suburb","Whole Suburb",""]
["Tirau","Tirau","Bonds","TirauBonds","Whole Suburb","Whole Suburb",66]
["Tirau","Tirau","Lower Quartile","TirauLower Quartile","Whole Suburb","Whole Suburb",363]
["Tirau","Tirau","Median","TirauMedian","Whole Suburb","Whole Suburb",410]
["Tirau","Tirau","Upper Quartile","TirauUpper Quartile","Whole Suburb","Whole Suburb",443]
["Tirau","Piarere","Bonds","PiarereBonds","Whole Suburb","Whole Suburb",""]
["Tirau","Piarere","Lower Quartile","PiarereLower Quartile","Whole Suburb","Whole Suburb",""]
["Tirau","Piarere","Median","PiarereMedian","Whole Suburb","Whole Suburb",""]
["Tirau","Piarere","Upper Quartile","PiarereUpper Quartile","Whole Suburb","Whole Suburb",""]
["Tirau","Okoroire","Bonds","OkoroireBonds","Whole Suburb","Whole Suburb",""]
["Tirau","Okoroire","Lower Quartile","OkoroireLower Quartile","Whole Suburb","Whole Suburb",""]
["Tirau","Okoroire","Median","OkoroireMedian","Whole Suburb","Whole Suburb",""]
["Tirau","Okoroire","Upper Quartile","OkoroireUpper Quartile","Whole Suburb","Whole Suburb",""]
["Tokomaru Bay","Te Puia Springs","Bonds","Te Puia SpringsBonds","Whole Suburb","Whole Suburb",""]
["Tokomaru Bay","Te Puia Springs","Lower Quartile","Te Puia SpringsLower Quartile","Whole Suburb","Whole Suburb",""]
["Tokomaru Bay","Te Puia Springs","Median","Te Puia SpringsMedian","Whole Suburb","Whole Suburb",""]
["Tokomaru Bay","Te Puia Springs","Upper Quartile","Te Puia SpringsUpper Quartile","Whole Suburb","Whole Suburb",""]
["Tokoroa","Tokoroa","Bonds","TokoroaBonds","Whole Suburb","Whole Suburb",1446]
["Tokoroa","Tokoroa","Lower Quartile","TokoroaLower Quartile","Whole Suburb","Whole Suburb",250]
["Tokoroa","Tokoroa","Median","TokoroaMedian","Whole Suburb","Whole Suburb",350]
["Tokoroa","Tokoroa","Upper Quartile","TokoroaUpper Quartile","Whole Suburb","Whole Suburb",400]
["Tokoroa","Kinleith","Bonds",{"$f":"B5506&C5506","v":"KinleithBonds"},"Whole Suburb","Whole Suburb",""]
["Tokoroa","Kinleith","Lower Quartile","KinleithLower Quartile","Whole Suburb","Whole Suburb",""]
["Tokoroa","Kinleith","Median","KinleithMedian","Whole Suburb","Whole Suburb",""]
["Tokoroa","Kinleith","Upper Quartile","KinleithUpper Quartile","Whole Suburb","Whole Suburb",""]
["Tolaga Bay","Tolaga Bay","Bonds","Tolaga BayBonds","Whole Suburb","Whole Suburb",""]
["Tolaga Bay","Tolaga Bay","Lower Quartile","Tolaga BayLower Quartile","Whole Suburb","Whole Suburb",""]
["Tolaga Bay","Tolaga Bay","Median","Tolaga BayMedian","Whole Suburb","Whole Suburb",""]
["Tolaga Bay","Tolaga Bay","Upper Quartile","Tolaga BayUpper Quartile","Whole Suburb","Whole Suburb",""]
["Tongariro National Park","Tongariro National Park","Bonds","Tongariro National ParkBonds","Whole Suburb","Whole Suburb",45]
["Tongariro National Park","Tongariro National Park","Lower Quartile","Tongariro National ParkLower Quartile","Whole Suburb","Whole Suburb",160]
["Tongariro National Park","Tongariro National Park","Median","Tongariro National ParkMedian","Whole Suburb","Whole Suburb",160]
["Tongariro National Park","Tongariro National Park","Upper Quartile","Tongariro National ParkUpper Quartile","Whole Suburb","Whole Suburb",160]
["Tuakau","Tuakau","Bonds","TuakauBonds","Whole Suburb","Whole Suburb",570]
["Tuakau","Tuakau","Lower Quartile","TuakauLower Quartile","Whole Suburb","Whole Suburb",456]
["Tuakau","Tuakau","Median","TuakauMedian","Whole Suburb","Whole Suburb",490]
["Tuakau","Tuakau","Upper Quartile","TuakauUpper Quartile","Whole Suburb","Whole Suburb",558]
["Tuatapere","Tuatapere","Bonds","TuatapereBonds","Whole Suburb","Whole Suburb",""]
["Tuatapere","Tuatapere","Lower Quartile","TuatapereLower Quartile","Whole Suburb","Whole Suburb",""]
["Tuatapere","Tuatapere","Median","TuatapereMedian","Whole Suburb","Whole Suburb",""]
["Tuatapere","Tuatapere","Upper Quartile","TuatapereUpper Quartile","Whole Suburb","Whole Suburb",""]
["Turangi","Turangi","Bonds","TurangiBonds","Whole Suburb","Whole Suburb",435]
["Turangi","Turangi","Lower Quartile","TurangiLower Quartile","Whole Suburb","Whole Suburb",350]
["Turangi","Turangi","Median","TurangiMedian","Whole Suburb","Whole Suburb",380]
["Turangi","Turangi","Upper Quartile","TurangiUpper Quartile","Whole Suburb","Whole Suburb",400]
["Turangi","Tokaanu","Bonds","TokaanuBonds","Whole Suburb","Whole Suburb",""]
["Turangi","Tokaanu","Lower Quartile","TokaanuLower Quartile","Whole Suburb","Whole Suburb",""]
["Turangi","Tokaanu","Median","TokaanuMedian","Whole Suburb","Whole Suburb",""]
["Turangi","Tokaanu","Upper Quartile","TokaanuUpper Quartile","Whole Suburb","Whole Suburb",""]
["Turangi","Kuratau","Bonds","KuratauBonds","Whole Suburb","Whole Suburb",""]
["Turangi","Kuratau","Lower Quartile","KuratauLower Quartile","Whole Suburb","Whole Suburb",""]
["Turangi","Kuratau","Median","KuratauMedian","Whole Suburb","Whole Suburb",""]
["Turangi","Kuratau","Upper Quartile","KuratauUpper Quartile","Whole Suburb","Whole Suburb",""]
["Turangi","Omori","Bonds","OmoriBonds","Whole Suburb","Whole Suburb",""]
["Turangi","Omori","Lower Quartile","OmoriLower Quartile","Whole Suburb","Whole Suburb",""]
["Turangi","Omori","Median","OmoriMedian","Whole Suburb","Whole Suburb",""]
["Turangi","Omori","Upper Quartile","OmoriUpper Quartile","Whole Suburb","Whole Suburb",""]
["Turua","Turua","Bonds","TuruaBonds","Whole Suburb","Whole Suburb",""]
["Turua","Turua","Lower Quartile","TuruaLower Quartile","Whole Suburb","Whole Suburb",""]
["Turua","Turua","Median","TuruaMedian","Whole Suburb","Whole Suburb",""]
["Turua","Turua","Upper Quartile","TuruaUpper Quartile","Whole Suburb","Whole Suburb",""]
["Twizel","Twizel","Bonds","TwizelBonds","Whole Suburb","Whole Suburb",159]
["Twizel","Twizel","Lower Quartile","TwizelLower Quartile","Whole Suburb","Whole Suburb",350]
["Twizel","Twizel","Median","TwizelMedian","Whole Suburb","Whole Suburb",380]
["Twizel","Twizel","Upper Quartile","TwizelUpper Quartile","Whole Suburb","Whole Suburb",400]
["Upper Hutt","Whitemans Valley","Bonds","Whitemans ValleyBonds","Whole Suburb","Whole Suburb",24]
["Upper Hutt","Whitemans Valley","Lower Quartile","Whitemans ValleyLower Quartile","Whole Suburb","Whole Suburb",336]
["Upper Hutt","Whitemans Valley","Median","Whitemans ValleyMedian","Whole Suburb","Whole Suburb",425]
["Upper Hutt","Whitemans Valley","Upper Quartile","Whitemans ValleyUpper Quartile","Whole Suburb","Whole Suburb",503]
["Upper Hutt","Wallaceville","Bonds","WallacevilleBonds","Whole Suburb","Whole Suburb",264]
["Upper Hutt","Wallaceville","Lower Quartile","WallacevilleLower Quartile","Whole Suburb","Whole Suburb",440]
["Upper Hutt","Wallaceville","Median","WallacevilleMedian","Whole Suburb","Whole Suburb",458]
["Upper Hutt","Wallaceville","Upper Quartile","WallacevilleUpper Quartile","Whole Suburb","Whole Suburb",550]
["Upper Hutt","Brown Owl","Bonds","Brown OwlBonds","Whole Suburb","Whole Suburb",96]
["Upper Hutt","Brown Owl","Lower Quartile","Brown OwlLower Quartile","Whole Suburb","Whole Suburb",503]
["Upper Hutt","Brown Owl","Median","Brown OwlMedian","Whole Suburb","Whole Suburb",578]
["Upper Hutt","Brown Owl","Upper Quartile","Brown OwlUpper Quartile","Whole Suburb","Whole Suburb",605]
["Upper Hutt","Akatarawa","Bonds","AkatarawaBonds","Whole Suburb","Whole Suburb",""]
["Upper Hutt","Akatarawa","Lower Quartile","AkatarawaLower Quartile","Whole Suburb","Whole Suburb",""]
["Upper Hutt","Akatarawa","Median","AkatarawaMedian","Whole Suburb","Whole Suburb",""]
["Upper Hutt","Akatarawa","Upper Quartile","AkatarawaUpper Quartile","Whole Suburb","Whole Suburb",""]
["Upper Hutt","Ebdentown","Bonds","EbdentownBonds","Whole Suburb","Whole Suburb",315]
["Upper Hutt","Ebdentown","Lower Quartile","EbdentownLower Quartile","Whole Suburb","Whole Suburb",421]
["Upper Hutt","Ebdentown","Median","EbdentownMedian","Whole Suburb","Whole Suburb",465]
["Upper Hutt","Ebdentown","Upper Quartile","EbdentownUpper Quartile","Whole Suburb","Whole Suburb",579]
["Upper Hutt","Riverstone Terraces","Bonds",{"$f":"B5570&C5570","v":"Riverstone TerracesBonds"},"Whole Suburb","Whole Suburb",75]
["Upper Hutt","Riverstone Terraces","Lower Quartile","Riverstone TerracesLower Quartile","Whole Suburb","Whole Suburb",778]
["Upper Hutt","Riverstone Terraces","Median","Riverstone TerracesMedian","Whole Suburb","Whole Suburb",800]
["Upper Hutt","Riverstone Terraces","Upper Quartile","Riverstone TerracesUpper Quartile","Whole Suburb","Whole Suburb",838]
["Upper Hutt","Silverstream","Bonds","SilverstreamBonds","Whole Suburb","Whole Suburb",264]
["Upper Hutt","Silverstream","Lower Quartile","SilverstreamLower Quartile","Whole Suburb","Whole Suburb",420]
["Upper Hutt","Silverstream","Median","SilverstreamMedian","Whole Suburb","Whole Suburb",523]
["Upper Hutt","Silverstream","Upper Quartile","SilverstreamUpper Quartile","Whole Suburb","Whole Suburb",661]
["Upper Hutt","Upper Hutt","Bonds","Upper HuttBonds","Whole Suburb","Whole Suburb",81]
["Upper Hutt","Upper Hutt","Lower Quartile","Upper HuttLower Quartile","Whole Suburb","Whole Suburb",295]
["Upper Hutt","Upper Hutt","Median","Upper HuttMedian","Whole Suburb","Whole Suburb",480]
["Upper Hutt","Upper Hutt","Upper Quartile","Upper HuttUpper Quartile","Whole Suburb","Whole Suburb",600]
["Upper Hutt","Clouston Park","Bonds","Clouston ParkBonds","Whole Suburb","Whole Suburb",228]
["Upper Hutt","Clouston Park","Lower Quartile","Clouston ParkLower Quartile","Whole Suburb","Whole Suburb",450]
["Upper Hutt","Clouston Park","Median","Clouston ParkMedian","Whole Suburb","Whole Suburb",500]
["Upper Hutt","Clouston Park","Upper Quartile","Clouston ParkUpper Quartile","Whole Suburb","Whole Suburb",565]
["Upper Hutt","Elderslea","Bonds","EldersleaBonds","Whole Suburb","Whole Suburb",246]
["Upper Hutt","Elderslea","Lower Quartile","EldersleaLower Quartile","Whole Suburb","Whole Suburb",480]
["Upper Hutt","Elderslea","Median","EldersleaMedian","Whole Suburb","Whole Suburb",593]
["Upper Hutt","Elderslea","Upper Quartile","EldersleaUpper Quartile","Whole Suburb","Whole Suburb",650]
["Upper Hutt","Heretaunga","Bonds","HeretaungaBonds","Whole Suburb","Whole Suburb",135]
["Upper Hutt","Heretaunga","Lower Quartile","HeretaungaLower Quartile","Whole Suburb","Whole Suburb",550]
["Upper Hutt","Heretaunga","Median","HeretaungaMedian","Whole Suburb","Whole Suburb",600]
["Upper Hutt","Heretaunga","Upper Quartile","HeretaungaUpper Quartile","Whole Suburb","Whole Suburb",655]
["Upper Hutt","Mangaroa","Bonds","MangaroaBonds","Whole Suburb","Whole Suburb",""]
["Upper Hutt","Mangaroa","Lower Quartile","MangaroaLower Quartile","Whole Suburb","Whole Suburb",""]
["Upper Hutt","Mangaroa","Median","MangaroaMedian","Whole Suburb","Whole Suburb",""]
["Upper Hutt","Mangaroa","Upper Quartile","MangaroaUpper Quartile","Whole Suburb","Whole Suburb",""]
["Upper Hutt","Maoribank","Bonds","MaoribankBonds","Whole Suburb","Whole Suburb",84]
["Upper Hutt","Maoribank","Lower Quartile","MaoribankLower Quartile","Whole Suburb","Whole Suburb",534]
["Upper Hutt","Maoribank","Median","MaoribankMedian","Whole Suburb","Whole Suburb",553]
["Upper Hutt","Maoribank","Upper Quartile","MaoribankUpper Quartile","Whole Suburb","Whole Suburb",615]
["Upper Hutt","Kingsley Heights","Bonds","Kingsley HeightsBonds","Whole Suburb","Whole Suburb",""]
["Upper Hutt","Kingsley Heights","Lower Quartile","Kingsley HeightsLower Quartile","Whole Suburb","Whole Suburb",""]
["Upper Hutt","Kingsley Heights","Median","Kingsley HeightsMedian","Whole Suburb","Whole Suburb",""]
["Upper Hutt","Kingsley Heights","Upper Quartile","Kingsley HeightsUpper Quartile","Whole Suburb","Whole Suburb",""]
["Upper Hutt","Moonshine Valley","Bonds","Moonshine ValleyBonds","Whole Suburb","Whole Suburb",""]
["Upper Hutt","Moonshine Valley","Lower Quartile","Moonshine ValleyLower Quartile","Whole Suburb","Whole Suburb",""]
["Upper Hutt","Moonshine Valley","Median","Moonshine ValleyMedian","Whole Suburb","Whole Suburb",""]
["Upper Hutt","Moonshine Valley","Upper Quartile","Moonshine ValleyUpper Quartile","Whole Suburb","Whole Suburb",""]
["Upper Hutt","Timberlea","Bonds","TimberleaBonds","Whole Suburb","Whole Suburb",""]
["Upper Hutt","Timberlea","Lower Quartile","TimberleaLower Quartile","Whole Suburb","Whole Suburb",""]
["Upper Hutt","Timberlea","Median","TimberleaMedian","Whole Suburb","Whole Suburb",""]
["Upper Hutt","Timberlea","Upper Quartile","TimberleaUpper Quartile","Whole Suburb","Whole Suburb",""]
["Upper Hutt","Birchville","Bonds","BirchvilleBonds","Whole Suburb","Whole Suburb",114]
["Upper Hutt","Birchville","Lower Quartile","BirchvilleLower Quartile","Whole Suburb","Whole Suburb",525]
["Upper Hutt","Birchville","Median","BirchvilleMedian","Whole Suburb","Whole Suburb",550]
["Upper Hutt","Birchville","Upper Quartile","BirchvilleUpper Quartile","Whole Suburb","Whole Suburb",601]
["Upper Hutt","Pinehaven","Bonds","PinehavenBonds","Whole Suburb","Whole Suburb",78]
["Upper Hutt","Pinehaven","Lower Quartile","PinehavenLower Quartile","Whole Suburb","Whole Suburb",475]
["Upper Hutt","Pinehaven","Median","PinehavenMedian","Whole Suburb","Whole Suburb",580]
["Upper Hutt","Pinehaven","Upper Quartile","PinehavenUpper Quartile","Whole Suburb","Whole Suburb",650]
["Upper Hutt","Te Marua","Bonds","Te MaruaBonds","Whole Suburb","Whole Suburb",""]
["Upper Hutt","Te Marua","Lower Quartile","Te MaruaLower Quartile","Whole Suburb","Whole Suburb",""]
["Upper Hutt","Te Marua","Median","Te MaruaMedian","Whole Suburb","Whole Suburb",""]
["Upper Hutt","Te Marua","Upper Quartile","Te MaruaUpper Quartile","Whole Suburb","Whole Suburb",""]
["Upper Hutt","Totara Park","Bonds","Totara ParkBonds","Whole Suburb","Whole Suburb",186]
["Upper Hutt","Totara Park","Lower Quartile","Totara ParkLower Quartile","Whole Suburb","Whole Suburb",550]
["Upper Hutt","Totara Park","Median","Totara ParkMedian","Whole Suburb","Whole Suburb",600]
["Upper Hutt","Totara Park","Upper Quartile","Totara ParkUpper Quartile","Whole Suburb","Whole Suburb",633]
["Upper Hutt","Trentham","Bonds","TrenthamBonds","Whole Suburb","Whole Suburb",963]
["Upper Hutt","Trentham","Lower Quartile","TrenthamLower Quartile","Whole Suburb","Whole Suburb",388]
["Upper Hutt","Trentham","Median","TrenthamMedian","Whole Suburb","Whole Suburb",500]
["Upper Hutt","Trentham","Upper Quartile","TrenthamUpper Quartile","Whole Suburb","Whole Suburb",615]
["Upper Moutere","Upper Moutere","Bonds",{"$f":"B5634&C5634","v":"Upper MoutereBonds"},"Whole Suburb","Whole Suburb",51]
["Upper Moutere","Upper Moutere","Lower Quartile","Upper MoutereLower Quartile","Whole Suburb","Whole Suburb",350]
["Upper Moutere","Upper Moutere","Median","Upper MoutereMedian","Whole Suburb","Whole Suburb",450]
["Upper Moutere","Upper Moutere","Upper Quartile","Upper MoutereUpper Quartile","Whole Suburb","Whole Suburb",460]
["Upper Moutere","Bronte","Bonds","BronteBonds","Whole Suburb","Whole Suburb",""]
["Upper Moutere","Bronte","Lower Quartile","BronteLower Quartile","Whole Suburb","Whole Suburb",""]
["Upper Moutere","Bronte","Median","BronteMedian","Whole Suburb","Whole Suburb",""]
["Upper Moutere","Bronte","Upper Quartile","BronteUpper Quartile","Whole Suburb","Whole Suburb",""]
["Upper Moutere","Tasman","Bonds","TasmanBonds","Whole Suburb","Whole Suburb",45]
["Upper Moutere","Tasman","Lower Quartile","TasmanLower Quartile","Whole Suburb","Whole Suburb",410]
["Upper Moutere","Tasman","Median","TasmanMedian","Whole Suburb","Whole Suburb",450]
["Upper Moutere","Tasman","Upper Quartile","TasmanUpper Quartile","Whole Suburb","Whole Suburb",555]
["Urenui","Mimi","Bonds","MimiBonds","Whole Suburb","Whole Suburb",""]
["Urenui","Mimi","Lower Quartile","MimiLower Quartile","Whole Suburb","Whole Suburb",""]
["Urenui","Mimi","Median","MimiMedian","Whole Suburb","Whole Suburb",""]
["Urenui","Mimi","Upper Quartile","MimiUpper Quartile","Whole Suburb","Whole Suburb",""]
["Urenui","Onaero","Bonds","OnaeroBonds","Whole Suburb","Whole Suburb",""]
["Urenui","Onaero","Lower Quartile","OnaeroLower Quartile","Whole Suburb","Whole Suburb",""]
["Urenui","Onaero","Median","OnaeroMedian","Whole Suburb","Whole Suburb",""]
["Urenui","Onaero","Upper Quartile","OnaeroUpper Quartile","Whole Suburb","Whole Suburb",""]
["Urenui","Urenui","Bonds","UrenuiBonds","Whole Suburb","Whole Suburb",18]
["Urenui","Urenui","Lower Quartile","UrenuiLower Quartile","Whole Suburb","Whole Suburb",400]
["Urenui","Urenui","Median","UrenuiMedian","Whole Suburb","Whole Suburb",450]
["Urenui","Urenui","Upper Quartile","UrenuiUpper Quartile","Whole Suburb","Whole Suburb",520]
["Waddington","Waddington","Bonds","WaddingtonBonds","Whole Suburb","Whole Suburb",""]
["Waddington","Waddington","Lower Quartile","WaddingtonLower Quartile","Whole Suburb","Whole Suburb",""]
["Waddington","Waddington","Median","WaddingtonMedian","Whole Suburb","Whole Suburb",""]
["Waddington","Waddington","Upper Quartile","WaddingtonUpper Quartile","Whole Suburb","Whole Suburb",""]
["Waharoa","Waharoa","Bonds","WaharoaBonds","Whole Suburb","Whole Suburb",48]
["Waharoa","Waharoa","Lower Quartile","WaharoaLower Quartile","Whole Suburb","Whole Suburb",350]
["Waharoa","Waharoa","Median","WaharoaMedian","Whole Suburb","Whole Suburb",450]
["Waharoa","Waharoa","Upper Quartile","WaharoaUpper Quartile","Whole Suburb","Whole Suburb",510]
["Waiau","Waiau","Bonds","WaiauBonds","Whole Suburb","Whole Suburb",""]
["Waiau","Waiau","Lower Quartile","WaiauLower Quartile","Whole Suburb","Whole Suburb",""]
["Waiau","Waiau","Median","WaiauMedian","Whole Suburb","Whole Suburb",""]
["Waiau","Waiau","Upper Quartile","WaiauUpper Quartile","Whole Suburb","Whole Suburb",""]
["Waiheke Island","Surfdale","Bonds","SurfdaleBonds","Whole Suburb","Whole Suburb",168]
["Waiheke Island","Surfdale","Lower Quartile","SurfdaleLower Quartile","Whole Suburb","Whole Suburb",230]
["Waiheke Island","Surfdale","Median","SurfdaleMedian","Whole Suburb","Whole Suburb",505]
["Waiheke Island","Surfdale","Upper Quartile","SurfdaleUpper Quartile","Whole Suburb","Whole Suburb",644]
["Waiheke Island","Omiha","Bonds","OmihaBonds","Whole Suburb","Whole Suburb",36]
["Waiheke Island","Omiha","Lower Quartile","OmihaLower Quartile","Whole Suburb","Whole Suburb",480]
["Waiheke Island","Omiha","Median","OmihaMedian","Whole Suburb","Whole Suburb",500]
["Waiheke Island","Omiha","Upper Quartile","OmihaUpper Quartile","Whole Suburb","Whole Suburb",520]
["Waiheke Island","Oneroa","Bonds","OneroaBonds","Whole Suburb","Whole Suburb",150]
["Waiheke Island","Oneroa","Lower Quartile","OneroaLower Quartile","Whole Suburb","Whole Suburb",500]
["Waiheke Island","Oneroa","Median","OneroaMedian","Whole Suburb","Whole Suburb",570]
["Waiheke Island","Oneroa","Upper Quartile","OneroaUpper Quartile","Whole Suburb","Whole Suburb",665]
["Waiheke Island","Onetangi","Bonds","OnetangiBonds","Whole Suburb","Whole Suburb",60]
["Waiheke Island","Onetangi","Lower Quartile","OnetangiLower Quartile","Whole Suburb","Whole Suburb",500]
["Waiheke Island","Onetangi","Median","OnetangiMedian","Whole Suburb","Whole Suburb",583]
["Waiheke Island","Onetangi","Upper Quartile","OnetangiUpper Quartile","Whole Suburb","Whole Suburb",650]
["Waiheke Island","Ostend","Bonds","OstendBonds","Whole Suburb","Whole Suburb",135]
["Waiheke Island","Ostend","Lower Quartile","OstendLower Quartile","Whole Suburb","Whole Suburb",484]
["Waiheke Island","Ostend","Median","OstendMedian","Whole Suburb","Whole Suburb",575]
["Waiheke Island","Ostend","Upper Quartile","OstendUpper Quartile","Whole Suburb","Whole Suburb",638]
["Waiheke Island","Palm Beach","Bonds","Palm BeachBonds","Whole Suburb","Whole Suburb",42]
["Waiheke Island","Palm Beach","Lower Quartile","Palm BeachLower Quartile","Whole Suburb","Whole Suburb",465]
["Waiheke Island","Palm Beach","Median","Palm BeachMedian","Whole Suburb","Whole Suburb",540]
["Waiheke Island","Palm Beach","Upper Quartile","Palm BeachUpper Quartile","Whole Suburb","Whole Suburb",648]
["Waiheke Island","Waiheke Island","Bonds","Waiheke IslandBonds","Whole Suburb","Whole Suburb",42]
["Waiheke Island","Waiheke Island","Lower Quartile","Waiheke IslandLower Quartile","Whole Suburb","Whole Suburb",510]
["Waiheke Island","Waiheke Island","Median","Waiheke IslandMedian","Whole Suburb","Whole Suburb",630]
["Waiheke Island","Waiheke Island","Upper Quartile","Waiheke IslandUpper Quartile","Whole Suburb","Whole Suburb",726]
["Waihi","Whiritoa","Bonds",{"$f":"B5698&C5698","v":"WhiritoaBonds"},"Whole Suburb","Whole Suburb",15]
["Waihi","Whiritoa","Lower Quartile","WhiritoaLower Quartile","Whole Suburb","Whole Suburb",370]
["Waihi","Whiritoa","Median","WhiritoaMedian","Whole Suburb","Whole Suburb",375]
["Waihi","Whiritoa","Upper Quartile","WhiritoaUpper Quartile","Whole Suburb","Whole Suburb",400]
["Waihi","Athenree Gorge","Bonds","Athenree GorgeBonds","Whole Suburb","Whole Suburb",""]
["Waihi","Athenree Gorge","Lower Quartile","Athenree GorgeLower Quartile","Whole Suburb","Whole Suburb",""]
["Waihi","Athenree Gorge","Median","Athenree GorgeMedian","Whole Suburb","Whole Suburb",""]
["Waihi","Athenree Gorge","Upper Quartile","Athenree GorgeUpper Quartile","Whole Suburb","Whole Suburb",""]
["Waihi","Waihi","Bonds","WaihiBonds","Whole Suburb","Whole Suburb",510]
["Waihi","Waihi","Lower Quartile","WaihiLower Quartile","Whole Suburb","Whole Suburb",361]
["Waihi","Waihi","Median","WaihiMedian","Whole Suburb","Whole Suburb",408]
["Waihi","Waihi","Upper Quartile","WaihiUpper Quartile","Whole Suburb","Whole Suburb",468]
["Waihi","Waikino","Bonds","WaikinoBonds","Whole Suburb","Whole Suburb",""]
["Waihi","Waikino","Lower Quartile","WaikinoLower Quartile","Whole Suburb","Whole Suburb",""]
["Waihi","Waikino","Median","WaikinoMedian","Whole Suburb","Whole Suburb",""]
["Waihi","Waikino","Upper Quartile","WaikinoUpper Quartile","Whole Suburb","Whole Suburb",""]
["Waihi Beach","Athenree","Bonds","AthenreeBonds","Whole Suburb","Whole Suburb",51]
["Waihi Beach","Athenree","Lower Quartile","AthenreeLower Quartile","Whole Suburb","Whole Suburb",491]
["Waihi Beach","Athenree","Median","AthenreeMedian","Whole Suburb","Whole Suburb",545]
["Waihi Beach","Athenree","Upper Quartile","AthenreeUpper Quartile","Whole Suburb","Whole Suburb",550]
["Waihi Beach","Bowentown","Bonds","BowentownBonds","Whole Suburb","Whole Suburb",18]
["Waihi Beach","Bowentown","Lower Quartile","BowentownLower Quartile","Whole Suburb","Whole Suburb",485]
["Waihi Beach","Bowentown","Median","BowentownMedian","Whole Suburb","Whole Suburb",500]
["Waihi Beach","Bowentown","Upper Quartile","BowentownUpper Quartile","Whole Suburb","Whole Suburb",570]
["Waihi Beach","Waihi Beach","Bonds","Waihi BeachBonds","Whole Suburb","Whole Suburb",186]
["Waihi Beach","Waihi Beach","Lower Quartile","Waihi BeachLower Quartile","Whole Suburb","Whole Suburb",390]
["Waihi Beach","Waihi Beach","Median","Waihi BeachMedian","Whole Suburb","Whole Suburb",420]
["Waihi Beach","Waihi Beach","Upper Quartile","Waihi BeachUpper Quartile","Whole Suburb","Whole Suburb",500]
["Waihopai Valley","Waihopai Valley","Bonds","Waihopai ValleyBonds","Whole Suburb","Whole Suburb",""]
["Waihopai Valley","Waihopai Valley","Lower Quartile","Waihopai ValleyLower Quartile","Whole Suburb","Whole Suburb",""]
["Waihopai Valley","Waihopai Valley","Median","Waihopai ValleyMedian","Whole Suburb","Whole Suburb",""]
["Waihopai Valley","Waihopai Valley","Upper Quartile","Waihopai ValleyUpper Quartile","Whole Suburb","Whole Suburb",""]
["Waikanae","Peka Peka","Bonds","Peka PekaBonds","Whole Suburb","Whole Suburb",""]
["Waikanae","Peka Peka","Lower Quartile","Peka PekaLower Quartile","Whole Suburb","Whole Suburb",""]
["Waikanae","Peka Peka","Median","Peka PekaMedian","Whole Suburb","Whole Suburb",""]
["Waikanae","Peka Peka","Upper Quartile","Peka PekaUpper Quartile","Whole Suburb","Whole Suburb",""]
["Waikanae","Reikorangi","Bonds","ReikorangiBonds","Whole Suburb","Whole Suburb",""]
["Waikanae","Reikorangi","Lower Quartile","ReikorangiLower Quartile","Whole Suburb","Whole Suburb",""]
["Waikanae","Reikorangi","Median","ReikorangiMedian","Whole Suburb","Whole Suburb",""]
["Waikanae","Reikorangi","Upper Quartile","ReikorangiUpper Quartile","Whole Suburb","Whole Suburb",""]
["Waikanae","Waikanae","Bonds","WaikanaeBonds","Whole Suburb","Whole Suburb",549]
["Waikanae","Waikanae","Lower Quartile","WaikanaeLower Quartile","Whole Suburb","Whole Suburb",493]
["Waikanae","Waikanae","Median","WaikanaeMedian","Whole Suburb","Whole Suburb",550]
["Waikanae","Waikanae","Upper Quartile","WaikanaeUpper Quartile","Whole Suburb","Whole Suburb",620]
["Waikanae","Waikanae Beach","Bonds","Waikanae BeachBonds","Whole Suburb","Whole Suburb",273]
["Waikanae","Waikanae Beach","Lower Quartile","Waikanae BeachLower Quartile","Whole Suburb","Whole Suburb",490]
["Waikanae","Waikanae Beach","Median","Waikanae BeachMedian","Whole Suburb","Whole Suburb",575]
["Waikanae","Waikanae Beach","Upper Quartile","Waikanae BeachUpper Quartile","Whole Suburb","Whole Suburb",600]
["Waikari","Waikari","Bonds","WaikariBonds","Whole Suburb","Whole Suburb",""]
["Waikari","Waikari","Lower Quartile","WaikariLower Quartile","Whole Suburb","Whole Suburb",""]
["Waikari","Waikari","Median","WaikariMedian","Whole Suburb","Whole Suburb",""]
["Waikari","Waikari","Upper Quartile","WaikariUpper Quartile","Whole Suburb","Whole Suburb",""]
["Waikouaiti","Waikouaiti","Bonds","WaikouaitiBonds","Whole Suburb","Whole Suburb",63]
["Waikouaiti","Waikouaiti","Lower Quartile","WaikouaitiLower Quartile","Whole Suburb","Whole Suburb",271]
["Waikouaiti","Waikouaiti","Median","WaikouaitiMedian","Whole Suburb","Whole Suburb",298]
["Waikouaiti","Waikouaiti","Upper Quartile","WaikouaitiUpper Quartile","Whole Suburb","Whole Suburb",384]
["Waikouaiti","Karitane","Bonds","KaritaneBonds","Whole Suburb","Whole Suburb",""]
["Waikouaiti","Karitane","Lower Quartile","KaritaneLower Quartile","Whole Suburb","Whole Suburb",""]
["Waikouaiti","Karitane","Median","KaritaneMedian","Whole Suburb","Whole Suburb",""]
["Waikouaiti","Karitane","Upper Quartile","KaritaneUpper Quartile","Whole Suburb","Whole Suburb",""]
["Waikuku","Waikuku","Bonds","WaikukuBonds","Whole Suburb","Whole Suburb",""]
["Waikuku","Waikuku","Lower Quartile","WaikukuLower Quartile","Whole Suburb","Whole Suburb",""]
["Waikuku","Waikuku","Median","WaikukuMedian","Whole Suburb","Whole Suburb",""]
["Waikuku","Waikuku","Upper Quartile","WaikukuUpper Quartile","Whole Suburb","Whole Suburb",""]
["Waikuku Beach","Waikuku Beach","Bonds",{"$f":"B5762&C5762","v":"Waikuku BeachBonds"},"Whole Suburb","Whole Suburb",48]
["Waikuku Beach","Waikuku Beach","Lower Quartile","Waikuku BeachLower Quartile","Whole Suburb","Whole Suburb",423]
["Waikuku Beach","Waikuku Beach","Median","Waikuku BeachMedian","Whole Suburb","Whole Suburb",450]
["Waikuku Beach","Waikuku Beach","Upper Quartile","Waikuku BeachUpper Quartile","Whole Suburb","Whole Suburb",483]
["Waimarama","Waimarama","Bonds","WaimaramaBonds","Whole Suburb","Whole Suburb",""]
["Waimarama","Waimarama","Lower Quartile","WaimaramaLower Quartile","Whole Suburb","Whole Suburb",""]
["Waimarama","Waimarama","Median","WaimaramaMedian","Whole Suburb","Whole Suburb",""]
["Waimarama","Waimarama","Upper Quartile","WaimaramaUpper Quartile","Whole Suburb","Whole Suburb",""]
["Waimate","Waimate","Bonds","WaimateBonds","Whole Suburb","Whole Suburb",312]
["Waimate","Waimate","Lower Quartile","WaimateLower Quartile","Whole Suburb","Whole Suburb",280]
["Waimate","Waimate","Median","WaimateMedian","Whole Suburb","Whole Suburb",300]
["Waimate","Waimate","Upper Quartile","WaimateUpper Quartile","Whole Suburb","Whole Suburb",335]
["Waimate","Makikihi","Bonds","MakikihiBonds","Whole Suburb","Whole Suburb",""]
["Waimate","Makikihi","Lower Quartile","MakikihiLower Quartile","Whole Suburb","Whole Suburb",""]
["Waimate","Makikihi","Median","MakikihiMedian","Whole Suburb","Whole Suburb",""]
["Waimate","Makikihi","Upper Quartile","MakikihiUpper Quartile","Whole Suburb","Whole Suburb",""]
["Waimate","Glenavy","Bonds","GlenavyBonds","Whole Suburb","Whole Suburb",""]
["Waimate","Glenavy","Lower Quartile","GlenavyLower Quartile","Whole Suburb","Whole Suburb",""]
["Waimate","Glenavy","Median","GlenavyMedian","Whole Suburb","Whole Suburb",""]
["Waimate","Glenavy","Upper Quartile","GlenavyUpper Quartile","Whole Suburb","Whole Suburb",""]
["Waimauku","Waimauku","Bonds","WaimaukuBonds","Whole Suburb","Whole Suburb",183]
["Waimauku","Waimauku","Lower Quartile","WaimaukuLower Quartile","Whole Suburb","Whole Suburb",483]
["Waimauku","Waimauku","Median","WaimaukuMedian","Whole Suburb","Whole Suburb",700]
["Waimauku","Waimauku","Upper Quartile","WaimaukuUpper Quartile","Whole Suburb","Whole Suburb",798]
["Wainui","Wainui","Bonds","WainuiBonds","Whole Suburb","Whole Suburb",""]
["Wainui","Wainui","Lower Quartile","WainuiLower Quartile","Whole Suburb","Whole Suburb",""]
["Wainui","Wainui","Median","WainuiMedian","Whole Suburb","Whole Suburb",""]
["Wainui","Wainui","Upper Quartile","WainuiUpper Quartile","Whole Suburb","Whole Suburb",""]
["Wainuioru","Wainuioru","Bonds","WainuioruBonds","Whole Suburb","Whole Suburb",""]
["Wainuioru","Wainuioru","Lower Quartile","WainuioruLower Quartile","Whole Suburb","Whole Suburb",""]
["Wainuioru","Wainuioru","Median","WainuioruMedian","Whole Suburb","Whole Suburb",""]
["Wainuioru","Wainuioru","Upper Quartile","WainuioruUpper Quartile","Whole Suburb","Whole Suburb",""]
["Waiotira","Waiotira","Bonds","WaiotiraBonds","Whole Suburb","Whole Suburb",""]
["Waiotira","Waiotira","Lower Quartile","WaiotiraLower Quartile","Whole Suburb","Whole Suburb",""]
["Waiotira","Waiotira","Median","WaiotiraMedian","Whole Suburb","Whole Suburb",""]
["Waiotira","Waiotira","Upper Quartile","WaiotiraUpper Quartile","Whole Suburb","Whole Suburb",""]
["Waiouru","Waiouru","Bonds","WaiouruBonds","Whole Suburb","Whole Suburb",""]
["Waiouru","Waiouru","Lower Quartile","WaiouruLower Quartile","Whole Suburb","Whole Suburb",""]
["Waiouru","Waiouru","Median","WaiouruMedian","Whole Suburb","Whole Suburb",""]
["Waiouru","Waiouru","Upper Quartile","WaiouruUpper Quartile","Whole Suburb","Whole Suburb",""]
["Waipapa","Waipapa","Bonds","WaipapaBonds","Whole Suburb","Whole Suburb",99]
["Waipapa","Waipapa","Lower Quartile","WaipapaLower Quartile","Whole Suburb","Whole Suburb",470]
["Waipapa","Waipapa","Median","WaipapaMedian","Whole Suburb","Whole Suburb",495]
["Waipapa","Waipapa","Upper Quartile","WaipapaUpper Quartile","Whole Suburb","Whole Suburb",550]
["Waipara","Waipara","Bonds","WaiparaBonds","Whole Suburb","Whole Suburb",""]
["Waipara","Waipara","Lower Quartile","WaiparaLower Quartile","Whole Suburb","Whole Suburb",""]
["Waipara","Waipara","Median","WaiparaMedian","Whole Suburb","Whole Suburb",""]
["Waipara","Waipara","Upper Quartile","WaiparaUpper Quartile","Whole Suburb","Whole Suburb",""]
["Waipawa","Waipawa","Bonds","WaipawaBonds","Whole Suburb","Whole Suburb",105]
["Waipawa","Waipawa","Lower Quartile","WaipawaLower Quartile","Whole Suburb","Whole Suburb",295]
["Waipawa","Waipawa","Median","WaipawaMedian","Whole Suburb","Whole Suburb",400]
["Waipawa","Waipawa","Upper Quartile","WaipawaUpper Quartile","Whole Suburb","Whole Suburb",425]
["Waipu","Langs Beach","Bonds","Langs BeachBonds","Whole Suburb","Whole Suburb",""]
["Waipu","Langs Beach","Lower Quartile","Langs BeachLower Quartile","Whole Suburb","Whole Suburb",""]
["Waipu","Langs Beach","Median","Langs BeachMedian","Whole Suburb","Whole Suburb",""]
["Waipu","Langs Beach","Upper Quartile","Langs BeachUpper Quartile","Whole Suburb","Whole Suburb",""]
["Waipu","Waipu","Bonds","WaipuBonds","Whole Suburb","Whole Suburb",162]
["Waipu","Waipu","Lower Quartile","WaipuLower Quartile","Whole Suburb","Whole Suburb",370]
["Waipu","Waipu","Median","WaipuMedian","Whole Suburb","Whole Suburb",475]
["Waipu","Waipu","Upper Quartile","WaipuUpper Quartile","Whole Suburb","Whole Suburb",550]
["Waipukurau","Waipukurau","Bonds","WaipukurauBonds","Whole Suburb","Whole Suburb",348]
["Waipukurau","Waipukurau","Lower Quartile","WaipukurauLower Quartile","Whole Suburb","Whole Suburb",320]
["Waipukurau","Waipukurau","Median","WaipukurauMedian","Whole Suburb","Whole Suburb",380]
["Waipukurau","Waipukurau","Upper Quartile","WaipukurauUpper Quartile","Whole Suburb","Whole Suburb",410]
["Wairau Valley","Wairau Valley","Bonds",{"$f":"B5826&C5826","v":"Wairau ValleyBonds"},"Whole Suburb","Whole Suburb",21]
["Wairau Valley","Wairau Valley","Lower Quartile","Wairau ValleyLower Quartile","Whole Suburb","Whole Suburb",385]
["Wairau Valley","Wairau Valley","Median","Wairau ValleyMedian","Whole Suburb","Whole Suburb",425]
["Wairau Valley","Wairau Valley","Upper Quartile","Wairau ValleyUpper Quartile","Whole Suburb","Whole Suburb",450]
["Wairoa","Frasertown","Bonds","FrasertownBonds","Whole Suburb","Whole Suburb",""]
["Wairoa","Frasertown","Lower Quartile","FrasertownLower Quartile","Whole Suburb","Whole Suburb",""]
["Wairoa","Frasertown","Median","FrasertownMedian","Whole Suburb","Whole Suburb",""]
["Wairoa","Frasertown","Upper Quartile","FrasertownUpper Quartile","Whole Suburb","Whole Suburb",""]
["Wairoa","Wairoa","Bonds","WairoaBonds","Whole Suburb","Whole Suburb",384]
["Wairoa","Wairoa","Lower Quartile","WairoaLower Quartile","Whole Suburb","Whole Suburb",280]
["Wairoa","Wairoa","Median","WairoaMedian","Whole Suburb","Whole Suburb",300]
["Wairoa","Wairoa","Upper Quartile","WairoaUpper Quartile","Whole Suburb","Whole Suburb",348]
["Waitara","Brixton","Bonds","BrixtonBonds","Whole Suburb","Whole Suburb",27]
["Waitara","Brixton","Lower Quartile","BrixtonLower Quartile","Whole Suburb","Whole Suburb",285]
["Waitara","Brixton","Median","BrixtonMedian","Whole Suburb","Whole Suburb",360]
["Waitara","Brixton","Upper Quartile","BrixtonUpper Quartile","Whole Suburb","Whole Suburb",428]
["Waitara","Motunui","Bonds","MotunuiBonds","Whole Suburb","Whole Suburb",""]
["Waitara","Motunui","Lower Quartile","MotunuiLower Quartile","Whole Suburb","Whole Suburb",""]
["Waitara","Motunui","Median","MotunuiMedian","Whole Suburb","Whole Suburb",""]
["Waitara","Motunui","Upper Quartile","MotunuiUpper Quartile","Whole Suburb","Whole Suburb",""]
["Waitara","Tikorangi","Bonds","TikorangiBonds","Whole Suburb","Whole Suburb",""]
["Waitara","Tikorangi","Lower Quartile","TikorangiLower Quartile","Whole Suburb","Whole Suburb",""]
["Waitara","Tikorangi","Median","TikorangiMedian","Whole Suburb","Whole Suburb",""]
["Waitara","Tikorangi","Upper Quartile","TikorangiUpper Quartile","Whole Suburb","Whole Suburb",""]
["Waitara","Waitara","Bonds","WaitaraBonds","Whole Suburb","Whole Suburb",678]
["Waitara","Waitara","Lower Quartile","WaitaraLower Quartile","Whole Suburb","Whole Suburb",350]
["Waitara","Waitara","Median","WaitaraMedian","Whole Suburb","Whole Suburb",400]
["Waitara","Waitara","Upper Quartile","WaitaraUpper Quartile","Whole Suburb","Whole Suburb",450]
["Waitati","Waitati","Bonds","WaitatiBonds","Whole Suburb","Whole Suburb",36]
["Waitati","Waitati","Lower Quartile","WaitatiLower Quartile","Whole Suburb","Whole Suburb",270]
["Waitati","Waitati","Median","WaitatiMedian","Whole Suburb","Whole Suburb",360]
["Waitati","Waitati","Upper Quartile","WaitatiUpper Quartile","Whole Suburb","Whole Suburb",450]
["Waiterimu","Waiterimu","Bonds","WaiterimuBonds","Whole Suburb","Whole Suburb",""]
["Waiterimu","Waiterimu","Lower Quartile","WaiterimuLower Quartile","Whole Suburb","Whole Suburb",""]
["Waiterimu","Waiterimu","Median","WaiterimuMedian","Whole Suburb","Whole Suburb",""]
["Waiterimu","Waiterimu","Upper Quartile","WaiterimuUpper Quartile","Whole Suburb","Whole Suburb",""]
["Waitoa","Waitoa","Bonds","WaitoaBonds","Whole Suburb","Whole Suburb",""]
["Waitoa","Waitoa","Lower Quartile","WaitoaLower Quartile","Whole Suburb","Whole Suburb",""]
["Waitoa","Waitoa","Median","WaitoaMedian","Whole Suburb","Whole Suburb",""]
["Waitoa","Waitoa","Upper Quartile","WaitoaUpper Quartile","Whole Suburb","Whole Suburb",""]
["Waitoki","Waitoki","Bonds","WaitokiBonds","Whole Suburb","Whole Suburb",93]
["Waitoki","Waitoki","Lower Quartile","WaitokiLower Quartile","Whole Suburb","Whole Suburb",479]
["Waitoki","Waitoki","Median","WaitokiMedian","Whole Suburb","Whole Suburb",625]
["Waitoki","Waitoki","Upper Quartile","WaitokiUpper Quartile","Whole Suburb","Whole Suburb",825]
["Waiuku","Aka Aka","Bonds","Aka AkaBonds","Whole Suburb","Whole Suburb",""]
["Waiuku","Aka Aka","Lower Quartile","Aka AkaLower Quartile","Whole Suburb","Whole Suburb",""]
["Waiuku","Aka Aka","Median","Aka AkaMedian","Whole Suburb","Whole Suburb",""]
["Waiuku","Aka Aka","Upper Quartile","Aka AkaUpper Quartile","Whole Suburb","Whole Suburb",""]
["Waiuku","Waiuku","Bonds","WaiukuBonds","Whole Suburb","Whole Suburb",816]
["Waiuku","Waiuku","Lower Quartile","WaiukuLower Quartile","Whole Suburb","Whole Suburb",440]
["Waiuku","Waiuku","Median","WaiukuMedian","Whole Suburb","Whole Suburb",510]
["Waiuku","Waiuku","Upper Quartile","WaiukuUpper Quartile","Whole Suburb","Whole Suburb",553]
["Waiuku","Karioitahi","Bonds","KarioitahiBonds","Whole Suburb","Whole Suburb",""]
["Waiuku","Karioitahi","Lower Quartile","KarioitahiLower Quartile","Whole Suburb","Whole Suburb",""]
["Waiuku","Karioitahi","Median","KarioitahiMedian","Whole Suburb","Whole Suburb",""]
["Waiuku","Karioitahi","Upper Quartile","KarioitahiUpper Quartile","Whole Suburb","Whole Suburb",""]
["Wakefield","Foxhill","Bonds","FoxhillBonds","Whole Suburb","Whole Suburb",""]
["Wakefield","Foxhill","Lower Quartile","FoxhillLower Quartile","Whole Suburb","Whole Suburb",""]
["Wakefield","Foxhill","Median","FoxhillMedian","Whole Suburb","Whole Suburb",""]
["Wakefield","Foxhill","Upper Quartile","FoxhillUpper Quartile","Whole Suburb","Whole Suburb",""]
["Wakefield","Wakefield","Bonds","WakefieldBonds","Whole Suburb","Whole Suburb",81]
["Wakefield","Wakefield","Lower Quartile","WakefieldLower Quartile","Whole Suburb","Whole Suburb",435]
["Wakefield","Wakefield","Median","WakefieldMedian","Whole Suburb","Whole Suburb",480]
["Wakefield","Wakefield","Upper Quartile","WakefieldUpper Quartile","Whole Suburb","Whole Suburb",561]
["Wakefield","Tapawera","Bonds",{"$f":"B5890&C5890","v":"TapaweraBonds"},"Whole Suburb","Whole Suburb",45]
["Wakefield","Tapawera","Lower Quartile","TapaweraLower Quartile","Whole Suburb","Whole Suburb",375]
["Wakefield","Tapawera","Median","TapaweraMedian","Whole Suburb","Whole Suburb",450]
["Wakefield","Tapawera","Upper Quartile","TapaweraUpper Quartile","Whole Suburb","Whole Suburb",458]
["Wakefield","Dovedale","Bonds","DovedaleBonds","Whole Suburb","Whole Suburb",""]
["Wakefield","Dovedale","Lower Quartile","DovedaleLower Quartile","Whole Suburb","Whole Suburb",""]
["Wakefield","Dovedale","Median","DovedaleMedian","Whole Suburb","Whole Suburb",""]
["Wakefield","Dovedale","Upper Quartile","DovedaleUpper Quartile","Whole Suburb","Whole Suburb",""]
["Wakefield","Eighty Eight Valley","Bonds","Eighty Eight ValleyBonds","Whole Suburb","Whole Suburb",""]
["Wakefield","Eighty Eight Valley","Lower Quartile","Eighty Eight ValleyLower Quartile","Whole Suburb","Whole Suburb",""]
["Wakefield","Eighty Eight Valley","Median","Eighty Eight ValleyMedian","Whole Suburb","Whole Suburb",""]
["Wakefield","Eighty Eight Valley","Upper Quartile","Eighty Eight ValleyUpper Quartile","Whole Suburb","Whole Suburb",""]
["Wakefield","Belgrove","Bonds","BelgroveBonds","Whole Suburb","Whole Suburb",""]
["Wakefield","Belgrove","Lower Quartile","BelgroveLower Quartile","Whole Suburb","Whole Suburb",""]
["Wakefield","Belgrove","Median","BelgroveMedian","Whole Suburb","Whole Suburb",""]
["Wakefield","Belgrove","Upper Quartile","BelgroveUpper Quartile","Whole Suburb","Whole Suburb",""]
["Wallacetown","Wallacetown","Bonds","WallacetownBonds","Whole Suburb","Whole Suburb",""]
["Wallacetown","Wallacetown","Lower Quartile","WallacetownLower Quartile","Whole Suburb","Whole Suburb",""]
["Wallacetown","Wallacetown","Median","WallacetownMedian","Whole Suburb","Whole Suburb",""]
["Wallacetown","Wallacetown","Upper Quartile","WallacetownUpper Quartile","Whole Suburb","Whole Suburb",""]
["Wanaka","Wanaka","Bonds","WanakaBonds","Whole Suburb","Whole Suburb",1041]
["Wanaka","Wanaka","Lower Quartile","WanakaLower Quartile","Whole Suburb","Whole Suburb",500]
["Wanaka","Wanaka","Median","WanakaMedian","Whole Suburb","Whole Suburb",600]
["Wanaka","Wanaka","Upper Quartile","WanakaUpper Quartile","Whole Suburb","Whole Suburb",673]
["Wanaka","Luggate","Bonds","LuggateBonds","Whole Suburb","Whole Suburb",51]
["Wanaka","Luggate","Lower Quartile","LuggateLower Quartile","Whole Suburb","Whole Suburb",388]
["Wanaka","Luggate","Median","LuggateMedian","Whole Suburb","Whole Suburb",500]
["Wanaka","Luggate","Upper Quartile","LuggateUpper Quartile","Whole Suburb","Whole Suburb",571]
["Wanaka","Albert Town","Bonds","Albert TownBonds","Whole Suburb","Whole Suburb",186]
["Wanaka","Albert Town","Lower Quartile","Albert TownLower Quartile","Whole Suburb","Whole Suburb",450]
["Wanaka","Albert Town","Median","Albert TownMedian","Whole Suburb","Whole Suburb",550]
["Wanaka","Albert Town","Upper Quartile","Albert TownUpper Quartile","Whole Suburb","Whole Suburb",600]
["Wanaka","Cardrona","Bonds","CardronaBonds","Whole Suburb","Whole Suburb",""]
["Wanaka","Cardrona","Lower Quartile","CardronaLower Quartile","Whole Suburb","Whole Suburb",""]
["Wanaka","Cardrona","Median","CardronaMedian","Whole Suburb","Whole Suburb",""]
["Wanaka","Cardrona","Upper Quartile","CardronaUpper Quartile","Whole Suburb","Whole Suburb",""]
["Warea","Warea","Bonds","WareaBonds","Whole Suburb","Whole Suburb",""]
["Warea","Warea","Lower Quartile","WareaLower Quartile","Whole Suburb","Whole Suburb",""]
["Warea","Warea","Median","WareaMedian","Whole Suburb","Whole Suburb",""]
["Warea","Warea","Upper Quartile","WareaUpper Quartile","Whole Suburb","Whole Suburb",""]
["Warkworth","Sandspit","Bonds","SandspitBonds","Whole Suburb","Whole Suburb",""]
["Warkworth","Sandspit","Lower Quartile","SandspitLower Quartile","Whole Suburb","Whole Suburb",""]
["Warkworth","Sandspit","Median","SandspitMedian","Whole Suburb","Whole Suburb",""]
["Warkworth","Sandspit","Upper Quartile","SandspitUpper Quartile","Whole Suburb","Whole Suburb",""]
["Warkworth","Pohuehue","Bonds","PohuehueBonds","Whole Suburb","Whole Suburb",""]
["Warkworth","Pohuehue","Lower Quartile","PohuehueLower Quartile","Whole Suburb","Whole Suburb",""]
["Warkworth","Pohuehue","Median","PohuehueMedian","Whole Suburb","Whole Suburb",""]
["Warkworth","Pohuehue","Upper Quartile","PohuehueUpper Quartile","Whole Suburb","Whole Suburb",""]
["Warkworth","Warkworth","Bonds","WarkworthBonds","Whole Suburb","Whole Suburb",711]
["Warkworth","Warkworth","Lower Quartile","WarkworthLower Quartile","Whole Suburb","Whole Suburb",515]
["Warkworth","Warkworth","Median","WarkworthMedian","Whole Suburb","Whole Suburb",580]
["Warkworth","Warkworth","Upper Quartile","WarkworthUpper Quartile","Whole Suburb","Whole Suburb",640]
["Warkworth","Puhoi","Bonds","PuhoiBonds","Whole Suburb","Whole Suburb",60]
["Warkworth","Puhoi","Lower Quartile","PuhoiLower Quartile","Whole Suburb","Whole Suburb",448]
["Warkworth","Puhoi","Median","PuhoiMedian","Whole Suburb","Whole Suburb",500]
["Warkworth","Puhoi","Upper Quartile","PuhoiUpper Quartile","Whole Suburb","Whole Suburb",650]
["Warkworth","Mahurangi East","Bonds","Mahurangi EastBonds","Whole Suburb","Whole Suburb",""]
["Warkworth","Mahurangi East","Lower Quartile","Mahurangi EastLower Quartile","Whole Suburb","Whole Suburb",""]
["Warkworth","Mahurangi East","Median","Mahurangi EastMedian","Whole Suburb","Whole Suburb",""]
["Warkworth","Mahurangi East","Upper Quartile","Mahurangi EastUpper Quartile","Whole Suburb","Whole Suburb",""]
["Warkworth","Mahurangi West","Bonds","Mahurangi WestBonds","Whole Suburb","Whole Suburb",21]
["Warkworth","Mahurangi West","Lower Quartile","Mahurangi WestLower Quartile","Whole Suburb","Whole Suburb",410]
["Warkworth","Mahurangi West","Median","Mahurangi WestMedian","Whole Suburb","Whole Suburb",480]
["Warkworth","Mahurangi West","Upper Quartile","Mahurangi WestUpper Quartile","Whole Suburb","Whole Suburb",520]
["Warkworth","Makarau","Bonds",{"$f":"B5954&C5954","v":"MakarauBonds"},"Whole Suburb","Whole Suburb",""]
["Warkworth","Makarau","Lower Quartile","MakarauLower Quartile","Whole Suburb","Whole Suburb",""]
["Warkworth","Makarau","Median","MakarauMedian","Whole Suburb","Whole Suburb",""]
["Warkworth","Makarau","Upper Quartile","MakarauUpper Quartile","Whole Suburb","Whole Suburb",""]
["Warkworth","Algies Bay","Bonds","Algies BayBonds","Whole Suburb","Whole Suburb",63]
["Warkworth","Algies Bay","Lower Quartile","Algies BayLower Quartile","Whole Suburb","Whole Suburb",385]
["Warkworth","Algies Bay","Median","Algies BayMedian","Whole Suburb","Whole Suburb",405]
["Warkworth","Algies Bay","Upper Quartile","Algies BayUpper Quartile","Whole Suburb","Whole Suburb",459]
["Warkworth","Dome Forest","Bonds","Dome ForestBonds","Whole Suburb","Whole Suburb",42]
["Warkworth","Dome Forest","Lower Quartile","Dome ForestLower Quartile","Whole Suburb","Whole Suburb",459]
["Warkworth","Dome Forest","Median","Dome ForestMedian","Whole Suburb","Whole Suburb",490]
["Warkworth","Dome Forest","Upper Quartile","Dome ForestUpper Quartile","Whole Suburb","Whole Suburb",559]
["Warkworth","Kaipara Flats","Bonds","Kaipara FlatsBonds","Whole Suburb","Whole Suburb",39]
["Warkworth","Kaipara Flats","Lower Quartile","Kaipara FlatsLower Quartile","Whole Suburb","Whole Suburb",340]
["Warkworth","Kaipara Flats","Median","Kaipara FlatsMedian","Whole Suburb","Whole Suburb",450]
["Warkworth","Kaipara Flats","Upper Quartile","Kaipara FlatsUpper Quartile","Whole Suburb","Whole Suburb",495]
["Waverley","Waverley","Bonds","WaverleyBonds","Whole Suburb","Whole Suburb",""]
["Waverley","Waverley","Lower Quartile","WaverleyLower Quartile","Whole Suburb","Whole Suburb",""]
["Waverley","Waverley","Median","WaverleyMedian","Whole Suburb","Whole Suburb",""]
["Waverley","Waverley","Upper Quartile","WaverleyUpper Quartile","Whole Suburb","Whole Suburb",""]
["Wellington","Rongotai","Bonds","RongotaiBonds","Whole Suburb","Whole Suburb",105]
["Wellington","Rongotai","Lower Quartile","RongotaiLower Quartile","Whole Suburb","Whole Suburb",465]
["Wellington","Rongotai","Median","RongotaiMedian","Whole Suburb","Whole Suburb",650]
["Wellington","Rongotai","Upper Quartile","RongotaiUpper Quartile","Whole Suburb","Whole Suburb",866]
["Wellington","Roseneath","Bonds","RoseneathBonds","Whole Suburb","Whole Suburb",312]
["Wellington","Roseneath","Lower Quartile","RoseneathLower Quartile","Whole Suburb","Whole Suburb",395]
["Wellington","Roseneath","Median","RoseneathMedian","Whole Suburb","Whole Suburb",625]
["Wellington","Roseneath","Upper Quartile","RoseneathUpper Quartile","Whole Suburb","Whole Suburb",860]
["Wellington","Seatoun","Bonds","SeatounBonds","Whole Suburb","Whole Suburb",189]
["Wellington","Seatoun","Lower Quartile","SeatounLower Quartile","Whole Suburb","Whole Suburb",516]
["Wellington","Seatoun","Median","SeatounMedian","Whole Suburb","Whole Suburb",598]
["Wellington","Seatoun","Upper Quartile","SeatounUpper Quartile","Whole Suburb","Whole Suburb",851]
["Wellington","Wilton","Bonds","WiltonBonds","Whole Suburb","Whole Suburb",279]
["Wellington","Wilton","Lower Quartile","WiltonLower Quartile","Whole Suburb","Whole Suburb",360]
["Wellington","Wilton","Median","WiltonMedian","Whole Suburb","Whole Suburb",480]
["Wellington","Wilton","Upper Quartile","WiltonUpper Quartile","Whole Suburb","Whole Suburb",610]
["Wellington","Woodridge","Bonds","WoodridgeBonds","Whole Suburb","Whole Suburb",114]
["Wellington","Woodridge","Lower Quartile","WoodridgeLower Quartile","Whole Suburb","Whole Suburb",615]
["Wellington","Woodridge","Median","WoodridgeMedian","Whole Suburb","Whole Suburb",715]
["Wellington","Woodridge","Upper Quartile","WoodridgeUpper Quartile","Whole Suburb","Whole Suburb",845]
["Wellington","Pipitea","Bonds","PipiteaBonds","Whole Suburb","Whole Suburb",129]
["Wellington","Pipitea","Lower Quartile","PipiteaLower Quartile","Whole Suburb","Whole Suburb",563]
["Wellington","Pipitea","Median","PipiteaMedian","Whole Suburb","Whole Suburb",630]
["Wellington","Pipitea","Upper Quartile","PipiteaUpper Quartile","Whole Suburb","Whole Suburb",750]
["Wellington","Strathmore Park","Bonds","Strathmore ParkBonds","Whole Suburb","Whole Suburb",198]
["Wellington","Strathmore Park","Lower Quartile","Strathmore ParkLower Quartile","Whole Suburb","Whole Suburb",598]
["Wellington","Strathmore Park","Median","Strathmore ParkMedian","Whole Suburb","Whole Suburb",700]
["Wellington","Strathmore Park","Upper Quartile","Strathmore ParkUpper Quartile","Whole Suburb","Whole Suburb",850]
["Wellington","Hataitai","Bonds","HataitaiBonds","Whole Suburb","Whole Suburb",1194]
["Wellington","Hataitai","Lower Quartile","HataitaiLower Quartile","Whole Suburb","Whole Suburb",480]
["Wellington","Hataitai","Median","HataitaiMedian","Whole Suburb","Whole Suburb",600]
["Wellington","Hataitai","Upper Quartile","HataitaiUpper Quartile","Whole Suburb","Whole Suburb",800]
["Wellington","Maupuia","Bonds","MaupuiaBonds","Whole Suburb","Whole Suburb",156]
["Wellington","Maupuia","Lower Quartile","MaupuiaLower Quartile","Whole Suburb","Whole Suburb",515]
["Wellington","Maupuia","Median","MaupuiaMedian","Whole Suburb","Whole Suburb",598]
["Wellington","Maupuia","Upper Quartile","MaupuiaUpper Quartile","Whole Suburb","Whole Suburb",753]
["Wellington","Melrose","Bonds","MelroseBonds","Whole Suburb","Whole Suburb",213]
["Wellington","Melrose","Lower Quartile","MelroseLower Quartile","Whole Suburb","Whole Suburb",246]
["Wellington","Melrose","Median","MelroseMedian","Whole Suburb","Whole Suburb",485]
["Wellington","Melrose","Upper Quartile","MelroseUpper Quartile","Whole Suburb","Whole Suburb",688]
["Wellington","Miramar","Bonds","MiramarBonds","Whole Suburb","Whole Suburb",939]
["Wellington","Miramar","Lower Quartile","MiramarLower Quartile","Whole Suburb","Whole Suburb",550]
["Wellington","Miramar","Median","MiramarMedian","Whole Suburb","Whole Suburb",650]
["Wellington","Miramar","Upper Quartile","MiramarUpper Quartile","Whole Suburb","Whole Suburb",750]
["Wellington","Moa Point","Bonds",{"$f":"B6018&C6018","v":"Moa PointBonds"},"Whole Suburb","Whole Suburb",""]
["Wellington","Moa Point","Lower Quartile","Moa PointLower Quartile","Whole Suburb","Whole Suburb",""]
["Wellington","Moa Point","Median","Moa PointMedian","Whole Suburb","Whole Suburb",""]
["Wellington","Moa Point","Upper Quartile","Moa PointUpper Quartile","Whole Suburb","Whole Suburb",""]
["Wellington","Mornington","Bonds","MorningtonBonds","Whole Suburb","Whole Suburb",129]
["Wellington","Mornington","Lower Quartile","MorningtonLower Quartile","Whole Suburb","Whole Suburb",428]
["Wellington","Mornington","Median","MorningtonMedian","Whole Suburb","Whole Suburb",580]
["Wellington","Mornington","Upper Quartile","MorningtonUpper Quartile","Whole Suburb","Whole Suburb",730]
["Wellington","Mount Cook","Bonds","Mount CookBonds","Whole Suburb","Whole Suburb",2136]
["Wellington","Mount Cook","Lower Quartile","Mount CookLower Quartile","Whole Suburb","Whole Suburb",380]
["Wellington","Mount Cook","Median","Mount CookMedian","Whole Suburb","Whole Suburb",510]
["Wellington","Mount Cook","Upper Quartile","Mount CookUpper Quartile","Whole Suburb","Whole Suburb",750]
["Wellington","Mount Victoria","Bonds","Mount VictoriaBonds","Whole Suburb","Whole Suburb",1629]
["Wellington","Mount Victoria","Lower Quartile","Mount VictoriaLower Quartile","Whole Suburb","Whole Suburb",469]
["Wellington","Mount Victoria","Median","Mount VictoriaMedian","Whole Suburb","Whole Suburb",570]
["Wellington","Mount Victoria","Upper Quartile","Mount VictoriaUpper Quartile","Whole Suburb","Whole Suburb",725]
["Wellington","Newlands","Bonds","NewlandsBonds","Whole Suburb","Whole Suburb",876]
["Wellington","Newlands","Lower Quartile","NewlandsLower Quartile","Whole Suburb","Whole Suburb",525]
["Wellington","Newlands","Median","NewlandsMedian","Whole Suburb","Whole Suburb",600]
["Wellington","Newlands","Upper Quartile","NewlandsUpper Quartile","Whole Suburb","Whole Suburb",680]
["Wellington","Brooklyn","Bonds","BrooklynBonds","Whole Suburb","Whole Suburb",1020]
["Wellington","Brooklyn","Lower Quartile","BrooklynLower Quartile","Whole Suburb","Whole Suburb",478]
["Wellington","Brooklyn","Median","BrooklynMedian","Whole Suburb","Whole Suburb",600]
["Wellington","Brooklyn","Upper Quartile","BrooklynUpper Quartile","Whole Suburb","Whole Suburb",738]
["Wellington","Tawa","Bonds","TawaBonds","Whole Suburb","Whole Suburb",1134]
["Wellington","Tawa","Lower Quartile","TawaLower Quartile","Whole Suburb","Whole Suburb",501]
["Wellington","Tawa","Median","TawaMedian","Whole Suburb","Whole Suburb",600]
["Wellington","Tawa","Upper Quartile","TawaUpper Quartile","Whole Suburb","Whole Suburb",675]
["Wellington","Te Aro","Bonds","Te AroBonds","Whole Suburb","Whole Suburb",4239]
["Wellington","Te Aro","Lower Quartile","Te AroLower Quartile","Whole Suburb","Whole Suburb",380]
["Wellington","Te Aro","Median","Te AroMedian","Whole Suburb","Whole Suburb",525]
["Wellington","Te Aro","Upper Quartile","Te AroUpper Quartile","Whole Suburb","Whole Suburb",690]
["Wellington","Thorndon","Bonds","ThorndonBonds","Whole Suburb","Whole Suburb",1296]
["Wellington","Thorndon","Lower Quartile","ThorndonLower Quartile","Whole Suburb","Whole Suburb",350]
["Wellington","Thorndon","Median","ThorndonMedian","Whole Suburb","Whole Suburb",540]
["Wellington","Thorndon","Upper Quartile","ThorndonUpper Quartile","Whole Suburb","Whole Suburb",680]
["Wellington","Vogeltown","Bonds","VogeltownBonds","Whole Suburb","Whole Suburb",132]
["Wellington","Vogeltown","Lower Quartile","VogeltownLower Quartile","Whole Suburb","Whole Suburb",419]
["Wellington","Vogeltown","Median","VogeltownMedian","Whole Suburb","Whole Suburb",490]
["Wellington","Vogeltown","Upper Quartile","VogeltownUpper Quartile","Whole Suburb","Whole Suburb",596]
["Wellington","Wadestown","Bonds","WadestownBonds","Whole Suburb","Whole Suburb",432]
["Wellington","Wadestown","Lower Quartile","WadestownLower Quartile","Whole Suburb","Whole Suburb",513]
["Wellington","Wadestown","Median","WadestownMedian","Whole Suburb","Whole Suburb",695]
["Wellington","Wadestown","Upper Quartile","WadestownUpper Quartile","Whole Suburb","Whole Suburb",820]
["Wellington","Oriental Bay","Bonds","Oriental BayBonds","Whole Suburb","Whole Suburb",276]
["Wellington","Oriental Bay","Lower Quartile","Oriental BayLower Quartile","Whole Suburb","Whole Suburb",638]
["Wellington","Oriental Bay","Median","Oriental BayMedian","Whole Suburb","Whole Suburb",798]
["Wellington","Oriental Bay","Upper Quartile","Oriental BayUpper Quartile","Whole Suburb","Whole Suburb",1000]
["Wellington","Owhiro Bay","Bonds","Owhiro BayBonds","Whole Suburb","Whole Suburb",111]
["Wellington","Owhiro Bay","Lower Quartile","Owhiro BayLower Quartile","Whole Suburb","Whole Suburb",385]
["Wellington","Owhiro Bay","Median","Owhiro BayMedian","Whole Suburb","Whole Suburb",580]
["Wellington","Owhiro Bay","Upper Quartile","Owhiro BayUpper Quartile","Whole Suburb","Whole Suburb",734]
["Wellington","Paparangi","Bonds","PaparangiBonds","Whole Suburb","Whole Suburb",282]
["Wellington","Paparangi","Lower Quartile","PaparangiLower Quartile","Whole Suburb","Whole Suburb",531]
["Wellington","Paparangi","Median","PaparangiMedian","Whole Suburb","Whole Suburb",613]
["Wellington","Paparangi","Upper Quartile","PaparangiUpper Quartile","Whole Suburb","Whole Suburb",650]
["Wellington","Lyall Bay","Bonds","Lyall BayBonds","Whole Suburb","Whole Suburb",444]
["Wellington","Lyall Bay","Lower Quartile","Lyall BayLower Quartile","Whole Suburb","Whole Suburb",418]
["Wellington","Lyall Bay","Median","Lyall BayMedian","Whole Suburb","Whole Suburb",538]
["Wellington","Lyall Bay","Upper Quartile","Lyall BayUpper Quartile","Whole Suburb","Whole Suburb",663]
["Wellington","Makara","Bonds","MakaraBonds","Whole Suburb","Whole Suburb",""]
["Wellington","Makara","Lower Quartile","MakaraLower Quartile","Whole Suburb","Whole Suburb",""]
["Wellington","Makara","Median","MakaraMedian","Whole Suburb","Whole Suburb",""]
["Wellington","Makara","Upper Quartile","MakaraUpper Quartile","Whole Suburb","Whole Suburb",""]
["Wellington","Aro Valley","Bonds",{"$f":"B6082&C6082","v":"Aro ValleyBonds"},"Whole Suburb","Whole Suburb",687]
["Wellington","Aro Valley","Lower Quartile","Aro ValleyLower Quartile","Whole Suburb","Whole Suburb",463]
["Wellington","Aro Valley","Median","Aro ValleyMedian","Whole Suburb","Whole Suburb",600]
["Wellington","Aro Valley","Upper Quartile","Aro ValleyUpper Quartile","Whole Suburb","Whole Suburb",815]
["Wellington","Glenside","Bonds","GlensideBonds","Whole Suburb","Whole Suburb",81]
["Wellington","Glenside","Lower Quartile","GlensideLower Quartile","Whole Suburb","Whole Suburb",435]
["Wellington","Glenside","Median","GlensideMedian","Whole Suburb","Whole Suburb",550]
["Wellington","Glenside","Upper Quartile","GlensideUpper Quartile","Whole Suburb","Whole Suburb",573]
["Wellington","Churton Park","Bonds","Churton ParkBonds","Whole Suburb","Whole Suburb",507]
["Wellington","Churton Park","Lower Quartile","Churton ParkLower Quartile","Whole Suburb","Whole Suburb",630]
["Wellington","Churton Park","Median","Churton ParkMedian","Whole Suburb","Whole Suburb",743]
["Wellington","Churton Park","Upper Quartile","Churton ParkUpper Quartile","Whole Suburb","Whole Suburb",833]
["Wellington","Crofton Downs","Bonds","Crofton DownsBonds","Whole Suburb","Whole Suburb",177]
["Wellington","Crofton Downs","Lower Quartile","Crofton DownsLower Quartile","Whole Suburb","Whole Suburb",446]
["Wellington","Crofton Downs","Median","Crofton DownsMedian","Whole Suburb","Whole Suburb",550]
["Wellington","Crofton Downs","Upper Quartile","Crofton DownsUpper Quartile","Whole Suburb","Whole Suburb",781]
["Wellington","Highbury","Bonds","HighburyBonds","Whole Suburb","Whole Suburb",63]
["Wellington","Highbury","Lower Quartile","HighburyLower Quartile","Whole Suburb","Whole Suburb",440]
["Wellington","Highbury","Median","HighburyMedian","Whole Suburb","Whole Suburb",580]
["Wellington","Highbury","Upper Quartile","HighburyUpper Quartile","Whole Suburb","Whole Suburb",840]
["Wellington","Houghton Bay","Bonds","Houghton BayBonds","Whole Suburb","Whole Suburb",78]
["Wellington","Houghton Bay","Lower Quartile","Houghton BayLower Quartile","Whole Suburb","Whole Suburb",668]
["Wellington","Houghton Bay","Median","Houghton BayMedian","Whole Suburb","Whole Suburb",695]
["Wellington","Houghton Bay","Upper Quartile","Houghton BayUpper Quartile","Whole Suburb","Whole Suburb",765]
["Wellington","Island Bay","Bonds","Island BayBonds","Whole Suburb","Whole Suburb",819]
["Wellington","Island Bay","Lower Quartile","Island BayLower Quartile","Whole Suburb","Whole Suburb",500]
["Wellington","Island Bay","Median","Island BayMedian","Whole Suburb","Whole Suburb",650]
["Wellington","Island Bay","Upper Quartile","Island BayUpper Quartile","Whole Suburb","Whole Suburb",775]
["Wellington","Johnsonville","Bonds","JohnsonvilleBonds","Whole Suburb","Whole Suburb",1563]
["Wellington","Johnsonville","Lower Quartile","JohnsonvilleLower Quartile","Whole Suburb","Whole Suburb",300]
["Wellington","Johnsonville","Median","JohnsonvilleMedian","Whole Suburb","Whole Suburb",563]
["Wellington","Johnsonville","Upper Quartile","JohnsonvilleUpper Quartile","Whole Suburb","Whole Suburb",660]
["Wellington","Kaiwharawhara","Bonds","KaiwharawharaBonds","Whole Suburb","Whole Suburb",""]
["Wellington","Kaiwharawhara","Lower Quartile","KaiwharawharaLower Quartile","Whole Suburb","Whole Suburb",""]
["Wellington","Kaiwharawhara","Median","KaiwharawharaMedian","Whole Suburb","Whole Suburb",""]
["Wellington","Kaiwharawhara","Upper Quartile","KaiwharawharaUpper Quartile","Whole Suburb","Whole Suburb",""]
["Wellington","Berhampore","Bonds","BerhamporeBonds","Whole Suburb","Whole Suburb",621]
["Wellington","Berhampore","Lower Quartile","BerhamporeLower Quartile","Whole Suburb","Whole Suburb",450]
["Wellington","Berhampore","Median","BerhamporeMedian","Whole Suburb","Whole Suburb",550]
["Wellington","Berhampore","Upper Quartile","BerhamporeUpper Quartile","Whole Suburb","Whole Suburb",678]
["Wellington","Breaker Bay","Bonds","Breaker BayBonds","Whole Suburb","Whole Suburb",""]
["Wellington","Breaker Bay","Lower Quartile","Breaker BayLower Quartile","Whole Suburb","Whole Suburb",""]
["Wellington","Breaker Bay","Median","Breaker BayMedian","Whole Suburb","Whole Suburb",""]
["Wellington","Breaker Bay","Upper Quartile","Breaker BayUpper Quartile","Whole Suburb","Whole Suburb",""]
["Wellington","Broadmeadows","Bonds","BroadmeadowsBonds","Whole Suburb","Whole Suburb",153]
["Wellington","Broadmeadows","Lower Quartile","BroadmeadowsLower Quartile","Whole Suburb","Whole Suburb",589]
["Wellington","Broadmeadows","Median","BroadmeadowsMedian","Whole Suburb","Whole Suburb",653]
["Wellington","Broadmeadows","Upper Quartile","BroadmeadowsUpper Quartile","Whole Suburb","Whole Suburb",785]
["Wellington","Southgate","Bonds","SouthgateBonds","Whole Suburb","Whole Suburb",81]
["Wellington","Southgate","Lower Quartile","SouthgateLower Quartile","Whole Suburb","Whole Suburb",375]
["Wellington","Southgate","Median","SouthgateMedian","Whole Suburb","Whole Suburb",700]
["Wellington","Southgate","Upper Quartile","SouthgateUpper Quartile","Whole Suburb","Whole Suburb",795]
["Wellington","Grenada North","Bonds","Grenada NorthBonds","Whole Suburb","Whole Suburb",""]
["Wellington","Grenada North","Lower Quartile","Grenada NorthLower Quartile","Whole Suburb","Whole Suburb",""]
["Wellington","Grenada North","Median","Grenada NorthMedian","Whole Suburb","Whole Suburb",""]
["Wellington","Grenada North","Upper Quartile","Grenada NorthUpper Quartile","Whole Suburb","Whole Suburb",""]
["Wellington","Grenada Village","Bonds","Grenada VillageBonds","Whole Suburb","Whole Suburb",120]
["Wellington","Grenada Village","Lower Quartile","Grenada VillageLower Quartile","Whole Suburb","Whole Suburb",595]
["Wellington","Grenada Village","Median","Grenada VillageMedian","Whole Suburb","Whole Suburb",635]
["Wellington","Grenada Village","Upper Quartile","Grenada VillageUpper Quartile","Whole Suburb","Whole Suburb",738]
["Wellington","Karaka Bays","Bonds","Karaka BaysBonds","Whole Suburb","Whole Suburb",57]
["Wellington","Karaka Bays","Lower Quartile","Karaka BaysLower Quartile","Whole Suburb","Whole Suburb",523]
["Wellington","Karaka Bays","Median","Karaka BaysMedian","Whole Suburb","Whole Suburb",580]
["Wellington","Karaka Bays","Upper Quartile","Karaka BaysUpper Quartile","Whole Suburb","Whole Suburb",823]
["Wellington","Karori","Bonds",{"$f":"B6146&C6146","v":"KaroriBonds"},"Whole Suburb","Whole Suburb",1269]
["Wellington","Karori","Lower Quartile","KaroriLower Quartile","Whole Suburb","Whole Suburb",480]
["Wellington","Karori","Median","KaroriMedian","Whole Suburb","Whole Suburb",650]
["Wellington","Karori","Upper Quartile","KaroriUpper Quartile","Whole Suburb","Whole Suburb",770]
["Wellington","Northland","Bonds","NorthlandBonds","Whole Suburb","Whole Suburb",618]
["Wellington","Northland","Lower Quartile","NorthlandLower Quartile","Whole Suburb","Whole Suburb",400]
["Wellington","Northland","Median","NorthlandMedian","Whole Suburb","Whole Suburb",520]
["Wellington","Northland","Upper Quartile","NorthlandUpper Quartile","Whole Suburb","Whole Suburb",750]
["Wellington","Wellington Central","Bonds","Wellington CentralBonds","Whole Suburb","Whole Suburb",1167]
["Wellington","Wellington Central","Lower Quartile","Wellington CentralLower Quartile","Whole Suburb","Whole Suburb",398]
["Wellington","Wellington Central","Median","Wellington CentralMedian","Whole Suburb","Whole Suburb",500]
["Wellington","Wellington Central","Upper Quartile","Wellington CentralUpper Quartile","Whole Suburb","Whole Suburb",650]
["Wellington","Kelburn","Bonds","KelburnBonds","Whole Suburb","Whole Suburb",795]
["Wellington","Kelburn","Lower Quartile","KelburnLower Quartile","Whole Suburb","Whole Suburb",450]
["Wellington","Kelburn","Median","KelburnMedian","Whole Suburb","Whole Suburb",648]
["Wellington","Kelburn","Upper Quartile","KelburnUpper Quartile","Whole Suburb","Whole Suburb",950]
["Wellington","Khandallah","Bonds","KhandallahBonds","Whole Suburb","Whole Suburb",639]
["Wellington","Khandallah","Lower Quartile","KhandallahLower Quartile","Whole Suburb","Whole Suburb",485]
["Wellington","Khandallah","Median","KhandallahMedian","Whole Suburb","Whole Suburb",690]
["Wellington","Khandallah","Upper Quartile","KhandallahUpper Quartile","Whole Suburb","Whole Suburb",860]
["Wellington","Kilbirnie","Bonds","KilbirnieBonds","Whole Suburb","Whole Suburb",588]
["Wellington","Kilbirnie","Lower Quartile","KilbirnieLower Quartile","Whole Suburb","Whole Suburb",490]
["Wellington","Kilbirnie","Median","KilbirnieMedian","Whole Suburb","Whole Suburb",625]
["Wellington","Kilbirnie","Upper Quartile","KilbirnieUpper Quartile","Whole Suburb","Whole Suburb",765]
["Wellington","Kingston","Bonds","KingstonBonds","Whole Suburb","Whole Suburb",225]
["Wellington","Kingston","Lower Quartile","KingstonLower Quartile","Whole Suburb","Whole Suburb",490]
["Wellington","Kingston","Median","KingstonMedian","Whole Suburb","Whole Suburb",550]
["Wellington","Kingston","Upper Quartile","KingstonUpper Quartile","Whole Suburb","Whole Suburb",683]
["Wellington","Newtown","Bonds","NewtownBonds","Whole Suburb","Whole Suburb",1953]
["Wellington","Newtown","Lower Quartile","NewtownLower Quartile","Whole Suburb","Whole Suburb",483]
["Wellington","Newtown","Median","NewtownMedian","Whole Suburb","Whole Suburb",650]
["Wellington","Newtown","Upper Quartile","NewtownUpper Quartile","Whole Suburb","Whole Suburb",800]
["Wellington","Ngaio","Bonds","NgaioBonds","Whole Suburb","Whole Suburb",531]
["Wellington","Ngaio","Lower Quartile","NgaioLower Quartile","Whole Suburb","Whole Suburb",495]
["Wellington","Ngaio","Median","NgaioMedian","Whole Suburb","Whole Suburb",610]
["Wellington","Ngaio","Upper Quartile","NgaioUpper Quartile","Whole Suburb","Whole Suburb",750]
["Wellsford","Whangaripo","Bonds","WhangaripoBonds","Whole Suburb","Whole Suburb",""]
["Wellsford","Whangaripo","Lower Quartile","WhangaripoLower Quartile","Whole Suburb","Whole Suburb",""]
["Wellsford","Whangaripo","Median","WhangaripoMedian","Whole Suburb","Whole Suburb",""]
["Wellsford","Whangaripo","Upper Quartile","WhangaripoUpper Quartile","Whole Suburb","Whole Suburb",""]
["Wellsford","Wharehine","Bonds","WharehineBonds","Whole Suburb","Whole Suburb",""]
["Wellsford","Wharehine","Lower Quartile","WharehineLower Quartile","Whole Suburb","Whole Suburb",""]
["Wellsford","Wharehine","Median","WharehineMedian","Whole Suburb","Whole Suburb",""]
["Wellsford","Wharehine","Upper Quartile","WharehineUpper Quartile","Whole Suburb","Whole Suburb",""]
["Wellsford","Te Hana","Bonds","Te HanaBonds","Whole Suburb","Whole Suburb",""]
["Wellsford","Te Hana","Lower Quartile","Te HanaLower Quartile","Whole Suburb","Whole Suburb",""]
["Wellsford","Te Hana","Median","Te HanaMedian","Whole Suburb","Whole Suburb",""]
["Wellsford","Te Hana","Upper Quartile","Te HanaUpper Quartile","Whole Suburb","Whole Suburb",""]
["Wellsford","Tomarata","Bonds","TomarataBonds","Whole Suburb","Whole Suburb",""]
["Wellsford","Tomarata","Lower Quartile","TomarataLower Quartile","Whole Suburb","Whole Suburb",""]
["Wellsford","Tomarata","Median","TomarataMedian","Whole Suburb","Whole Suburb",""]
["Wellsford","Tomarata","Upper Quartile","TomarataUpper Quartile","Whole Suburb","Whole Suburb",""]
["Wellsford","Pakiri","Bonds","PakiriBonds","Whole Suburb","Whole Suburb",""]
["Wellsford","Pakiri","Lower Quartile","PakiriLower Quartile","Whole Suburb","Whole Suburb",""]
["Wellsford","Pakiri","Median","PakiriMedian","Whole Suburb","Whole Suburb",""]
["Wellsford","Pakiri","Upper Quartile","PakiriUpper Quartile","Whole Suburb","Whole Suburb",""]
["Wellsford","Wellsford","Bonds","WellsfordBonds","Whole Suburb","Whole Suburb",288]
["Wellsford","Wellsford","Lower Quartile","WellsfordLower Quartile","Whole Suburb","Whole Suburb",460]
["Wellsford","Wellsford","Median","WellsfordMedian","Whole Suburb","Whole Suburb",520]
["Wellsford","Wellsford","Upper Quartile","WellsfordUpper Quartile","Whole Suburb","Whole Suburb",560]
["West Eyreton","Eyrewell Forest","Bonds","Eyrewell ForestBonds","Whole Suburb","Whole Suburb",""]
["West Eyreton","Eyrewell Forest","Lower Quartile","Eyrewell ForestLower Quartile","Whole Suburb","Whole Suburb",""]
["West Eyreton","Eyrewell Forest","Median","Eyrewell ForestMedian","Whole Suburb","Whole Suburb",""]
["West Eyreton","Eyrewell Forest","Upper Quartile","Eyrewell ForestUpper Quartile","Whole Suburb","Whole Suburb",""]
["West Eyreton","West Eyreton","Bonds",{"$f":"B6210&C6210","v":"West EyretonBonds"},"Whole Suburb","Whole Suburb",""]
["West Eyreton","West Eyreton","Lower Quartile","West EyretonLower Quartile","Whole Suburb","Whole Suburb",""]
["West Eyreton","West Eyreton","Median","West EyretonMedian","Whole Suburb","Whole Suburb",""]
["West Eyreton","West Eyreton","Upper Quartile","West EyretonUpper Quartile","Whole Suburb","Whole Suburb",""]
["West Melton","West Melton","Bonds","West MeltonBonds","Whole Suburb","Whole Suburb",63]
["West Melton","West Melton","Lower Quartile","West MeltonLower Quartile","Whole Suburb","Whole Suburb",543]
["West Melton","West Melton","Median","West MeltonMedian","Whole Suburb","Whole Suburb",565]
["West Melton","West Melton","Upper Quartile","West MeltonUpper Quartile","Whole Suburb","Whole Suburb",775]
["Westport","Waimangaroa","Bonds","WaimangaroaBonds","Whole Suburb","Whole Suburb",""]
["Westport","Waimangaroa","Lower Quartile","WaimangaroaLower Quartile","Whole Suburb","Whole Suburb",""]
["Westport","Waimangaroa","Median","WaimangaroaMedian","Whole Suburb","Whole Suburb",""]
["Westport","Waimangaroa","Upper Quartile","WaimangaroaUpper Quartile","Whole Suburb","Whole Suburb",""]
["Westport","Carters Beach","Bonds","Carters BeachBonds","Whole Suburb","Whole Suburb",36]
["Westport","Carters Beach","Lower Quartile","Carters BeachLower Quartile","Whole Suburb","Whole Suburb",211]
["Westport","Carters Beach","Median","Carters BeachMedian","Whole Suburb","Whole Suburb",235]
["Westport","Carters Beach","Upper Quartile","Carters BeachUpper Quartile","Whole Suburb","Whole Suburb",285]
["Westport","Westport","Bonds","WestportBonds","Whole Suburb","Whole Suburb",435]
["Westport","Westport","Lower Quartile","WestportLower Quartile","Whole Suburb","Whole Suburb",250]
["Westport","Westport","Median","WestportMedian","Whole Suburb","Whole Suburb",320]
["Westport","Westport","Upper Quartile","WestportUpper Quartile","Whole Suburb","Whole Suburb",360]
["Whakamarama","Whakamarama","Bonds","WhakamaramaBonds","Whole Suburb","Whole Suburb",165]
["Whakamarama","Whakamarama","Lower Quartile","WhakamaramaLower Quartile","Whole Suburb","Whole Suburb",394]
["Whakamarama","Whakamarama","Median","WhakamaramaMedian","Whole Suburb","Whole Suburb",480]
["Whakamarama","Whakamarama","Upper Quartile","WhakamaramaUpper Quartile","Whole Suburb","Whole Suburb",606]
["Whakapirau","Whakapirau","Bonds","WhakapirauBonds","Whole Suburb","Whole Suburb",""]
["Whakapirau","Whakapirau","Lower Quartile","WhakapirauLower Quartile","Whole Suburb","Whole Suburb",""]
["Whakapirau","Whakapirau","Median","WhakapirauMedian","Whole Suburb","Whole Suburb",""]
["Whakapirau","Whakapirau","Upper Quartile","WhakapirauUpper Quartile","Whole Suburb","Whole Suburb",""]
["Whakatane","Te Teko","Bonds","Te TekoBonds","Whole Suburb","Whole Suburb",""]
["Whakatane","Te Teko","Lower Quartile","Te TekoLower Quartile","Whole Suburb","Whole Suburb",""]
["Whakatane","Te Teko","Median","Te TekoMedian","Whole Suburb","Whole Suburb",""]
["Whakatane","Te Teko","Upper Quartile","Te TekoUpper Quartile","Whole Suburb","Whole Suburb",""]
["Whakatane","Thornton","Bonds","ThorntonBonds","Whole Suburb","Whole Suburb",""]
["Whakatane","Thornton","Lower Quartile","ThorntonLower Quartile","Whole Suburb","Whole Suburb",""]
["Whakatane","Thornton","Median","ThorntonMedian","Whole Suburb","Whole Suburb",""]
["Whakatane","Thornton","Upper Quartile","ThorntonUpper Quartile","Whole Suburb","Whole Suburb",""]
["Whakatane","Otakiri","Bonds","OtakiriBonds","Whole Suburb","Whole Suburb",""]
["Whakatane","Otakiri","Lower Quartile","OtakiriLower Quartile","Whole Suburb","Whole Suburb",""]
["Whakatane","Otakiri","Median","OtakiriMedian","Whole Suburb","Whole Suburb",""]
["Whakatane","Otakiri","Upper Quartile","OtakiriUpper Quartile","Whole Suburb","Whole Suburb",""]
["Whakatane","Poroporo","Bonds","PoroporoBonds","Whole Suburb","Whole Suburb",""]
["Whakatane","Poroporo","Lower Quartile","PoroporoLower Quartile","Whole Suburb","Whole Suburb",""]
["Whakatane","Poroporo","Median","PoroporoMedian","Whole Suburb","Whole Suburb",""]
["Whakatane","Poroporo","Upper Quartile","PoroporoUpper Quartile","Whole Suburb","Whole Suburb",""]
["Whakatane","Manawahe","Bonds","ManawaheBonds","Whole Suburb","Whole Suburb",""]
["Whakatane","Manawahe","Lower Quartile","ManawaheLower Quartile","Whole Suburb","Whole Suburb",""]
["Whakatane","Manawahe","Median","ManawaheMedian","Whole Suburb","Whole Suburb",""]
["Whakatane","Manawahe","Upper Quartile","ManawaheUpper Quartile","Whole Suburb","Whole Suburb",""]
["Whakatane","Coastlands","Bonds","CoastlandsBonds","Whole Suburb","Whole Suburb",60]
["Whakatane","Coastlands","Lower Quartile","CoastlandsLower Quartile","Whole Suburb","Whole Suburb",500]
["Whakatane","Coastlands","Median","CoastlandsMedian","Whole Suburb","Whole Suburb",540]
["Whakatane","Coastlands","Upper Quartile","CoastlandsUpper Quartile","Whole Suburb","Whole Suburb",599]
["Whakatane","Awakeri","Bonds","AwakeriBonds","Whole Suburb","Whole Suburb",39]
["Whakatane","Awakeri","Lower Quartile","AwakeriLower Quartile","Whole Suburb","Whole Suburb",333]
["Whakatane","Awakeri","Median","AwakeriMedian","Whole Suburb","Whole Suburb",403]
["Whakatane","Awakeri","Upper Quartile","AwakeriUpper Quartile","Whole Suburb","Whole Suburb",498]
["Whakatane","Whakatane","Bonds","WhakataneBonds","Whole Suburb","Whole Suburb",1188]
["Whakatane","Whakatane","Lower Quartile","WhakataneLower Quartile","Whole Suburb","Whole Suburb",350]
["Whakatane","Whakatane","Median","WhakataneMedian","Whole Suburb","Whole Suburb",420]
["Whakatane","Whakatane","Upper Quartile","WhakataneUpper Quartile","Whole Suburb","Whole Suburb",500]
["Whangamata","Onemana","Bonds","OnemanaBonds","Whole Suburb","Whole Suburb",""]
["Whangamata","Onemana","Lower Quartile","OnemanaLower Quartile","Whole Suburb","Whole Suburb",""]
["Whangamata","Onemana","Median","OnemanaMedian","Whole Suburb","Whole Suburb",""]
["Whangamata","Onemana","Upper Quartile","OnemanaUpper Quartile","Whole Suburb","Whole Suburb",""]
["Whangamata","Whangamata","Bonds",{"$f":"B6274&C6274","v":"WhangamataBonds"},"Whole Suburb","Whole Suburb",231]
["Whangamata","Whangamata","Lower Quartile","WhangamataLower Quartile","Whole Suburb","Whole Suburb",330]
["Whangamata","Whangamata","Median","WhangamataMedian","Whole Suburb","Whole Suburb",430]
["Whangamata","Whangamata","Upper Quartile","WhangamataUpper Quartile","Whole Suburb","Whole Suburb",450]
["Whanganui","Saint Johns Hill","Bonds","Saint Johns HillBonds","Whole Suburb","Whole Suburb",105]
["Whanganui","Saint Johns Hill","Lower Quartile","Saint Johns HillLower Quartile","Whole Suburb","Whole Suburb",399]
["Whanganui","Saint Johns Hill","Median","Saint Johns HillMedian","Whole Suburb","Whole Suburb",500]
["Whanganui","Saint Johns Hill","Upper Quartile","Saint Johns HillUpper Quartile","Whole Suburb","Whole Suburb",520]
["Whanganui","Maxwell","Bonds","MaxwellBonds","Whole Suburb","Whole Suburb",""]
["Whanganui","Maxwell","Lower Quartile","MaxwellLower Quartile","Whole Suburb","Whole Suburb",""]
["Whanganui","Maxwell","Median","MaxwellMedian","Whole Suburb","Whole Suburb",""]
["Whanganui","Maxwell","Upper Quartile","MaxwellUpper Quartile","Whole Suburb","Whole Suburb",""]
["Whanganui","Whanganui","Bonds","WhanganuiBonds","Whole Suburb","Whole Suburb",840]
["Whanganui","Whanganui","Lower Quartile","WhanganuiLower Quartile","Whole Suburb","Whole Suburb",310]
["Whanganui","Whanganui","Median","WhanganuiMedian","Whole Suburb","Whole Suburb",370]
["Whanganui","Whanganui","Upper Quartile","WhanganuiUpper Quartile","Whole Suburb","Whole Suburb",448]
["Whanganui","Whanganui East","Bonds","Whanganui EastBonds","Whole Suburb","Whole Suburb",516]
["Whanganui","Whanganui East","Lower Quartile","Whanganui EastLower Quartile","Whole Suburb","Whole Suburb",330]
["Whanganui","Whanganui East","Median","Whanganui EastMedian","Whole Suburb","Whole Suburb",400]
["Whanganui","Whanganui East","Upper Quartile","Whanganui EastUpper Quartile","Whole Suburb","Whole Suburb",455]
["Whanganui","Tawhero","Bonds","TawheroBonds","Whole Suburb","Whole Suburb",156]
["Whanganui","Tawhero","Lower Quartile","TawheroLower Quartile","Whole Suburb","Whole Suburb",385]
["Whanganui","Tawhero","Median","TawheroMedian","Whole Suburb","Whole Suburb",420]
["Whanganui","Tawhero","Upper Quartile","TawheroUpper Quartile","Whole Suburb","Whole Suburb",479]
["Whanganui","Otamatea","Bonds","OtamateaBonds","Whole Suburb","Whole Suburb",57]
["Whanganui","Otamatea","Lower Quartile","OtamateaLower Quartile","Whole Suburb","Whole Suburb",355]
["Whanganui","Otamatea","Median","OtamateaMedian","Whole Suburb","Whole Suburb",450]
["Whanganui","Otamatea","Upper Quartile","OtamateaUpper Quartile","Whole Suburb","Whole Suburb",553]
["Whanganui","Putiki","Bonds","PutikiBonds","Whole Suburb","Whole Suburb",""]
["Whanganui","Putiki","Lower Quartile","PutikiLower Quartile","Whole Suburb","Whole Suburb",""]
["Whanganui","Putiki","Median","PutikiMedian","Whole Suburb","Whole Suburb",""]
["Whanganui","Putiki","Upper Quartile","PutikiUpper Quartile","Whole Suburb","Whole Suburb",""]
["Whanganui","Aramoho","Bonds","AramohoBonds","Whole Suburb","Whole Suburb",285]
["Whanganui","Aramoho","Lower Quartile","AramohoLower Quartile","Whole Suburb","Whole Suburb",380]
["Whanganui","Aramoho","Median","AramohoMedian","Whole Suburb","Whole Suburb",445]
["Whanganui","Aramoho","Upper Quartile","AramohoUpper Quartile","Whole Suburb","Whole Suburb",475]
["Whanganui","Durie Hill","Bonds","Durie HillBonds","Whole Suburb","Whole Suburb",126]
["Whanganui","Durie Hill","Lower Quartile","Durie HillLower Quartile","Whole Suburb","Whole Suburb",350]
["Whanganui","Durie Hill","Median","Durie HillMedian","Whole Suburb","Whole Suburb",420]
["Whanganui","Durie Hill","Upper Quartile","Durie HillUpper Quartile","Whole Suburb","Whole Suburb",460]
["Whanganui","Castlecliff","Bonds","CastlecliffBonds","Whole Suburb","Whole Suburb",573]
["Whanganui","Castlecliff","Lower Quartile","CastlecliffLower Quartile","Whole Suburb","Whole Suburb",300]
["Whanganui","Castlecliff","Median","CastlecliffMedian","Whole Suburb","Whole Suburb",385]
["Whanganui","Castlecliff","Upper Quartile","CastlecliffUpper Quartile","Whole Suburb","Whole Suburb",450]
["Whanganui","College Estate","Bonds","College EstateBonds","Whole Suburb","Whole Suburb",78]
["Whanganui","College Estate","Lower Quartile","College EstateLower Quartile","Whole Suburb","Whole Suburb",280]
["Whanganui","College Estate","Median","College EstateMedian","Whole Suburb","Whole Suburb",395]
["Whanganui","College Estate","Upper Quartile","College EstateUpper Quartile","Whole Suburb","Whole Suburb",443]
["Whanganui","Kai Iwi","Bonds","Kai IwiBonds","Whole Suburb","Whole Suburb",""]
["Whanganui","Kai Iwi","Lower Quartile","Kai IwiLower Quartile","Whole Suburb","Whole Suburb",""]
["Whanganui","Kai Iwi","Median","Kai IwiMedian","Whole Suburb","Whole Suburb",""]
["Whanganui","Kai Iwi","Upper Quartile","Kai IwiUpper Quartile","Whole Suburb","Whole Suburb",""]
["Whanganui","Kaitoke","Bonds","KaitokeBonds","Whole Suburb","Whole Suburb",""]
["Whanganui","Kaitoke","Lower Quartile","KaitokeLower Quartile","Whole Suburb","Whole Suburb",""]
["Whanganui","Kaitoke","Median","KaitokeMedian","Whole Suburb","Whole Suburb",""]
["Whanganui","Kaitoke","Upper Quartile","KaitokeUpper Quartile","Whole Suburb","Whole Suburb",""]
["Whanganui","Springvale","Bonds","SpringvaleBonds","Whole Suburb","Whole Suburb",276]
["Whanganui","Springvale","Lower Quartile","SpringvaleLower Quartile","Whole Suburb","Whole Suburb",380]
["Whanganui","Springvale","Median","SpringvaleMedian","Whole Suburb","Whole Suburb",450]
["Whanganui","Springvale","Upper Quartile","SpringvaleUpper Quartile","Whole Suburb","Whole Suburb",503]
["Whanganui","Westmere","Bonds","WestmereBonds","Whole Suburb","Whole Suburb",""]
["Whanganui","Westmere","Lower Quartile","WestmereLower Quartile","Whole Suburb","Whole Suburb",""]
["Whanganui","Westmere","Median","WestmereMedian","Whole Suburb","Whole Suburb",""]
["Whanganui","Westmere","Upper Quartile","WestmereUpper Quartile","Whole Suburb","Whole Suburb",""]
["Whanganui","Gonville","Bonds",{"$f":"B6338&C6338","v":"GonvilleBonds"},"Whole Suburb","Whole Suburb",567]
["Whanganui","Gonville","Lower Quartile","GonvilleLower Quartile","Whole Suburb","Whole Suburb",333]
["Whanganui","Gonville","Median","GonvilleMedian","Whole Suburb","Whole Suburb",380]
["Whanganui","Gonville","Upper Quartile","GonvilleUpper Quartile","Whole Suburb","Whole Suburb",419]
["Whanganui","Waitotara","Bonds","WaitotaraBonds","Whole Suburb","Whole Suburb",""]
["Whanganui","Waitotara","Lower Quartile","WaitotaraLower Quartile","Whole Suburb","Whole Suburb",""]
["Whanganui","Waitotara","Median","WaitotaraMedian","Whole Suburb","Whole Suburb",""]
["Whanganui","Waitotara","Upper Quartile","WaitotaraUpper Quartile","Whole Suburb","Whole Suburb",""]
["Whanganui","Bastia Hill","Bonds","Bastia HillBonds","Whole Suburb","Whole Suburb",30]
["Whanganui","Bastia Hill","Lower Quartile","Bastia HillLower Quartile","Whole Suburb","Whole Suburb",470]
["Whanganui","Bastia Hill","Median","Bastia HillMedian","Whole Suburb","Whole Suburb",500]
["Whanganui","Bastia Hill","Upper Quartile","Bastia HillUpper Quartile","Whole Suburb","Whole Suburb",550]
["Whanganui","Okoia","Bonds","OkoiaBonds","Whole Suburb","Whole Suburb",""]
["Whanganui","Okoia","Lower Quartile","OkoiaLower Quartile","Whole Suburb","Whole Suburb",""]
["Whanganui","Okoia","Median","OkoiaMedian","Whole Suburb","Whole Suburb",""]
["Whanganui","Okoia","Upper Quartile","OkoiaUpper Quartile","Whole Suburb","Whole Suburb",""]
["Whangaparaoa","Stanmore Bay","Bonds","Stanmore BayBonds","Whole Suburb","Whole Suburb",1122]
["Whangaparaoa","Stanmore Bay","Lower Quartile","Stanmore BayLower Quartile","Whole Suburb","Whole Suburb",520]
["Whangaparaoa","Stanmore Bay","Median","Stanmore BayMedian","Whole Suburb","Whole Suburb",598]
["Whangaparaoa","Stanmore Bay","Upper Quartile","Stanmore BayUpper Quartile","Whole Suburb","Whole Suburb",661]
["Whangaparaoa","Gulf Harbour","Bonds","Gulf HarbourBonds","Whole Suburb","Whole Suburb",570]
["Whangaparaoa","Gulf Harbour","Lower Quartile","Gulf HarbourLower Quartile","Whole Suburb","Whole Suburb",558]
["Whangaparaoa","Gulf Harbour","Median","Gulf HarbourMedian","Whole Suburb","Whole Suburb",638]
["Whangaparaoa","Gulf Harbour","Upper Quartile","Gulf HarbourUpper Quartile","Whole Suburb","Whole Suburb",695]
["Whangaparaoa","Matakatia","Bonds","MatakatiaBonds","Whole Suburb","Whole Suburb",51]
["Whangaparaoa","Matakatia","Lower Quartile","MatakatiaLower Quartile","Whole Suburb","Whole Suburb",463]
["Whangaparaoa","Matakatia","Median","MatakatiaMedian","Whole Suburb","Whole Suburb",545]
["Whangaparaoa","Matakatia","Upper Quartile","MatakatiaUpper Quartile","Whole Suburb","Whole Suburb",620]
["Whangaparaoa","Tindalls Beach","Bonds","Tindalls BeachBonds","Whole Suburb","Whole Suburb",66]
["Whangaparaoa","Tindalls Beach","Lower Quartile","Tindalls BeachLower Quartile","Whole Suburb","Whole Suburb",533]
["Whangaparaoa","Tindalls Beach","Median","Tindalls BeachMedian","Whole Suburb","Whole Suburb",650]
["Whangaparaoa","Tindalls Beach","Upper Quartile","Tindalls BeachUpper Quartile","Whole Suburb","Whole Suburb",730]
["Whangaparaoa","Wade Heads","Bonds","Wade HeadsBonds","Whole Suburb","Whole Suburb",""]
["Whangaparaoa","Wade Heads","Lower Quartile","Wade HeadsLower Quartile","Whole Suburb","Whole Suburb",""]
["Whangaparaoa","Wade Heads","Median","Wade HeadsMedian","Whole Suburb","Whole Suburb",""]
["Whangaparaoa","Wade Heads","Upper Quartile","Wade HeadsUpper Quartile","Whole Suburb","Whole Suburb",""]
["Whangaparaoa","Arkles Bay","Bonds","Arkles BayBonds","Whole Suburb","Whole Suburb",84]
["Whangaparaoa","Arkles Bay","Lower Quartile","Arkles BayLower Quartile","Whole Suburb","Whole Suburb",424]
["Whangaparaoa","Arkles Bay","Median","Arkles BayMedian","Whole Suburb","Whole Suburb",500]
["Whangaparaoa","Arkles Bay","Upper Quartile","Arkles BayUpper Quartile","Whole Suburb","Whole Suburb",524]
["Whangaparaoa","Army Bay","Bonds","Army BayBonds","Whole Suburb","Whole Suburb",117]
["Whangaparaoa","Army Bay","Lower Quartile","Army BayLower Quartile","Whole Suburb","Whole Suburb",486]
["Whangaparaoa","Army Bay","Median","Army BayMedian","Whole Suburb","Whole Suburb",635]
["Whangaparaoa","Army Bay","Upper Quartile","Army BayUpper Quartile","Whole Suburb","Whole Suburb",720]
["Whangaparaoa","Manly","Bonds","ManlyBonds","Whole Suburb","Whole Suburb",429]
["Whangaparaoa","Manly","Lower Quartile","ManlyLower Quartile","Whole Suburb","Whole Suburb",520]
["Whangaparaoa","Manly","Median","ManlyMedian","Whole Suburb","Whole Suburb",550]
["Whangaparaoa","Manly","Upper Quartile","ManlyUpper Quartile","Whole Suburb","Whole Suburb",678]
["Whangarei","Ruatangata West","Bonds","Ruatangata WestBonds","Whole Suburb","Whole Suburb",30]
["Whangarei","Ruatangata West","Lower Quartile","Ruatangata WestLower Quartile","Whole Suburb","Whole Suburb",350]
["Whangarei","Ruatangata West","Median","Ruatangata WestMedian","Whole Suburb","Whole Suburb",400]
["Whangarei","Ruatangata West","Upper Quartile","Ruatangata WestUpper Quartile","Whole Suburb","Whole Suburb",500]
["Whangarei","Woodhill","Bonds","WoodhillBonds","Whole Suburb","Whole Suburb",291]
["Whangarei","Woodhill","Lower Quartile","WoodhillLower Quartile","Whole Suburb","Whole Suburb",300]
["Whangarei","Woodhill","Median","WoodhillMedian","Whole Suburb","Whole Suburb",455]
["Whangarei","Woodhill","Upper Quartile","WoodhillUpper Quartile","Whole Suburb","Whole Suburb",523]
["Whangarei","Pipiwai","Bonds","PipiwaiBonds","Whole Suburb","Whole Suburb",""]
["Whangarei","Pipiwai","Lower Quartile","PipiwaiLower Quartile","Whole Suburb","Whole Suburb",""]
["Whangarei","Pipiwai","Median","PipiwaiMedian","Whole Suburb","Whole Suburb",""]
["Whangarei","Pipiwai","Upper Quartile","PipiwaiUpper Quartile","Whole Suburb","Whole Suburb",""]
["Whangarei","Takahiwai","Bonds","TakahiwaiBonds","Whole Suburb","Whole Suburb",""]
["Whangarei","Takahiwai","Lower Quartile","TakahiwaiLower Quartile","Whole Suburb","Whole Suburb",""]
["Whangarei","Takahiwai","Median","TakahiwaiMedian","Whole Suburb","Whole Suburb",""]
["Whangarei","Takahiwai","Upper Quartile","TakahiwaiUpper Quartile","Whole Suburb","Whole Suburb",""]
["Whangarei","Tamaterau","Bonds",{"$f":"B6402&C6402","v":"TamaterauBonds"},"Whole Suburb","Whole Suburb",54]
["Whangarei","Tamaterau","Lower Quartile","TamaterauLower Quartile","Whole Suburb","Whole Suburb",563]
["Whangarei","Tamaterau","Median","TamaterauMedian","Whole Suburb","Whole Suburb",645]
["Whangarei","Tamaterau","Upper Quartile","TamaterauUpper Quartile","Whole Suburb","Whole Suburb",700]
["Whangarei","Raumanga","Bonds","RaumangaBonds","Whole Suburb","Whole Suburb",561]
["Whangarei","Raumanga","Lower Quartile","RaumangaLower Quartile","Whole Suburb","Whole Suburb",360]
["Whangarei","Raumanga","Median","RaumangaMedian","Whole Suburb","Whole Suburb",460]
["Whangarei","Raumanga","Upper Quartile","RaumangaUpper Quartile","Whole Suburb","Whole Suburb",500]
["Whangarei","Regent","Bonds","RegentBonds","Whole Suburb","Whole Suburb",336]
["Whangarei","Regent","Lower Quartile","RegentLower Quartile","Whole Suburb","Whole Suburb",395]
["Whangarei","Regent","Median","RegentMedian","Whole Suburb","Whole Suburb",420]
["Whangarei","Regent","Upper Quartile","RegentUpper Quartile","Whole Suburb","Whole Suburb",500]
["Whangarei","Riverside","Bonds","RiversideBonds","Whole Suburb","Whole Suburb",96]
["Whangarei","Riverside","Lower Quartile","RiversideLower Quartile","Whole Suburb","Whole Suburb",428]
["Whangarei","Riverside","Median","RiversideMedian","Whole Suburb","Whole Suburb",500]
["Whangarei","Riverside","Upper Quartile","RiversideUpper Quartile","Whole Suburb","Whole Suburb",600]
["Whangarei","Whangarei","Bonds","WhangareiBonds","Whole Suburb","Whole Suburb",45]
["Whangarei","Whangarei","Lower Quartile","WhangareiLower Quartile","Whole Suburb","Whole Suburb",436]
["Whangarei","Whangarei","Median","WhangareiMedian","Whole Suburb","Whole Suburb",480]
["Whangarei","Whangarei","Upper Quartile","WhangareiUpper Quartile","Whole Suburb","Whole Suburb",535]
["Whangarei","Whau Valley","Bonds","Whau ValleyBonds","Whole Suburb","Whole Suburb",228]
["Whangarei","Whau Valley","Lower Quartile","Whau ValleyLower Quartile","Whole Suburb","Whole Suburb",398]
["Whangarei","Whau Valley","Median","Whau ValleyMedian","Whole Suburb","Whole Suburb",460]
["Whangarei","Whau Valley","Upper Quartile","Whau ValleyUpper Quartile","Whole Suburb","Whole Suburb",515]
["Whangarei","Morningside","Bonds","MorningsideBonds","Whole Suburb","Whole Suburb",321]
["Whangarei","Morningside","Lower Quartile","MorningsideLower Quartile","Whole Suburb","Whole Suburb",383]
["Whangarei","Morningside","Median","MorningsideMedian","Whole Suburb","Whole Suburb",450]
["Whangarei","Morningside","Upper Quartile","MorningsideUpper Quartile","Whole Suburb","Whole Suburb",543]
["Whangarei","Mata","Bonds","MataBonds","Whole Suburb","Whole Suburb",""]
["Whangarei","Mata","Lower Quartile","MataLower Quartile","Whole Suburb","Whole Suburb",""]
["Whangarei","Mata","Median","MataMedian","Whole Suburb","Whole Suburb",""]
["Whangarei","Mata","Upper Quartile","MataUpper Quartile","Whole Suburb","Whole Suburb",""]
["Whangarei","Matapouri","Bonds","MatapouriBonds","Whole Suburb","Whole Suburb",""]
["Whangarei","Matapouri","Lower Quartile","MatapouriLower Quartile","Whole Suburb","Whole Suburb",""]
["Whangarei","Matapouri","Median","MatapouriMedian","Whole Suburb","Whole Suburb",""]
["Whangarei","Matapouri","Upper Quartile","MatapouriUpper Quartile","Whole Suburb","Whole Suburb",""]
["Whangarei","Matarau","Bonds","MatarauBonds","Whole Suburb","Whole Suburb",""]
["Whangarei","Matarau","Lower Quartile","MatarauLower Quartile","Whole Suburb","Whole Suburb",""]
["Whangarei","Matarau","Median","MatarauMedian","Whole Suburb","Whole Suburb",""]
["Whangarei","Matarau","Upper Quartile","MatarauUpper Quartile","Whole Suburb","Whole Suburb",""]
["Whangarei","Maungatapere","Bonds","MaungatapereBonds","Whole Suburb","Whole Suburb",72]
["Whangarei","Maungatapere","Lower Quartile","MaungatapereLower Quartile","Whole Suburb","Whole Suburb",370]
["Whangarei","Maungatapere","Median","MaungatapereMedian","Whole Suburb","Whole Suburb",480]
["Whangarei","Maungatapere","Upper Quartile","MaungatapereUpper Quartile","Whole Suburb","Whole Suburb",550]
["Whangarei","Maunu","Bonds","MaunuBonds","Whole Suburb","Whole Suburb",120]
["Whangarei","Maunu","Lower Quartile","MaunuLower Quartile","Whole Suburb","Whole Suburb",530]
["Whangarei","Maunu","Median","MaunuMedian","Whole Suburb","Whole Suburb",580]
["Whangarei","Maunu","Upper Quartile","MaunuUpper Quartile","Whole Suburb","Whole Suburb",625]
["Whangarei","Tikipunga","Bonds","TikipungaBonds","Whole Suburb","Whole Suburb",600]
["Whangarei","Tikipunga","Lower Quartile","TikipungaLower Quartile","Whole Suburb","Whole Suburb",460]
["Whangarei","Tikipunga","Median","TikipungaMedian","Whole Suburb","Whole Suburb",520]
["Whangarei","Tikipunga","Upper Quartile","TikipungaUpper Quartile","Whole Suburb","Whole Suburb",598]
["Whangarei","Titoki","Bonds","TitokiBonds","Whole Suburb","Whole Suburb",""]
["Whangarei","Titoki","Lower Quartile","TitokiLower Quartile","Whole Suburb","Whole Suburb",""]
["Whangarei","Titoki","Median","TitokiMedian","Whole Suburb","Whole Suburb",""]
["Whangarei","Titoki","Upper Quartile","TitokiUpper Quartile","Whole Suburb","Whole Suburb",""]
["Whangarei","Tutukaka","Bonds","TutukakaBonds","Whole Suburb","Whole Suburb",42]
["Whangarei","Tutukaka","Lower Quartile","TutukakaLower Quartile","Whole Suburb","Whole Suburb",478]
["Whangarei","Tutukaka","Median","TutukakaMedian","Whole Suburb","Whole Suburb",520]
["Whangarei","Tutukaka","Upper Quartile","TutukakaUpper Quartile","Whole Suburb","Whole Suburb",595]
["Whangarei","Onerahi","Bonds","OnerahiBonds","Whole Suburb","Whole Suburb",564]
["Whangarei","Onerahi","Lower Quartile","OnerahiLower Quartile","Whole Suburb","Whole Suburb",436]
["Whangarei","Onerahi","Median","OnerahiMedian","Whole Suburb","Whole Suburb",498]
["Whangarei","Onerahi","Upper Quartile","OnerahiUpper Quartile","Whole Suburb","Whole Suburb",558]
["Whangarei","Otangarei","Bonds",{"$f":"B6466&C6466","v":"OtangareiBonds"},"Whole Suburb","Whole Suburb",165]
["Whangarei","Otangarei","Lower Quartile","OtangareiLower Quartile","Whole Suburb","Whole Suburb",410]
["Whangarei","Otangarei","Median","OtangareiMedian","Whole Suburb","Whole Suburb",450]
["Whangarei","Otangarei","Upper Quartile","OtangareiUpper Quartile","Whole Suburb","Whole Suburb",490]
["Whangarei","Parahaki","Bonds","ParahakiBonds","Whole Suburb","Whole Suburb",105]
["Whangarei","Parahaki","Lower Quartile","ParahakiLower Quartile","Whole Suburb","Whole Suburb",401]
["Whangarei","Parahaki","Median","ParahakiMedian","Whole Suburb","Whole Suburb",485]
["Whangarei","Parahaki","Upper Quartile","ParahakiUpper Quartile","Whole Suburb","Whole Suburb",548]
["Whangarei","Poroti","Bonds","PorotiBonds","Whole Suburb","Whole Suburb",""]
["Whangarei","Poroti","Lower Quartile","PorotiLower Quartile","Whole Suburb","Whole Suburb",""]
["Whangarei","Poroti","Median","PorotiMedian","Whole Suburb","Whole Suburb",""]
["Whangarei","Poroti","Upper Quartile","PorotiUpper Quartile","Whole Suburb","Whole Suburb",""]
["Whangarei","Port Whangarei","Bonds","Port WhangareiBonds","Whole Suburb","Whole Suburb",9]
["Whangarei","Port Whangarei","Lower Quartile","Port WhangareiLower Quartile","Whole Suburb","Whole Suburb",309]
["Whangarei","Port Whangarei","Median","Port WhangareiMedian","Whole Suburb","Whole Suburb",638]
["Whangarei","Port Whangarei","Upper Quartile","Port WhangareiUpper Quartile","Whole Suburb","Whole Suburb",647]
["Whangarei","Portland","Bonds","PortlandBonds","Whole Suburb","Whole Suburb",""]
["Whangarei","Portland","Lower Quartile","PortlandLower Quartile","Whole Suburb","Whole Suburb",""]
["Whangarei","Portland","Median","PortlandMedian","Whole Suburb","Whole Suburb",""]
["Whangarei","Portland","Upper Quartile","PortlandUpper Quartile","Whole Suburb","Whole Suburb",""]
["Whangarei","Kokopu","Bonds","KokopuBonds","Whole Suburb","Whole Suburb",""]
["Whangarei","Kokopu","Lower Quartile","KokopuLower Quartile","Whole Suburb","Whole Suburb",""]
["Whangarei","Kokopu","Median","KokopuMedian","Whole Suburb","Whole Suburb",""]
["Whangarei","Kokopu","Upper Quartile","KokopuUpper Quartile","Whole Suburb","Whole Suburb",""]
["Whangarei","Glenbervie","Bonds","GlenbervieBonds","Whole Suburb","Whole Suburb",36]
["Whangarei","Glenbervie","Lower Quartile","GlenbervieLower Quartile","Whole Suburb","Whole Suburb",450]
["Whangarei","Glenbervie","Median","GlenbervieMedian","Whole Suburb","Whole Suburb",520]
["Whangarei","Glenbervie","Upper Quartile","GlenbervieUpper Quartile","Whole Suburb","Whole Suburb",600]
["Whangarei","Horahora","Bonds","HorahoraBonds","Whole Suburb","Whole Suburb",159]
["Whangarei","Horahora","Lower Quartile","HorahoraLower Quartile","Whole Suburb","Whole Suburb",399]
["Whangarei","Horahora","Median","HorahoraMedian","Whole Suburb","Whole Suburb",473]
["Whangarei","Horahora","Upper Quartile","HorahoraUpper Quartile","Whole Suburb","Whole Suburb",551]
["Whangarei","Kamo","Bonds","KamoBonds","Whole Suburb","Whole Suburb",912]
["Whangarei","Kamo","Lower Quartile","KamoLower Quartile","Whole Suburb","Whole Suburb",450]
["Whangarei","Kamo","Median","KamoMedian","Whole Suburb","Whole Suburb",545]
["Whangarei","Kamo","Upper Quartile","KamoUpper Quartile","Whole Suburb","Whole Suburb",590]
["Whangarei","Springfield","Bonds","SpringfieldBonds","Whole Suburb","Whole Suburb",""]
["Whangarei","Springfield","Lower Quartile","SpringfieldLower Quartile","Whole Suburb","Whole Suburb",""]
["Whangarei","Springfield","Median","SpringfieldMedian","Whole Suburb","Whole Suburb",""]
["Whangarei","Springfield","Upper Quartile","SpringfieldUpper Quartile","Whole Suburb","Whole Suburb",""]
["Whangarei","Mangapai","Bonds","MangapaiBonds","Whole Suburb","Whole Suburb",""]
["Whangarei","Mangapai","Lower Quartile","MangapaiLower Quartile","Whole Suburb","Whole Suburb",""]
["Whangarei","Mangapai","Median","MangapaiMedian","Whole Suburb","Whole Suburb",""]
["Whangarei","Mangapai","Upper Quartile","MangapaiUpper Quartile","Whole Suburb","Whole Suburb",""]
["Whangarei","Avenues","Bonds","AvenuesBonds","Whole Suburb","Whole Suburb",393]
["Whangarei","Avenues","Lower Quartile","AvenuesLower Quartile","Whole Suburb","Whole Suburb",330]
["Whangarei","Avenues","Median","AvenuesMedian","Whole Suburb","Whole Suburb",425]
["Whangarei","Avenues","Upper Quartile","AvenuesUpper Quartile","Whole Suburb","Whole Suburb",505]
["Whangarei","Oakleigh","Bonds","OakleighBonds","Whole Suburb","Whole Suburb",""]
["Whangarei","Oakleigh","Lower Quartile","OakleighLower Quartile","Whole Suburb","Whole Suburb",""]
["Whangarei","Oakleigh","Median","OakleighMedian","Whole Suburb","Whole Suburb",""]
["Whangarei","Oakleigh","Upper Quartile","OakleighUpper Quartile","Whole Suburb","Whole Suburb",""]
["Whangarei","Kensington","Bonds","KensingtonBonds","Whole Suburb","Whole Suburb",654]
["Whangarei","Kensington","Lower Quartile","KensingtonLower Quartile","Whole Suburb","Whole Suburb",405]
["Whangarei","Kensington","Median","KensingtonMedian","Whole Suburb","Whole Suburb",460]
["Whangarei","Kensington","Upper Quartile","KensingtonUpper Quartile","Whole Suburb","Whole Suburb",520]
["Whangarei","Kiripaka","Bonds","KiripakaBonds","Whole Suburb","Whole Suburb",""]
["Whangarei","Kiripaka","Lower Quartile","KiripakaLower Quartile","Whole Suburb","Whole Suburb",""]
["Whangarei","Kiripaka","Median","KiripakaMedian","Whole Suburb","Whole Suburb",""]
["Whangarei","Kiripaka","Upper Quartile","KiripakaUpper Quartile","Whole Suburb","Whole Suburb",""]
["Whangarei","Ngararatunua","Bonds","NgararatunuaBonds","Whole Suburb","Whole Suburb",""]
["Whangarei","Ngararatunua","Lower Quartile","NgararatunuaLower Quartile","Whole Suburb","Whole Suburb",""]
["Whangarei","Ngararatunua","Median","NgararatunuaMedian","Whole Suburb","Whole Suburb",""]
["Whangarei","Ngararatunua","Upper Quartile","NgararatunuaUpper Quartile","Whole Suburb","Whole Suburb",""]
["Whangarei","Ngunguru","Bonds",{"$f":"B6530&C6530","v":"NgunguruBonds"},"Whole Suburb","Whole Suburb",102]
["Whangarei","Ngunguru","Lower Quartile","NgunguruLower Quartile","Whole Suburb","Whole Suburb",426]
["Whangarei","Ngunguru","Median","NgunguruMedian","Whole Suburb","Whole Suburb",450]
["Whangarei","Ngunguru","Upper Quartile","NgunguruUpper Quartile","Whole Suburb","Whole Suburb",538]
["Whangarei Heads","Whangarei Heads","Bonds","Whangarei HeadsBonds","Whole Suburb","Whole Suburb",72]
["Whangarei Heads","Whangarei Heads","Lower Quartile","Whangarei HeadsLower Quartile","Whole Suburb","Whole Suburb",534]
["Whangarei Heads","Whangarei Heads","Median","Whangarei HeadsMedian","Whole Suburb","Whole Suburb",595]
["Whangarei Heads","Whangarei Heads","Upper Quartile","Whangarei HeadsUpper Quartile","Whole Suburb","Whole Suburb",713]
["Whangateau","Whangateau","Bonds","WhangateauBonds","Whole Suburb","Whole Suburb",""]
["Whangateau","Whangateau","Lower Quartile","WhangateauLower Quartile","Whole Suburb","Whole Suburb",""]
["Whangateau","Whangateau","Median","WhangateauMedian","Whole Suburb","Whole Suburb",""]
["Whangateau","Whangateau","Upper Quartile","WhangateauUpper Quartile","Whole Suburb","Whole Suburb",""]
["Whareora","Whareora","Bonds","WhareoraBonds","Whole Suburb","Whole Suburb",""]
["Whareora","Whareora","Lower Quartile","WhareoraLower Quartile","Whole Suburb","Whole Suburb",""]
["Whareora","Whareora","Median","WhareoraMedian","Whole Suburb","Whole Suburb",""]
["Whareora","Whareora","Upper Quartile","WhareoraUpper Quartile","Whole Suburb","Whole Suburb",""]
["Whitford","Whitford","Bonds","WhitfordBonds","Whole Suburb","Whole Suburb",105]
["Whitford","Whitford","Lower Quartile","WhitfordLower Quartile","Whole Suburb","Whole Suburb",420]
["Whitford","Whitford","Median","WhitfordMedian","Whole Suburb","Whole Suburb",480]
["Whitford","Whitford","Upper Quartile","WhitfordUpper Quartile","Whole Suburb","Whole Suburb",750]
["Whitianga","Whenuakite","Bonds","WhenuakiteBonds","Whole Suburb","Whole Suburb",""]
["Whitianga","Whenuakite","Lower Quartile","WhenuakiteLower Quartile","Whole Suburb","Whole Suburb",""]
["Whitianga","Whenuakite","Median","WhenuakiteMedian","Whole Suburb","Whole Suburb",""]
["Whitianga","Whenuakite","Upper Quartile","WhenuakiteUpper Quartile","Whole Suburb","Whole Suburb",""]
["Whitianga","Whitianga","Bonds","WhitiangaBonds","Whole Suburb","Whole Suburb",525]
["Whitianga","Whitianga","Lower Quartile","WhitiangaLower Quartile","Whole Suburb","Whole Suburb",380]
["Whitianga","Whitianga","Median","WhitiangaMedian","Whole Suburb","Whole Suburb",450]
["Whitianga","Whitianga","Upper Quartile","WhitiangaUpper Quartile","Whole Suburb","Whole Suburb",530]
["Whitianga","Wharekaho","Bonds","WharekahoBonds","Whole Suburb","Whole Suburb",""]
["Whitianga","Wharekaho","Lower Quartile","WharekahoLower Quartile","Whole Suburb","Whole Suburb",""]
["Whitianga","Wharekaho","Median","WharekahoMedian","Whole Suburb","Whole Suburb",""]
["Whitianga","Wharekaho","Upper Quartile","WharekahoUpper Quartile","Whole Suburb","Whole Suburb",""]
["Whitianga","Hahei","Bonds","HaheiBonds","Whole Suburb","Whole Suburb",""]
["Whitianga","Hahei","Lower Quartile","HaheiLower Quartile","Whole Suburb","Whole Suburb",""]
["Whitianga","Hahei","Median","HaheiMedian","Whole Suburb","Whole Suburb",""]
["Whitianga","Hahei","Upper Quartile","HaheiUpper Quartile","Whole Suburb","Whole Suburb",""]
["Whitianga","Matarangi","Bonds","MatarangiBonds","Whole Suburb","Whole Suburb",""]
["Whitianga","Matarangi","Lower Quartile","MatarangiLower Quartile","Whole Suburb","Whole Suburb",""]
["Whitianga","Matarangi","Median","MatarangiMedian","Whole Suburb","Whole Suburb",""]
["Whitianga","Matarangi","Upper Quartile","MatarangiUpper Quartile","Whole Suburb","Whole Suburb",""]
["Whitianga","Cooks Beach","Bonds","Cooks BeachBonds","Whole Suburb","Whole Suburb",""]
["Whitianga","Cooks Beach","Lower Quartile","Cooks BeachLower Quartile","Whole Suburb","Whole Suburb",""]
["Whitianga","Cooks Beach","Median","Cooks BeachMedian","Whole Suburb","Whole Suburb",""]
["Whitianga","Cooks Beach","Upper Quartile","Cooks BeachUpper Quartile","Whole Suburb","Whole Suburb",""]
["Whitianga","Kaimarama","Bonds",null,"Whole Suburb","Whole Suburb",""]
["Whitianga","Kaimarama","Lower Quartile",null,"Whole Suburb","Whole Suburb",""]
["Whitianga","Kaimarama","Median",null,"Whole Suburb","Whole Suburb",""]
["Whitianga","Kaimarama","Upper Quartile",null,"Whole Suburb","Whole Suburb",""]
["Winchester","Winchester","Bonds",null,"Whole Suburb","Whole Suburb",""]
["Winchester","Winchester","Lower Quartile",null,"Whole Suburb","Whole Suburb",""]
["Winchester","Winchester","Median",null,"Whole Suburb","Whole Suburb",""]
["Winchester","Winchester","Upper Quartile",null,"Whole Suburb","Whole Suburb",""]
["Winton","Winton","Bonds",null,"Whole Suburb","Whole Suburb",156]
["Winton","Winton","Lower Quartile",null,"Whole Suburb","Whole Suburb",275]
["Winton","Winton","Median",null,"Whole Suburb","Whole Suburb",330]
["Winton","Winton","Upper Quartile",null,"Whole Suburb","Whole Suburb",400]
["Winton","Browns","Bonds",null,"Whole Suburb","Whole Suburb",""]
["Winton","Browns","Lower Quartile",null,"Whole Suburb","Whole Suburb",""]
["Winton","Browns","Median",null,"Whole Suburb","Whole Suburb",""]
["Winton","Browns","Upper Quartile",null,"Whole Suburb","Whole Suburb",""]
["Woodend","Woodend","Bonds",null,"Whole Suburb","Whole Suburb",150]
["Woodend","Woodend","Lower Quartile",null,"Whole Suburb","Whole Suburb",420]
["Woodend","Woodend","Median",null,"Whole Suburb","Whole Suburb",480]
["Woodend","Woodend","Upper Quartile",null,"Whole Suburb","Whole Suburb",495]
["Woodend","Woodend Beach","Bonds",null,"Whole Suburb","Whole Suburb",""]
["Woodend","Woodend Beach","Lower Quartile",null,"Whole Suburb","Whole Suburb",""]
["Woodend","Woodend Beach","Median",null,"Whole Suburb","Whole Suburb",""]
["Woodend","Woodend Beach","Upper Quartile",null,"Whole Suburb","Whole Suburb",""]
["Woodville","Woodville","Bonds",null,"Whole Suburb","Whole Suburb",138]
["Woodville","Woodville","Lower Quartile",null,"Whole Suburb","Whole Suburb",261]
["Woodville","Woodville","Median",null,"Whole Suburb","Whole Suburb",310]
["Woodville","Woodville","Upper Quartile",null,"Whole Suburb","Whole Suburb",373]
["Wyndham","Wyndham","Bonds",null,"Whole Suburb","Whole Suburb",""]
["Wyndham","Wyndham","Lower Quartile",null,"Whole Suburb","Whole Suburb",""]
["Wyndham","Wyndham","Median",null,"Whole Suburb","Whole Suburb",""]
["Wyndham","Wyndham","Upper Quartile",null,"Whole Suburb","Whole Suburb",""]

{"sheet":"Median Prices","index":16,"n_rows":1011,"n_cols":16,"rows_kept":1011,"cut":false,"hidden":true,"merged":[]}
["TA","TA Name","Locality ID","Suburb Name ","Helper Column","Median Evaluer","Date","Property #1",null,null,null,null,null,null,"TA Name","TA"]
[63,"Ashburton District ",1355,"Rakaia",{"$f":"A2&D2","v":"63Rakaia"},391400,"2021-09-01","Territorial Authority Name",{"$f":"'Property Set Up'!C13","v":"Christchurch"},null,null,null,null,null,"Ashburton",63]
[63,"Ashburton District ",2094,"Elgin","63Elgin",616400,"2021-09-01","Territorial Authority Number",{"$f":"VLOOKUP(I$2,$O$1:$P$67,2,FALSE)","v":60},null,null,null,null,null,"Auckland",76]
[63,"Ashburton District ",923,"Methven","63Methven",510400,"2021-09-01","Suburb Name",{"$f":"'Property Set Up'!C15","v":"Addington"},null,null,null,null,null,"Buller",55]
[63,"Ashburton District ",22,"Allenton","63Allenton",482550,"2021-09-01","Median House Value",{"$f":"VLOOKUP(I3&I4,E1:F2000,2,FALSE)","v":462350},null,null,null,null,null,"Carterton",49]
[63,"Ashburton District ",1009,"Netherby","63Netherby",395300,"2021-09-01",null,null,null,null,null,null,null,"Central Hawke's Bay",32]
[63,"Ashburton District ",493,"Hampstead","63Hampstead",363250,"2021-09-01","The median house value in ",null,"There was no data available about the Median house value in ",null,"The median value of the suburb that your property is in will display here. Scroll back up and select a council area and suburb to see information about the property market your property operates within.",null,null,"Central Otago",69]
[63,"Ashburton District ",8779,"Ashburton","63Ashburton",416500,"2021-09-01",{"$f":"I4","v":"Addington"},null,{"$f":"I4&\", \"&I2","v":"Addington, Christchurch"},null,null,null,null,"Christchurch",60]
[63,"Ashburton District ",1688,"Tinwald","63Tinwald",440500,"2021-09-01"," was ",null," on the 1st September 2021, according to CoreLogic.",null,null,null,null,"Clutha",72]
[76,"Auckland ",2926,"Glendowie","76Glendowie",2317700,"2021-09-01",{"$f":"TEXT(I5,\"$#,##0.00\")","v":"$462,350.00"},null,null,null,null,null,null,"Dunedin City",71]
[76,"Auckland ",845,"Manurewa East","76Manurewa East",885800,"2021-09-01"," on the 1st September 2021, according to CoreLogic.",null,null,null,null,null,null,"Far North",1]
[76,"Auckland ",525,"Helensville","76Helensville",896800,"2021-09-01",null,null,null,null,null,null,null,"Gisborne",28]
[76,"Auckland ",8823,"Windsor Park","76Windsor Park",1423350,"2021-09-01",{"$f":"CONCATENATE(H7,H8,H9,H10,H11)","v":"The median house value in Addington was $462,350.00 on the 1st September 2021, according to CoreLogic."},null,{"$f":"CONCATENATE(J7,J8,J9)","v":"There was no data available about the Median house value in Addington, Christchurch on the 1st September 2021, according to CoreLogic."},null,null,null,null,"Gore",74]
[76,"Auckland ",2906,"Glendene","76Glendene",1020800,"2021-09-01",null,null,null,null,null,null,null,"Grey",56]
[76,"Auckland ",2863,"Algies Bay","76Algies Bay",1374550,"2021-09-01",{"$f":"IF(I4=0,L7,IFERROR(H13,J13))","v":"The median house value in Addington was $462,350.00 on the 1st September 2021, according to CoreLogic."},null,null,null,null,null,null,"Hamilton City",16]
[76,"Auckland ",1432,"Rosehill","76Rosehill",956250,"2021-09-01",null,null,null,null,null,null,null,"Hastings",30]
[76,"Auckland ",1306,"Pukekohe","76Pukekohe",864800,"2021-09-01",null,null,null,null,null,null,null,"Hauraki",12]
[76,"Auckland ",393,"Forrest Hill","76Forrest Hill",1522200,"2021-09-01","Property #2",null,null,null,null,null,null,"Horowhenua",42]
[76,"Auckland ",2878,"Manly","76Manly",1184600,"2021-09-01","Territorial Authority Name",{"$f":"'Property Set Up'!D13","v":0},null,null,null,null,null,"Hurunui",58]
[76,"Auckland ",1982,"Waimauku","76Waimauku",1331350,"2021-09-01","Territorial Authority Number",{"$f":"VLOOKUP(I$19,$O$1:$P$67,2,FALSE)","v":{"$error":"#N/A"}},null,null,null,null,null,"Invercargill",75]
[76,"Auckland ",1575,"Takanini","76Takanini",927600,"2021-09-01","Suburb Name",{"$f":"'Property Set Up'!D15","v":0},null,null,null,null,null,"Kaikoura",54]
[76,"Auckland ",2958,"Riverhead","76Riverhead",1422200,"2021-09-01","Median House Value",{"$f":"VLOOKUP(I20&I21,E1:F1011,2,FALSE)","v":{"$error":"#N/A"}},null,null,null,null,null,"Kaipara",3]
[76,"Auckland ",2961,"Paremoremo","76Paremoremo",1515450,"2021-09-01",null,null,null,null,null,null,null,"Kapiti Coast",43]
[76,"Auckland ",8697,"East Tamaki Heights","76East Tamaki Heights",1679450,"2021-09-01","The median house value in ",null,"There was no data available about the Median house value in ",null,"The median value of the suburb that your property is in will display here. Scroll back up and select a council area and suburb to see information about the property market your property operates within.",null,null,"Kawerau",26]
[76,"Auckland ",230,"Clarks Beach","76Clarks Beach",1050700,"2021-09-01",{"$f":"I21","v":0},null,{"$f":"I21&\", \"&I19","v":"0, 0"},null,null,null,null,"Hutt City",46]
[76,"Auckland ",2758,"Kaukapakapa","76Kaukapakapa",1087800,"2021-09-01"," was ",null," on the 1st September 2021, according to CoreLogic.",null,null,null,null,"Mackenzie",65]
[76,"Auckland ",8649,"Omiha","76Omiha",1144550,"2021-09-01",{"$f":"TEXT(I22,\"$#,##0;\")","v":{"$error":"#N/A"}},null,null,null,null,null,null,"Manawatu",39]
[76,"Auckland ",448,"Golflands","76Golflands",1375750,"2021-09-01"," on the 1st September 2021, according to CoreLogic.",null,null,null,null,null,null,"Marlborough",53]
[76,"Auckland ",8824,"Long Bay","76Long Bay",1680650,"2021-09-01",null,null,null,null,null,null,null,"Masterton",48]
[76,"Auckland ",425,"Glenbrook","76Glenbrook",785050,"2021-09-01",{"$f":"CONCATENATE(H24,H25,H26,H27,H28)","v":{"$error":"#N/A"}},null,{"$f":"CONCATENATE(J24,J25,J26)","v":"There was no data available about the Median house value in 0, 0 on the 1st September 2021, according to CoreLogic."},null,null,null,null,"Matamata-Piako",15]
[76,"Auckland ",1464,"Sandringham","76Sandringham",1536650,"2021-09-01",null,null,null,null,null,null,null,"Napier City",31]
[76,"Auckland ",488,"Half Moon Bay","76Half Moon Bay",1585300,"2021-09-01",{"$f":"IF(I21=0,L24,IFERROR(H30,J30))","v":"The median value of the suburb that your property is in will display here. Scroll back up and select a council area and suburb to see information about the property market your property operates within."},null,null,null,null,null,null,"Nelson City",52]
[76,"Auckland ",1018,"Newmarket","76Newmarket",873450,"2021-09-01",null,null,null,null,null,null,null,"New Plymouth",33]
[76,"Auckland ",1061,"Northcross","76Northcross",1354000,"2021-09-01",null,null,null,null,null,null,null,"Opotiki",27]
[76,"Auckland ",2953,"Manukau Heads","76Manukau Heads",799950,"2021-09-01","Property #3",null,null,null,null,null,null,"Otorohanga",18]
[76,"Auckland ",1381,"Red Hill","76Red Hill",821200,"2021-09-01","Territorial Authority Name",{"$f":"'Property Set Up'!E13","v":0},null,null,null,null,null,"Palmerston North",40]
[76,"Auckland ",995,"Mount Eden","76Mount Eden",1894950,"2021-09-01","Territorial Authority Number",{"$f":"VLOOKUP(I$36,$O$1:$P$67,2,FALSE)","v":{"$error":"#N/A"}},null,null,null,null,null,"Porirua City",44]
[76,"Auckland ",145,"Botany Downs","76Botany Downs",1331400,"2021-09-01","Suburb Name",{"$f":"'Property Set Up'!E15","v":0},null,null,null,null,null,"Queenstown-Lakes",70]
[76,"Auckland ",2881,"Rothesay Bay","76Rothesay Bay",1649250,"2021-09-01","Median House Value",{"$f":"VLOOKUP(I37&I38,E18:F1028,2,FALSE)","v":{"$error":"#N/A"}},null,null,null,null,null,"Rangitikei",38]
[76,"Auckland ",1112,"Opaheke","76Opaheke",960850,"2021-09-01",null,null,null,null,null,null,null,"Rotorua",24]
[76,"Auckland ",2861,"Leigh","76Leigh",1187050,"2021-09-01","The median house value in ",null,"There was no data available about the Median house value in ",null,"The median value of the suburb that your property is in will display here. Scroll back up and select a council area and suburb to see information about the property market your property operates within.",null,null,"Ruapehu",36]
[76,"Auckland ",2921,"Meadowbank","76Meadowbank",1798850,"2021-09-01",{"$f":"I38","v":0},null,{"$f":"I38&\", \"&I36","v":"0, 0"},null,null,null,null,"Selwyn",62]
[76,"Auckland ",2924,"Mission Bay","76Mission Bay",2175400,"2021-09-01"," was ",null," on the 1st September 2021, according to CoreLogic.",null,null,null,null,"South Taranaki",35]
[76,"Auckland ",462,"Green Bay","76Green Bay",1304550,"2021-09-01",{"$f":"TEXT(I39,\"$#,##0;\")","v":{"$error":"#N/A"}},null,null,null,null,null,null,"South Waikato",19]
[76,"Auckland ",2872,"Browns Bay","76Browns Bay",1282050,"2021-09-01"," on the 1st September 2021, according to CoreLogic.",null,null,null,null,null,null,"South Wairarapa",50]
[76,"Auckland ",2912,"Avondale","76Avondale",1107600,"2021-09-01",null,null,null,null,null,null,null,"Southland",73]
[76,"Auckland ",2892,"Narrow Neck","76Narrow Neck",2030200,"2021-09-01",{"$f":"CONCATENATE(H41,H42,H43,H44,H45)","v":{"$error":"#N/A"}},null,{"$f":"CONCATENATE(J41,J42,J43)","v":"There was no data available about the Median house value in 0, 0 on the 1st September 2021, according to CoreLogic."},null,null,null,null,"Stratford",34]
[76,"Auckland ",8826,"Fairview Heights","76Fairview Heights",1628300,"2021-09-01",null,null,null,null,null,null,null,"Tararua",41]
[76,"Auckland ",2904,"Te Atatu Peninsula","76Te Atatu Peninsula",1357550,"2021-09-01",{"$f":"IF(I38=0,L41,IFERROR(H47,J47))","v":"The median value of the suburb that your property is in will display here. Scroll back up and select a council area and suburb to see information about the property market your property operates within."},null,null,null,null,null,null,"Tasman",51]
[76,"Auckland ",6522,"Waiheke Island","76Waiheke Island",1736250,"2021-09-01",null,null,null,null,null,null,null,"Taupo",21]
[76,"Auckland ",1865,"Waiuku","76Waiuku",780000,"2021-09-01",null,null,null,null,null,null,null,"Tauranga City",23]
[76,"Auckland ",8652,"Ostend","76Ostend",1318200,"2021-09-01",null,null,null,null,null,null,null,"Thames-Coromandel",11]
[76,"Auckland ",1098,"Omaha","76Omaha",2370550,"2021-09-01",null,null,null,null,null,null,null,"Timaru",64]
[76,"Auckland ",2884,"Waiake","76Waiake",1649200,"2021-09-01",null,null,null,null,null,null,null,"Upper Hutt",45]
[76,"Auckland ",6542,"East Tamaki","76East Tamaki",1182000,"2021-09-01",null,null,null,null,null,null,null,"Waikato",13]
[76,"Auckland ",2017,"Laingholm","76Laingholm",1080100,"2021-09-01",null,null,null,null,null,null,null,"Waimakariri",59]
[76,"Auckland ",8658,"Takapuna","76Takapuna",2063700,"2021-09-01",null,null,null,null,null,null,null,"Waimate",66]
[76,"Auckland ",2721,"Maraetai","76Maraetai",1580600,"2021-09-01",null,null,null,null,null,null,null,"Waipa",17]
[76,"Auckland ",2910,"Waterview","76Waterview",1140750,"2021-09-01",null,null,null,null,null,null,null,"Wairoa",29]
[76,"Auckland ",2913,"Herne Bay","76Herne Bay",3249450,"2021-09-01",null,null,null,null,null,null,null,"Waitaki",68]
[76,"Auckland ",2901,"Milford","76Milford",1747850,"2021-09-01",null,null,null,null,null,null,null,"Waitomo",20]
[76,"Auckland ",2911,"New Lynn","76New Lynn",979150,"2021-09-01",null,null,null,null,null,null,null,"Wellington City",47]
[76,"Auckland ",421,"Glen Eden","76Glen Eden",962800,"2021-09-01",null,null,null,null,null,null,null,"Western Bay of Plenty",22]
[76,"Auckland ",836,"Mangere Bridge","76Mangere Bridge",1259650,"2021-09-01",null,null,null,null,null,null,null,"Westland",57]
[76,"Auckland ",435,"Glen Innes","76Glen Innes",1354150,"2021-09-01",null,null,null,null,null,null,null,"Whakatane",25]
[76,"Auckland ",2923,"Remuera",{"$f":"A66&D66","v":"76Remuera"},2596500,"2021-09-01",null,null,null,null,null,null,null,"Whanganui",37]
[76,"Auckland ",2920,"Kohimarama","76Kohimarama",2126900,"2021-09-01",null,null,null,null,null,null,null,"Whangarei",2]
[76,"Auckland ",2390,"Titirangi","76Titirangi",1240100,"2021-09-01"]
[76,"Auckland ",541,"Hillcrest","76Hillcrest",1340650,"2021-09-01"]
[76,"Auckland ",2960,"Albany","76Albany",1146400,"2021-09-01"]
[76,"Auckland ",175,"Bucklands Beach","76Bucklands Beach",1705000,"2021-09-01"]
[76,"Auckland ",235,"Clendon Park","76Clendon Park",789200,"2021-09-01"]
[76,"Auckland ",2894,"Stanley Point","76Stanley Point",2628300,"2021-09-01"]
[76,"Auckland ",2897,"Bayswater","76Bayswater",1780450,"2021-09-01"]
[76,"Auckland ",2874,"Gulf Harbour","76Gulf Harbour",1066500,"2021-09-01"]
[76,"Auckland ",2877,"Torbay","76Torbay",1285450,"2021-09-01"]
[76,"Auckland ",4119,"Massey","76Massey",1029550,"2021-09-01"]
[76,"Auckland ",1185,"Pahurehure","76Pahurehure",1058050,"2021-09-01"]
[76,"Auckland ",459,"Grafton","76Grafton",638650,"2021-09-01"]
[76,"Auckland ",994,"Mount Albert","76Mount Albert",1498800,"2021-09-01"]
[76,"Auckland ",8694,"Flat Bush","76Flat Bush",1343150,"2021-09-01"]
[76,"Auckland ",8820,"Bayview","76Bayview",1069300,"2021-09-01"]
[76,"Auckland ",8651,"Oneroa","76Oneroa",1913500,"2021-09-01"]
[76,"Auckland ",2866,"Hatfields Beach","76Hatfields Beach",1124250,"2021-09-01"]
[76,"Auckland ",370,"Farm Cove","76Farm Cove",1741350,"2021-09-01"]
[76,"Auckland ",837,"Mangere East","76Mangere East",913600,"2021-09-01"]
[76,"Auckland ",8869,"Sunnyhills","76Sunnyhills",1680250,"2021-09-01"]
[76,"Auckland ",1252,"Pinehill","76Pinehill",1701850,"2021-09-01"]
[76,"Auckland ",2955,"Piha","76Piha",1309850,"2021-09-01"]
[76,"Auckland ",144,"Bombay","76Bombay",1294900,"2021-09-01"]
[76,"Auckland ",2406,"Waiatarua","76Waiatarua",1146750,"2021-09-01"]
[76,"Auckland ",2873,"Campbells Bay","76Campbells Bay",2341300,"2021-09-01"]
[76,"Auckland ",2890,"Stanmore Bay","76Stanmore Bay",1076200,"2021-09-01"]
[76,"Auckland ",2893,"Hauraki","76Hauraki",1964950,"2021-09-01"]
[76,"Auckland ",1444,"Royal Oak","76Royal Oak",1501350,"2021-09-01"]
[76,"Auckland ",2933,"Pakuranga","76Pakuranga",1259900,"2021-09-01"]
[76,"Auckland ",8878,"Stonefields","76Stonefields",1704650,"2021-09-01"]
[76,"Auckland ",1665,"The Gardens","76The Gardens",1336700,"2021-09-01"]
[76,"Auckland ",2964,"Glenfield","76Glenfield",1116800,"2021-09-01"]
[76,"Auckland ",8835,"Otahuhu","76Otahuhu",845600,"2021-09-01"]
[76,"Auckland ",8775,"Palm Beach","76Palm Beach",1791500,"2021-09-01"]
[76,"Auckland ",371,"Favona","76Favona",896650,"2021-09-01"]
[76,"Auckland ",2914,"Point Chevalier","76Point Chevalier",2075100,"2021-09-01"]
[76,"Auckland ",8825,"Oteha","76Oteha",1144050,"2021-09-01"]
[76,"Auckland ",2871,"Orewa","76Orewa",1209850,"2021-09-01"]
[76,"Auckland ",8696,"Dannemora","76Dannemora",1690200,"2021-09-01"]
[76,"Auckland ",996,"Mount Roskill","76Mount Roskill",1272600,"2021-09-01"]
[76,"Auckland ",2929,"Panmure","76Panmure",1131300,"2021-09-01"]
[76,"Auckland ",2886,"Murrays Bay","76Murrays Bay",1807250,"2021-09-01"]
[76,"Auckland ",545,"Hillsborough","76Hillsborough",1446100,"2021-09-01"]
[76,"Auckland ",8777,"Matakatia","76Matakatia",1542450,"2021-09-01"]
[76,"Auckland ",1203,"Papatoetoe","76Papatoetoe",906550,"2021-09-01"]
[76,"Auckland ",2918,"Saint Marys Bay","76Saint Marys Bay",2959500,"2021-09-01"]
[76,"Auckland ",2726,"Beachlands","76Beachlands",1557400,"2021-09-01"]
[76,"Auckland ",2895,"Belmont","76Belmont",1541900,"2021-09-01"]
[76,"Auckland ",2898,"Beach Haven","76Beach Haven",1159300,"2021-09-01"]
[76,"Auckland ",8829,"Totara Vale","76Totara Vale",1133200,"2021-09-01"]
[76,"Auckland ",2932,"Highland Park","76Highland Park",1215000,"2021-09-01"]
[76,"Auckland ",1956,"Wiri","76Wiri",737750,"2021-09-01"]
[76,"Auckland ",1552,"Swanson","76Swanson",1106250,"2021-09-01"]
[76,"Auckland ",8654,"Snells Beach","76Snells Beach",1070150,"2021-09-01"]
[76,"Auckland ",399,"Freemans Bay","76Freemans Bay",1733400,"2021-09-01"]
[76,"Auckland ",1106,"One Tree Hill","76One Tree Hill",1447700,"2021-09-01"]
[76,"Auckland ",1484,"Shelly Park","76Shelly Park",1593750,"2021-09-01"]
[76,"Auckland ",4118,"Whenuapai","76Whenuapai",1327550,"2021-09-01"]
[76,"Auckland ",8821,"Unsworth Heights","76Unsworth Heights",1237800,"2021-09-01"]
[76,"Auckland ",694,"Kingsland","76Kingsland",1544750,"2021-09-01"]
[76,"Auckland ",2864,"Warkworth","76Warkworth",1022200,"2021-09-01"]
[76,"Auckland ",1547,"Sunnyvale","76Sunnyvale",947950,"2021-09-01"]
[76,"Auckland ",2907,"Kelston",{"$f":"A130&D130","v":"76Kelston"},988450,"2021-09-01"]
[76,"Auckland ",1207,"Parakai","76Parakai",742700,"2021-09-01"]
[76,"Auckland ",2963,"Kumeu","76Kumeu",1266100,"2021-09-01"]
[76,"Auckland ",2900,"Birkdale","76Birkdale",1025500,"2021-09-01"]
[76,"Auckland ",2903,"Chatswood","76Chatswood",1519300,"2021-09-01"]
[76,"Auckland ",475,"Grey Lynn","76Grey Lynn",1959500,"2021-09-01"]
[76,"Auckland ",2880,"Mairangi Bay","76Mairangi Bay",1822500,"2021-09-01"]
[76,"Auckland ",8768,"Northpark","76Northpark",1505050,"2021-09-01"]
[76,"Auckland ",2954,"Huia","76Huia",992400,"2021-09-01"]
[76,"Auckland ",2931,"Otara","76Otara",830900,"2021-09-01"]
[76,"Auckland ",1211,"Parau","76Parau",1132450,"2021-09-01"]
[76,"Auckland ",467,"Greenlane","76Greenlane",1965450,"2021-09-01"]
[76,"Auckland ",2731,"Weymouth","76Weymouth",848300,"2021-09-01"]
[76,"Auckland ",341,"Ellerslie","76Ellerslie",1395300,"2021-09-01"]
[76,"Auckland ",4131,"Parnell","76Parnell",2029200,"2021-09-01"]
[76,"Auckland ",2737,"Mangere","76Mangere",927950,"2021-09-01"]
[76,"Auckland ",779,"Lynfield","76Lynfield",1370050,"2021-09-01"]
[76,"Auckland ",8842,"New Windsor","76New Windsor",1381750,"2021-09-01"]
[76,"Auckland ",1500,"Somerville","76Somerville",1566450,"2021-09-01"]
[76,"Auckland ",1228,"Patumahoe","76Patumahoe",1047950,"2021-09-01"]
[76,"Auckland ",1675,"Three Kings","76Three Kings",1277900,"2021-09-01"]
[76,"Auckland ",1546,"Sunnynook","76Sunnynook",1311600,"2021-09-01"]
[76,"Auckland ",2859,"Point Wells","76Point Wells",1774700,"2021-09-01"]
[76,"Auckland ",240,"Clover Park","76Clover Park",907150,"2021-09-01"]
[76,"Auckland ",1431,"Rosedale","76Rosedale",1094200,"2021-09-01"]
[76,"Auckland ",329,"Eden Terrace","76Eden Terrace",870300,"2021-09-01"]
[76,"Auckland ",2882,"Stillwater","76Stillwater",1023500,"2021-09-01"]
[76,"Auckland ",2922,"Orakei","76Orakei",2297950,"2021-09-01"]
[76,"Auckland ",2879,"Castor Bay","76Castor Bay",1936200,"2021-09-01"]
[76,"Auckland ",8690,"Silverdale","76Silverdale",1390700,"2021-09-01"]
[76,"Auckland ",140,"Blockhouse Bay","76Blockhouse Bay",1319800,"2021-09-01"]
[76,"Auckland ",2862,"Sandspit","76Sandspit",2008900,"2021-09-01"]
[76,"Auckland ",8827,"Albany Heights","76Albany Heights",1278850,"2021-09-01"]
[76,"Auckland ",2166,"Henderson Valley","76Henderson Valley",1133750,"2021-09-01"]
[76,"Auckland ",1127,"Oratia","76Oratia",1305050,"2021-09-01"]
[76,"Auckland ",8933,"Wai O Taiki Bay","76Wai O Taiki Bay",1786000,"2021-09-01"]
[76,"Auckland ",2902,"Northcote","76Northcote",1320900,"2021-09-01"]
[76,"Auckland ",8776,"Surfdale","76Surfdale",1362800,"2021-09-01"]
[76,"Auckland ",183,"Burswood","76Burswood",1278700,"2021-09-01"]
[76,"Auckland ",4033,"Clevedon","76Clevedon",1456150,"2021-09-01"]
[76,"Auckland ",8650,"Onetangi","76Onetangi",1875250,"2021-09-01"]
[76,"Auckland ",2908,"Te Atatu South","76Te Atatu South",1071350,"2021-09-01"]
[76,"Auckland ",2905,"West Harbour","76West Harbour",1322650,"2021-09-01"]
[76,"Auckland ",8693,"Shamrock Park","76Shamrock Park",2152750,"2021-09-01"]
[76,"Auckland ",578,"Howick","76Howick",1296700,"2021-09-01"]
[76,"Auckland ",2962,"Hobsonville","76Hobsonville",1164550,"2021-09-01"]
[76,"Auckland ",2959,"Greenhithe","76Greenhithe",1771000,"2021-09-01"]
[76,"Auckland ",2896,"Devonport","76Devonport",2229950,"2021-09-01"]
[76,"Auckland ",1371,"Ranui","76Ranui",941350,"2021-09-01"]
[76,"Auckland ",2728,"Auckland Central","76Auckland Central",601800,"2021-09-01"]
[76,"Auckland ",2725,"Orere Point","76Orere Point",676000,"2021-09-01"]
[76,"Auckland ",1237,"Penrose","76Penrose",1149850,"2021-09-01"]
[76,"Auckland ",349,"Epsom","76Epsom",2310550,"2021-09-01"]
[76,"Auckland ",2899,"Birkenhead","76Birkenhead",1363900,"2021-09-01"]
[76,"Auckland ",2756,"Waitakere","76Waitakere",1063050,"2021-09-01"]
[76,"Auckland ",8819,"Northcote Point","76Northcote Point",1785850,"2021-09-01"]
[76,"Auckland ",589,"Huntington Park","76Huntington Park",1283150,"2021-09-01"]
[76,"Auckland ",844,"Manurewa","76Manurewa",913400,"2021-09-01"]
[76,"Auckland ",841,"Manukau","76Manukau",675850,"2021-09-01"]
[76,"Auckland ",2928,"Point England","76Point England",1305750,"2021-09-01"]
[76,"Auckland ",2925,"Mount Wellington","76Mount Wellington",1074650,"2021-09-01"]
[76,"Auckland ",2888,"Arkles Bay","76Arkles Bay",1083300,"2021-09-01"]
[76,"Auckland ",1190,"Pakuranga Heights","76Pakuranga Heights",1238200,"2021-09-01"]
[76,"Auckland ",6526,"Muriwai","76Muriwai",1368950,"2021-09-01"]
[76,"Auckland ",1359,"Randwick Park",{"$f":"A194&D194","v":"76Randwick Park"},826800,"2021-09-01"]
[76,"Auckland ",1889,"Wattle Downs","76Wattle Downs",1115750,"2021-09-01"]
[76,"Auckland ",658,"Karaka","76Karaka",1508900,"2021-09-01"]
[76,"Auckland ",2919,"St Heliers","76St Heliers",2205800,"2021-09-01"]
[76,"Auckland ",2916,"Westmere","76Westmere",2586600,"2021-09-01"]
[76,"Auckland ",6544,"Eastern Beach","76Eastern Beach",1894000,"2021-09-01"]
[76,"Auckland ",8822,"Schnapper Rock","76Schnapper Rock",1701600,"2021-09-01"]
[76,"Auckland ",1525,"Saint Johns","76Saint Johns",1680500,"2021-09-01"]
[76,"Auckland ",6543,"Cockle Bay","76Cockle Bay",1669900,"2021-09-01"]
[76,"Auckland ",526,"Henderson","76Henderson",1019500,"2021-09-01"]
[76,"Auckland ",2885,"Army Bay","76Army Bay",1161400,"2021-09-01"]
[76,"Auckland ",2739,"Kawakawa Bay","76Kawakawa Bay",1065750,"2021-09-01"]
[76,"Auckland ",254,"Conifer Grove","76Conifer Grove",1085200,"2021-09-01"]
[76,"Auckland ",449,"Goodwood Heights","76Goodwood Heights",1153700,"2021-09-01"]
[76,"Auckland ",1279,"Ponsonby","76Ponsonby",2542400,"2021-09-01"]
[76,"Auckland ",8767,"Mellons Bay","76Mellons Bay",2063000,"2021-09-01"]
[76,"Auckland ",8704,"Totara Heights","76Totara Heights",1080900,"2021-09-01"]
[76,"Auckland ",8939,"Morningside","76Morningside",1457650,"2021-09-01"]
[76,"Auckland ",2876,"Red Beach","76Red Beach",1211700,"2021-09-01"]
[76,"Auckland ",1897,"Wellsford","76Wellsford",689800,"2021-09-01"]
[76,"Auckland ",1196,"Papakura","76Papakura",835000,"2021-09-01"]
[76,"Auckland ",8876,"Huapai","76Huapai",1267700,"2021-09-01"]
[76,"Auckland ",1107,"Onehunga","76Onehunga",1254900,"2021-09-01"]
[55,"Buller District ",2518,"Carters Beach","55Carters Beach",364800,"2021-09-01"]
[55,"Buller District ",1387,"Reefton","55Reefton",244450,"2021-09-01"]
[55,"Buller District ",2342,"Westport","55Westport",275300,"2021-09-01"]
[49,"Carterton District ",199,"Carterton","49Carterton",665350,"2021-09-01"]
[32,"Central Hawke's Bay District ",1152,"Otane","32Otane",627900,"2021-09-01"]
[32,"Central Hawke's Bay District ",1833,"Waipawa","32Waipawa",539700,"2021-09-01"]
[32,"Central Hawke's Bay District ",2261,"Waipukurau","32Waipukurau",560400,"2021-09-01"]
[69,"Central Otago District ",2145,"Clyde","69Clyde",766250,"2021-09-01"]
[69,"Central Otago District ",2059,"Alexandra","69Alexandra",630750,"2021-09-01"]
[69,"Central Otago District ",2140,"Bridge Hill","69Bridge Hill",779650,"2021-09-01"]
[69,"Central Otago District ",1360,"Ranfurly","69Ranfurly",356150,"2021-09-01"]
[69,"Central Otago District ",1443,"Roxburgh","69Roxburgh",405300,"2021-09-01"]
[69,"Central Otago District ",2146,"Cromwell","69Cromwell",770650,"2021-09-01"]
[60,"Christchurch City ",1011,"New Brighton","60New Brighton",451950,"2021-09-01"]
[60,"Christchurch City ",1243,"Phillipstown","60Phillipstown",379450,"2021-09-01"]
[60,"Christchurch City ",201,"Cashmere","60Cashmere",919450,"2021-09-01"]
[60,"Christchurch City ",519,"Heathcote Valley","60Heathcote Valley",670650,"2021-09-01"]
[60,"Christchurch City ",1066,"Northwood","60Northwood",859550,"2021-09-01"]
[60,"Christchurch City ",1913,"Westmorland","60Westmorland",905600,"2021-09-01"]
[60,"Christchurch City ",202,"Cass Bay","60Cass Bay",899500,"2021-09-01"]
[60,"Christchurch City ",1527,"Saint Martins","60Saint Martins",619150,"2021-09-01"]
[60,"Christchurch City ",39,"Aranui","60Aranui",395700,"2021-09-01"]
[60,"Christchurch City ",1656,"Templeton","60Templeton",564550,"2021-09-01"]
[60,"Christchurch City ",10,"Akaroa","60Akaroa",817700,"2021-09-01"]
[60,"Christchurch City ",1499,"Somerfield","60Somerfield",635000,"2021-09-01"]
[60,"Christchurch City ",4062,"Charteris Bay","60Charteris Bay",815500,"2021-09-01"]
[60,"Christchurch City ",318,"Duvauchelle","60Duvauchelle",614850,"2021-09-01"]
[60,"Christchurch City ",1878,"Waltham","60Waltham",425100,"2021-09-01"]
[60,"Christchurch City ",8771,"Clifton","60Clifton",1070250,"2021-09-01"]
[60,"Christchurch City ",490,"Halswell","60Halswell",705950,"2021-09-01"]
[60,"Christchurch City ",865,"Marshland","60Marshland",821850,"2021-09-01"]
[60,"Christchurch City ",181,"Burnside","60Burnside",774150,"2021-09-01"]
[60,"Christchurch City ",8703,"Cracroft","60Cracroft",781850,"2021-09-01"]
[60,"Christchurch City ",107,"Beckenham","60Beckenham",730550,"2021-09-01"]
[60,"Christchurch City ",110,"Belfast","60Belfast",550850,"2021-09-01"]
[60,"Christchurch City ",1973,"Woolston","60Woolston",475500,"2021-09-01"]
[60,"Christchurch City ",1060,"Northcote","60Northcote",504250,"2021-09-01"]
[60,"Christchurch City ",1553,"Sydenham","60Sydenham",479050,"2021-09-01"]
[60,"Christchurch City ",1198,"Papanui","60Papanui",639800,"2021-09-01"]
[60,"Christchurch City ",73,"Avonhead","60Avonhead",718850,"2021-09-01"]
[60,"Christchurch City ",8772,"Richmond Hill","60Richmond Hill",1177150,"2021-09-01"]
[60,"Christchurch City ",1218,"Parklands",{"$f":"A258&D258","v":"60Parklands"},621700,"2021-09-01"]
[60,"Christchurch City ",166,"Broomfield","60Broomfield",599150,"2021-09-01"]
[60,"Christchurch City ",1544,"Strowan","60Strowan",1095250,"2021-09-01"]
[60,"Christchurch City ",184,"Burwood","60Burwood",577700,"2021-09-01"]
[60,"Christchurch City ",8840,"Huntsbury","60Huntsbury",910850,"2021-09-01"]
[60,"Christchurch City ",173,"Bryndwr","60Bryndwr",671350,"2021-09-01"]
[60,"Christchurch City ",8932,"Scarborough","60Scarborough",1449050,"2021-09-01"]
[60,"Christchurch City ",6568,"Sumner","60Sumner",954900,"2021-09-01"]
[60,"Christchurch City ",611,"Islington","60Islington",472400,"2021-09-01"]
[60,"Christchurch City ",8755,"Hillmorton","60Hillmorton",605200,"2021-09-01"]
[60,"Christchurch City ",1513,"Spreydon","60Spreydon",551600,"2021-09-01"]
[60,"Christchurch City ",1457,"Russley","60Russley",624850,"2021-09-01"]
[60,"Christchurch City ",633,"Kainga","60Kainga",399250,"2021-09-01"]
[60,"Christchurch City ",1978,"Yaldhurst","60Yaldhurst",664050,"2021-09-01"]
[60,"Christchurch City ",676,"Kennedys Bush","60Kennedys Bush",1368550,"2021-09-01"]
[60,"Christchurch City ",2081,"Christchurch Central","60Christchurch Central",576850,"2021-09-01"]
[60,"Christchurch City ",455,"Governors Bay","60Governors Bay",852450,"2021-09-01"]
[60,"Christchurch City ",1497,"Sockburn","60Sockburn",546100,"2021-09-01"]
[60,"Christchurch City ",1114,"Opawa","60Opawa",679100,"2021-09-01"]
[60,"Christchurch City ",278,"Dallington","60Dallington",507950,"2021-09-01"]
[60,"Christchurch City ",919,"Merivale","60Merivale",1210250,"2021-09-01"]
[60,"Christchurch City ",1383,"Redcliffs","60Redcliffs",1007300,"2021-09-01"]
[60,"Christchurch City ",1503,"South New Brighton","60South New Brighton",491800,"2021-09-01"]
[60,"Christchurch City ",6567,"Mount Pleasant","60Mount Pleasant",926350,"2021-09-01"]
[60,"Christchurch City ",501,"Harewood","60Harewood",809450,"2021-09-01"]
[60,"Christchurch City ",375,"Fendalton","60Fendalton",1472800,"2021-09-01"]
[60,"Christchurch City ",1943,"Wigram","60Wigram",747750,"2021-09-01"]
[60,"Christchurch City ",1817,"Wainui","60Wainui",577400,"2021-09-01"]
[60,"Christchurch City ",200,"Casebrook","60Casebrook",677300,"2021-09-01"]
[60,"Christchurch City ",1488,"Shirley","60Shirley",561550,"2021-09-01"]
[60,"Christchurch City ",569,"Hornby","60Hornby",544250,"2021-09-01"]
[60,"Christchurch City ",1803,"Waimairi Beach","60Waimairi Beach",798250,"2021-09-01"]
[60,"Christchurch City ",6566,"Bromley","60Bromley",438850,"2021-09-01"]
[60,"Christchurch City ",566,"Hoon Hay","60Hoon Hay",565200,"2021-09-01"]
[60,"Christchurch City ",1396,"Richmond","60Richmond",467700,"2021-09-01"]
[60,"Christchurch City ",3,"Addington","60Addington",462350,"2021-09-01"]
[60,"Christchurch City ",74,"Avonside","60Avonside",472500,"2021-09-01"]
[60,"Christchurch City ",1754,"Upper Riccarton","60Upper Riccarton",604100,"2021-09-01"]
[60,"Christchurch City ",798,"Mairehau","60Mairehau",547000,"2021-09-01"]
[60,"Christchurch City ",781,"Lyttelton","60Lyttelton",658200,"2021-09-01"]
[60,"Christchurch City ",1053,"North New Brighton","60North New Brighton",468650,"2021-09-01"]
[60,"Christchurch City ",1574,"Takamatua","60Takamatua",680500,"2021-09-01"]
[60,"Christchurch City ",598,"Ilam","60Ilam",833350,"2021-09-01"]
[60,"Christchurch City ",128,"Bishopdale","60Bishopdale",590650,"2021-09-01"]
[60,"Christchurch City ",289,"Diamond Harbour","60Diamond Harbour",656950,"2021-09-01"]
[60,"Christchurch City ",1394,"Riccarton","60Riccarton",652550,"2021-09-01"]
[60,"Christchurch City ",756,"Linwood","60Linwood",419650,"2021-09-01"]
[60,"Christchurch City ",546,"Hillsborough","60Hillsborough",676350,"2021-09-01"]
[60,"Christchurch City ",1522,"Saint Albans","60Saint Albans",738000,"2021-09-01"]
[60,"Christchurch City ",8756,"Moncks Bay","60Moncks Bay",980550,"2021-09-01"]
[60,"Christchurch City ",523,"Hei Hei","60Hei Hei",512200,"2021-09-01"]
[60,"Christchurch City ",927,"Middleton","60Middleton",607250,"2021-09-01"]
[60,"Christchurch City ",1385,"Redwood","60Redwood",559800,"2021-09-01"]
[72,"Clutha District ",2383,"Stirling","72Stirling",373900,"2021-09-01"]
[72,"Clutha District ",936,"Milton","72Milton",370100,"2021-09-01"]
[72,"Clutha District ",2420,"Lawrence","72Lawrence",337500,"2021-09-01"]
[72,"Clutha District ",92,"Balclutha","72Balclutha",390350,"2021-09-01"]
[71,"Dunedin City ",628,"Kaikorai","71Kaikorai",623150,"2021-09-01"]
[71,"Dunedin City ",2500,"Saint Clair","71Saint Clair",859650,"2021-09-01"]
[71,"Dunedin City ",2477,"Warrington","71Warrington",634900,"2021-09-01"]
[71,"Dunedin City ",2494,"Sawyers Bay","71Sawyers Bay",597900,"2021-09-01"]
[71,"Dunedin City ",2491,"Vauxhall","71Vauxhall",967950,"2021-09-01"]
[71,"Dunedin City ",1874,"Waldronville","71Waldronville",787150,"2021-09-01"]
[71,"Dunedin City ",2495,"Musselburgh","71Musselburgh",692050,"2021-09-01"]
[71,"Dunedin City ",2498,"Portobello",{"$f":"A322&D322","v":"71Portobello"},676600,"2021-09-01"]
[71,"Dunedin City ",2475,"Karitane","71Karitane",645000,"2021-09-01"]
[71,"Dunedin City ",262,"Corstorphine","71Corstorphine",597650,"2021-09-01"]
[71,"Dunedin City ",1172,"Outram","71Outram",747200,"2021-09-01"]
[71,"Dunedin City ",699,"Kinmont Park","71Kinmont Park",764450,"2021-09-01"]
[71,"Dunedin City ",188,"Calton Hill","71Calton Hill",516750,"2021-09-01"]
[71,"Dunedin City ",1871,"Wakari","71Wakari",637550,"2021-09-01"]
[71,"Dunedin City ",113,"Belleknowes","71Belleknowes",807350,"2021-09-01"]
[71,"Dunedin City ",361,"Fairfield","71Fairfield",746750,"2021-09-01"]
[71,"Dunedin City ",1486,"Shiel Hill","71Shiel Hill",803000,"2021-09-01"]
[71,"Dunedin City ",2061,"Andersons Bay","71Andersons Bay",737600,"2021-09-01"]
[71,"Dunedin City ",1666,"The Glen","71The Glen",545250,"2021-09-01"]
[71,"Dunedin City ",965,"Mosgiel","71Mosgiel",724650,"2021-09-01"]
[71,"Dunedin City ",1461,"Saint Leonards","71Saint Leonards",744250,"2021-09-01"]
[71,"Dunedin City ",439,"Glenross","71Glenross",712700,"2021-09-01"]
[71,"Dunedin City ",1796,"Waikouaiti","71Waikouaiti",495900,"2021-09-01"]
[71,"Dunedin City ",210,"Caversham","71Caversham",493450,"2021-09-01"]
[71,"Dunedin City ",2103,"Glenleith","71Glenleith",808700,"2021-09-01"]
[71,"Dunedin City ",1891,"Waverley","71Waverley",829150,"2021-09-01"]
[71,"Dunedin City ",391,"Forbury","71Forbury",500950,"2021-09-01"]
[71,"Dunedin City ",252,"Concord","71Concord",618700,"2021-09-01"]
[71,"Dunedin City ",8762,"Ocean View","71Ocean View",706600,"2021-09-01"]
[71,"Dunedin City ",1054,"North East Valley","71North East Valley",577350,"2021-09-01"]
[71,"Dunedin City ",1249,"Pine Hill","71Pine Hill",612950,"2021-09-01"]
[71,"Dunedin City ",1567,"Tainui","71Tainui",654050,"2021-09-01"]
[71,"Dunedin City ",685,"Kew","71Kew",690150,"2021-09-01"]
[71,"Dunedin City ",2165,"Helensburgh","71Helensburgh",719400,"2021-09-01"]
[71,"Dunedin City ",2332,"Ocean Grove","71Ocean Grove",552050,"2021-09-01"]
[71,"Dunedin City ",311,"Dunedin Central","71Dunedin Central",707550,"2021-09-01"]
[71,"Dunedin City ",1118,"Opoho","71Opoho",722700,"2021-09-01"]
[71,"Dunedin City ",1287,"Port Chalmers","71Port Chalmers",577500,"2021-09-01"]
[71,"Dunedin City ",749,"Liberton","71Liberton",518450,"2021-09-01"]
[71,"Dunedin City ",279,"Dalmore","71Dalmore",583950,"2021-09-01"]
[71,"Dunedin City ",2489,"Macandrew Bay","71Macandrew Bay",787500,"2021-09-01"]
[71,"Dunedin City ",2492,"Company Bay","71Company Bay",922800,"2021-09-01"]
[71,"Dunedin City ",959,"Mornington","71Mornington",620400,"2021-09-01"]
[71,"Dunedin City ",324,"East Taieri","71East Taieri",1022950,"2021-09-01"]
[71,"Dunedin City ",1434,"Roslyn","71Roslyn",898300,"2021-09-01"]
[71,"Dunedin City ",1048,"Normanby","71Normanby",565550,"2021-09-01"]
[71,"Dunedin City ",2058,"Abbotsford","71Abbotsford",647600,"2021-09-01"]
[71,"Dunedin City ",2478,"Waitati","71Waitati",708350,"2021-09-01"]
[71,"Dunedin City ",8813,"South Dunedin","71South Dunedin",445800,"2021-09-01"]
[71,"Dunedin City ",148,"Bradford","71Bradford",601100,"2021-09-01"]
[71,"Dunedin City ",489,"Halfway Bush","71Halfway Bush",608400,"2021-09-01"]
[71,"Dunedin City ",2487,"Broad Bay","71Broad Bay",691600,"2021-09-01"]
[71,"Dunedin City ",160,"Brockville","71Brockville",554450,"2021-09-01"]
[71,"Dunedin City ",91,"Balaclava","71Balaclava",668800,"2021-09-01"]
[71,"Dunedin City ",8799,"North Dunedin","71North Dunedin",773150,"2021-09-01"]
[71,"Dunedin City ",1379,"Ravensbourne","71Ravensbourne",563850,"2021-09-01"]
[71,"Dunedin City ",867,"Maryhill","71Maryhill",653850,"2021-09-01"]
[71,"Dunedin City ",463,"Green Island","71Green Island",640250,"2021-09-01"]
[71,"Dunedin City ",1460,"Saint Kilda","71Saint Kilda",544100,"2021-09-01"]
[71,"Dunedin City ",2501,"Brighton","71Brighton",671700,"2021-09-01"]
[71,"Dunedin City ",675,"Kenmure","71Kenmure",657750,"2021-09-01"]
[71,"Dunedin City ",847,"Maori Hill","71Maori Hill",1024500,"2021-09-01"]
[1,"Far North District ",2815,"Paihia","1Paihia",686500,"2021-09-01"]
[1,"Far North District ",2809,"Coopers Beach","1Coopers Beach",742850,"2021-09-01"]
[1,"Far North District ",6545,"Kerikeri","1Kerikeri",890400,"2021-09-01"]
[1,"Far North District ",640,"Kaitaia","1Kaitaia",345700,"2021-09-01"]
[1,"Far North District ",2824,"Russell","1Russell",1077100,"2021-09-01"]
[1,"Far North District ",2792,"Awanui","1Awanui",352750,"2021-09-01"]
[1,"Far North District ",4017,"Kaikohe","1Kaikohe",311150,"2021-09-01"]
[1,"Far North District ",2798,"Pukenui","1Pukenui",607600,"2021-09-01"]
[1,"Far North District ",2821,"Opua","1Opua",785900,"2021-09-01"]
[1,"Far North District ",2262,"Waipapa",{"$f":"A386&D386","v":"1Waipapa"},773050,"2021-09-01"]
[1,"Far North District ",2810,"Hihi","1Hihi",630800,"2021-09-01"]
[1,"Far North District ",4086,"Mangonui","1Mangonui",663950,"2021-09-01"]
[1,"Far North District ",2804,"Karikari Peninsula","1Karikari Peninsula",634100,"2021-09-01"]
[1,"Far North District ",2807,"Cable Bay","1Cable Bay",725300,"2021-09-01"]
[1,"Far North District ",4016,"Okaihau","1Okaihau",487000,"2021-09-01"]
[1,"Far North District ",2774,"Opononi","1Opononi",468900,"2021-09-01"]
[1,"Far North District ",2771,"Omapere","1Omapere",540000,"2021-09-01"]
[1,"Far North District ",2793,"Ahipara","1Ahipara",544300,"2021-09-01"]
[1,"Far North District ",2782,"Rawene","1Rawene",428400,"2021-09-01"]
[1,"Far North District ",6569,"Kaeo","1Kaeo",558000,"2021-09-01"]
[1,"Far North District ",2822,"Kawakawa","1Kawakawa",404000,"2021-09-01"]
[28,"Gisborne District ",8886,"Kaiti","28Kaiti",452650,"2021-09-01"]
[28,"Gisborne District ",1933,"Whataupoko","28Whataupoko",809100,"2021-09-01"]
[28,"Gisborne District ",8887,"Lytton West","28Lytton West",981250,"2021-09-01"]
[28,"Gisborne District ",1622,"Te Hapara","28Te Hapara",566550,"2021-09-01"]
[28,"Gisborne District ",1406,"Riverdale","28Riverdale",722300,"2021-09-01"]
[28,"Gisborne District ",2643,"Okitu","28Okitu",989300,"2021-09-01"]
[28,"Gisborne District ",2640,"Tamarau","28Tamarau",461100,"2021-09-01"]
[28,"Gisborne District ",2638,"Inner Kaiti","28Inner Kaiti",682700,"2021-09-01"]
[28,"Gisborne District ",830,"Mangapapa","28Mangapapa",586400,"2021-09-01"]
[28,"Gisborne District ",340,"Elgin","28Elgin",467450,"2021-09-01"]
[28,"Gisborne District ",1171,"Outer Kaiti","28Outer Kaiti",420300,"2021-09-01"]
[74,"Gore District ",322,"East Gore","74East Gore",316000,"2021-09-01"]
[74,"Gore District ",452,"Gore","74Gore",404800,"2021-09-01"]
[56,"Grey District ",1455,"Runanga","56Runanga",192850,"2021-09-01"]
[56,"Grey District ",138,"Blaketown","56Blaketown",240450,"2021-09-01"]
[56,"Grey District ",476,"Greymouth","56Greymouth",331950,"2021-09-01"]
[56,"Grey District ",662,"Karoro","56Karoro",417000,"2021-09-01"]
[56,"Grey District ",8763,"Paroa","56Paroa",441200,"2021-09-01"]
[56,"Grey District ",2360,"Moana","56Moana",480250,"2021-09-01"]
[56,"Grey District ",2511,"Cobden","56Cobden",214600,"2021-09-01"]
[16,"Hamilton City ",1349,"Queenwood","16Queenwood",914600,"2021-09-01"]
[16,"Hamilton City ",221,"Chedworth","16Chedworth",854950,"2021-09-01"]
[16,"Hamilton City ",233,"Claudelands","16Claudelands",750050,"2021-09-01"]
[16,"Hamilton City ",540,"Hillcrest","16Hillcrest",773500,"2021-09-01"]
[16,"Hamilton City ",291,"Dinsdale","16Dinsdale",720150,"2021-09-01"]
[16,"Hamilton City ",2034,"Hamilton Central","16Hamilton Central",728650,"2021-09-01"]
[16,"Hamilton City ",4065,"Hamilton East","16Hamilton East",699500,"2021-09-01"]
[16,"Hamilton City ",1524,"Saint Andrews","16Saint Andrews",829550,"2021-09-01"]
[16,"Hamilton City ",1441,"Rototuna North","16Rototuna North",1034500,"2021-09-01"]
[16,"Hamilton City ",367,"Fairview Downs","16Fairview Downs",712100,"2021-09-01"]
[16,"Hamilton City ",1490,"Silverdale","16Silverdale",703250,"2021-09-01"]
[16,"Hamilton City ",388,"Flagstaff","16Flagstaff",1057900,"2021-09-01"]
[16,"Hamilton City ",1911,"Western Heights","16Western Heights",960250,"2021-09-01"]
[16,"Hamilton City ",285,"Deanwell","16Deanwell",638900,"2021-09-01"]
[16,"Hamilton City ",2157,"Frankton","16Frankton",634300,"2021-09-01"]
[16,"Hamilton City ",444,"Glenview","16Glenview",742900,"2021-09-01"]
[16,"Hamilton City ",914,"Melville","16Melville",636150,"2021-09-01"]
[16,"Hamilton City ",216,"Chartwell","16Chartwell",786800,"2021-09-01"]
[16,"Hamilton City ",392,"Forest Lake","16Forest Lake",743300,"2021-09-01"]
[16,"Hamilton City ",109,"Beerescourt","16Beerescourt",927250,"2021-09-01"]
[16,"Hamilton City ",384,"Fitzroy","16Fitzroy",745750,"2021-09-01"]
[16,"Hamilton City ",1941,"Whitiora","16Whitiora",596700,"2021-09-01"]
[16,"Hamilton City ",790,"Maeroa","16Maeroa",713050,"2021-09-01"]
[16,"Hamilton City ",89,"Bader","16Bader",580550,"2021-09-01"]
[16,"Hamilton City ",1440,"Rototuna","16Rototuna",982650,"2021-09-01"]
[16,"Hamilton City ",346,"Enderley","16Enderley",618900,"2021-09-01"]
[16,"Hamilton City ",2367,"Nawton","16Nawton",658400,"2021-09-01"]
[16,"Hamilton City ",360,"Fairfield","16Fairfield",731200,"2021-09-01"]
[16,"Hamilton City ",503,"Harrowfield","16Harrowfield",1068500,"2021-09-01"]
[16,"Hamilton City ",8687,"Huntington","16Huntington",1036900,"2021-09-01"]
[16,"Hamilton City ",460,"Grandview Heights","16Grandview Heights",865250,"2021-09-01"]
[16,"Hamilton City ",1319,"Pukete","16Pukete",816550,"2021-09-01"]
[16,"Hamilton City ",2298,"Hamilton Lake",{"$f":"A450&D450","v":"16Hamilton Lake"},896000,"2021-09-01"]
[30,"Hastings District ",8800,"Hastings","30Hastings",647550,"2021-09-01"]
[30,"Hastings District ",794,"Mahora","30Mahora",743100,"2021-09-01"]
[30,"Hastings District ",903,"Mayfair","30Mayfair",658350,"2021-09-01"]
[30,"Hastings District ",189,"Camberley","30Camberley",530700,"2021-09-01"]
[30,"Hastings District ",1220,"Parkvale","30Parkvale",698250,"2021-09-01"]
[30,"Hastings District ",1378,"Raureka","30Raureka",668100,"2021-09-01"]
[30,"Hastings District ",402,"Frimley","30Frimley",873350,"2021-09-01"]
[30,"Hastings District ",2611,"Clive","30Clive",865200,"2021-09-01"]
[30,"Hastings District ",389,"Flaxmere","30Flaxmere",493800,"2021-09-01"]
[30,"Hastings District ",509,"Havelock North","30Havelock North",1077700,"2021-09-01"]
[30,"Hastings District ",2625,"Eskdale","30Eskdale",1070750,"2021-09-01"]
[30,"Hastings District ",14,"Akina","30Akina",663000,"2021-09-01"]
[30,"Hastings District ",2616,"Haumoana","30Haumoana",874950,"2021-09-01"]
[30,"Hastings District ",2613,"Te Awanga","30Te Awanga",1034800,"2021-09-01"]
[30,"Hastings District ",1526,"Saint Leonards","30Saint Leonards",680600,"2021-09-01"]
[12,"Hauraki District ",1183,"Paeroa","12Paeroa",574500,"2021-09-01"]
[12,"Hauraki District ",4114,"Turua","12Turua",603100,"2021-09-01"]
[12,"Hauraki District ",3994,"Waihi","12Waihi",613350,"2021-09-01"]
[12,"Hauraki District ",1034,"Ngatea","12Ngatea",640450,"2021-09-01"]
[12,"Hauraki District ",681,"Kerepehi","12Kerepehi",484600,"2021-09-01"]
[42,"Horowhenua District ",8646,"Waitarere Beach","42Waitarere Beach",676600,"2021-09-01"]
[42,"Horowhenua District ",2293,"Manakau","42Manakau",757100,"2021-09-01"]
[42,"Horowhenua District ",2038,"Foxton","42Foxton",488150,"2021-09-01"]
[42,"Horowhenua District ",2370,"Ohau","42Ohau",885500,"2021-09-01"]
[42,"Horowhenua District ",1712,"Tokomaru","42Tokomaru",610000,"2021-09-01"]
[42,"Horowhenua District ",2198,"Levin","42Levin",603300,"2021-09-01"]
[42,"Horowhenua District ",397,"Foxton Beach","42Foxton Beach",627550,"2021-09-01"]
[42,"Horowhenua District ",2247,"Waikawa Beach","42Waikawa Beach",688350,"2021-09-01"]
[58,"Hurunui District ",2060,"Amberley","58Amberley",544700,"2021-09-01"]
[58,"Hurunui District ",498,"Hanmer Springs","58Hanmer Springs",641000,"2021-09-01"]
[58,"Hurunui District ",2321,"Leithfield","58Leithfield",485900,"2021-09-01"]
[75,"Invercargill City ",1951,"Windsor","75Windsor",531700,"2021-09-01"]
[75,"Invercargill City ",1421,"Rockdale","75Rockdale",386250,"2021-09-01"]
[75,"Invercargill City ",8801,"Invercargill","75Invercargill",420000,"2021-09-01"]
[75,"Invercargill City ",1540,"Strathern","75Strathern",353650,"2021-09-01"]
[75,"Invercargill City ",684,"Kew","75Kew",325250,"2021-09-01"]
[75,"Invercargill City ",427,"Glengarry","75Glengarry",402500,"2021-09-01"]
[75,"Invercargill City ",1793,"Waikiwi","75Waikiwi",544700,"2021-09-01"]
[75,"Invercargill City ",408,"Georgetown","75Georgetown",356300,"2021-09-01"]
[75,"Invercargill City ",1430,"Rosedale","75Rosedale",645050,"2021-09-01"]
[75,"Invercargill City ",70,"Avenal","75Avenal",469000,"2021-09-01"]
[75,"Invercargill City ",35,"Appleby","75Appleby",317700,"2021-09-01"]
[75,"Invercargill City ",502,"Hargest","75Hargest",470850,"2021-09-01"]
[75,"Invercargill City ",1890,"Waverley","75Waverley",511400,"2021-09-01"]
[75,"Invercargill City ",1016,"Newfield","75Newfield",413400,"2021-09-01"]
[75,"Invercargill City ",524,"Heidelberg","75Heidelberg",378900,"2021-09-01"]
[75,"Invercargill City ",461,"Grasmere","75Grasmere",433100,"2021-09-01"]
[75,"Invercargill City ",1159,"Otatara","75Otatara",655600,"2021-09-01"]
[75,"Invercargill City ",698,"Kingswell","75Kingswell",367600,"2021-09-01"]
[75,"Invercargill City ",1737,"Turnbull Thomson Park","75Turnbull Thomson Park",364950,"2021-09-01"]
[75,"Invercargill City ",1397,"Richmond","75Richmond",460050,"2021-09-01"]
[75,"Invercargill City ",415,"Gladstone","75Gladstone",585050,"2021-09-01"]
[75,"Invercargill City ",237,"Clifton","75Clifton",327900,"2021-09-01"]
[75,"Invercargill City ",515,"Hawthorndale","75Hawthorndale",450400,"2021-09-01"]
[54,"Kaikoura District ",629,"Kaikoura","54Kaikoura",555300,"2021-09-01"]
[3,"Kaipara District ",2764,"Maungaturoto","3Maungaturoto",551250,"2021-09-01"]
[3,"Kaipara District ",2761,"Kaiwaka","3Kaiwaka",616050,"2021-09-01"]
[3,"Kaipara District ",2855,"Mangawhai Heads","3Mangawhai Heads",1151900,"2021-09-01"]
[3,"Kaipara District ",2778,"Baylys Beach","3Baylys Beach",551700,"2021-09-01"]
[3,"Kaipara District ",2767,"Tinopai","3Tinopai",464800,"2021-09-01"]
[3,"Kaipara District ",6540,"Ruawai","3Ruawai",364200,"2021-09-01"]
[3,"Kaipara District ",283,"Dargaville","3Dargaville",464950,"2021-09-01"]
[3,"Kaipara District ",2856,"Mangawhai","3Mangawhai",979700,"2021-09-01"]
[43,"Kapiti Coast District ",1180,"Paekakariki",{"$f":"A514&D514","v":"43Paekakariki"},986600,"2021-09-01"]
[43,"Kapiti Coast District ",4000,"Otaki","43Otaki",693900,"2021-09-01"]
[43,"Kapiti Coast District ",1209,"Paraparaumu","43Paraparaumu",870050,"2021-09-01"]
[43,"Kapiti Coast District ",2947,"Raumati Beach","43Raumati Beach",963850,"2021-09-01"]
[43,"Kapiti Coast District ",1785,"Waikanae","43Waikanae",954300,"2021-09-01"]
[43,"Kapiti Coast District ",1377,"Raumati South","43Raumati South",982600,"2021-09-01"]
[43,"Kapiti Coast District ",1143,"Otaihanga","43Otaihanga",892300,"2021-09-01"]
[43,"Kapiti Coast District ",1984,"Waikanae Beach","43Waikanae Beach",1065900,"2021-09-01"]
[43,"Kapiti Coast District ",8648,"Te Horo Beach","43Te Horo Beach",807850,"2021-09-01"]
[43,"Kapiti Coast District ",8647,"Otaki Beach","43Otaki Beach",705900,"2021-09-01"]
[43,"Kapiti Coast District ",1210,"Paraparaumu Beach","43Paraparaumu Beach",947850,"2021-09-01"]
[26,"Kawerau District ",2023,"Kawerau","26Kawerau",385950,"2021-09-01"]
[46,"Lower Hutt City ",1003,"Naenae","46Naenae",750550,"2021-09-01"]
[46,"Lower Hutt City ",362,"Fairfield","46Fairfield",953350,"2021-09-01"]
[46,"Lower Hutt City ",1959,"Woburn","46Woburn",1323550,"2021-09-01"]
[46,"Lower Hutt City ",1535,"Stokes Valley","46Stokes Valley",764250,"2021-09-01"]
[46,"Lower Hutt City ",1867,"Waiwhetu","46Waiwhetu",915050,"2021-09-01"]
[46,"Lower Hutt City ",957,"Moera","46Moera",707800,"2021-09-01"]
[46,"Lower Hutt City ",500,"Harbour View","46Harbour View",985650,"2021-09-01"]
[46,"Lower Hutt City ",115,"Belmont","46Belmont",1014450,"2021-09-01"]
[46,"Lower Hutt City ",1818,"Wainuiomata","46Wainuiomata",742050,"2021-09-01"]
[46,"Lower Hutt City ",350,"Epuni","46Epuni",949950,"2021-09-01"]
[46,"Lower Hutt City ",8803,"Hutt Central","46Hutt Central",1196000,"2021-09-01"]
[46,"Lower Hutt City ",147,"Boulcott","46Boulcott",1053800,"2021-09-01"]
[46,"Lower Hutt City ",1570,"Taita","46Taita",751050,"2021-09-01"]
[46,"Lower Hutt City ",19,"Alicetown","46Alicetown",973750,"2021-09-01"]
[46,"Lower Hutt City ",912,"Melling","46Melling",757300,"2021-09-01"]
[46,"Lower Hutt City ",1699,"Tirohanga","46Tirohanga",1117150,"2021-09-01"]
[46,"Lower Hutt City ",2581,"Eastbourne","46Eastbourne",1269350,"2021-09-01"]
[46,"Lower Hutt City ",1887,"Waterloo","46Waterloo",1039100,"2021-09-01"]
[46,"Lower Hutt City ",2575,"Point Howard","46Point Howard",1224650,"2021-09-01"]
[46,"Lower Hutt City ",896,"Maungaraki","46Maungaraki",991200,"2021-09-01"]
[46,"Lower Hutt City ",69,"Avalon","46Avalon",885850,"2021-09-01"]
[46,"Lower Hutt City ",1051,"Normandale","46Normandale",967300,"2021-09-01"]
[46,"Lower Hutt City ",1242,"Petone","46Petone",1010250,"2021-09-01"]
[46,"Lower Hutt City ",721,"Korokoro","46Korokoro",1091000,"2021-09-01"]
[46,"Lower Hutt City ",672,"Kelson","46Kelson",910600,"2021-09-01"]
[65,"MacKenzie District ",8657,"Twizel","65Twizel",569850,"2021-09-01"]
[39,"Manawatu District ",373,"Feilding","39Feilding",649400,"2021-09-01"]
[39,"Manawatu District ",2169,"Himatangi Beach","39Himatangi Beach",548350,"2021-09-01"]
[39,"Manawatu District ",1428,"Rongotea","39Rongotea",581350,"2021-09-01"]
[53,"Marlborough District ",1375,"Rarangi","53Rarangi",837650,"2021-09-01"]
[53,"Marlborough District ",2566,"Waikawa","53Waikawa",788550,"2021-09-01"]
[53,"Marlborough District ",2560,"Havelock","53Havelock",638150,"2021-09-01"]
[53,"Marlborough District ",1515,"Spring Creek","53Spring Creek",553150,"2021-09-01"]
[53,"Marlborough District ",8761,"Burleigh","53Burleigh",880500,"2021-09-01"]
[53,"Marlborough District ",1519,"Springlands","53Springlands",752950,"2021-09-01"]
[53,"Marlborough District ",1244,"Picton","53Picton",585900,"2021-09-01"]
[53,"Marlborough District ",1999,"Renwick","53Renwick",667650,"2021-09-01"]
[53,"Marlborough District ",1957,"Wither Hills","53Wither Hills",896650,"2021-09-01"]
[53,"Marlborough District ",1393,"Redwoodtown","53Redwoodtown",594650,"2021-09-01"]
[53,"Marlborough District ",1410,"Riversdale","53Riversdale",551250,"2021-09-01"]
[53,"Marlborough District ",2551,"Okiwi Bay","53Okiwi Bay",805150,"2021-09-01"]
[53,"Marlborough District ",8798,"Blenheim","53Blenheim",602300,"2021-09-01"]
[53,"Marlborough District ",2558,"Tennyson Inlet","53Tennyson Inlet",653350,"2021-09-01"]
[53,"Marlborough District ",905,"Mayfield","53Mayfield",562900,"2021-09-01"]
[53,"Marlborough District ",612,"Islington","53Islington",575700,"2021-09-01"]
[53,"Marlborough District ",1958,"Witherlea","53Witherlea",683400,"2021-09-01"]
[53,"Marlborough District ",2565,"Anakiwa","53Anakiwa",757350,"2021-09-01"]
[48,"Masterton District ",1498,"Solway","48Solway",637100,"2021-09-01"]
[48,"Masterton District ",2591,"Castlepoint","48Castlepoint",801400,"2021-09-01"]
[48,"Masterton District ",870,"Masterton","48Masterton",585800,"2021-09-01"]
[48,"Masterton District ",735,"Lansdowne","48Lansdowne",644400,"2021-09-01"]
[48,"Masterton District ",8770,"Kuripuni","48Kuripuni",583200,"2021-09-01"]
[15,"Matamata-Piako District ",2013,"Matamata",{"$f":"A578&D578","v":"15Matamata"},673500,"2021-09-01"]
[15,"Matamata-Piako District ",1619,"Te Aroha","15Te Aroha",558100,"2021-09-01"]
[15,"Matamata-Piako District ",2210,"Morrinsville","15Morrinsville",677400,"2021-09-01"]
[31,"Napier City ",2620,"Bay View","31Bay View",939250,"2021-09-01"]
[31,"Napier City ",614,"Jervoistown","31Jervoistown",1167800,"2021-09-01"]
[31,"Napier City ",576,"Hospital Hill","31Hospital Hill",1006750,"2021-09-01"]
[31,"Napier City ",2632,"Poraiti","31Poraiti",1122850,"2021-09-01"]
[31,"Napier City ",2631,"Westshore","31Westshore",1101350,"2021-09-01"]
[31,"Napier City ",2614,"Bluff Hill","31Bluff Hill",1060600,"2021-09-01"]
[31,"Napier City ",1579,"Tamatea","31Tamatea",702600,"2021-09-01"]
[31,"Napier City ",852,"Maraenui","31Maraenui",541650,"2021-09-01"]
[31,"Napier City ",2612,"Te Awa","31Te Awa",883750,"2021-09-01"]
[31,"Napier City ",468,"Greenmeadows","31Greenmeadows",860550,"2021-09-01"]
[31,"Napier City ",1108,"Onekawa","31Onekawa",672050,"2021-09-01"]
[31,"Napier City ",2619,"Napier South","31Napier South",741450,"2021-09-01"]
[31,"Napier City ",1260,"Pirimai","31Pirimai",725750,"2021-09-01"]
[31,"Napier City ",1591,"Taradale","31Taradale",853300,"2021-09-01"]
[31,"Napier City ",859,"Marewa","31Marewa",666200,"2021-09-01"]
[52,"Nelson City ",2540,"Monaco","52Monaco",691650,"2021-09-01"]
[52,"Nelson City ",1707,"Toi Toi","52Toi Toi",551150,"2021-09-01"]
[52,"Nelson City ",348,"Enner Glynn","52Enner Glynn",828500,"2021-09-01"]
[52,"Nelson City ",2546,"Atawhai","52Atawhai",887450,"2021-09-01"]
[52,"Nelson City ",8804,"Nelson","52Nelson",1031350,"2021-09-01"]
[52,"Nelson City ",103,"Beachville","52Beachville",762050,"2021-09-01"]
[52,"Nelson City ",2539,"Stoke","52Stoke",731900,"2021-09-01"]
[52,"Nelson City ",2542,"Britannia Heights","52Britannia Heights",1367450,"2021-09-01"]
[52,"Nelson City ",2543,"Stepneyville","52Stepneyville",1134850,"2021-09-01"]
[52,"Nelson City ",1662,"The Brook","52The Brook",682200,"2021-09-01"]
[52,"Nelson City ",29,"Annesbrook","52Annesbrook",663000,"2021-09-01"]
[52,"Nelson City ",1872,"Wakatu","52Wakatu",704250,"2021-09-01"]
[52,"Nelson City ",1563,"Tahunanui","52Tahunanui",656550,"2021-09-01"]
[52,"Nelson City ",2015,"Maitai","52Maitai",835700,"2021-09-01"]
[52,"Nelson City ",1007,"Nelson South","52Nelson South",738450,"2021-09-01"]
[52,"Nelson City ",129,"Bishopdale","52Bishopdale",707850,"2021-09-01"]
[52,"Nelson City ",1886,"Washington Valley","52Washington Valley",627800,"2021-09-01"]
[52,"Nelson City ",2547,"Marybank","52Marybank",893100,"2021-09-01"]
[52,"Nelson City ",2544,"The Wood","52The Wood",783050,"2021-09-01"]
[33,"New Plymouth District ",920,"Merrilands","33Merrilands",708800,"2021-09-01"]
[33,"New Plymouth District ",1512,"Spotswood","33Spotswood",522500,"2021-09-01"]
[33,"New Plymouth District ",136,"Blagdon","33Blagdon",554250,"2021-09-01"]
[33,"New Plymouth District ",860,"Marfell","33Marfell",452900,"2021-09-01"]
[33,"New Plymouth District ",1896,"Welbourn","33Welbourn",651450,"2021-09-01"]
[33,"New Plymouth District ",2256,"Waiwhakaiho","33Waiwhakaiho",982100,"2021-09-01"]
[33,"New Plymouth District ",1915,"Westown","33Westown",590850,"2021-09-01"]
[33,"New Plymouth District ",398,"Frankleigh Park","33Frankleigh Park",636950,"2021-09-01"]
[33,"New Plymouth District ",2397,"Whalers Gate","33Whalers Gate",693250,"2021-09-01"]
[33,"New Plymouth District ",774,"Lower Vogeltown","33Lower Vogeltown",644000,"2021-09-01"]
[33,"New Plymouth District ",1764,"Vogeltown","33Vogeltown",586700,"2021-09-01"]
[33,"New Plymouth District ",4115,"Waitara","33Waitara",442450,"2021-09-01"]
[33,"New Plymouth District ",8805,"New Plymouth","33New Plymouth",764850,"2021-09-01"]
[33,"New Plymouth District ",164,"Brooklands","33Brooklands",625600,"2021-09-01"]
[33,"New Plymouth District ",2053,"Bell Block","33Bell Block",659150,"2021-09-01"]
[33,"New Plymouth District ",6570,"Moturoa","33Moturoa",653700,"2021-09-01"]
[33,"New Plymouth District ",2950,"Okato","33Okato",518750,"2021-09-01"]
[33,"New Plymouth District ",780,"Lynmouth","33Lynmouth",630000,"2021-09-01"]
[33,"New Plymouth District ",1689,"Highlands Park","33Highlands Park",816350,"2021-09-01"]
[33,"New Plymouth District ",2030,"Hurdon","33Hurdon",691050,"2021-09-01"]
[33,"New Plymouth District ",1755,"Upper Vogeltown","33Upper Vogeltown",621800,"2021-09-01"]
[33,"New Plymouth District ",2155,"Fitzroy","33Fitzroy",781350,"2021-09-01"]
[33,"New Plymouth District ",1070,"Oakura","33Oakura",1080050,"2021-09-01"]
[33,"New Plymouth District ",420,"Glen Avon","33Glen Avon",695600,"2021-09-01"]
[33,"New Plymouth District ",601,"Inglewood","33Inglewood",534200,"2021-09-01"]
[33,"New Plymouth District ",377,"Ferndale","33Ferndale",670500,"2021-09-01"]
[33,"New Plymouth District ",1757,"Urenui","33Urenui",523900,"2021-09-01"]
[27,"Opotiki District ",1120,"Opotiki",{"$f":"A642&D642","v":"27Opotiki"},417150,"2021-09-01"]
[18,"Otorohanga District ",1168,"Otorohanga","18Otorohanga",487150,"2021-09-01"]
[40,"Palmerston North City ",1435,"Roslyn","40Roslyn",624600,"2021-09-01"]
[40,"Palmerston North City ",241,"Cloverlea","40Cloverlea",629250,"2021-09-01"]
[40,"Palmerston North City ",1578,"Takaro","40Takaro",612950,"2021-09-01"]
[40,"Palmerston North City ",1659,"Terrace End","40Terrace End",710550,"2021-09-01"]
[40,"Palmerston North City ",382,"Fitzherbert","40Fitzherbert",963500,"2021-09-01"]
[40,"Palmerston North City ",673,"Kelvin Grove","40Kelvin Grove",812950,"2021-09-01"]
[40,"Palmerston North City ",1904,"West End","40West End",658900,"2021-09-01"]
[40,"Palmerston North City ",559,"Hokowhitu","40Hokowhitu",836100,"2021-09-01"]
[40,"Palmerston North City ",935,"Milson","40Milson",700000,"2021-09-01"]
[40,"Palmerston North City ",8818,"Westbrook","40Westbrook",560000,"2021-09-01"]
[40,"Palmerston North City ",534,"Highbury","40Highbury",596800,"2021-09-01"]
[40,"Palmerston North City ",178,"Bunnythorpe","40Bunnythorpe",787300,"2021-09-01"]
[40,"Palmerston North City ",63,"Ashhurst","40Ashhurst",651650,"2021-09-01"]
[40,"Palmerston North City ",83,"Awapuni","40Awapuni",700200,"2021-09-01"]
[40,"Palmerston North City ",1193,"Palmerston North","40Palmerston North",682750,"2021-09-01"]
[44,"Porirua City ",190,"Camborne","44Camborne",1033800,"2021-09-01"]
[44,"Porirua City ",8655,"Aotea","44Aotea",1355000,"2021-09-01"]
[44,"Porirua City ",1852,"Waitangirua","44Waitangirua",634350,"2021-09-01"]
[44,"Porirua City ",55,"Ascot Park","44Ascot Park",777250,"2021-09-01"]
[44,"Porirua City ",1701,"Titahi Bay","44Titahi Bay",840950,"2021-09-01"]
[44,"Porirua City ",1317,"Pukerua Bay","44Pukerua Bay",980500,"2021-09-01"]
[44,"Porirua City ",1195,"Papakowhai","44Papakowhai",1051900,"2021-09-01"]
[44,"Porirua City ",8938,"Ranui","44Ranui",708300,"2021-09-01"]
[44,"Porirua City ",192,"Cannons Creek","44Cannons Creek",648150,"2021-09-01"]
[44,"Porirua City ",1265,"Plimmerton","44Plimmerton",1078300,"2021-09-01"]
[44,"Porirua City ",2946,"Whitby","44Whitby",1063750,"2021-09-01"]
[44,"Porirua City ",8870,"Takapuwahia","44Takapuwahia",712000,"2021-09-01"]
[44,"Porirua City ",1213,"Paremata","44Paremata",1076850,"2021-09-01"]
[70,"Queenstown-Lakes District ",4051,"Albert Town","70Albert Town",1079300,"2021-09-01"]
[70,"Queenstown-Lakes District ",8706,"Lake Hayes Estate","70Lake Hayes Estate",1110700,"2021-09-01"]
[70,"Queenstown-Lakes District ",8883,"Jacks Point","70Jacks Point",1602400,"2021-09-01"]
[70,"Queenstown-Lakes District ",2200,"Luggate","70Luggate",805300,"2021-09-01"]
[70,"Queenstown-Lakes District ",2065,"Arthurs Point","70Arthurs Point",1223950,"2021-09-01"]
[70,"Queenstown-Lakes District ",2357,"Lower Shotover","70Lower Shotover",1332350,"2021-09-01"]
[70,"Queenstown-Lakes District ",2316,"Kelvin Heights","70Kelvin Heights",2238900,"2021-09-01"]
[70,"Queenstown-Lakes District ",2063,"Arrowtown","70Arrowtown",1774800,"2021-09-01"]
[70,"Queenstown-Lakes District ",2378,"Queenstown","70Queenstown",1313950,"2021-09-01"]
[70,"Queenstown-Lakes District ",2312,"Lake Hawea","70Lake Hawea",952500,"2021-09-01"]
[70,"Queenstown-Lakes District ",2095,"Fernhill","70Fernhill",1128250,"2021-09-01"]
[70,"Queenstown-Lakes District ",2098,"Frankton","70Frankton",1020050,"2021-09-01"]
[70,"Queenstown-Lakes District ",2395,"Wanaka","70Wanaka",1524500,"2021-09-01"]
[70,"Queenstown-Lakes District ",2338,"Sunshine Bay","70Sunshine Bay",938600,"2021-09-01"]
[70,"Queenstown-Lakes District ",2192,"Lake Hayes","70Lake Hayes",2016150,"2021-09-01"]
[38,"Rangitikei District ",2291,"Marton","38Marton",477900,"2021-09-01"]
[38,"Rangitikei District ",2048,"Bulls","38Bulls",516100,"2021-09-01"]
[24,"Rotorua District ",2282,"Owhata","24Owhata",621400,"2021-09-01"]
[24,"Rotorua District ",8774,"Holdens Bay","24Holdens Bay",636450,"2021-09-01"]
[24,"Rotorua District ",8769,"Fenton Park","24Fenton Park",550150,"2021-09-01"]
[24,"Rotorua District ",1696,"Tihiotonga","24Tihiotonga",911500,"2021-09-01"]
[24,"Rotorua District ",813,"Mamaku","24Mamaku",455450,"2021-09-01"]
[24,"Rotorua District ",2239,"Selwyn Heights","24Selwyn Heights",505000,"2021-09-01"]
[24,"Rotorua District ",8880,"Pomare","24Pomare",719300,"2021-09-01"]
[24,"Rotorua District ",2294,"Koutu","24Koutu",483250,"2021-09-01"]
[24,"Rotorua District ",2039,"Fordlands","24Fordlands",382350,"2021-09-01"]
[24,"Rotorua District ",1301,"Pukehangi","24Pukehangi",621200,"2021-09-01"]
[24,"Rotorua District ",8881,"Sunnybrook","24Sunnybrook",640300,"2021-09-01"]
[24,"Rotorua District ",2263,"Victoria","24Victoria",519350,"2021-09-01"]
[24,"Rotorua District ",430,"Glenholme","24Glenholme",635100,"2021-09-01"]
[24,"Rotorua District ",2168,"Hillcrest","24Hillcrest",602000,"2021-09-01"]
[24,"Rotorua District ",8778,"Utuhina","24Utuhina",593000,"2021-09-01"]
[24,"Rotorua District ",1517,"Springfield","24Springfield",792650,"2021-09-01"]
[24,"Rotorua District ",2041,"Fairy Springs","24Fairy Springs",532950,"2021-09-01"]
[24,"Rotorua District ",2253,"Western Heights",{"$f":"A706&D706","v":"24Western Heights"},487350,"2021-09-01"]
[24,"Rotorua District ",2184,"Kawaha Point","24Kawaha Point",724150,"2021-09-01"]
[24,"Rotorua District ",4027,"Ngongotaha","24Ngongotaha",644700,"2021-09-01"]
[24,"Rotorua District ",2201,"Lynmore","24Lynmore",878550,"2021-09-01"]
[24,"Rotorua District ",8773,"Hannahs Bay","24Hannahs Bay",564750,"2021-09-01"]
[24,"Rotorua District ",2358,"Mangakakahi","24Mangakakahi",517550,"2021-09-01"]
[24,"Rotorua District ",3990,"Lake Okareka","24Lake Okareka",1300800,"2021-09-01"]
[36,"Ruapehu District ",1604,"Taumarunui","36Taumarunui",315550,"2021-09-01"]
[36,"Ruapehu District ",1361,"Rangataua","36Rangataua",400750,"2021-09-01"]
[36,"Ruapehu District ",2286,"National Park","36National Park",466800,"2021-09-01"]
[36,"Ruapehu District ",1695,"Raetihi","36Raetihi",313400,"2021-09-01"]
[36,"Ruapehu District ",842,"Manunui","36Manunui",306950,"2021-09-01"]
[36,"Ruapehu District ",1079,"Ohakune","36Ohakune",484450,"2021-09-01"]
[62,"Selwyn District ",2434,"Southbridge","62Southbridge",448650,"2021-09-01"]
[62,"Selwyn District ",2353,"Lincoln","62Lincoln",743300,"2021-09-01"]
[62,"Selwyn District ",2242,"Springston","62Springston",657250,"2021-09-01"]
[62,"Selwyn District ",1424,"Rolleston","62Rolleston",697250,"2021-09-01"]
[62,"Selwyn District ",282,"Darfield","62Darfield",522450,"2021-09-01"]
[62,"Selwyn District ",1907,"West Melton","62West Melton",984450,"2021-09-01"]
[62,"Selwyn District ",2352,"Leeston","62Leeston",527300,"2021-09-01"]
[62,"Selwyn District ",704,"Kirwee","62Kirwee",595350,"2021-09-01"]
[62,"Selwyn District ",1571,"Tai Tapu","62Tai Tapu",798000,"2021-09-01"]
[62,"Selwyn District ",1293,"Prebbleton","62Prebbleton",912500,"2021-09-01"]
[35,"South Taranaki District ",513,"Hawera","35Hawera",453100,"2021-09-01"]
[35,"South Taranaki District ",2400,"Waverley","35Waverley",294950,"2021-09-01"]
[35,"South Taranaki District ",1224,"Patea","35Patea",244300,"2021-09-01"]
[35,"South Taranaki District ",816,"Manaia","35Manaia",287450,"2021-09-01"]
[35,"South Taranaki District ",1050,"Normanby","35Normanby",354500,"2021-09-01"]
[35,"South Taranaki District ",2948,"Opunake","35Opunake",407650,"2021-09-01"]
[35,"South Taranaki District ",343,"Eltham","35Eltham",344000,"2021-09-01"]
[19,"South Waikato District ",4034,"Arapuni","19Arapuni",477900,"2021-09-01"]
[19,"South Waikato District ",1987,"Tokoroa","19Tokoroa",385500,"2021-09-01"]
[19,"South Waikato District ",1339,"Putaruru","19Putaruru",457700,"2021-09-01"]
[19,"South Waikato District ",1697,"Tirau","19Tirau",568250,"2021-09-01"]
[50,"South Wairarapa District ",372,"Featherston","50Featherston",621850,"2021-09-01"]
[50,"South Wairarapa District ",477,"Greytown","50Greytown",889350,"2021-09-01"]
[50,"South Wairarapa District ",866,"Martinborough","50Martinborough",867050,"2021-09-01"]
[50,"South Wairarapa District ",2588,"Cape Palliser","50Cape Palliser",554200,"2021-09-01"]
[73,"Southland District ",330,"Edendale","73Edendale",361650,"2021-09-01"]
[73,"Southland District ",1161,"Otautau","73Otautau",304750,"2021-09-01"]
[73,"Southland District ",1875,"Wallacetown","73Wallacetown",428150,"2021-09-01"]
[73,"Southland District ",1955,"Winton","73Winton",447500,"2021-09-01"]
[73,"Southland District ",8653,"Halfmoon Bay","73Halfmoon Bay",438450,"2021-09-01"]
[73,"Southland District ",8859,"Riverton","73Riverton",515150,"2021-09-01"]
[73,"Southland District ",2436,"Te Anau","73Te Anau",554150,"2021-09-01"]
[34,"Stratford District ",1539,"Stratford","34Stratford",457400,"2021-09-01"]
[41,"Tararua District ",2042,"Dannevirke","41Dannevirke",413950,"2021-09-01"]
[41,"Tararua District ",336,"Eketahuna","41Eketahuna",390050,"2021-09-01"]
[41,"Tararua District ",2223,"Pahiatua","41Pahiatua",464350,"2021-09-01"]
[41,"Tararua District ",1972,"Woodville","41Woodville",414200,"2021-09-01"]
[51,"Tasman District ",2537,"Redwood Valley","51Redwood Valley",1152500,"2021-09-01"]
[51,"Tasman District ",2534,"Motueka","51Motueka",693850,"2021-09-01"]
[51,"Tasman District ",1873,"Wakefield","51Wakefield",726750,"2021-09-01"]
[51,"Tasman District ",2741,"Parapara","51Parapara",805900,"2021-09-01"]
[51,"Tasman District ",2529,"Takaka","51Takaka",590850,"2021-09-01"]
[51,"Tasman District ",2538,"Richmond","51Richmond",813000,"2021-09-01"]
[51,"Tasman District ",2531,"Tata Beach","51Tata Beach",904150,"2021-09-01"]
[51,"Tasman District ",1454,"Ruby Bay","51Ruby Bay",1136100,"2021-09-01"]
[51,"Tasman District ",155,"Brightwater","51Brightwater",771700,"2021-09-01"]
[51,"Tasman District ",850,"Mapua","51Mapua",968100,"2021-09-01"]
[51,"Tasman District ",4125,"Kaiteriteri","51Kaiteriteri",1162300,"2021-09-01"]
[51,"Tasman District ",567,"Hope","51Hope",839450,"2021-09-01"]
[51,"Tasman District ",8839,"St Arnaud","51St Arnaud",659200,"2021-09-01"]
[51,"Tasman District ",2524,"Collingwood","51Collingwood",643100,"2021-09-01"]
[51,"Tasman District ",2533,"Riwaka",{"$f":"A770&D770","v":"51Riwaka"},678350,"2021-09-01"]
[51,"Tasman District ",1268,"Pohara","51Pohara",830050,"2021-09-01"]
[21,"Taupo District ",8860,"Wharewaka","21Wharewaka",1187700,"2021-09-01"]
[21,"Taupo District ",2219,"Omori","21Omori",652250,"2021-09-01"]
[21,"Taupo District ",2211,"Motuoapa","21Motuoapa",730550,"2021-09-01"]
[21,"Taupo District ",2443,"Turangi","21Turangi",445300,"2021-09-01"]
[21,"Taupo District ",8862,"Two Mile Bay","21Two Mile Bay",884150,"2021-09-01"]
[21,"Taupo District ",8865,"Richmond Heights","21Richmond Heights",747050,"2021-09-01"]
[21,"Taupo District ",8863,"Hilltop","21Hilltop",822850,"2021-09-01"]
[21,"Taupo District ",8866,"Tauhara","21Tauhara",545050,"2021-09-01"]
[21,"Taupo District ",8868,"Rangatira Park","21Rangatira Park",885800,"2021-09-01"]
[21,"Taupo District ",8864,"Waipahihi","21Waipahihi",1025700,"2021-09-01"]
[21,"Taupo District ",4098,"Nukuhau","21Nukuhau",816800,"2021-09-01"]
[21,"Taupo District ",2021,"Kuratau","21Kuratau",721350,"2021-09-01"]
[21,"Taupo District ",2442,"Wairakei","21Wairakei",488900,"2021-09-01"]
[21,"Taupo District ",2187,"Kinloch","21Kinloch",1075550,"2021-09-01"]
[21,"Taupo District ",4030,"Mangakino","21Mangakino",434600,"2021-09-01"]
[21,"Taupo District ",3981,"Taupo","21Taupo",686850,"2021-09-01"]
[23,"Tauranga City ",2666,"Welcome Bay","23Welcome Bay",844500,"2021-09-01"]
[23,"Tauranga City ",2664,"Papamoa Beach","23Papamoa Beach",1020350,"2021-09-01"]
[23,"Tauranga City ",1081,"Ohauiti","23Ohauiti",1016500,"2021-09-01"]
[23,"Tauranga City ",162,"Brookfield","23Brookfield",809000,"2021-09-01"]
[23,"Tauranga City ",1271,"Poike","23Poike",670950,"2021-09-01"]
[23,"Tauranga City ",4037,"Otumoetai","23Otumoetai",1038200,"2021-09-01"]
[23,"Tauranga City ",891,"Matua","23Matua",1144850,"2021-09-01"]
[23,"Tauranga City ",4032,"Hairini","23Hairini",769500,"2021-09-01"]
[23,"Tauranga City ",471,"Greerton","23Greerton",735400,"2021-09-01"]
[23,"Tauranga City ",2668,"Mount Maunganui","23Mount Maunganui",1330200,"2021-09-01"]
[23,"Tauranga City ",2667,"Tauranga South","23Tauranga South",882100,"2021-09-01"]
[23,"Tauranga City ",114,"Bellevue","23Bellevue",780650,"2021-09-01"]
[23,"Tauranga City ",1222,"Parkvale","23Parkvale",653400,"2021-09-01"]
[23,"Tauranga City ",120,"Bethlehem","23Bethlehem",1071550,"2021-09-01"]
[23,"Tauranga City ",618,"Judea","23Judea",733000,"2021-09-01"]
[23,"Tauranga City ",1342,"Pyes Pa","23Pyes Pa",1017900,"2021-09-01"]
[23,"Tauranga City ",1197,"Papamoa","23Papamoa",921150,"2021-09-01"]
[23,"Tauranga City ",2670,"Tauranga","23Tauranga",1023450,"2021-09-01"]
[23,"Tauranga City ",898,"Maungatapu","23Maungatapu",916950,"2021-09-01"]
[23,"Tauranga City ",406,"Gate Pa","23Gate Pa",685250,"2021-09-01"]
[11,"Thames-Coromandel District ",2715,"Te Puru","11Te Puru",820050,"2021-09-01"]
[11,"Thames-Coromandel District ",4020,"Whangamata","11Whangamata",1271200,"2021-09-01"]
[11,"Thames-Coromandel District ",2694,"Matarangi","11Matarangi",1080650,"2021-09-01"]
[11,"Thames-Coromandel District ",2681,"Pauanui","11Pauanui",1322300,"2021-09-01"]
[11,"Thames-Coromandel District ",2684,"Hahei","11Hahei",1459750,"2021-09-01"]
[11,"Thames-Coromandel District ",2937,"Tairua","11Tairua",1048650,"2021-09-01"]
[11,"Thames-Coromandel District ",2710,"Coromandel","11Coromandel",671600,"2021-09-01"]
[11,"Thames-Coromandel District ",2687,"Cooks Beach","11Cooks Beach",1318450,"2021-09-01"]
[11,"Thames-Coromandel District ",2713,"Thames","11Thames",672100,"2021-09-01"]
[11,"Thames-Coromandel District ",2717,"Thornton Bay","11Thornton Bay",877600,"2021-09-01"]
[11,"Thames-Coromandel District ",2936,"Whitianga","11Whitianga",958400,"2021-09-01"]
[64,"Timaru District ",857,"Marchwiel","64Marchwiel",430750,"2021-09-01"]
[64,"Timaru District ",1263,"Pleasant Point","64Pleasant Point",443300,"2021-09-01"]
[64,"Timaru District ",679,"Kensington","64Kensington",380550,"2021-09-01"]
[64,"Timaru District ",445,"Glenwood","64Glenwood",462050,"2021-09-01"]
[64,"Timaru District ",1074,"Oceanview","64Oceanview",520450,"2021-09-01"]
[64,"Timaru District ",1888,"Watlington","64Watlington",400400,"2021-09-01"]
[64,"Timaru District ",1476,"Seaview","64Seaview",403100,"2021-09-01"]
[64,"Timaru District ",1219,"Parkside","64Parkside",389600,"2021-09-01"]
[64,"Timaru District ",1903,"West End","64West End",417700,"2021-09-01"]
[64,"Timaru District ",8764,"Maori Hill","64Maori Hill",486750,"2021-09-01"]
[64,"Timaru District ",1806,"Waimataitai","64Waimataitai",422950,"2021-09-01"]
[64,"Timaru District ",1657,"Temuka","64Temuka",405200,"2021-09-01"]
[64,"Timaru District ",432,"Gleniti","64Gleniti",636100,"2021-09-01"]
[64,"Timaru District ",535,"Highfield","64Highfield",503900,"2021-09-01"]
[64,"Timaru District ",409,"Geraldine","64Geraldine",466800,"2021-09-01"]
[45,"Upper Hutt City ",8643,"Riverstone Terraces",{"$f":"A834&D834","v":"45Riverstone Terraces"},1190950,"2021-09-01"]
[45,"Upper Hutt City ",1633,"Te Marua","45Te Marua",861700,"2021-09-01"]
[45,"Upper Hutt City ",528,"Heretaunga","45Heretaunga",1032950,"2021-09-01"]
[45,"Upper Hutt City ",328,"Ebdentown","45Ebdentown",818400,"2021-09-01"]
[45,"Upper Hutt City ",1684,"Timberlea","45Timberlea",889400,"2021-09-01"]
[45,"Upper Hutt City ",1876,"Wallaceville","45Wallaceville",785100,"2021-09-01"]
[45,"Upper Hutt City ",1721,"Totara Park","45Totara Park",793200,"2021-09-01"]
[45,"Upper Hutt City ",849,"Maoribank","45Maoribank",738950,"2021-09-01"]
[45,"Upper Hutt City ",1726,"Trentham","45Trentham",850550,"2021-09-01"]
[45,"Upper Hutt City ",2044,"Clouston Park","45Clouston Park",799150,"2021-09-01"]
[45,"Upper Hutt City ",124,"Birchville","45Birchville",814900,"2021-09-01"]
[45,"Upper Hutt City ",1251,"Pinehaven","45Pinehaven",884650,"2021-09-01"]
[45,"Upper Hutt City ",168,"Brown Owl","45Brown Owl",904900,"2021-09-01"]
[45,"Upper Hutt City ",337,"Elderslea","45Elderslea",886150,"2021-09-01"]
[45,"Upper Hutt City ",1491,"Silverstream","45Silverstream",1021200,"2021-09-01"]
[13,"Waikato District ",6539,"Port Waikato","13Port Waikato",548100,"2021-09-01"]
[13,"Waikato District ",4106,"Raglan","13Raglan",949100,"2021-09-01"]
[13,"Waikato District ",917,"Meremere","13Meremere",422600,"2021-09-01"]
[13,"Waikato District ",2274,"Taupiri","13Taupiri",621150,"2021-09-01"]
[13,"Waikato District ",3997,"Huntly","13Huntly",456400,"2021-09-01"]
[13,"Waikato District ",2369,"Ngaruawahia","13Ngaruawahia",558150,"2021-09-01"]
[13,"Waikato District ",2270,"Te Kauwhata","13Te Kauwhata",668350,"2021-09-01"]
[13,"Waikato District ",4113,"Tuakau","13Tuakau",680100,"2021-09-01"]
[13,"Waikato District ",1273,"Pokeno","13Pokeno",930300,"2021-09-01"]
[13,"Waikato District ",2384,"Tamahere","13Tamahere",896000,"2021-09-01"]
[13,"Waikato District ",174,"Buckland","13Buckland",1015250,"2021-09-01"]
[13,"Waikato District ",575,"Horotiu","13Horotiu",633500,"2021-09-01"]
[59,"Waimakariri District ",623,"Kaiapoi","59Kaiapoi",549200,"2021-09-01"]
[59,"Waimakariri District ",1178,"Oxford","59Oxford",520050,"2021-09-01"]
[59,"Waimakariri District ",1799,"Waikuku Beach","59Waikuku Beach",548900,"2021-09-01"]
[59,"Waimakariri District ",1964,"Woodend Beach","59Woodend Beach",672250,"2021-09-01"]
[59,"Waimakariri District ",1253,"The Pines Beach","59The Pines Beach",465600,"2021-09-01"]
[59,"Waimakariri District ",1963,"Woodend","59Woodend",598500,"2021-09-01"]
[59,"Waimakariri District ",1362,"Rangiora","59Rangiora",587200,"2021-09-01"]
[59,"Waimakariri District ",8790,"Pegasus","59Pegasus",678200,"2021-09-01"]
[66,"Waimate District ",1807,"Waimate","66Waimate",375350,"2021-09-01"]
[17,"Waipa District ",740,"Leamington","17Leamington",845450,"2021-09-01"]
[17,"Waipa District ",688,"Kihikihi","17Kihikihi",636500,"2021-09-01"]
[17,"Waipa District ",2217,"Ohaupo","17Ohaupo",674500,"2021-09-01"]
[17,"Waipa District ",1261,"Pirongia","17Pirongia",782250,"2021-09-01"]
[17,"Waipa District ",2046,"Cambridge","17Cambridge",1005750,"2021-09-01"]
[17,"Waipa District ",2272,"Te Awamutu","17Te Awamutu",677500,"2021-09-01"]
[29,"Wairoa District ",2622,"Wairoa","29Wairoa",250700,"2021-09-01"]
[68,"Waitaki District ",1192,"Palmerston","68Palmerston",365000,"2021-09-01"]
[68,"Waitaki District ",2471,"Kakanui","68Kakanui",501550,"2021-09-01"]
[68,"Waitaki District ",4046,"Oamaru North","68Oamaru North",421400,"2021-09-01"]
[68,"Waitaki District ",1914,"Weston","68Weston",508450,"2021-09-01"]
[68,"Waitaki District ",560,"Holmes Hill","68Holmes Hill",480950,"2021-09-01"]
[68,"Waitaki District ",2333,"Otematata","68Otematata",480000,"2021-09-01"]
[68,"Waitaki District ",2318,"Kurow","68Kurow",389700,"2021-09-01"]
[68,"Waitaki District ",1505,"South Hill","68South Hill",459700,"2021-09-01"]
[68,"Waitaki District ",2427,"Omarama","68Omarama",532800,"2021-09-01"]
[68,"Waitaki District ",8807,"Oamaru","68Oamaru",397050,"2021-09-01"]
[20,"Waitomo District ",1630,"Te Kuiti","20Te Kuiti",343300,"2021-09-01"]
[47,"Wellington City ",473,"Grenada Village","47Grenada Village",1149300,"2021-09-01"]
[47,"Wellington City ",533,"Highbury","47Highbury",1389150,"2021-09-01"]
[47,"Wellington City ",577,"Houghton Bay","47Houghton Bay",1267200,"2021-09-01"]
[47,"Wellington City ",165,"Brooklyn","47Brooklyn",1256150,"2021-09-01"]
[47,"Wellington City ",2569,"Maupuia","47Maupuia",1080300,"2021-09-01"]
[47,"Wellington City ",1618,"Te Aro","47Te Aro",716650,"2021-09-01"]
[47,"Wellington City ",1017,"Newlands","47Newlands",965850,"2021-09-01"]
[47,"Wellington City ",1020,"Newtown","47Newtown",1106600,"2021-09-01"]
[47,"Wellington City ",119,"Berhampore","47Berhampore",971200,"2021-09-01"]
[47,"Wellington City ",1610,"Tawa","47Tawa",993550,"2021-09-01"]
[47,"Wellington City ",690,"Kilbirnie",{"$f":"A898&D898","v":"47Kilbirnie"},1058550,"2021-09-01"]
[47,"Wellington City ",939,"Miramar","47Miramar",1178500,"2021-09-01"]
[47,"Wellington City ",670,"Kelburn","47Kelburn",1704800,"2021-09-01"]
[47,"Wellington City ",267,"Crofton Downs","47Crofton Downs",1206850,"2021-09-01"]
[47,"Wellington City ",1427,"Rongotai","47Rongotai",1125200,"2021-09-01"]
[47,"Wellington City ",1765,"Wadestown","47Wadestown",1535700,"2021-09-01"]
[47,"Wellington City ",1201,"Paparangi","47Paparangi",980150,"2021-09-01"]
[47,"Wellington City ",159,"Broadmeadows","47Broadmeadows",1033650,"2021-09-01"]
[47,"Wellington City ",686,"Khandallah","47Khandallah",1516750,"2021-09-01"]
[47,"Wellington City ",913,"Melrose","47Melrose",1274550,"2021-09-01"]
[47,"Wellington City ",2571,"Roseneath","47Roseneath",1743450,"2021-09-01"]
[47,"Wellington City ",960,"Mornington","47Mornington",1161600,"2021-09-01"]
[47,"Wellington City ",997,"Mount Victoria","47Mount Victoria",1343350,"2021-09-01"]
[47,"Wellington City ",225,"Churton Park","47Churton Park",1233050,"2021-09-01"]
[47,"Wellington City ",1025,"Ngaio","47Ngaio",1265600,"2021-09-01"]
[47,"Wellington City ",1177,"Owhiro Bay","47Owhiro Bay",1108950,"2021-09-01"]
[47,"Wellington City ",1947,"Wilton","47Wilton",1122900,"2021-09-01"]
[47,"Wellington City ",1672,"Thorndon","47Thorndon",1037050,"2021-09-01"]
[47,"Wellington City ",606,"Island Bay","47Island Bay",1342000,"2021-09-01"]
[47,"Wellington City ",2573,"Wellington Central","47Wellington Central",526100,"2021-09-01"]
[47,"Wellington City ",2570,"Hataitai","47Hataitai",1357500,"2021-09-01"]
[47,"Wellington City ",615,"Johnsonville","47Johnsonville",979400,"2021-09-01"]
[47,"Wellington City ",1508,"Southgate","47Southgate",1239150,"2021-09-01"]
[47,"Wellington City ",2730,"Mount Cook","47Mount Cook",870050,"2021-09-01"]
[47,"Wellington City ",51,"Aro Valley","47Aro Valley",1100050,"2021-09-01"]
[47,"Wellington City ",2567,"Seatoun","47Seatoun",1928200,"2021-09-01"]
[47,"Wellington City ",1064,"Northland","47Northland",1336550,"2021-09-01"]
[47,"Wellington City ",1542,"Strathmore Park","47Strathmore Park",1183400,"2021-09-01"]
[47,"Wellington City ",778,"Lyall Bay","47Lyall Bay",1147150,"2021-09-01"]
[47,"Wellington City ",661,"Karori","47Karori",1292150,"2021-09-01"]
[47,"Wellington City ",696,"Kingston","47Kingston",1022200,"2021-09-01"]
[47,"Wellington City ",2568,"Karaka Bays","47Karaka Bays",1825750,"2021-09-01"]
[47,"Wellington City ",1969,"Woodridge","47Woodridge",1119450,"2021-09-01"]
[47,"Wellington City ",1763,"Vogeltown","47Vogeltown",1111900,"2021-09-01"]
[22,"Western Bay of Plenty District ",1303,"Pukehina","22Pukehina",1003750,"2021-09-01"]
[22,"Western Bay of Plenty District ",2938,"Athenree","22Athenree",880700,"2021-09-01"]
[22,"Western Bay of Plenty District ",2675,"Katikati","22Katikati",724600,"2021-09-01"]
[22,"Western Bay of Plenty District ",8758,"Bowentown","22Bowentown",1142350,"2021-09-01"]
[22,"Western Bay of Plenty District ",2677,"Waihi Beach","22Waihi Beach",1225800,"2021-09-01"]
[22,"Western Bay of Plenty District ",1639,"Te Puke","22Te Puke",689450,"2021-09-01"]
[22,"Western Bay of Plenty District ",2674,"Aongatete","22Aongatete",858200,"2021-09-01"]
[22,"Western Bay of Plenty District ",2662,"Paengaroa","22Paengaroa",669150,"2021-09-01"]
[22,"Western Bay of Plenty District ",2673,"Omokoroa","22Omokoroa",1016500,"2021-09-01"]
[57,"Westland District ",556,"Hokitika","57Hokitika",338800,"2021-09-01"]
[57,"Westland District ",653,"Kaniere","57Kaniere",386200,"2021-09-01"]
[25,"Whakatane District ",247,"Coastlands","25Coastlands",861600,"2021-09-01"]
[25,"Whakatane District ",331,"Edgecumbe","25Edgecumbe",511350,"2021-09-01"]
[25,"Whakatane District ",881,"Matata","25Matata",613550,"2021-09-01"]
[25,"Whakatane District ",1920,"Whakatane","25Whakatane",645600,"2021-09-01"]
[37,"Whanganui District ",38,"Aramoho","37Aramoho",454000,"2021-09-01"]
[37,"Whanganui District ",1994,"Saint Johns Hill","37Saint Johns Hill",668200,"2021-09-01"]
[37,"Whanganui District ",250,"College Estate","37College Estate",614300,"2021-09-01"]
[37,"Whanganui District ",1340,"Putiki","37Putiki",613150,"2021-09-01"]
[37,"Whanganui District ",1881,"Wanganui East","37Wanganui East",476150,"2021-09-01"]
[37,"Whanganui District ",8811,"Wanganui","37Wanganui",429150,"2021-09-01"]
[37,"Whanganui District ",305,"Durie Hill","37Durie Hill",599750,"2021-09-01"]
[37,"Whanganui District ",1615,"Tawhero","37Tawhero",550400,"2021-09-01"]
[37,"Whanganui District ",1520,"Springvale","37Springvale",596700,"2021-09-01"]
[37,"Whanganui District ",4061,"Gonville","37Gonville",444700,"2021-09-01"]
[37,"Whanganui District ",2221,"Otamatea","37Otamatea",840550,"2021-09-01"]
[37,"Whanganui District ",203,"Castlecliff","37Castlecliff",421000,"2021-09-01"]
[37,"Whanganui District ",724,"Bastia Hill","37Bastia Hill",637800,"2021-09-01"]
[2,"Whangarei District ",568,"Horahora","2Horahora",645900,"2021-09-01"]
[2,"Whangarei District ",900,"Maunu","2Maunu",843500,"2021-09-01"]
[2,"Whangarei District ",2835,"Tamaterau",{"$f":"A962&D962","v":"2Tamaterau"},1000350,"2021-09-01"]
[2,"Whangarei District ",2251,"Whau Valley","2Whau Valley",639800,"2021-09-01"]
[2,"Whangarei District ",2829,"Oakura","2Oakura",906600,"2021-09-01"]
[2,"Whangarei District ",2844,"Morningside","2Morningside",577000,"2021-09-01"]
[2,"Whangarei District ",680,"Kensington","2Kensington",628350,"2021-09-01"]
[2,"Whangarei District ",537,"Hikurangi","2Hikurangi",501800,"2021-09-01"]
[2,"Whangarei District ",2025,"Kamo","2Kamo",698600,"2021-09-01"]
[2,"Whangarei District ",8760,"One Tree Point","2One Tree Point",1045000,"2021-09-01"]
[2,"Whangarei District ",1679,"Tikipunga","2Tikipunga",596100,"2021-09-01"]
[2,"Whangarei District ",2838,"Onerahi","2Onerahi",645650,"2021-09-01"]
[2,"Whangarei District ",2857,"Ruakaka","2Ruakaka",801450,"2021-09-01"]
[2,"Whangarei District ",2834,"Whangarei Heads","2Whangarei Heads",917700,"2021-09-01"]
[2,"Whangarei District ",1413,"Riverside","2Riverside",704150,"2021-09-01"]
[2,"Whangarei District ",2843,"Raumanga","2Raumanga",497100,"2021-09-01"]
[2,"Whangarei District ",2837,"Parua Bay","2Parua Bay",904200,"2021-09-01"]
[2,"Whangarei District ",2854,"Waipu","2Waipu",913950,"2021-09-01"]
[2,"Whangarei District ",2828,"Ngunguru","2Ngunguru",957550,"2021-09-01"]
[2,"Whangarei District ",71,"Avenues","2Avenues",556800,"2021-09-01"]
[2,"Whangarei District ",1388,"Regent","2Regent",664200,"2021-09-01"]
[2,"Whangarei District ",1966,"Woodhill","2Woodhill",605500,"2021-09-01"]
[2,"Whangarei District ",2842,"Parahaki","2Parahaki",666750,"2021-09-01"]
[null,null,null,"",""]
[null,null,null,"",""]
[null,null,null,"",""]
[null,null,null,"",""]
[null,null,null,"",""]
[null,null,null,"",""]
[null,null,null,"",""]
[null,null,null,"",""]
[null,null,null,"",""]
[null,null,null,"",""]
[null,null,null,"",""]
[null,null,null,"",""]
[null,null,null,"",""]
[null,null,null,"",""]
[null,null,null,"",""]
[null,null,null,"",""]
[null,null,null,"",""]
[null,null,null,"",""]
[null,null,null,"",""]
[null,null,null,"",""]
[null,null,null,"",""]
[null,null,null,"",""]
[null,null,null,"",""]
[null,null,null,"",""]
[null,null,null,"",""]
[null,null,null,"",""]
[null,null,null,"",""]
[null,null,null,"",""]
[null,null,null,"",""]

{"sheet":"Capital Growth Rates Suburb","index":17,"n_rows":1038,"n_cols":14,"rows_kept":1038,"cut":false,"hidden":true,"merged":[]}
["Area","Area Substitute","suburb","Helper","CGR 09/21",null,"Property #1"]
["Auckland",{"$f":"VLOOKUP(A2,'TA Substitutes'!$A$1:$B$67,2,FALSE)","v":"Auckland"},"Auckland Central",{"$f":"B2&C2","v":"AucklandAuckland Central"},4.6831209924719452E-2,null,"Territorial Authority",{"$f":"'Property Set Up'!C13","v":"Christchurch"}]
["Auckland",{"$f":"VLOOKUP(A3,'TA Substitutes'!$A$1:$B$67,2,FALSE)","v":"Auckland"},"Avondale",{"$f":"B3&C3","v":"AucklandAvondale"},8.1232874154304024E-2,null,"Suburb Name",{"$f":"'Property Set Up'!C15","v":"Addington"}]
["Auckland",{"$f":"VLOOKUP(A4,'TA Substitutes'!$A$1:$B$67,2,FALSE)","v":"Auckland"},"Blockhouse Bay","AucklandBlockhouse Bay",8.2361249786034874E-2,null,"Capital Growth Rate",{"$f":"VLOOKUP(H2&H3,$D$1:$E$1100,2,FALSE)","v":6.278268088902994E-2},null,null,null,"While we don't have capital growth data for ",null,"The average capital growth rate of the suburb that your property is in will display here. Scroll back up and select a council area and suburb to see information about the capital growth rate of the market that your property operates within."]
["Auckland",{"$f":"VLOOKUP(A5,'TA Substitutes'!$A$1:$B$67,2,FALSE)","v":"Auckland"},"Eden Terrace","AucklandEden Terrace",6.6923797318174882E-2,null,null,null,null,null,null,{"$f":"H3&\", \"&H2","v":"Addington, Christchurch"}]
["Auckland",{"$f":"VLOOKUP(A6,'TA Substitutes'!$A$1:$B$67,2,FALSE)","v":"Auckland"},"Ellerslie","AucklandEllerslie",8.216231864841661E-2,null,null,"Between Jan 2000 and Sep 2021, ",null,null,null," between Jan '00 and Mar '21, the average house value in "]
["Auckland",{"$f":"VLOOKUP(A7,'TA Substitutes'!$A$1:$B$67,2,FALSE)","v":"Auckland"},"Epsom","AucklandEpsom",7.9687018276370702E-2,null,null,{"$f":"H3","v":"Addington"},null,null,null,{"$f":"H2","v":"Christchurch"}]
["Auckland",{"$f":"VLOOKUP(A8,'TA Substitutes'!$A$1:$B$67,2,FALSE)","v":"Auckland"},"Freemans Bay","AucklandFreemans Bay",8.1526985590410161E-2,null,null," experienced an average annual capital growth rate of ",null,null,null," grew by "]
["Auckland",{"$f":"VLOOKUP(A9,'TA Substitutes'!$A$1:$B$67,2,FALSE)","v":"Auckland"},"Glen Innes","AucklandGlen Innes",8.6310705039980284E-2,null,null,{"$f":"TEXT(H4,\"#.##%\")","v":"6.28%"},null,null,null,{"$f":"TEXT(VLOOKUP(H2,'Capital Growth Rates TA'!A1:B67,2,FALSE),\"#.##%\")","v":"6.2%"}]
["Auckland",{"$f":"VLOOKUP(A10,'TA Substitutes'!$A$1:$B$67,2,FALSE)","v":"Auckland"},"Glendowie","AucklandGlendowie",8.7495996759626937E-2,null,null," according to Core Logic Data.",null,null,null," per year over that period according to the REINZ House Price Index."]
["Auckland",{"$f":"VLOOKUP(A11,'TA Substitutes'!$A$1:$B$67,2,FALSE)","v":"Auckland"},"Grafton","AucklandGrafton",5.3871627688944157E-2]
["Auckland",{"$f":"VLOOKUP(A12,'TA Substitutes'!$A$1:$B$67,2,FALSE)","v":"Auckland"},"Greenlane","AucklandGreenlane",8.3139538040488903E-2,null,null,{"$f":"CONCATENATE(H6,H7,H8,H9,H10)","v":"Between Jan 2000 and Sep 2021, Addington experienced an average annual capital growth rate of 6.28% according to Core Logic Data."},null,null,null,{"$f":"CONCATENATE(L4,L5,L6,L7,L8,L9,L10)","v":"While we don't have capital growth data for Addington, Christchurch between Jan '00 and Mar '21, the average house value in Christchurch grew by 6.2% per year over that period according to the REINZ House Price Index."}]
["Auckland",{"$f":"VLOOKUP(A13,'TA Substitutes'!$A$1:$B$67,2,FALSE)","v":"Auckland"},"Grey Lynn","AucklandGrey Lynn",9.1367653945301885E-2]
["Auckland",{"$f":"VLOOKUP(A14,'TA Substitutes'!$A$1:$B$67,2,FALSE)","v":"Auckland"},"Herne Bay","AucklandHerne Bay","",null,null,{"$f":"IFERROR(IF(H3=0,N4,IF(H4=\"\",L12,H12)),L12)","v":"Between Jan 2000 and Sep 2021, Addington experienced an average annual capital growth rate of 6.28% according to Core Logic Data."}]
["Auckland",{"$f":"VLOOKUP(A15,'TA Substitutes'!$A$1:$B$67,2,FALSE)","v":"Auckland"},"Hillsborough","AucklandHillsborough",5.5129076595475279E-2]
["Auckland",{"$f":"VLOOKUP(A16,'TA Substitutes'!$A$1:$B$67,2,FALSE)","v":"Auckland"},"Kingsland","AucklandKingsland",8.7940426696788698E-2]
["Auckland",{"$f":"VLOOKUP(A17,'TA Substitutes'!$A$1:$B$67,2,FALSE)","v":"Auckland"},"Kohimarama","AucklandKohimarama",7.6108224957564197E-2,null,"Property #2"]
["Auckland",{"$f":"VLOOKUP(A18,'TA Substitutes'!$A$1:$B$67,2,FALSE)","v":"Auckland"},"Lynfield","AucklandLynfield",7.5101985539856253E-2,null,"Territorial Authority",{"$f":"'Property Set Up'!D$13","v":0}]
["Auckland",{"$f":"VLOOKUP(A19,'TA Substitutes'!$A$1:$B$67,2,FALSE)","v":"Auckland"},"Meadowbank","AucklandMeadowbank",8.7323527215810604E-2,null,"Suburb Name",{"$f":"'Property Set Up'!D$15","v":0}]
["Auckland",{"$f":"VLOOKUP(A20,'TA Substitutes'!$A$1:$B$67,2,FALSE)","v":"Auckland"},"Mission Bay","AucklandMission Bay",7.8551561439438533E-2,null,"Capital Growth Rate",{"$f":"VLOOKUP(H18&H19,$D$1:$E$1100,2,FALSE)","v":{"$error":"#N/A"}},null,null,null,"While we don't have capital growth data for ",null,"The average capital growth rate of the suburb that your property is in will display here. Scroll back up and select a council area and suburb to see information about the capital growth rate of the market that your property operates within."]
["Auckland",{"$f":"VLOOKUP(A21,'TA Substitutes'!$A$1:$B$67,2,FALSE)","v":"Auckland"},"Morningside","AucklandMorningside",8.7827464359930607E-2,null,null,null,null,null,null,{"$f":"H19&\", \"&H18","v":"0, 0"}]
["Auckland",{"$f":"VLOOKUP(A22,'TA Substitutes'!$A$1:$B$67,2,FALSE)","v":"Auckland"},"Mount Albert","AucklandMount Albert",8.6188936806918193E-2,null,null,"Between Jan 2000 and Sep 2021, ",null,null,null," between Jan '00 and Mar '21, the average house value in "]
["Auckland",{"$f":"VLOOKUP(A23,'TA Substitutes'!$A$1:$B$67,2,FALSE)","v":"Auckland"},"Mount Eden","AucklandMount Eden",8.7235081584092766E-2,null,null,{"$f":"H19","v":0},null,null,null,{"$f":"H18","v":0}]
["Auckland",{"$f":"VLOOKUP(A24,'TA Substitutes'!$A$1:$B$67,2,FALSE)","v":"Auckland"},"Mount Roskill","AucklandMount Roskill",7.9468235735081327E-2,null,null," experienced an average annual capital growth rate of ",null,null,null," grew by "]
["Auckland",{"$f":"VLOOKUP(A25,'TA Substitutes'!$A$1:$B$67,2,FALSE)","v":"Auckland"},"Mount Wellington","AucklandMount Wellington",8.6093934993613841E-2,null,null,{"$f":"TEXT(H20,\"#.##%\")","v":{"$error":"#N/A"}},null,null,null,{"$f":"TEXT(VLOOKUP(H18,'Capital Growth Rates TA'!A1:B83,2,FALSE),\"#.##%\")","v":{"$error":"#N/A"}}]
["Auckland",{"$f":"VLOOKUP(A26,'TA Substitutes'!$A$1:$B$67,2,FALSE)","v":"Auckland"},"New Windsor","AucklandNew Windsor",8.5499165000507693E-2,null,null," according to Core Logic Data.",null,null,null," per year over that period according to the REINZ House Price Index."]
["Auckland",{"$f":"VLOOKUP(A27,'TA Substitutes'!$A$1:$B$67,2,FALSE)","v":"Auckland"},"One Tree Hill","AucklandOne Tree Hill",8.4437889157882751E-2]
["Auckland",{"$f":"VLOOKUP(A28,'TA Substitutes'!$A$1:$B$67,2,FALSE)","v":"Auckland"},"Onehunga","AucklandOnehunga",8.439903585277797E-2,null,null,{"$f":"CONCATENATE(H22,H23,H24,H25,H26)","v":{"$error":"#N/A"}},null,null,null,{"$f":"CONCATENATE(L20,L21,L22,L23,L24,L25,L26)","v":{"$error":"#N/A"}}]
["Auckland",{"$f":"VLOOKUP(A29,'TA Substitutes'!$A$1:$B$67,2,FALSE)","v":"Auckland"},"Oneroa","AucklandOneroa",9.3804702100874104E-2]
["Auckland",{"$f":"VLOOKUP(A30,'TA Substitutes'!$A$1:$B$67,2,FALSE)","v":"Auckland"},"Onetangi","AucklandOnetangi","",null,null,{"$f":"IFERROR(IF(H19=0,N20,IF(H20=\"\",L28,H28)),L28)","v":"The average capital growth rate of the suburb that your property is in will display here. Scroll back up and select a council area and suburb to see information about the capital growth rate of the market that your property operates within."}]
["Auckland",{"$f":"VLOOKUP(A31,'TA Substitutes'!$A$1:$B$67,2,FALSE)","v":"Auckland"},"Orakei","AucklandOrakei",8.5065582510991611E-2]
["Auckland",{"$f":"VLOOKUP(A32,'TA Substitutes'!$A$1:$B$67,2,FALSE)","v":"Auckland"},"Ostend","AucklandOstend",8.697149688205652E-2]
["Auckland",{"$f":"VLOOKUP(A33,'TA Substitutes'!$A$1:$B$67,2,FALSE)","v":"Auckland"},"Otahuhu","AucklandOtahuhu",8.5211366990331161E-2,null,"Property #2"]
["Auckland",{"$f":"VLOOKUP(A34,'TA Substitutes'!$A$1:$B$67,2,FALSE)","v":"Auckland"},"Panmure","AucklandPanmure",8.6925606458611471E-2,null,"Territorial Authority",{"$f":"'Property Set Up'!E$13","v":0}]
["Auckland",{"$f":"VLOOKUP(A35,'TA Substitutes'!$A$1:$B$67,2,FALSE)","v":"Auckland"},"Parnell","AucklandParnell",7.5675469518703853E-2,null,"Suburb Name",{"$f":"'Property Set Up'!E$15","v":0}]
["Auckland",{"$f":"VLOOKUP(A36,'TA Substitutes'!$A$1:$B$67,2,FALSE)","v":"Auckland"},"Point Chevalier","AucklandPoint Chevalier",9.7208270713819989E-2,null,"Capital Growth Rate",{"$f":"VLOOKUP(H34&H35,$D$1:$E$1100,2,FALSE)","v":{"$error":"#N/A"}},null,null,null,"While we don't have capital growth data for ",null,"The average capital growth rate of the suburb that your property is in will display here. Scroll back up and select a council area and suburb to see information about the capital growth rate of the market that your property operates within."]
["Auckland",{"$f":"VLOOKUP(A37,'TA Substitutes'!$A$1:$B$67,2,FALSE)","v":"Auckland"},"Point England","AucklandPoint England","",null,null,null,null,null,null,{"$f":"H35&\", \"&H34","v":"0, 0"}]
["Auckland",{"$f":"VLOOKUP(A38,'TA Substitutes'!$A$1:$B$67,2,FALSE)","v":"Auckland"},"Ponsonby","AucklandPonsonby",9.66343088602033E-2,null,null,"Between Jan 2000 and Sep 2021, ",null,null,null," between Jan '00 and Mar '21, the average house value in "]
["Auckland",{"$f":"VLOOKUP(A39,'TA Substitutes'!$A$1:$B$67,2,FALSE)","v":"Auckland"},"Remuera","AucklandRemuera",8.1933707660394095E-2,null,null,{"$f":"H35","v":0},null,null,null,{"$f":"H34","v":0}]
["Auckland",{"$f":"VLOOKUP(A40,'TA Substitutes'!$A$1:$B$67,2,FALSE)","v":"Auckland"},"Royal Oak","AucklandRoyal Oak",8.1637167193917781E-2,null,null," experienced an average annual capital growth rate of ",null,null,null," grew by "]
["Auckland",{"$f":"VLOOKUP(A41,'TA Substitutes'!$A$1:$B$67,2,FALSE)","v":"Auckland"},"Saint Johns","AucklandSaint Johns",8.3044874441291272E-2,null,null,{"$f":"TEXT(H36,\"#.##%\")","v":{"$error":"#N/A"}},null,null,null,{"$f":"TEXT(VLOOKUP(H34,'Capital Growth Rates TA'!A1:B99,2,FALSE),\"#.##%\")","v":{"$error":"#N/A"}}]
["Auckland",{"$f":"VLOOKUP(A42,'TA Substitutes'!$A$1:$B$67,2,FALSE)","v":"Auckland"},"Saint Marys Bay","AucklandSaint Marys Bay",8.9456021297636301E-2,null,null," according to Core Logic Data.",null,null,null," per year over that period according to the REINZ House Price Index."]
["Auckland",{"$f":"VLOOKUP(A43,'TA Substitutes'!$A$1:$B$67,2,FALSE)","v":"Auckland"},"Sandringham","AucklandSandringham",8.845309613797081E-2]
["Auckland",{"$f":"VLOOKUP(A44,'TA Substitutes'!$A$1:$B$67,2,FALSE)","v":"Auckland"},"St Heliers","AucklandSt Heliers",7.888684380327704E-2,null,null,{"$f":"CONCATENATE(H38,H39,H40,H41,H42)","v":{"$error":"#N/A"}},null,null,null,{"$f":"CONCATENATE(L36,L37,L38,L39,L40,L41,L42)","v":{"$error":"#N/A"}}]
["Auckland",{"$f":"VLOOKUP(A45,'TA Substitutes'!$A$1:$B$67,2,FALSE)","v":"Auckland"},"Surfdale","AucklandSurfdale",8.4960910746388452E-2]
["Auckland",{"$f":"VLOOKUP(A46,'TA Substitutes'!$A$1:$B$67,2,FALSE)","v":"Auckland"},"Three Kings","AucklandThree Kings",7.6050419284672266E-2,null,null,{"$f":"IFERROR(IF(H35=0,N36,IF(H36=\"\",L44,H44)),L44)","v":"The average capital growth rate of the suburb that your property is in will display here. Scroll back up and select a council area and suburb to see information about the capital growth rate of the market that your property operates within."}]
["Auckland",{"$f":"VLOOKUP(A47,'TA Substitutes'!$A$1:$B$67,2,FALSE)","v":"Auckland"},"Wai O Taiki Bay","AucklandWai O Taiki Bay",""]
["Auckland",{"$f":"VLOOKUP(A48,'TA Substitutes'!$A$1:$B$67,2,FALSE)","v":"Auckland"},"Waterview","AucklandWaterview",7.8112802667580361E-2]
["Auckland",{"$f":"VLOOKUP(A49,'TA Substitutes'!$A$1:$B$67,2,FALSE)","v":"Auckland"},"Westmere","AucklandWestmere",9.626523090439032E-2]
["Auckland",{"$f":"VLOOKUP(A50,'TA Substitutes'!$A$1:$B$67,2,FALSE)","v":"Auckland"},"Newmarket","AucklandNewmarket",""]
["Auckland",{"$f":"VLOOKUP(A51,'TA Substitutes'!$A$1:$B$67,2,FALSE)","v":"Auckland"},"Omiha","AucklandOmiha",""]
["Auckland",{"$f":"VLOOKUP(A52,'TA Substitutes'!$A$1:$B$67,2,FALSE)","v":"Auckland"},"Palm Beach","AucklandPalm Beach",""]
["Auckland",{"$f":"VLOOKUP(A53,'TA Substitutes'!$A$1:$B$67,2,FALSE)","v":"Auckland"},"Penrose","AucklandPenrose",""]
["Auckland",{"$f":"VLOOKUP(A54,'TA Substitutes'!$A$1:$B$67,2,FALSE)","v":"Auckland"},"Stonefields","AucklandStonefields",""]
["Auckland",{"$f":"VLOOKUP(A55,'TA Substitutes'!$A$1:$B$67,2,FALSE)","v":"Auckland"},"Waiheke Island","AucklandWaiheke Island",""]
["Auckland",{"$f":"VLOOKUP(A56,'TA Substitutes'!$A$1:$B$67,2,FALSE)","v":"Auckland"},"Patumahoe","AucklandPatumahoe",""]
["Auckland",{"$f":"VLOOKUP(A57,'TA Substitutes'!$A$1:$B$67,2,FALSE)","v":"Auckland"},"Beachlands","AucklandBeachlands",7.5545861919334323E-2]
["Auckland",{"$f":"VLOOKUP(A58,'TA Substitutes'!$A$1:$B$67,2,FALSE)","v":"Auckland"},"Botany Downs","AucklandBotany Downs",7.4940745104914885E-2]
["Auckland",{"$f":"VLOOKUP(A59,'TA Substitutes'!$A$1:$B$67,2,FALSE)","v":"Auckland"},"Bucklands Beach","AucklandBucklands Beach",7.7831095349739421E-2]
["Auckland",{"$f":"VLOOKUP(A60,'TA Substitutes'!$A$1:$B$67,2,FALSE)","v":"Auckland"},"Burswood","AucklandBurswood",7.8186588873479845E-2]
["Auckland",{"$f":"VLOOKUP(A61,'TA Substitutes'!$A$1:$B$67,2,FALSE)","v":"Auckland"},"Clendon Park","AucklandClendon Park",7.8509017992416608E-2]
["Auckland",{"$f":"VLOOKUP(A62,'TA Substitutes'!$A$1:$B$67,2,FALSE)","v":"Auckland"},"Clover Park","AucklandClover Park",7.9826098861528694E-2]
["Auckland",{"$f":"VLOOKUP(A63,'TA Substitutes'!$A$1:$B$67,2,FALSE)","v":"Auckland"},"Cockle Bay","AucklandCockle Bay",7.6270133046852928E-2]
["Auckland",{"$f":"VLOOKUP(A64,'TA Substitutes'!$A$1:$B$67,2,FALSE)","v":"Auckland"},"Dannemora","AucklandDannemora",6.8873539447397381E-2]
["Auckland",{"$f":"VLOOKUP(A65,'TA Substitutes'!$A$1:$B$67,2,FALSE)","v":"Auckland"},"East Tamaki","AucklandEast Tamaki",""]
["Auckland",{"$f":"VLOOKUP(A66,'TA Substitutes'!$A$1:$B$67,2,FALSE)","v":"Auckland"},"East Tamaki Heights","AucklandEast Tamaki Heights",""]
["Auckland",{"$f":"VLOOKUP(A67,'TA Substitutes'!$A$1:$B$67,2,FALSE)","v":"Auckland"},"Eastern Beach",{"$f":"B67&C67","v":"AucklandEastern Beach"},7.5527202797640136E-2]
["Auckland",{"$f":"VLOOKUP(A68,'TA Substitutes'!$A$1:$B$67,2,FALSE)","v":"Auckland"},"Farm Cove","AucklandFarm Cove",7.7616688788255672E-2]
["Auckland",{"$f":"VLOOKUP(A69,'TA Substitutes'!$A$1:$B$67,2,FALSE)","v":"Auckland"},"Favona","AucklandFavona",8.1388752270505682E-2]
["Auckland",{"$f":"VLOOKUP(A70,'TA Substitutes'!$A$1:$B$67,2,FALSE)","v":"Auckland"},"Flat Bush","AucklandFlat Bush",""]
["Auckland",{"$f":"VLOOKUP(A71,'TA Substitutes'!$A$1:$B$67,2,FALSE)","v":"Auckland"},"Golflands","AucklandGolflands",7.394972786690035E-2]
["Auckland",{"$f":"VLOOKUP(A72,'TA Substitutes'!$A$1:$B$67,2,FALSE)","v":"Auckland"},"Goodwood Heights","AucklandGoodwood Heights",6.5343658703239216E-2]
["Auckland",{"$f":"VLOOKUP(A73,'TA Substitutes'!$A$1:$B$67,2,FALSE)","v":"Auckland"},"Half Moon Bay","AucklandHalf Moon Bay",7.9512366177266314E-2]
["Auckland",{"$f":"VLOOKUP(A74,'TA Substitutes'!$A$1:$B$67,2,FALSE)","v":"Auckland"},"Highland Park","AucklandHighland Park",7.436189361415968E-2]
["Auckland",{"$f":"VLOOKUP(A75,'TA Substitutes'!$A$1:$B$67,2,FALSE)","v":"Auckland"},"Howick","AucklandHowick",7.7368333549829194E-2]
["Auckland",{"$f":"VLOOKUP(A76,'TA Substitutes'!$A$1:$B$67,2,FALSE)","v":"Auckland"},"Mangere","AucklandMangere",8.483295846163208E-2]
["Auckland",{"$f":"VLOOKUP(A77,'TA Substitutes'!$A$1:$B$67,2,FALSE)","v":"Auckland"},"Mangere Bridge","AucklandMangere Bridge",8.2882016130462866E-2]
["Auckland",{"$f":"VLOOKUP(A78,'TA Substitutes'!$A$1:$B$67,2,FALSE)","v":"Auckland"},"Mangere East","AucklandMangere East",8.4980196057223845E-2]
["Auckland",{"$f":"VLOOKUP(A79,'TA Substitutes'!$A$1:$B$67,2,FALSE)","v":"Auckland"},"Manurewa","AucklandManurewa",7.8424702830844462E-2]
["Auckland",{"$f":"VLOOKUP(A80,'TA Substitutes'!$A$1:$B$67,2,FALSE)","v":"Auckland"},"Manurewa East","AucklandManurewa East",7.8009430544438763E-2]
["Auckland",{"$f":"VLOOKUP(A81,'TA Substitutes'!$A$1:$B$67,2,FALSE)","v":"Auckland"},"Maraetai","AucklandMaraetai",7.05109323342199E-2]
["Auckland",{"$f":"VLOOKUP(A82,'TA Substitutes'!$A$1:$B$67,2,FALSE)","v":"Auckland"},"Mellons Bay","AucklandMellons Bay",7.8327884306390816E-2]
["Auckland",{"$f":"VLOOKUP(A83,'TA Substitutes'!$A$1:$B$67,2,FALSE)","v":"Auckland"},"Northpark","AucklandNorthpark",7.4998171354111687E-2]
["Auckland",{"$f":"VLOOKUP(A84,'TA Substitutes'!$A$1:$B$67,2,FALSE)","v":"Auckland"},"Otara","AucklandOtara",8.8075378591287112E-2]
["Auckland",{"$f":"VLOOKUP(A85,'TA Substitutes'!$A$1:$B$67,2,FALSE)","v":"Auckland"},"Pakuranga","AucklandPakuranga",7.9968206334277037E-2]
["Auckland",{"$f":"VLOOKUP(A86,'TA Substitutes'!$A$1:$B$67,2,FALSE)","v":"Auckland"},"Pakuranga Heights","AucklandPakuranga Heights",8.1252433226120191E-2]
["Auckland",{"$f":"VLOOKUP(A87,'TA Substitutes'!$A$1:$B$67,2,FALSE)","v":"Auckland"},"Papatoetoe","AucklandPapatoetoe",7.4151649360026939E-2]
["Auckland",{"$f":"VLOOKUP(A88,'TA Substitutes'!$A$1:$B$67,2,FALSE)","v":"Auckland"},"Randwick Park","AucklandRandwick Park",7.5492742866831275E-2]
["Auckland",{"$f":"VLOOKUP(A89,'TA Substitutes'!$A$1:$B$67,2,FALSE)","v":"Auckland"},"Shelly Park","AucklandShelly Park",7.3424921501058726E-2]
["Auckland",{"$f":"VLOOKUP(A90,'TA Substitutes'!$A$1:$B$67,2,FALSE)","v":"Auckland"},"Somerville","AucklandSomerville",7.1303840605723146E-2]
["Auckland",{"$f":"VLOOKUP(A91,'TA Substitutes'!$A$1:$B$67,2,FALSE)","v":"Auckland"},"Sunnyhills","AucklandSunnyhills",7.8567218360680258E-2]
["Auckland",{"$f":"VLOOKUP(A92,'TA Substitutes'!$A$1:$B$67,2,FALSE)","v":"Auckland"},"The Gardens","AucklandThe Gardens",""]
["Auckland",{"$f":"VLOOKUP(A93,'TA Substitutes'!$A$1:$B$67,2,FALSE)","v":"Auckland"},"Totara Heights","AucklandTotara Heights",6.649318085045075E-2]
["Auckland",{"$f":"VLOOKUP(A94,'TA Substitutes'!$A$1:$B$67,2,FALSE)","v":"Auckland"},"Wattle Downs","AucklandWattle Downs",7.0586660072660568E-2]
["Auckland",{"$f":"VLOOKUP(A95,'TA Substitutes'!$A$1:$B$67,2,FALSE)","v":"Auckland"},"Weymouth","AucklandWeymouth",7.4820733086101709E-2]
["Auckland",{"$f":"VLOOKUP(A96,'TA Substitutes'!$A$1:$B$67,2,FALSE)","v":"Auckland"},"Huntington Park","AucklandHuntington Park",""]
["Auckland",{"$f":"VLOOKUP(A97,'TA Substitutes'!$A$1:$B$67,2,FALSE)","v":"Auckland"},"Manukau Heads","AucklandManukau Heads",""]
["Auckland",{"$f":"VLOOKUP(A98,'TA Substitutes'!$A$1:$B$67,2,FALSE)","v":"Auckland"},"Shamrock Park","AucklandShamrock Park",""]
["Auckland",{"$f":"VLOOKUP(A99,'TA Substitutes'!$A$1:$B$67,2,FALSE)","v":"Auckland"},"Wiri","AucklandWiri",""]
["Auckland",{"$f":"VLOOKUP(A100,'TA Substitutes'!$A$1:$B$67,2,FALSE)","v":"Auckland"},"Manukau","AucklandManukau",""]
["Auckland",{"$f":"VLOOKUP(A101,'TA Substitutes'!$A$1:$B$67,2,FALSE)","v":"Auckland"},"Albany","AucklandAlbany",6.5302617283234055E-2]
["Auckland",{"$f":"VLOOKUP(A102,'TA Substitutes'!$A$1:$B$67,2,FALSE)","v":"Auckland"},"Bayswater","AucklandBayswater",7.7319563142992376E-2]
["Auckland",{"$f":"VLOOKUP(A103,'TA Substitutes'!$A$1:$B$67,2,FALSE)","v":"Auckland"},"Bayview","AucklandBayview",7.6725087612121712E-2]
["Auckland",{"$f":"VLOOKUP(A104,'TA Substitutes'!$A$1:$B$67,2,FALSE)","v":"Auckland"},"Beach Haven","AucklandBeach Haven",8.043248875068354E-2]
["Auckland",{"$f":"VLOOKUP(A105,'TA Substitutes'!$A$1:$B$67,2,FALSE)","v":"Auckland"},"Belmont","AucklandBelmont",8.0592337412345838E-2]
["Auckland",{"$f":"VLOOKUP(A106,'TA Substitutes'!$A$1:$B$67,2,FALSE)","v":"Auckland"},"Birkdale","AucklandBirkdale",8.1922227053580432E-2]
["Auckland",{"$f":"VLOOKUP(A107,'TA Substitutes'!$A$1:$B$67,2,FALSE)","v":"Auckland"},"Birkenhead","AucklandBirkenhead",7.5794567957370163E-2]
["Auckland",{"$f":"VLOOKUP(A108,'TA Substitutes'!$A$1:$B$67,2,FALSE)","v":"Auckland"},"Browns Bay","AucklandBrowns Bay",7.406737536848329E-2]
["Auckland",{"$f":"VLOOKUP(A109,'TA Substitutes'!$A$1:$B$67,2,FALSE)","v":"Auckland"},"Campbells Bay","AucklandCampbells Bay",7.5630027096029506E-2]
["Auckland",{"$f":"VLOOKUP(A110,'TA Substitutes'!$A$1:$B$67,2,FALSE)","v":"Auckland"},"Castor Bay","AucklandCastor Bay",6.7750429105618792E-2]
["Auckland",{"$f":"VLOOKUP(A111,'TA Substitutes'!$A$1:$B$67,2,FALSE)","v":"Auckland"},"Chatswood","AucklandChatswood",6.9421846906599916E-2]
["Auckland",{"$f":"VLOOKUP(A112,'TA Substitutes'!$A$1:$B$67,2,FALSE)","v":"Auckland"},"Devonport","AucklandDevonport",7.9450583359496951E-2]
["Auckland",{"$f":"VLOOKUP(A113,'TA Substitutes'!$A$1:$B$67,2,FALSE)","v":"Auckland"},"Forrest Hill","AucklandForrest Hill",8.2745294445218054E-2]
["Auckland",{"$f":"VLOOKUP(A114,'TA Substitutes'!$A$1:$B$67,2,FALSE)","v":"Auckland"},"Glenfield","AucklandGlenfield",7.869396843217924E-2]
["Auckland",{"$f":"VLOOKUP(A115,'TA Substitutes'!$A$1:$B$67,2,FALSE)","v":"Auckland"},"Greenhithe","AucklandGreenhithe",7.0176630167692267E-2]
["Auckland",{"$f":"VLOOKUP(A116,'TA Substitutes'!$A$1:$B$67,2,FALSE)","v":"Auckland"},"Hauraki","AucklandHauraki",7.94180666880131E-2]
["Auckland",{"$f":"VLOOKUP(A117,'TA Substitutes'!$A$1:$B$67,2,FALSE)","v":"Auckland"},"Hillcrest","AucklandHillcrest",8.1097055043035438E-2]
["Auckland",{"$f":"VLOOKUP(A118,'TA Substitutes'!$A$1:$B$67,2,FALSE)","v":"Auckland"},"Mairangi Bay","AucklandMairangi Bay",7.6926132281273318E-2]
["Auckland",{"$f":"VLOOKUP(A119,'TA Substitutes'!$A$1:$B$67,2,FALSE)","v":"Auckland"},"Milford","AucklandMilford",7.4979800298770716E-2]
["Auckland",{"$f":"VLOOKUP(A120,'TA Substitutes'!$A$1:$B$67,2,FALSE)","v":"Auckland"},"Murrays Bay","AucklandMurrays Bay",7.2568266358165934E-2]
["Auckland",{"$f":"VLOOKUP(A121,'TA Substitutes'!$A$1:$B$67,2,FALSE)","v":"Auckland"},"Narrow Neck","AucklandNarrow Neck",8.1942289648773592E-2]
["Auckland",{"$f":"VLOOKUP(A122,'TA Substitutes'!$A$1:$B$67,2,FALSE)","v":"Auckland"},"Northcote","AucklandNorthcote",6.2664068645893911E-2]
["Auckland",{"$f":"VLOOKUP(A123,'TA Substitutes'!$A$1:$B$67,2,FALSE)","v":"Auckland"},"Northcote Point","AucklandNorthcote Point",7.7652675375857072E-2]
["Auckland",{"$f":"VLOOKUP(A124,'TA Substitutes'!$A$1:$B$67,2,FALSE)","v":"Auckland"},"Oteha","AucklandOteha",""]
["Auckland",{"$f":"VLOOKUP(A125,'TA Substitutes'!$A$1:$B$67,2,FALSE)","v":"Auckland"},"Pinehill","AucklandPinehill",""]
["Auckland",{"$f":"VLOOKUP(A126,'TA Substitutes'!$A$1:$B$67,2,FALSE)","v":"Auckland"},"Rothesay Bay","AucklandRothesay Bay",7.0497371049808244E-2]
["Auckland",{"$f":"VLOOKUP(A127,'TA Substitutes'!$A$1:$B$67,2,FALSE)","v":"Auckland"},"Schnapper Rock","AucklandSchnapper Rock",""]
["Auckland",{"$f":"VLOOKUP(A128,'TA Substitutes'!$A$1:$B$67,2,FALSE)","v":"Auckland"},"Stanley Point","AucklandStanley Point",8.1519480919712173E-2]
["Auckland",{"$f":"VLOOKUP(A129,'TA Substitutes'!$A$1:$B$67,2,FALSE)","v":"Auckland"},"Sunnynook","AucklandSunnynook",8.4185231555752749E-2]
["Auckland",{"$f":"VLOOKUP(A130,'TA Substitutes'!$A$1:$B$67,2,FALSE)","v":"Auckland"},"Takapuna","AucklandTakapuna",7.5612164263122894E-2]
["Auckland",{"$f":"VLOOKUP(A131,'TA Substitutes'!$A$1:$B$67,2,FALSE)","v":"Auckland"},"Torbay",{"$f":"B131&C131","v":"AucklandTorbay"},7.417995126559096E-2]
["Auckland",{"$f":"VLOOKUP(A132,'TA Substitutes'!$A$1:$B$67,2,FALSE)","v":"Auckland"},"Totara Vale","AucklandTotara Vale",8.1589801797761208E-2]
["Auckland",{"$f":"VLOOKUP(A133,'TA Substitutes'!$A$1:$B$67,2,FALSE)","v":"Auckland"},"Unsworth Heights","AucklandUnsworth Heights",7.1665855895068242E-2]
["Auckland",{"$f":"VLOOKUP(A134,'TA Substitutes'!$A$1:$B$67,2,FALSE)","v":"Auckland"},"Waiake","AucklandWaiake",6.6567586835851511E-2]
["Auckland",{"$f":"VLOOKUP(A135,'TA Substitutes'!$A$1:$B$67,2,FALSE)","v":"Auckland"},"Windsor Park","AucklandWindsor Park",""]
["Auckland",{"$f":"VLOOKUP(A136,'TA Substitutes'!$A$1:$B$67,2,FALSE)","v":"Auckland"},"Albany Heights","AucklandAlbany Heights",""]
["Auckland",{"$f":"VLOOKUP(A137,'TA Substitutes'!$A$1:$B$67,2,FALSE)","v":"Auckland"},"Fairview Heights","AucklandFairview Heights",""]
["Auckland",{"$f":"VLOOKUP(A138,'TA Substitutes'!$A$1:$B$67,2,FALSE)","v":"Auckland"},"Northcross","AucklandNorthcross",""]
["Auckland",{"$f":"VLOOKUP(A139,'TA Substitutes'!$A$1:$B$67,2,FALSE)","v":"Auckland"},"Paremoremo","AucklandParemoremo",""]
["Auckland",{"$f":"VLOOKUP(A140,'TA Substitutes'!$A$1:$B$67,2,FALSE)","v":"Auckland"},"Rosedale","AucklandRosedale",""]
["Auckland",{"$f":"VLOOKUP(A141,'TA Substitutes'!$A$1:$B$67,2,FALSE)","v":"Auckland"},"Clarks Beach","AucklandClarks Beach",""]
["Auckland",{"$f":"VLOOKUP(A142,'TA Substitutes'!$A$1:$B$67,2,FALSE)","v":"Auckland"},"Conifer Grove","AucklandConifer Grove",6.7373767910452464E-2]
["Auckland",{"$f":"VLOOKUP(A143,'TA Substitutes'!$A$1:$B$67,2,FALSE)","v":"Auckland"},"Opaheke","AucklandOpaheke",7.0420298700645256E-2]
["Auckland",{"$f":"VLOOKUP(A144,'TA Substitutes'!$A$1:$B$67,2,FALSE)","v":"Auckland"},"Pahurehure","AucklandPahurehure",6.8798145854833681E-2]
["Auckland",{"$f":"VLOOKUP(A145,'TA Substitutes'!$A$1:$B$67,2,FALSE)","v":"Auckland"},"Papakura","AucklandPapakura",7.3236082641043643E-2]
["Auckland",{"$f":"VLOOKUP(A146,'TA Substitutes'!$A$1:$B$67,2,FALSE)","v":"Auckland"},"Pukekohe","AucklandPukekohe",6.8518562814127382E-2]
["Auckland",{"$f":"VLOOKUP(A147,'TA Substitutes'!$A$1:$B$67,2,FALSE)","v":"Auckland"},"Red Hill","AucklandRed Hill",7.0847231514363118E-2]
["Auckland",{"$f":"VLOOKUP(A148,'TA Substitutes'!$A$1:$B$67,2,FALSE)","v":"Auckland"},"Rosehill","AucklandRosehill",""]
["Auckland",{"$f":"VLOOKUP(A149,'TA Substitutes'!$A$1:$B$67,2,FALSE)","v":"Auckland"},"Takanini","AucklandTakanini",""]
["Auckland",{"$f":"VLOOKUP(A150,'TA Substitutes'!$A$1:$B$67,2,FALSE)","v":"Auckland"},"Waiuku","AucklandWaiuku",6.6368909748306892E-2]
["Auckland",{"$f":"VLOOKUP(A151,'TA Substitutes'!$A$1:$B$67,2,FALSE)","v":"Auckland"},"Awhitu","AucklandAwhitu",""]
["Auckland",{"$f":"VLOOKUP(A152,'TA Substitutes'!$A$1:$B$67,2,FALSE)","v":"Auckland"},"Bombay","AucklandBombay",""]
["Auckland",{"$f":"VLOOKUP(A153,'TA Substitutes'!$A$1:$B$67,2,FALSE)","v":"Auckland"},"Clevedon","AucklandClevedon",""]
["Auckland",{"$f":"VLOOKUP(A154,'TA Substitutes'!$A$1:$B$67,2,FALSE)","v":"Auckland"},"Glenbrook","AucklandGlenbrook",""]
["Auckland",{"$f":"VLOOKUP(A155,'TA Substitutes'!$A$1:$B$67,2,FALSE)","v":"Auckland"},"Karaka","AucklandKaraka",""]
["Auckland",{"$f":"VLOOKUP(A156,'TA Substitutes'!$A$1:$B$67,2,FALSE)","v":"Auckland"},"Orere Point","AucklandOrere Point",""]
["Auckland",{"$f":"VLOOKUP(A157,'TA Substitutes'!$A$1:$B$67,2,FALSE)","v":"Auckland"},"Kawakawa Bay","AucklandKawakawa Bay",""]
["Auckland",{"$f":"VLOOKUP(A158,'TA Substitutes'!$A$1:$B$67,2,FALSE)","v":"Auckland"},"Shelly Beach","AucklandShelly Beach",""]
["Auckland",{"$f":"VLOOKUP(A159,'TA Substitutes'!$A$1:$B$67,2,FALSE)","v":"Auckland"},"Arkles Bay","AucklandArkles Bay",6.81546567049649E-2]
["Auckland",{"$f":"VLOOKUP(A160,'TA Substitutes'!$A$1:$B$67,2,FALSE)","v":"Auckland"},"Army Bay","AucklandArmy Bay",6.8442021998569524E-2]
["Auckland",{"$f":"VLOOKUP(A161,'TA Substitutes'!$A$1:$B$67,2,FALSE)","v":"Auckland"},"Gulf Harbour","AucklandGulf Harbour",""]
["Auckland",{"$f":"VLOOKUP(A162,'TA Substitutes'!$A$1:$B$67,2,FALSE)","v":"Auckland"},"Helensville","AucklandHelensville",7.682029617021624E-2]
["Auckland",{"$f":"VLOOKUP(A163,'TA Substitutes'!$A$1:$B$67,2,FALSE)","v":"Auckland"},"Manly","AucklandManly",6.8722406002866165E-2]
["Auckland",{"$f":"VLOOKUP(A164,'TA Substitutes'!$A$1:$B$67,2,FALSE)","v":"Auckland"},"Orewa","AucklandOrewa",7.2741888606685734E-2]
["Auckland",{"$f":"VLOOKUP(A165,'TA Substitutes'!$A$1:$B$67,2,FALSE)","v":"Auckland"},"Red Beach","AucklandRed Beach",6.9781573070763603E-2]
["Auckland",{"$f":"VLOOKUP(A166,'TA Substitutes'!$A$1:$B$67,2,FALSE)","v":"Auckland"},"Snells Beach","AucklandSnells Beach",7.1976856726671645E-2]
["Auckland",{"$f":"VLOOKUP(A167,'TA Substitutes'!$A$1:$B$67,2,FALSE)","v":"Auckland"},"Stanmore Bay","AucklandStanmore Bay",6.9378124340887748E-2]
["Auckland",{"$f":"VLOOKUP(A168,'TA Substitutes'!$A$1:$B$67,2,FALSE)","v":"Auckland"},"Warkworth","AucklandWarkworth",6.8081557280065041E-2]
["Auckland",{"$f":"VLOOKUP(A169,'TA Substitutes'!$A$1:$B$67,2,FALSE)","v":"Auckland"},"Wellsford","AucklandWellsford",7.0610653120502853E-2]
["Auckland",{"$f":"VLOOKUP(A170,'TA Substitutes'!$A$1:$B$67,2,FALSE)","v":"Auckland"},"Algies Bay","AucklandAlgies Bay",""]
["Auckland",{"$f":"VLOOKUP(A171,'TA Substitutes'!$A$1:$B$67,2,FALSE)","v":"Auckland"},"Hatfields Beach","AucklandHatfields Beach",""]
["Auckland",{"$f":"VLOOKUP(A172,'TA Substitutes'!$A$1:$B$67,2,FALSE)","v":"Auckland"},"Kaukapakapa","AucklandKaukapakapa",""]
["Auckland",{"$f":"VLOOKUP(A173,'TA Substitutes'!$A$1:$B$67,2,FALSE)","v":"Auckland"},"Leigh","AucklandLeigh",""]
["Auckland",{"$f":"VLOOKUP(A174,'TA Substitutes'!$A$1:$B$67,2,FALSE)","v":"Auckland"},"Long Bay","AucklandLong Bay",""]
["Auckland",{"$f":"VLOOKUP(A175,'TA Substitutes'!$A$1:$B$67,2,FALSE)","v":"Auckland"},"Matakana","AucklandMatakana",""]
["Auckland",{"$f":"VLOOKUP(A176,'TA Substitutes'!$A$1:$B$67,2,FALSE)","v":"Auckland"},"Matakatia","AucklandMatakatia",""]
["Auckland",{"$f":"VLOOKUP(A177,'TA Substitutes'!$A$1:$B$67,2,FALSE)","v":"Auckland"},"Okura","AucklandOkura",""]
["Auckland",{"$f":"VLOOKUP(A178,'TA Substitutes'!$A$1:$B$67,2,FALSE)","v":"Auckland"},"Omaha","AucklandOmaha",""]
["Auckland",{"$f":"VLOOKUP(A179,'TA Substitutes'!$A$1:$B$67,2,FALSE)","v":"Auckland"},"Parakai","AucklandParakai",""]
["Auckland",{"$f":"VLOOKUP(A180,'TA Substitutes'!$A$1:$B$67,2,FALSE)","v":"Auckland"},"Point Wells","AucklandPoint Wells",""]
["Auckland",{"$f":"VLOOKUP(A181,'TA Substitutes'!$A$1:$B$67,2,FALSE)","v":"Auckland"},"Riverhead","AucklandRiverhead",""]
["Auckland",{"$f":"VLOOKUP(A182,'TA Substitutes'!$A$1:$B$67,2,FALSE)","v":"Auckland"},"Sandspit","AucklandSandspit",""]
["Auckland",{"$f":"VLOOKUP(A183,'TA Substitutes'!$A$1:$B$67,2,FALSE)","v":"Auckland"},"Silverdale","AucklandSilverdale",""]
["Auckland",{"$f":"VLOOKUP(A184,'TA Substitutes'!$A$1:$B$67,2,FALSE)","v":"Auckland"},"Stillwater","AucklandStillwater",""]
["Auckland",{"$f":"VLOOKUP(A185,'TA Substitutes'!$A$1:$B$67,2,FALSE)","v":"Auckland"},"Tawharanui Peninsula","AucklandTawharanui Peninsula",""]
["Auckland",{"$f":"VLOOKUP(A186,'TA Substitutes'!$A$1:$B$67,2,FALSE)","v":"Auckland"},"Waimauku","AucklandWaimauku",""]
["Auckland",{"$f":"VLOOKUP(A187,'TA Substitutes'!$A$1:$B$67,2,FALSE)","v":"Auckland"},"Waiwera","AucklandWaiwera",""]
["Auckland",{"$f":"VLOOKUP(A188,'TA Substitutes'!$A$1:$B$67,2,FALSE)","v":"Auckland"},"Glen Eden","AucklandGlen Eden",7.8654596571957835E-2]
["Auckland",{"$f":"VLOOKUP(A189,'TA Substitutes'!$A$1:$B$67,2,FALSE)","v":"Auckland"},"Glendene","AucklandGlendene",7.6407697995153567E-2]
["Auckland",{"$f":"VLOOKUP(A190,'TA Substitutes'!$A$1:$B$67,2,FALSE)","v":"Auckland"},"Green Bay","AucklandGreen Bay",7.9923165199673241E-2]
["Auckland",{"$f":"VLOOKUP(A191,'TA Substitutes'!$A$1:$B$67,2,FALSE)","v":"Auckland"},"Henderson","AucklandHenderson",7.5794778820167386E-2]
["Auckland",{"$f":"VLOOKUP(A192,'TA Substitutes'!$A$1:$B$67,2,FALSE)","v":"Auckland"},"Hobsonville","AucklandHobsonville",6.7428784777081141E-2]
["Auckland",{"$f":"VLOOKUP(A193,'TA Substitutes'!$A$1:$B$67,2,FALSE)","v":"Auckland"},"Kelston","AucklandKelston",8.368869826778913E-2]
["Auckland",{"$f":"VLOOKUP(A194,'TA Substitutes'!$A$1:$B$67,2,FALSE)","v":"Auckland"},"Laingholm","AucklandLaingholm",7.026892175723054E-2]
["Auckland",{"$f":"VLOOKUP(A195,'TA Substitutes'!$A$1:$B$67,2,FALSE)","v":"Auckland"},"Massey",{"$f":"B195&C195","v":"AucklandMassey"},7.8320886597104122E-2]
["Auckland",{"$f":"VLOOKUP(A196,'TA Substitutes'!$A$1:$B$67,2,FALSE)","v":"Auckland"},"New Lynn","AucklandNew Lynn",8.1206286012353246E-2]
["Auckland",{"$f":"VLOOKUP(A197,'TA Substitutes'!$A$1:$B$67,2,FALSE)","v":"Auckland"},"Piha","AucklandPiha",""]
["Auckland",{"$f":"VLOOKUP(A198,'TA Substitutes'!$A$1:$B$67,2,FALSE)","v":"Auckland"},"Ranui","AucklandRanui",7.8645652634654395E-2]
["Auckland",{"$f":"VLOOKUP(A199,'TA Substitutes'!$A$1:$B$67,2,FALSE)","v":"Auckland"},"Sunnyvale","AucklandSunnyvale",7.8017763930042561E-2]
["Auckland",{"$f":"VLOOKUP(A200,'TA Substitutes'!$A$1:$B$67,2,FALSE)","v":"Auckland"},"Swanson","AucklandSwanson",7.0733016187378484E-2]
["Auckland",{"$f":"VLOOKUP(A201,'TA Substitutes'!$A$1:$B$67,2,FALSE)","v":"Auckland"},"Te Atatu Peninsula","AucklandTe Atatu Peninsula",9.1420786927000508E-2]
["Auckland",{"$f":"VLOOKUP(A202,'TA Substitutes'!$A$1:$B$67,2,FALSE)","v":"Auckland"},"Te Atatu South","AucklandTe Atatu South",7.9530954750093308E-2]
["Auckland",{"$f":"VLOOKUP(A203,'TA Substitutes'!$A$1:$B$67,2,FALSE)","v":"Auckland"},"Titirangi","AucklandTitirangi",7.2226045398837924E-2]
["Auckland",{"$f":"VLOOKUP(A204,'TA Substitutes'!$A$1:$B$67,2,FALSE)","v":"Auckland"},"West Harbour","AucklandWest Harbour",7.1906580224486927E-2]
["Auckland",{"$f":"VLOOKUP(A205,'TA Substitutes'!$A$1:$B$67,2,FALSE)","v":"Auckland"},"Henderson Valley","AucklandHenderson Valley",""]
["Auckland",{"$f":"VLOOKUP(A206,'TA Substitutes'!$A$1:$B$67,2,FALSE)","v":"Auckland"},"Herald Island","AucklandHerald Island",""]
["Auckland",{"$f":"VLOOKUP(A207,'TA Substitutes'!$A$1:$B$67,2,FALSE)","v":"Auckland"},"Huapai","AucklandHuapai",""]
["Auckland",{"$f":"VLOOKUP(A208,'TA Substitutes'!$A$1:$B$67,2,FALSE)","v":"Auckland"},"Huia","AucklandHuia",""]
["Auckland",{"$f":"VLOOKUP(A209,'TA Substitutes'!$A$1:$B$67,2,FALSE)","v":"Auckland"},"Kumeu","AucklandKumeu",""]
["Auckland",{"$f":"VLOOKUP(A210,'TA Substitutes'!$A$1:$B$67,2,FALSE)","v":"Auckland"},"Muriwai","AucklandMuriwai",""]
["Auckland",{"$f":"VLOOKUP(A211,'TA Substitutes'!$A$1:$B$67,2,FALSE)","v":"Auckland"},"Oratia","AucklandOratia",""]
["Auckland",{"$f":"VLOOKUP(A212,'TA Substitutes'!$A$1:$B$67,2,FALSE)","v":"Auckland"},"Waiatarua","AucklandWaiatarua",""]
["Auckland",{"$f":"VLOOKUP(A213,'TA Substitutes'!$A$1:$B$67,2,FALSE)","v":"Auckland"},"Waitakere","AucklandWaitakere",""]
["Auckland",{"$f":"VLOOKUP(A214,'TA Substitutes'!$A$1:$B$67,2,FALSE)","v":"Auckland"},"Whenuapai","AucklandWhenuapai",""]
["Kawerau District ",{"$f":"VLOOKUP(A215,'TA Substitutes'!$A$1:$B$67,2,FALSE)","v":"Kawerau"},"Kawerau","KawerauKawerau",8.918195926914807E-2]
["Opotiki District ",{"$f":"VLOOKUP(A216,'TA Substitutes'!$A$1:$B$67,2,FALSE)","v":"Opotiki"},"Opotiki","OpotikiOpotiki",6.7773869369565531E-2]
["Rotorua District ",{"$f":"VLOOKUP(A217,'TA Substitutes'!$A$1:$B$67,2,FALSE)","v":"Rotorua"},"Fairy Springs","RotoruaFairy Springs",7.0993910568579066E-2]
["Rotorua District ",{"$f":"VLOOKUP(A218,'TA Substitutes'!$A$1:$B$67,2,FALSE)","v":"Rotorua"},"Fordlands","RotoruaFordlands",8.2704509810591631E-2]
["Rotorua District ",{"$f":"VLOOKUP(A219,'TA Substitutes'!$A$1:$B$67,2,FALSE)","v":"Rotorua"},"Glenholme","RotoruaGlenholme",""]
["Rotorua District ",{"$f":"VLOOKUP(A220,'TA Substitutes'!$A$1:$B$67,2,FALSE)","v":"Rotorua"},"Hillcrest","RotoruaHillcrest",8.1097055043035438E-2]
["Rotorua District ",{"$f":"VLOOKUP(A221,'TA Substitutes'!$A$1:$B$67,2,FALSE)","v":"Rotorua"},"Kawaha Point","RotoruaKawaha Point",6.0433210696472228E-2]
["Rotorua District ",{"$f":"VLOOKUP(A222,'TA Substitutes'!$A$1:$B$67,2,FALSE)","v":"Rotorua"},"Koutu","RotoruaKoutu",7.2615231186412332E-2]
["Rotorua District ",{"$f":"VLOOKUP(A223,'TA Substitutes'!$A$1:$B$67,2,FALSE)","v":"Rotorua"},"Lynmore","RotoruaLynmore",6.3747824183569168E-2]
["Rotorua District ",{"$f":"VLOOKUP(A224,'TA Substitutes'!$A$1:$B$67,2,FALSE)","v":"Rotorua"},"Mangakakahi","RotoruaMangakakahi",7.4978824804095234E-2]
["Rotorua District ",{"$f":"VLOOKUP(A225,'TA Substitutes'!$A$1:$B$67,2,FALSE)","v":"Rotorua"},"Ngongotaha","RotoruaNgongotaha",7.0804467638529767E-2]
["Rotorua District ",{"$f":"VLOOKUP(A226,'TA Substitutes'!$A$1:$B$67,2,FALSE)","v":"Rotorua"},"Owhata","RotoruaOwhata",6.8724474271703029E-2]
["Rotorua District ",{"$f":"VLOOKUP(A227,'TA Substitutes'!$A$1:$B$67,2,FALSE)","v":"Rotorua"},"Pomare","RotoruaPomare",6.8772326304588516E-2]
["Rotorua District ",{"$f":"VLOOKUP(A228,'TA Substitutes'!$A$1:$B$67,2,FALSE)","v":"Rotorua"},"Pukehangi","RotoruaPukehangi",7.0977696206575125E-2]
["Rotorua District ",{"$f":"VLOOKUP(A229,'TA Substitutes'!$A$1:$B$67,2,FALSE)","v":"Rotorua"},"Springfield","RotoruaSpringfield",0]
["Rotorua District ",{"$f":"VLOOKUP(A230,'TA Substitutes'!$A$1:$B$67,2,FALSE)","v":"Rotorua"},"Sunnybrook","RotoruaSunnybrook",7.211851850180806E-2]
["Rotorua District ",{"$f":"VLOOKUP(A231,'TA Substitutes'!$A$1:$B$67,2,FALSE)","v":"Rotorua"},"Utuhina","RotoruaUtuhina",""]
["Rotorua District ",{"$f":"VLOOKUP(A232,'TA Substitutes'!$A$1:$B$67,2,FALSE)","v":"Rotorua"},"Victoria","RotoruaVictoria",""]
["Rotorua District ",{"$f":"VLOOKUP(A233,'TA Substitutes'!$A$1:$B$67,2,FALSE)","v":"Rotorua"},"Western Heights","RotoruaWestern Heights",7.2011361096545601E-2]
["Rotorua District ",{"$f":"VLOOKUP(A234,'TA Substitutes'!$A$1:$B$67,2,FALSE)","v":"Rotorua"},"Fenton Park","RotoruaFenton Park",""]
["Rotorua District ",{"$f":"VLOOKUP(A235,'TA Substitutes'!$A$1:$B$67,2,FALSE)","v":"Rotorua"},"Hamurana","RotoruaHamurana",""]
["Rotorua District ",{"$f":"VLOOKUP(A236,'TA Substitutes'!$A$1:$B$67,2,FALSE)","v":"Rotorua"},"Hannahs Bay","RotoruaHannahs Bay",""]
["Rotorua District ",{"$f":"VLOOKUP(A237,'TA Substitutes'!$A$1:$B$67,2,FALSE)","v":"Rotorua"},"Holdens Bay","RotoruaHoldens Bay",""]
["Rotorua District ",{"$f":"VLOOKUP(A238,'TA Substitutes'!$A$1:$B$67,2,FALSE)","v":"Rotorua"},"Lake Tarawera","RotoruaLake Tarawera",""]
["Rotorua District ",{"$f":"VLOOKUP(A239,'TA Substitutes'!$A$1:$B$67,2,FALSE)","v":"Rotorua"},"Mamaku","RotoruaMamaku",""]
["Rotorua District ",{"$f":"VLOOKUP(A240,'TA Substitutes'!$A$1:$B$67,2,FALSE)","v":"Rotorua"},"Okere Falls","RotoruaOkere Falls",""]
["Rotorua District ",{"$f":"VLOOKUP(A241,'TA Substitutes'!$A$1:$B$67,2,FALSE)","v":"Rotorua"},"Rotorua","RotoruaRotorua",""]
["Rotorua District ",{"$f":"VLOOKUP(A242,'TA Substitutes'!$A$1:$B$67,2,FALSE)","v":"Rotorua"},"Selwyn Heights","RotoruaSelwyn Heights",""]
["Rotorua District ",{"$f":"VLOOKUP(A243,'TA Substitutes'!$A$1:$B$67,2,FALSE)","v":"Rotorua"},"Tihiotonga","RotoruaTihiotonga",""]
["Tauranga City ",{"$f":"VLOOKUP(A244,'TA Substitutes'!$A$1:$B$67,2,FALSE)","v":"Tauranga City"},"Bellevue","Tauranga CityBellevue",7.0749529298352209E-2]
["Tauranga City ",{"$f":"VLOOKUP(A245,'TA Substitutes'!$A$1:$B$67,2,FALSE)","v":"Tauranga City"},"Bethlehem","Tauranga CityBethlehem",6.7221665532103625E-2]
["Tauranga City ",{"$f":"VLOOKUP(A246,'TA Substitutes'!$A$1:$B$67,2,FALSE)","v":"Tauranga City"},"Brookfield","Tauranga CityBrookfield",7.326752459156971E-2]
["Tauranga City ",{"$f":"VLOOKUP(A247,'TA Substitutes'!$A$1:$B$67,2,FALSE)","v":"Tauranga City"},"Gate Pa","Tauranga CityGate Pa",7.4254672109417053E-2]
["Tauranga City ",{"$f":"VLOOKUP(A248,'TA Substitutes'!$A$1:$B$67,2,FALSE)","v":"Tauranga City"},"Greerton","Tauranga CityGreerton",7.2000457264446149E-2]
["Tauranga City ",{"$f":"VLOOKUP(A249,'TA Substitutes'!$A$1:$B$67,2,FALSE)","v":"Tauranga City"},"Hairini","Tauranga CityHairini",7.1456292567069646E-2]
["Tauranga City ",{"$f":"VLOOKUP(A250,'TA Substitutes'!$A$1:$B$67,2,FALSE)","v":"Tauranga City"},"Judea","Tauranga CityJudea",7.2328298962536897E-2]
["Tauranga City ",{"$f":"VLOOKUP(A251,'TA Substitutes'!$A$1:$B$67,2,FALSE)","v":"Tauranga City"},"Matua","Tauranga CityMatua",7.1660422021433856E-2]
["Tauranga City ",{"$f":"VLOOKUP(A252,'TA Substitutes'!$A$1:$B$67,2,FALSE)","v":"Tauranga City"},"Maungatapu","Tauranga CityMaungatapu",6.7919565629708245E-2]
["Tauranga City ",{"$f":"VLOOKUP(A253,'TA Substitutes'!$A$1:$B$67,2,FALSE)","v":"Tauranga City"},"Mount Maunganui","Tauranga CityMount Maunganui",8.0225669022788937E-2]
["Tauranga City ",{"$f":"VLOOKUP(A254,'TA Substitutes'!$A$1:$B$67,2,FALSE)","v":"Tauranga City"},"Ohauiti","Tauranga CityOhauiti",""]
["Tauranga City ",{"$f":"VLOOKUP(A255,'TA Substitutes'!$A$1:$B$67,2,FALSE)","v":"Tauranga City"},"Otumoetai","Tauranga CityOtumoetai",7.0504870426499222E-2]
["Tauranga City ",{"$f":"VLOOKUP(A256,'TA Substitutes'!$A$1:$B$67,2,FALSE)","v":"Tauranga City"},"Papamoa Beach","Tauranga CityPapamoa Beach",7.1005157593754697E-2]
["Tauranga City ",{"$f":"VLOOKUP(A257,'TA Substitutes'!$A$1:$B$67,2,FALSE)","v":"Tauranga City"},"Parkvale","Tauranga CityParkvale",7.3894580224392659E-2]
["Tauranga City ",{"$f":"VLOOKUP(A258,'TA Substitutes'!$A$1:$B$67,2,FALSE)","v":"Tauranga City"},"Pyes Pa","Tauranga CityPyes Pa",""]
["Tauranga City ",{"$f":"VLOOKUP(A259,'TA Substitutes'!$A$1:$B$67,2,FALSE)","v":"Tauranga City"},"Tauranga",{"$f":"B259&C259","v":"Tauranga CityTauranga"},6.5824740868328124E-2]
["Tauranga City ",{"$f":"VLOOKUP(A260,'TA Substitutes'!$A$1:$B$67,2,FALSE)","v":"Tauranga City"},"Tauranga South","Tauranga CityTauranga South",6.7769612141207025E-2]
["Tauranga City ",{"$f":"VLOOKUP(A261,'TA Substitutes'!$A$1:$B$67,2,FALSE)","v":"Tauranga City"},"Welcome Bay","Tauranga CityWelcome Bay",7.1907424330644343E-2]
["Tauranga City ",{"$f":"VLOOKUP(A262,'TA Substitutes'!$A$1:$B$67,2,FALSE)","v":"Tauranga City"},"Papamoa","Tauranga CityPapamoa",""]
["Tauranga City ",{"$f":"VLOOKUP(A263,'TA Substitutes'!$A$1:$B$67,2,FALSE)","v":"Tauranga City"},"Poike","Tauranga CityPoike",""]
["Western Bay of Plenty District ",{"$f":"VLOOKUP(A264,'TA Substitutes'!$A$1:$B$67,2,FALSE)","v":"Western Bay of Plenty"},"Katikati","Western Bay of PlentyKatikati",6.7450587517595251E-2]
["Western Bay of Plenty District ",{"$f":"VLOOKUP(A265,'TA Substitutes'!$A$1:$B$67,2,FALSE)","v":"Western Bay of Plenty"},"Omokoroa","Western Bay of PlentyOmokoroa",6.8577876359316559E-2]
["Western Bay of Plenty District ",{"$f":"VLOOKUP(A266,'TA Substitutes'!$A$1:$B$67,2,FALSE)","v":"Western Bay of Plenty"},"Pukehina","Western Bay of PlentyPukehina",""]
["Western Bay of Plenty District ",{"$f":"VLOOKUP(A267,'TA Substitutes'!$A$1:$B$67,2,FALSE)","v":"Western Bay of Plenty"},"Te Puke","Western Bay of PlentyTe Puke",7.1443181030737879E-2]
["Western Bay of Plenty District ",{"$f":"VLOOKUP(A268,'TA Substitutes'!$A$1:$B$67,2,FALSE)","v":"Western Bay of Plenty"},"Waihi Beach","Western Bay of PlentyWaihi Beach",8.3091374645348548E-2]
["Western Bay of Plenty District ",{"$f":"VLOOKUP(A269,'TA Substitutes'!$A$1:$B$67,2,FALSE)","v":"Western Bay of Plenty"},"Aongatete","Western Bay of PlentyAongatete",""]
["Western Bay of Plenty District ",{"$f":"VLOOKUP(A270,'TA Substitutes'!$A$1:$B$67,2,FALSE)","v":"Western Bay of Plenty"},"Athenree","Western Bay of PlentyAthenree",""]
["Western Bay of Plenty District ",{"$f":"VLOOKUP(A271,'TA Substitutes'!$A$1:$B$67,2,FALSE)","v":"Western Bay of Plenty"},"Bowentown","Western Bay of PlentyBowentown",""]
["Western Bay of Plenty District ",{"$f":"VLOOKUP(A272,'TA Substitutes'!$A$1:$B$67,2,FALSE)","v":"Western Bay of Plenty"},"Maketu","Western Bay of PlentyMaketu",""]
["Western Bay of Plenty District ",{"$f":"VLOOKUP(A273,'TA Substitutes'!$A$1:$B$67,2,FALSE)","v":"Western Bay of Plenty"},"Paengaroa","Western Bay of PlentyPaengaroa",""]
["Whakatane District ",{"$f":"VLOOKUP(A274,'TA Substitutes'!$A$1:$B$67,2,FALSE)","v":"Whakatane"},"Coastlands","WhakataneCoastlands",""]
["Whakatane District ",{"$f":"VLOOKUP(A275,'TA Substitutes'!$A$1:$B$67,2,FALSE)","v":"Whakatane"},"Edgecumbe","WhakataneEdgecumbe",7.4062473938948381E-2]
["Whakatane District ",{"$f":"VLOOKUP(A276,'TA Substitutes'!$A$1:$B$67,2,FALSE)","v":"Whakatane"},"Ohope","WhakataneOhope",""]
["Whakatane District ",{"$f":"VLOOKUP(A277,'TA Substitutes'!$A$1:$B$67,2,FALSE)","v":"Whakatane"},"Whakatane","WhakataneWhakatane",6.5179485733074083E-2]
["Whakatane District ",{"$f":"VLOOKUP(A278,'TA Substitutes'!$A$1:$B$67,2,FALSE)","v":"Whakatane"},"Matata","WhakataneMatata",""]
["Whakatane District ",{"$f":"VLOOKUP(A279,'TA Substitutes'!$A$1:$B$67,2,FALSE)","v":"Whakatane"},"Murupara","WhakataneMurupara",""]
["Ashburton District ",{"$f":"VLOOKUP(A280,'TA Substitutes'!$A$1:$B$67,2,FALSE)","v":"Ashburton"},"Allenton","AshburtonAllenton",5.6661497000022543E-2]
["Ashburton District ",{"$f":"VLOOKUP(A281,'TA Substitutes'!$A$1:$B$67,2,FALSE)","v":"Ashburton"},"Ashburton","AshburtonAshburton",5.8546346260250903E-2]
["Ashburton District ",{"$f":"VLOOKUP(A282,'TA Substitutes'!$A$1:$B$67,2,FALSE)","v":"Ashburton"},"Hampstead","AshburtonHampstead",6.1649428051331334E-2]
["Ashburton District ",{"$f":"VLOOKUP(A283,'TA Substitutes'!$A$1:$B$67,2,FALSE)","v":"Ashburton"},"Methven","AshburtonMethven",""]
["Ashburton District ",{"$f":"VLOOKUP(A284,'TA Substitutes'!$A$1:$B$67,2,FALSE)","v":"Ashburton"},"Netherby","AshburtonNetherby",5.9443834898860848E-2]
["Ashburton District ",{"$f":"VLOOKUP(A285,'TA Substitutes'!$A$1:$B$67,2,FALSE)","v":"Ashburton"},"Rakaia","AshburtonRakaia",""]
["Ashburton District ",{"$f":"VLOOKUP(A286,'TA Substitutes'!$A$1:$B$67,2,FALSE)","v":"Ashburton"},"Tinwald","AshburtonTinwald",6.1689169605646965E-2]
["Ashburton District ",{"$f":"VLOOKUP(A287,'TA Substitutes'!$A$1:$B$67,2,FALSE)","v":"Ashburton"},"Elgin","AshburtonElgin",""]
["Christchurch City ",{"$f":"VLOOKUP(A288,'TA Substitutes'!$A$1:$B$67,2,FALSE)","v":"Christchurch"},"Addington","ChristchurchAddington",6.278268088902994E-2]
["Christchurch City ",{"$f":"VLOOKUP(A289,'TA Substitutes'!$A$1:$B$67,2,FALSE)","v":"Christchurch"},"Akaroa","ChristchurchAkaroa",5.389565430181964E-2]
["Christchurch City ",{"$f":"VLOOKUP(A290,'TA Substitutes'!$A$1:$B$67,2,FALSE)","v":"Christchurch"},"Aranui","ChristchurchAranui",6.2579205077737621E-2]
["Christchurch City ",{"$f":"VLOOKUP(A291,'TA Substitutes'!$A$1:$B$67,2,FALSE)","v":"Christchurch"},"Avonhead","ChristchurchAvonhead",5.2151535795429638E-2]
["Christchurch City ",{"$f":"VLOOKUP(A292,'TA Substitutes'!$A$1:$B$67,2,FALSE)","v":"Christchurch"},"Beckenham","ChristchurchBeckenham",6.1798722086567226E-2]
["Christchurch City ",{"$f":"VLOOKUP(A293,'TA Substitutes'!$A$1:$B$67,2,FALSE)","v":"Christchurch"},"Belfast","ChristchurchBelfast",5.6786566638523439E-2]
["Christchurch City ",{"$f":"VLOOKUP(A294,'TA Substitutes'!$A$1:$B$67,2,FALSE)","v":"Christchurch"},"Bishopdale","ChristchurchBishopdale",5.8956147948170168E-2]
["Christchurch City ",{"$f":"VLOOKUP(A295,'TA Substitutes'!$A$1:$B$67,2,FALSE)","v":"Christchurch"},"Bromley","ChristchurchBromley",5.7724059158778651E-2]
["Christchurch City ",{"$f":"VLOOKUP(A296,'TA Substitutes'!$A$1:$B$67,2,FALSE)","v":"Christchurch"},"Broomfield","ChristchurchBroomfield",5.8188578549939862E-2]
["Christchurch City ",{"$f":"VLOOKUP(A297,'TA Substitutes'!$A$1:$B$67,2,FALSE)","v":"Christchurch"},"Bryndwr","ChristchurchBryndwr",6.2109233249482365E-2]
["Christchurch City ",{"$f":"VLOOKUP(A298,'TA Substitutes'!$A$1:$B$67,2,FALSE)","v":"Christchurch"},"Burnside","ChristchurchBurnside",5.5651038711209688E-2]
["Christchurch City ",{"$f":"VLOOKUP(A299,'TA Substitutes'!$A$1:$B$67,2,FALSE)","v":"Christchurch"},"Burwood","ChristchurchBurwood",5.4132841489053174E-2]
["Christchurch City ",{"$f":"VLOOKUP(A300,'TA Substitutes'!$A$1:$B$67,2,FALSE)","v":"Christchurch"},"Casebrook","ChristchurchCasebrook",5.6419329541342877E-2]
["Christchurch City ",{"$f":"VLOOKUP(A301,'TA Substitutes'!$A$1:$B$67,2,FALSE)","v":"Christchurch"},"Cashmere","ChristchurchCashmere",5.1940328472669606E-2]
["Christchurch City ",{"$f":"VLOOKUP(A302,'TA Substitutes'!$A$1:$B$67,2,FALSE)","v":"Christchurch"},"Christchurch Central","ChristchurchChristchurch Central",5.2075130759295929E-2]
["Christchurch City ",{"$f":"VLOOKUP(A303,'TA Substitutes'!$A$1:$B$67,2,FALSE)","v":"Christchurch"},"Diamond Harbour","ChristchurchDiamond Harbour",5.5525211251981288E-2]
["Christchurch City ",{"$f":"VLOOKUP(A304,'TA Substitutes'!$A$1:$B$67,2,FALSE)","v":"Christchurch"},"Fendalton","ChristchurchFendalton",6.2599885469565297E-2]
["Christchurch City ",{"$f":"VLOOKUP(A305,'TA Substitutes'!$A$1:$B$67,2,FALSE)","v":"Christchurch"},"Halswell","ChristchurchHalswell",5.3433808598501109E-2]
["Christchurch City ",{"$f":"VLOOKUP(A306,'TA Substitutes'!$A$1:$B$67,2,FALSE)","v":"Christchurch"},"Harewood","ChristchurchHarewood",5.1651818234515812E-2]
["Christchurch City ",{"$f":"VLOOKUP(A307,'TA Substitutes'!$A$1:$B$67,2,FALSE)","v":"Christchurch"},"Heathcote Valley","ChristchurchHeathcote Valley",5.7651943412134754E-2]
["Christchurch City ",{"$f":"VLOOKUP(A308,'TA Substitutes'!$A$1:$B$67,2,FALSE)","v":"Christchurch"},"Hei Hei","ChristchurchHei Hei",5.9832322910838398E-2]
["Christchurch City ",{"$f":"VLOOKUP(A309,'TA Substitutes'!$A$1:$B$67,2,FALSE)","v":"Christchurch"},"Hillsborough","ChristchurchHillsborough",5.5129076595475279E-2]
["Christchurch City ",{"$f":"VLOOKUP(A310,'TA Substitutes'!$A$1:$B$67,2,FALSE)","v":"Christchurch"},"Hoon Hay","ChristchurchHoon Hay",6.0335800188858535E-2]
["Christchurch City ",{"$f":"VLOOKUP(A311,'TA Substitutes'!$A$1:$B$67,2,FALSE)","v":"Christchurch"},"Hornby","ChristchurchHornby",6.2949074242125036E-2]
["Christchurch City ",{"$f":"VLOOKUP(A312,'TA Substitutes'!$A$1:$B$67,2,FALSE)","v":"Christchurch"},"Huntsbury","ChristchurchHuntsbury",4.9857763491140794E-2]
["Christchurch City ",{"$f":"VLOOKUP(A313,'TA Substitutes'!$A$1:$B$67,2,FALSE)","v":"Christchurch"},"Ilam","ChristchurchIlam",5.496456983428466E-2]
["Christchurch City ",{"$f":"VLOOKUP(A314,'TA Substitutes'!$A$1:$B$67,2,FALSE)","v":"Christchurch"},"Islington","ChristchurchIslington",5.9500154431257002E-2]
["Christchurch City ",{"$f":"VLOOKUP(A315,'TA Substitutes'!$A$1:$B$67,2,FALSE)","v":"Christchurch"},"Linwood","ChristchurchLinwood",5.683379986975523E-2]
["Christchurch City ",{"$f":"VLOOKUP(A316,'TA Substitutes'!$A$1:$B$67,2,FALSE)","v":"Christchurch"},"Lyttelton","ChristchurchLyttelton",5.7955158180275745E-2]
["Christchurch City ",{"$f":"VLOOKUP(A317,'TA Substitutes'!$A$1:$B$67,2,FALSE)","v":"Christchurch"},"Mairehau","ChristchurchMairehau",6.1346790633160619E-2]
["Christchurch City ",{"$f":"VLOOKUP(A318,'TA Substitutes'!$A$1:$B$67,2,FALSE)","v":"Christchurch"},"Merivale","ChristchurchMerivale",6.244324489236841E-2]
["Christchurch City ",{"$f":"VLOOKUP(A319,'TA Substitutes'!$A$1:$B$67,2,FALSE)","v":"Christchurch"},"Mount Pleasant","ChristchurchMount Pleasant",5.071026011718538E-2]
["Christchurch City ",{"$f":"VLOOKUP(A320,'TA Substitutes'!$A$1:$B$67,2,FALSE)","v":"Christchurch"},"New Brighton","ChristchurchNew Brighton",5.6965010548790218E-2]
["Christchurch City ",{"$f":"VLOOKUP(A321,'TA Substitutes'!$A$1:$B$67,2,FALSE)","v":"Christchurch"},"North New Brighton","ChristchurchNorth New Brighton",5.8959017184971652E-2]
["Christchurch City ",{"$f":"VLOOKUP(A322,'TA Substitutes'!$A$1:$B$67,2,FALSE)","v":"Christchurch"},"Northcote","ChristchurchNorthcote",6.2664068645893911E-2]
["Christchurch City ",{"$f":"VLOOKUP(A323,'TA Substitutes'!$A$1:$B$67,2,FALSE)","v":"Christchurch"},"Northwood",{"$f":"B323&C323","v":"ChristchurchNorthwood"},""]
["Christchurch City ",{"$f":"VLOOKUP(A324,'TA Substitutes'!$A$1:$B$67,2,FALSE)","v":"Christchurch"},"Papanui","ChristchurchPapanui",6.1261484680065204E-2]
["Christchurch City ",{"$f":"VLOOKUP(A325,'TA Substitutes'!$A$1:$B$67,2,FALSE)","v":"Christchurch"},"Parklands","ChristchurchParklands",5.2208760286005074E-2]
["Christchurch City ",{"$f":"VLOOKUP(A326,'TA Substitutes'!$A$1:$B$67,2,FALSE)","v":"Christchurch"},"Phillipstown","ChristchurchPhillipstown",6.053538532696856E-2]
["Christchurch City ",{"$f":"VLOOKUP(A327,'TA Substitutes'!$A$1:$B$67,2,FALSE)","v":"Christchurch"},"Redcliffs","ChristchurchRedcliffs",5.2546631209475114E-2]
["Christchurch City ",{"$f":"VLOOKUP(A328,'TA Substitutes'!$A$1:$B$67,2,FALSE)","v":"Christchurch"},"Redwood","ChristchurchRedwood",5.536808788501868E-2]
["Christchurch City ",{"$f":"VLOOKUP(A329,'TA Substitutes'!$A$1:$B$67,2,FALSE)","v":"Christchurch"},"Riccarton","ChristchurchRiccarton",5.8110516505596399E-2]
["Christchurch City ",{"$f":"VLOOKUP(A330,'TA Substitutes'!$A$1:$B$67,2,FALSE)","v":"Christchurch"},"Richmond","ChristchurchRichmond",5.4912433044716602E-2]
["Christchurch City ",{"$f":"VLOOKUP(A331,'TA Substitutes'!$A$1:$B$67,2,FALSE)","v":"Christchurch"},"Russley","ChristchurchRussley",5.5027002695904548E-2]
["Christchurch City ",{"$f":"VLOOKUP(A332,'TA Substitutes'!$A$1:$B$67,2,FALSE)","v":"Christchurch"},"Saint Albans","ChristchurchSaint Albans",6.1557974605237487E-2]
["Christchurch City ",{"$f":"VLOOKUP(A333,'TA Substitutes'!$A$1:$B$67,2,FALSE)","v":"Christchurch"},"Saint Martins","ChristchurchSaint Martins",5.5978242280870338E-2]
["Christchurch City ",{"$f":"VLOOKUP(A334,'TA Substitutes'!$A$1:$B$67,2,FALSE)","v":"Christchurch"},"Shirley","ChristchurchShirley",5.5735887915205451E-2]
["Christchurch City ",{"$f":"VLOOKUP(A335,'TA Substitutes'!$A$1:$B$67,2,FALSE)","v":"Christchurch"},"Sockburn","ChristchurchSockburn",5.7881840337391299E-2]
["Christchurch City ",{"$f":"VLOOKUP(A336,'TA Substitutes'!$A$1:$B$67,2,FALSE)","v":"Christchurch"},"Somerfield","ChristchurchSomerfield",6.2457619938825371E-2]
["Christchurch City ",{"$f":"VLOOKUP(A337,'TA Substitutes'!$A$1:$B$67,2,FALSE)","v":"Christchurch"},"South New Brighton","ChristchurchSouth New Brighton",5.7089523094908001E-2]
["Christchurch City ",{"$f":"VLOOKUP(A338,'TA Substitutes'!$A$1:$B$67,2,FALSE)","v":"Christchurch"},"Spreydon","ChristchurchSpreydon",6.3384837771232938E-2]
["Christchurch City ",{"$f":"VLOOKUP(A339,'TA Substitutes'!$A$1:$B$67,2,FALSE)","v":"Christchurch"},"Strowan","ChristchurchStrowan",6.5910160059407419E-2]
["Christchurch City ",{"$f":"VLOOKUP(A340,'TA Substitutes'!$A$1:$B$67,2,FALSE)","v":"Christchurch"},"Sumner","ChristchurchSumner",6.3471048405179475E-2]
["Christchurch City ",{"$f":"VLOOKUP(A341,'TA Substitutes'!$A$1:$B$67,2,FALSE)","v":"Christchurch"},"Sydenham","ChristchurchSydenham",6.3573906032625693E-2]
["Christchurch City ",{"$f":"VLOOKUP(A342,'TA Substitutes'!$A$1:$B$67,2,FALSE)","v":"Christchurch"},"Templeton","ChristchurchTempleton",5.1431283716597331E-2]
["Christchurch City ",{"$f":"VLOOKUP(A343,'TA Substitutes'!$A$1:$B$67,2,FALSE)","v":"Christchurch"},"Upper Riccarton","ChristchurchUpper Riccarton",5.9095668383142064E-2]
["Christchurch City ",{"$f":"VLOOKUP(A344,'TA Substitutes'!$A$1:$B$67,2,FALSE)","v":"Christchurch"},"Waimairi Beach","ChristchurchWaimairi Beach",5.3386621757040231E-2]
["Christchurch City ",{"$f":"VLOOKUP(A345,'TA Substitutes'!$A$1:$B$67,2,FALSE)","v":"Christchurch"},"Waltham","ChristchurchWaltham",6.1120441323934127E-2]
["Christchurch City ",{"$f":"VLOOKUP(A346,'TA Substitutes'!$A$1:$B$67,2,FALSE)","v":"Christchurch"},"Westmorland","ChristchurchWestmorland",4.7284316438080509E-2]
["Christchurch City ",{"$f":"VLOOKUP(A347,'TA Substitutes'!$A$1:$B$67,2,FALSE)","v":"Christchurch"},"Woolston","ChristchurchWoolston",5.7947296639641044E-2]
["Christchurch City ",{"$f":"VLOOKUP(A348,'TA Substitutes'!$A$1:$B$67,2,FALSE)","v":"Christchurch"},"Avonside","ChristchurchAvonside",0]
["Christchurch City ",{"$f":"VLOOKUP(A349,'TA Substitutes'!$A$1:$B$67,2,FALSE)","v":"Christchurch"},"Cass Bay","ChristchurchCass Bay",0]
["Christchurch City ",{"$f":"VLOOKUP(A350,'TA Substitutes'!$A$1:$B$67,2,FALSE)","v":"Christchurch"},"Charteris Bay","ChristchurchCharteris Bay",0]
["Christchurch City ",{"$f":"VLOOKUP(A351,'TA Substitutes'!$A$1:$B$67,2,FALSE)","v":"Christchurch"},"Clifton","ChristchurchClifton",0]
["Christchurch City ",{"$f":"VLOOKUP(A352,'TA Substitutes'!$A$1:$B$67,2,FALSE)","v":"Christchurch"},"Cracroft","ChristchurchCracroft",0]
["Christchurch City ",{"$f":"VLOOKUP(A353,'TA Substitutes'!$A$1:$B$67,2,FALSE)","v":"Christchurch"},"Dallington","ChristchurchDallington",0]
["Christchurch City ",{"$f":"VLOOKUP(A354,'TA Substitutes'!$A$1:$B$67,2,FALSE)","v":"Christchurch"},"Duvauchelle","ChristchurchDuvauchelle",0]
["Christchurch City ",{"$f":"VLOOKUP(A355,'TA Substitutes'!$A$1:$B$67,2,FALSE)","v":"Christchurch"},"Governors Bay","ChristchurchGovernors Bay",0]
["Christchurch City ",{"$f":"VLOOKUP(A356,'TA Substitutes'!$A$1:$B$67,2,FALSE)","v":"Christchurch"},"Hillmorton","ChristchurchHillmorton",0]
["Christchurch City ",{"$f":"VLOOKUP(A357,'TA Substitutes'!$A$1:$B$67,2,FALSE)","v":"Christchurch"},"Kainga","ChristchurchKainga",0]
["Christchurch City ",{"$f":"VLOOKUP(A358,'TA Substitutes'!$A$1:$B$67,2,FALSE)","v":"Christchurch"},"Kennedys Bush","ChristchurchKennedys Bush",0]
["Christchurch City ",{"$f":"VLOOKUP(A359,'TA Substitutes'!$A$1:$B$67,2,FALSE)","v":"Christchurch"},"Little River","ChristchurchLittle River",0]
["Christchurch City ",{"$f":"VLOOKUP(A360,'TA Substitutes'!$A$1:$B$67,2,FALSE)","v":"Christchurch"},"Marshland","ChristchurchMarshland",0]
["Christchurch City ",{"$f":"VLOOKUP(A361,'TA Substitutes'!$A$1:$B$67,2,FALSE)","v":"Christchurch"},"Middleton","ChristchurchMiddleton",0]
["Christchurch City ",{"$f":"VLOOKUP(A362,'TA Substitutes'!$A$1:$B$67,2,FALSE)","v":"Christchurch"},"Moncks Bay","ChristchurchMoncks Bay",0]
["Christchurch City ",{"$f":"VLOOKUP(A363,'TA Substitutes'!$A$1:$B$67,2,FALSE)","v":"Christchurch"},"Opawa","ChristchurchOpawa",0]
["Christchurch City ",{"$f":"VLOOKUP(A364,'TA Substitutes'!$A$1:$B$67,2,FALSE)","v":"Christchurch"},"Richmond Hill","ChristchurchRichmond Hill",0]
["Christchurch City ",{"$f":"VLOOKUP(A365,'TA Substitutes'!$A$1:$B$67,2,FALSE)","v":"Christchurch"},"Scarborough","ChristchurchScarborough",0]
["Christchurch City ",{"$f":"VLOOKUP(A366,'TA Substitutes'!$A$1:$B$67,2,FALSE)","v":"Christchurch"},"Southshore","ChristchurchSouthshore",0]
["Christchurch City ",{"$f":"VLOOKUP(A367,'TA Substitutes'!$A$1:$B$67,2,FALSE)","v":"Christchurch"},"Takamatua","ChristchurchTakamatua",0]
["Christchurch City ",{"$f":"VLOOKUP(A368,'TA Substitutes'!$A$1:$B$67,2,FALSE)","v":"Christchurch"},"Wainoni","ChristchurchWainoni",0]
["Christchurch City ",{"$f":"VLOOKUP(A369,'TA Substitutes'!$A$1:$B$67,2,FALSE)","v":"Christchurch"},"Wainui","ChristchurchWainui",0]
["Christchurch City ",{"$f":"VLOOKUP(A370,'TA Substitutes'!$A$1:$B$67,2,FALSE)","v":"Christchurch"},"Wigram","ChristchurchWigram",0]
["Christchurch City ",{"$f":"VLOOKUP(A371,'TA Substitutes'!$A$1:$B$67,2,FALSE)","v":"Christchurch"},"Yaldhurst","ChristchurchYaldhurst",0]
["Christchurch City ",{"$f":"VLOOKUP(A372,'TA Substitutes'!$A$1:$B$67,2,FALSE)","v":"Christchurch"},"Glentunnel","ChristchurchGlentunnel",0]
["Hurunui District ",{"$f":"VLOOKUP(A373,'TA Substitutes'!$A$1:$B$67,2,FALSE)","v":"Hurunui"},"Amberley","HurunuiAmberley",0]
["Hurunui District ",{"$f":"VLOOKUP(A374,'TA Substitutes'!$A$1:$B$67,2,FALSE)","v":"Hurunui"},"Hanmer Springs","HurunuiHanmer Springs",0]
["Hurunui District ",{"$f":"VLOOKUP(A375,'TA Substitutes'!$A$1:$B$67,2,FALSE)","v":"Hurunui"},"Leithfield","HurunuiLeithfield",0]
["Kaikoura District ",{"$f":"VLOOKUP(A376,'TA Substitutes'!$A$1:$B$67,2,FALSE)","v":"Kaikoura"},"Kaikoura","KaikouraKaikoura",0]
["MacKenzie District ",{"$f":"VLOOKUP(A377,'TA Substitutes'!$A$1:$B$67,2,FALSE)","v":"Mackenzie"},"Fairlie","MackenzieFairlie",0]
["MacKenzie District ",{"$f":"VLOOKUP(A378,'TA Substitutes'!$A$1:$B$67,2,FALSE)","v":"Mackenzie"},"Twizel","MackenzieTwizel",0]
["Selwyn District ",{"$f":"VLOOKUP(A379,'TA Substitutes'!$A$1:$B$67,2,FALSE)","v":"Selwyn"},"Darfield","SelwynDarfield",0]
["Selwyn District ",{"$f":"VLOOKUP(A380,'TA Substitutes'!$A$1:$B$67,2,FALSE)","v":"Selwyn"},"Lincoln","SelwynLincoln",0]
["Selwyn District ",{"$f":"VLOOKUP(A381,'TA Substitutes'!$A$1:$B$67,2,FALSE)","v":"Selwyn"},"Prebbleton","SelwynPrebbleton",0]
["Selwyn District ",{"$f":"VLOOKUP(A382,'TA Substitutes'!$A$1:$B$67,2,FALSE)","v":"Selwyn"},"Rolleston","SelwynRolleston",0]
["Selwyn District ",{"$f":"VLOOKUP(A383,'TA Substitutes'!$A$1:$B$67,2,FALSE)","v":"Selwyn"},"Leeston","SelwynLeeston",0]
["Selwyn District ",{"$f":"VLOOKUP(A384,'TA Substitutes'!$A$1:$B$67,2,FALSE)","v":"Selwyn"},"Kirwee","SelwynKirwee",0]
["Selwyn District ",{"$f":"VLOOKUP(A385,'TA Substitutes'!$A$1:$B$67,2,FALSE)","v":"Selwyn"},"Southbridge","SelwynSouthbridge",0]
["Selwyn District ",{"$f":"VLOOKUP(A386,'TA Substitutes'!$A$1:$B$67,2,FALSE)","v":"Selwyn"},"Springfield","SelwynSpringfield",0]
["Selwyn District ",{"$f":"VLOOKUP(A387,'TA Substitutes'!$A$1:$B$67,2,FALSE)","v":"Selwyn"},"Springston",{"$f":"B387&C387","v":"SelwynSpringston"},0]
["Selwyn District ",{"$f":"VLOOKUP(A388,'TA Substitutes'!$A$1:$B$67,2,FALSE)","v":"Selwyn"},"Tai Tapu","SelwynTai Tapu",0]
["Selwyn District ",{"$f":"VLOOKUP(A389,'TA Substitutes'!$A$1:$B$67,2,FALSE)","v":"Selwyn"},"West Melton","SelwynWest Melton",0]
["Timaru District ",{"$f":"VLOOKUP(A390,'TA Substitutes'!$A$1:$B$67,2,FALSE)","v":"Timaru"},"Geraldine","TimaruGeraldine",0]
["Timaru District ",{"$f":"VLOOKUP(A391,'TA Substitutes'!$A$1:$B$67,2,FALSE)","v":"Timaru"},"Gleniti","TimaruGleniti",0]
["Timaru District ",{"$f":"VLOOKUP(A392,'TA Substitutes'!$A$1:$B$67,2,FALSE)","v":"Timaru"},"Glenwood","TimaruGlenwood",0]
["Timaru District ",{"$f":"VLOOKUP(A393,'TA Substitutes'!$A$1:$B$67,2,FALSE)","v":"Timaru"},"Highfield","TimaruHighfield",0]
["Timaru District ",{"$f":"VLOOKUP(A394,'TA Substitutes'!$A$1:$B$67,2,FALSE)","v":"Timaru"},"Kensington","TimaruKensington",0]
["Timaru District ",{"$f":"VLOOKUP(A395,'TA Substitutes'!$A$1:$B$67,2,FALSE)","v":"Timaru"},"Maori Hill","TimaruMaori Hill",0]
["Timaru District ",{"$f":"VLOOKUP(A396,'TA Substitutes'!$A$1:$B$67,2,FALSE)","v":"Timaru"},"Marchwiel","TimaruMarchwiel",0]
["Timaru District ",{"$f":"VLOOKUP(A397,'TA Substitutes'!$A$1:$B$67,2,FALSE)","v":"Timaru"},"Parkside","TimaruParkside",0]
["Timaru District ",{"$f":"VLOOKUP(A398,'TA Substitutes'!$A$1:$B$67,2,FALSE)","v":"Timaru"},"Pleasant Point","TimaruPleasant Point",0]
["Timaru District ",{"$f":"VLOOKUP(A399,'TA Substitutes'!$A$1:$B$67,2,FALSE)","v":"Timaru"},"Seaview","TimaruSeaview",0]
["Timaru District ",{"$f":"VLOOKUP(A400,'TA Substitutes'!$A$1:$B$67,2,FALSE)","v":"Timaru"},"Temuka","TimaruTemuka",0]
["Timaru District ",{"$f":"VLOOKUP(A401,'TA Substitutes'!$A$1:$B$67,2,FALSE)","v":"Timaru"},"Waimataitai","TimaruWaimataitai",0]
["Timaru District ",{"$f":"VLOOKUP(A402,'TA Substitutes'!$A$1:$B$67,2,FALSE)","v":"Timaru"},"Watlington","TimaruWatlington",0]
["Timaru District ",{"$f":"VLOOKUP(A403,'TA Substitutes'!$A$1:$B$67,2,FALSE)","v":"Timaru"},"West End","TimaruWest End",0]
["Timaru District ",{"$f":"VLOOKUP(A404,'TA Substitutes'!$A$1:$B$67,2,FALSE)","v":"Timaru"},"Oceanview","TimaruOceanview",0]
["Waimakariri District ",{"$f":"VLOOKUP(A405,'TA Substitutes'!$A$1:$B$67,2,FALSE)","v":"Waimakariri"},"Kaiapoi","WaimakaririKaiapoi",0]
["Waimakariri District ",{"$f":"VLOOKUP(A406,'TA Substitutes'!$A$1:$B$67,2,FALSE)","v":"Waimakariri"},"Oxford","WaimakaririOxford",0]
["Waimakariri District ",{"$f":"VLOOKUP(A407,'TA Substitutes'!$A$1:$B$67,2,FALSE)","v":"Waimakariri"},"Rangiora","WaimakaririRangiora",0]
["Waimakariri District ",{"$f":"VLOOKUP(A408,'TA Substitutes'!$A$1:$B$67,2,FALSE)","v":"Waimakariri"},"Woodend","WaimakaririWoodend",0]
["Waimakariri District ",{"$f":"VLOOKUP(A409,'TA Substitutes'!$A$1:$B$67,2,FALSE)","v":"Waimakariri"},"Pegasus","WaimakaririPegasus",0]
["Waimakariri District ",{"$f":"VLOOKUP(A410,'TA Substitutes'!$A$1:$B$67,2,FALSE)","v":"Waimakariri"},"The Pines Beach","WaimakaririThe Pines Beach",0]
["Waimakariri District ",{"$f":"VLOOKUP(A411,'TA Substitutes'!$A$1:$B$67,2,FALSE)","v":"Waimakariri"},"Waikuku Beach","WaimakaririWaikuku Beach",0]
["Waimakariri District ",{"$f":"VLOOKUP(A412,'TA Substitutes'!$A$1:$B$67,2,FALSE)","v":"Waimakariri"},"Woodend Beach","WaimakaririWoodend Beach",0]
["Waimate District ",{"$f":"VLOOKUP(A413,'TA Substitutes'!$A$1:$B$67,2,FALSE)","v":"Waimate"},"Waimate","WaimateWaimate",0]
["Gisborne District",{"$f":"VLOOKUP(A414,'TA Substitutes'!$A$1:$B$67,2,FALSE)","v":"Gisborne"},"Elgin","GisborneElgin",""]
["Gisborne District",{"$f":"VLOOKUP(A415,'TA Substitutes'!$A$1:$B$67,2,FALSE)","v":"Gisborne"},"Gisborne","GisborneGisborne",""]
["Gisborne District",{"$f":"VLOOKUP(A416,'TA Substitutes'!$A$1:$B$67,2,FALSE)","v":"Gisborne"},"Inner Kaiti","GisborneInner Kaiti",8.0044897706501361E-2]
["Gisborne District",{"$f":"VLOOKUP(A417,'TA Substitutes'!$A$1:$B$67,2,FALSE)","v":"Gisborne"},"Kaiti","GisborneKaiti",""]
["Gisborne District",{"$f":"VLOOKUP(A418,'TA Substitutes'!$A$1:$B$67,2,FALSE)","v":"Gisborne"},"Mangapapa","GisborneMangapapa",8.5175010503156123E-2]
["Gisborne District",{"$f":"VLOOKUP(A419,'TA Substitutes'!$A$1:$B$67,2,FALSE)","v":"Gisborne"},"Outer Kaiti","GisborneOuter Kaiti",""]
["Gisborne District",{"$f":"VLOOKUP(A420,'TA Substitutes'!$A$1:$B$67,2,FALSE)","v":"Gisborne"},"Riverdale","GisborneRiverdale",""]
["Gisborne District",{"$f":"VLOOKUP(A421,'TA Substitutes'!$A$1:$B$67,2,FALSE)","v":"Gisborne"},"Te Hapara","GisborneTe Hapara",8.2315894213802476E-2]
["Gisborne District",{"$f":"VLOOKUP(A422,'TA Substitutes'!$A$1:$B$67,2,FALSE)","v":"Gisborne"},"Whataupoko","GisborneWhataupoko",8.0631739050675666E-2]
["Gisborne District",{"$f":"VLOOKUP(A423,'TA Substitutes'!$A$1:$B$67,2,FALSE)","v":"Gisborne"},"Lytton West","GisborneLytton West",""]
["Gisborne District",{"$f":"VLOOKUP(A424,'TA Substitutes'!$A$1:$B$67,2,FALSE)","v":"Gisborne"},"Okitu","GisborneOkitu",""]
["Gisborne District",{"$f":"VLOOKUP(A425,'TA Substitutes'!$A$1:$B$67,2,FALSE)","v":"Gisborne"},"Tamarau","GisborneTamarau",""]
["Gisborne District",{"$f":"VLOOKUP(A426,'TA Substitutes'!$A$1:$B$67,2,FALSE)","v":"Gisborne"},"Tolaga Bay","GisborneTolaga Bay",0]
["Hastings District ",{"$f":"VLOOKUP(A427,'TA Substitutes'!$A$1:$B$67,2,FALSE)","v":"Hastings"},"Akina","HastingsAkina",8.7476194217746883E-2]
["Hastings District ",{"$f":"VLOOKUP(A428,'TA Substitutes'!$A$1:$B$67,2,FALSE)","v":"Hastings"},"Camberley","HastingsCamberley",8.5112107364802903E-2]
["Hastings District ",{"$f":"VLOOKUP(A429,'TA Substitutes'!$A$1:$B$67,2,FALSE)","v":"Hastings"},"Clive","HastingsClive",""]
["Hastings District ",{"$f":"VLOOKUP(A430,'TA Substitutes'!$A$1:$B$67,2,FALSE)","v":"Hastings"},"Flaxmere","HastingsFlaxmere",""]
["Hastings District ",{"$f":"VLOOKUP(A431,'TA Substitutes'!$A$1:$B$67,2,FALSE)","v":"Hastings"},"Frimley","HastingsFrimley",8.3512029888238803E-2]
["Hastings District ",{"$f":"VLOOKUP(A432,'TA Substitutes'!$A$1:$B$67,2,FALSE)","v":"Hastings"},"Hastings","HastingsHastings",8.3753070717278E-2]
["Hastings District ",{"$f":"VLOOKUP(A433,'TA Substitutes'!$A$1:$B$67,2,FALSE)","v":"Hastings"},"Havelock North","HastingsHavelock North",8.2804601465179983E-2]
["Hastings District ",{"$f":"VLOOKUP(A434,'TA Substitutes'!$A$1:$B$67,2,FALSE)","v":"Hastings"},"Mahora","HastingsMahora",8.5687030384433482E-2]
["Hastings District ",{"$f":"VLOOKUP(A435,'TA Substitutes'!$A$1:$B$67,2,FALSE)","v":"Hastings"},"Mayfair","HastingsMayfair",8.6474800498772986E-2]
["Hastings District ",{"$f":"VLOOKUP(A436,'TA Substitutes'!$A$1:$B$67,2,FALSE)","v":"Hastings"},"Parkvale","HastingsParkvale",7.3894580224392659E-2]
["Hastings District ",{"$f":"VLOOKUP(A437,'TA Substitutes'!$A$1:$B$67,2,FALSE)","v":"Hastings"},"Raureka","HastingsRaureka",8.451981629176708E-2]
["Hastings District ",{"$f":"VLOOKUP(A438,'TA Substitutes'!$A$1:$B$67,2,FALSE)","v":"Hastings"},"Saint Leonards","HastingsSaint Leonards",8.6369519174808618E-2]
["Hastings District ",{"$f":"VLOOKUP(A439,'TA Substitutes'!$A$1:$B$67,2,FALSE)","v":"Hastings"},"Eskdale","HastingsEskdale",""]
["Hastings District ",{"$f":"VLOOKUP(A440,'TA Substitutes'!$A$1:$B$67,2,FALSE)","v":"Hastings"},"Haumoana","HastingsHaumoana",""]
["Hastings District ",{"$f":"VLOOKUP(A441,'TA Substitutes'!$A$1:$B$67,2,FALSE)","v":"Hastings"},"Te Awanga","HastingsTe Awanga",""]
["Hastings District ",{"$f":"VLOOKUP(A442,'TA Substitutes'!$A$1:$B$67,2,FALSE)","v":"Hastings"},"Whakatu","HastingsWhakatu",""]
["Central Hawke's Bay District ",{"$f":"VLOOKUP(A443,'TA Substitutes'!$A$1:$B$67,2,FALSE)","v":"Central Hawke's Bay"},"Waipawa","Central Hawke's BayWaipawa",""]
["Central Hawke's Bay District ",{"$f":"VLOOKUP(A444,'TA Substitutes'!$A$1:$B$67,2,FALSE)","v":"Central Hawke's Bay"},"Waipukurau","Central Hawke's BayWaipukurau",""]
["Central Hawke's Bay District ",{"$f":"VLOOKUP(A445,'TA Substitutes'!$A$1:$B$67,2,FALSE)","v":"Central Hawke's Bay"},"Otane","Central Hawke's BayOtane",""]
["Napier City ",{"$f":"VLOOKUP(A446,'TA Substitutes'!$A$1:$B$67,2,FALSE)","v":"Napier City"},"Bay View","Napier CityBay View",7.8316714494697015E-2]
["Napier City ",{"$f":"VLOOKUP(A447,'TA Substitutes'!$A$1:$B$67,2,FALSE)","v":"Napier City"},"Bluff Hill","Napier CityBluff Hill",""]
["Napier City ",{"$f":"VLOOKUP(A448,'TA Substitutes'!$A$1:$B$67,2,FALSE)","v":"Napier City"},"Greenmeadows","Napier CityGreenmeadows",7.2048836631113833E-2]
["Napier City ",{"$f":"VLOOKUP(A449,'TA Substitutes'!$A$1:$B$67,2,FALSE)","v":"Napier City"},"Hospital Hill","Napier CityHospital Hill",7.8851294354526535E-2]
["Napier City ",{"$f":"VLOOKUP(A450,'TA Substitutes'!$A$1:$B$67,2,FALSE)","v":"Napier City"},"Maraenui","Napier CityMaraenui",8.6690856657502868E-2]
["Napier City ",{"$f":"VLOOKUP(A451,'TA Substitutes'!$A$1:$B$67,2,FALSE)","v":"Napier City"},"Marewa",{"$f":"B451&C451","v":"Napier CityMarewa"},8.166726607905983E-2]
["Napier City ",{"$f":"VLOOKUP(A452,'TA Substitutes'!$A$1:$B$67,2,FALSE)","v":"Napier City"},"Napier South","Napier CityNapier South",8.4269063092668128E-2]
["Napier City ",{"$f":"VLOOKUP(A453,'TA Substitutes'!$A$1:$B$67,2,FALSE)","v":"Napier City"},"Onekawa","Napier CityOnekawa",8.14477090237129E-2]
["Napier City ",{"$f":"VLOOKUP(A454,'TA Substitutes'!$A$1:$B$67,2,FALSE)","v":"Napier City"},"Pirimai","Napier CityPirimai",8.3791740960927896E-2]
["Napier City ",{"$f":"VLOOKUP(A455,'TA Substitutes'!$A$1:$B$67,2,FALSE)","v":"Napier City"},"Tamatea","Napier CityTamatea",7.787988012901037E-2]
["Napier City ",{"$f":"VLOOKUP(A456,'TA Substitutes'!$A$1:$B$67,2,FALSE)","v":"Napier City"},"Taradale","Napier CityTaradale",7.452702371558062E-2]
["Napier City ",{"$f":"VLOOKUP(A457,'TA Substitutes'!$A$1:$B$67,2,FALSE)","v":"Napier City"},"Ahuriri","Napier CityAhuriri",""]
["Napier City ",{"$f":"VLOOKUP(A458,'TA Substitutes'!$A$1:$B$67,2,FALSE)","v":"Napier City"},"Jervoistown","Napier CityJervoistown",""]
["Napier City ",{"$f":"VLOOKUP(A459,'TA Substitutes'!$A$1:$B$67,2,FALSE)","v":"Napier City"},"Poraiti","Napier CityPoraiti",""]
["Napier City ",{"$f":"VLOOKUP(A460,'TA Substitutes'!$A$1:$B$67,2,FALSE)","v":"Napier City"},"Te Awa","Napier CityTe Awa",""]
["Napier City ",{"$f":"VLOOKUP(A461,'TA Substitutes'!$A$1:$B$67,2,FALSE)","v":"Napier City"},"Westshore","Napier CityWestshore",""]
["Wairoa District ",{"$f":"VLOOKUP(A462,'TA Substitutes'!$A$1:$B$67,2,FALSE)","v":"Wairoa"},"Wairoa","WairoaWairoa",""]
["Horowhenua District ",{"$f":"VLOOKUP(A463,'TA Substitutes'!$A$1:$B$67,2,FALSE)","v":"Horowhenua"},"Foxton","HorowhenuaFoxton",9.5007709815724928E-2]
["Horowhenua District ",{"$f":"VLOOKUP(A464,'TA Substitutes'!$A$1:$B$67,2,FALSE)","v":"Horowhenua"},"Foxton Beach","HorowhenuaFoxton Beach",9.9968597895814026E-2]
["Horowhenua District ",{"$f":"VLOOKUP(A465,'TA Substitutes'!$A$1:$B$67,2,FALSE)","v":"Horowhenua"},"Levin","HorowhenuaLevin",8.4281090181125062E-2]
["Horowhenua District ",{"$f":"VLOOKUP(A466,'TA Substitutes'!$A$1:$B$67,2,FALSE)","v":"Horowhenua"},"Shannon","HorowhenuaShannon",""]
["Horowhenua District ",{"$f":"VLOOKUP(A467,'TA Substitutes'!$A$1:$B$67,2,FALSE)","v":"Horowhenua"},"Waitarere Beach","HorowhenuaWaitarere Beach",""]
["Horowhenua District ",{"$f":"VLOOKUP(A468,'TA Substitutes'!$A$1:$B$67,2,FALSE)","v":"Horowhenua"},"Hokio Beach","HorowhenuaHokio Beach",""]
["Horowhenua District ",{"$f":"VLOOKUP(A469,'TA Substitutes'!$A$1:$B$67,2,FALSE)","v":"Horowhenua"},"Manakau","HorowhenuaManakau",""]
["Horowhenua District ",{"$f":"VLOOKUP(A470,'TA Substitutes'!$A$1:$B$67,2,FALSE)","v":"Horowhenua"},"Ohau","HorowhenuaOhau",""]
["Horowhenua District ",{"$f":"VLOOKUP(A471,'TA Substitutes'!$A$1:$B$67,2,FALSE)","v":"Horowhenua"},"Tokomaru","HorowhenuaTokomaru",""]
["Horowhenua District ",{"$f":"VLOOKUP(A472,'TA Substitutes'!$A$1:$B$67,2,FALSE)","v":"Horowhenua"},"Waikawa Beach","HorowhenuaWaikawa Beach",""]
["Palmerston North City ",{"$f":"VLOOKUP(A473,'TA Substitutes'!$A$1:$B$67,2,FALSE)","v":"Palmerston North"},"Ashhurst","Palmerston NorthAshhurst",8.0364438444943342E-2]
["Palmerston North City ",{"$f":"VLOOKUP(A474,'TA Substitutes'!$A$1:$B$67,2,FALSE)","v":"Palmerston North"},"Awapuni","Palmerston NorthAwapuni",7.5321171640755136E-2]
["Palmerston North City ",{"$f":"VLOOKUP(A475,'TA Substitutes'!$A$1:$B$67,2,FALSE)","v":"Palmerston North"},"Cloverlea","Palmerston NorthCloverlea",8.1017915523477146E-2]
["Palmerston North City ",{"$f":"VLOOKUP(A476,'TA Substitutes'!$A$1:$B$67,2,FALSE)","v":"Palmerston North"},"Fitzherbert","Palmerston NorthFitzherbert",6.2699274095684654E-2]
["Palmerston North City ",{"$f":"VLOOKUP(A477,'TA Substitutes'!$A$1:$B$67,2,FALSE)","v":"Palmerston North"},"Highbury","Palmerston NorthHighbury",7.5802338444215689E-2]
["Palmerston North City ",{"$f":"VLOOKUP(A478,'TA Substitutes'!$A$1:$B$67,2,FALSE)","v":"Palmerston North"},"Hokowhitu","Palmerston NorthHokowhitu",6.847139083177467E-2]
["Palmerston North City ",{"$f":"VLOOKUP(A479,'TA Substitutes'!$A$1:$B$67,2,FALSE)","v":"Palmerston North"},"Kelvin Grove","Palmerston NorthKelvin Grove",""]
["Palmerston North City ",{"$f":"VLOOKUP(A480,'TA Substitutes'!$A$1:$B$67,2,FALSE)","v":"Palmerston North"},"Milson","Palmerston NorthMilson",7.613655964666366E-2]
["Palmerston North City ",{"$f":"VLOOKUP(A481,'TA Substitutes'!$A$1:$B$67,2,FALSE)","v":"Palmerston North"},"Palmerston North","Palmerston NorthPalmerston North",7.3869276041662379E-2]
["Palmerston North City ",{"$f":"VLOOKUP(A482,'TA Substitutes'!$A$1:$B$67,2,FALSE)","v":"Palmerston North"},"Roslyn","Palmerston NorthRoslyn",8.2089270367668998E-2]
["Palmerston North City ",{"$f":"VLOOKUP(A483,'TA Substitutes'!$A$1:$B$67,2,FALSE)","v":"Palmerston North"},"Takaro","Palmerston NorthTakaro",7.8989789700931512E-2]
["Palmerston North City ",{"$f":"VLOOKUP(A484,'TA Substitutes'!$A$1:$B$67,2,FALSE)","v":"Palmerston North"},"Terrace End","Palmerston NorthTerrace End",7.5501460998578684E-2]
["Palmerston North City ",{"$f":"VLOOKUP(A485,'TA Substitutes'!$A$1:$B$67,2,FALSE)","v":"Palmerston North"},"West End","Palmerston NorthWest End",0]
["Palmerston North City ",{"$f":"VLOOKUP(A486,'TA Substitutes'!$A$1:$B$67,2,FALSE)","v":"Palmerston North"},"Westbrook","Palmerston NorthWestbrook",8.2728617559730599E-2]
["Palmerston North City ",{"$f":"VLOOKUP(A487,'TA Substitutes'!$A$1:$B$67,2,FALSE)","v":"Palmerston North"},"Aokautere","Palmerston NorthAokautere",""]
["Palmerston North City ",{"$f":"VLOOKUP(A488,'TA Substitutes'!$A$1:$B$67,2,FALSE)","v":"Palmerston North"},"Bunnythorpe","Palmerston NorthBunnythorpe",""]
["Rangitikei District ",{"$f":"VLOOKUP(A489,'TA Substitutes'!$A$1:$B$67,2,FALSE)","v":"Rangitikei"},"Bulls","RangitikeiBulls",""]
["Rangitikei District ",{"$f":"VLOOKUP(A490,'TA Substitutes'!$A$1:$B$67,2,FALSE)","v":"Rangitikei"},"Marton","RangitikeiMarton",9.1411161449426181E-2]
["Rangitikei District ",{"$f":"VLOOKUP(A491,'TA Substitutes'!$A$1:$B$67,2,FALSE)","v":"Rangitikei"},"Taihape","RangitikeiTaihape",""]
["Rangitikei District ",{"$f":"VLOOKUP(A492,'TA Substitutes'!$A$1:$B$67,2,FALSE)","v":"Rangitikei"},"Hunterville","RangitikeiHunterville",""]
["Ruapehu District ",{"$f":"VLOOKUP(A493,'TA Substitutes'!$A$1:$B$67,2,FALSE)","v":"Ruapehu"},"Ohakune","RuapehuOhakune",""]
["Ruapehu District ",{"$f":"VLOOKUP(A494,'TA Substitutes'!$A$1:$B$67,2,FALSE)","v":"Ruapehu"},"Taumarunui","RuapehuTaumarunui",""]
["Ruapehu District ",{"$f":"VLOOKUP(A495,'TA Substitutes'!$A$1:$B$67,2,FALSE)","v":"Ruapehu"},"Manunui","RuapehuManunui",""]
["Ruapehu District ",{"$f":"VLOOKUP(A496,'TA Substitutes'!$A$1:$B$67,2,FALSE)","v":"Ruapehu"},"National Park","RuapehuNational Park",""]
["Ruapehu District ",{"$f":"VLOOKUP(A497,'TA Substitutes'!$A$1:$B$67,2,FALSE)","v":"Ruapehu"},"Raetihi","RuapehuRaetihi",""]
["Tararua District ",{"$f":"VLOOKUP(A498,'TA Substitutes'!$A$1:$B$67,2,FALSE)","v":"Tararua"},"Dannevirke","TararuaDannevirke",8.4436475146411061E-2]
["Tararua District ",{"$f":"VLOOKUP(A499,'TA Substitutes'!$A$1:$B$67,2,FALSE)","v":"Tararua"},"Pahiatua","TararuaPahiatua",9.2346195834426936E-2]
["Tararua District ",{"$f":"VLOOKUP(A500,'TA Substitutes'!$A$1:$B$67,2,FALSE)","v":"Tararua"},"Woodville","TararuaWoodville",8.9109463345703688E-2]
["Tararua District ",{"$f":"VLOOKUP(A501,'TA Substitutes'!$A$1:$B$67,2,FALSE)","v":"Tararua"},"Eketahuna","TararuaEketahuna",""]
["Whanganui District ",{"$f":"VLOOKUP(A502,'TA Substitutes'!$A$1:$B$67,2,FALSE)","v":"Whanganui"},"Aramoho","WhanganuiAramoho",8.8839754285356731E-2]
["Whanganui District ",{"$f":"VLOOKUP(A503,'TA Substitutes'!$A$1:$B$67,2,FALSE)","v":"Whanganui"},"Castlecliff","WhanganuiCastlecliff",9.6737508082789025E-2]
["Whanganui District ",{"$f":"VLOOKUP(A504,'TA Substitutes'!$A$1:$B$67,2,FALSE)","v":"Whanganui"},"Durie Hill","WhanganuiDurie Hill",8.2848302914729777E-2]
["Whanganui District ",{"$f":"VLOOKUP(A505,'TA Substitutes'!$A$1:$B$67,2,FALSE)","v":"Whanganui"},"Gonville","WhanganuiGonville",9.220944708014911E-2]
["Whanganui District ",{"$f":"VLOOKUP(A506,'TA Substitutes'!$A$1:$B$67,2,FALSE)","v":"Whanganui"},"Otamatea","WhanganuiOtamatea",""]
["Whanganui District ",{"$f":"VLOOKUP(A507,'TA Substitutes'!$A$1:$B$67,2,FALSE)","v":"Whanganui"},"Saint Johns Hill","WhanganuiSaint Johns Hill",7.597381349290977E-2]
["Whanganui District ",{"$f":"VLOOKUP(A508,'TA Substitutes'!$A$1:$B$67,2,FALSE)","v":"Whanganui"},"Springvale","WhanganuiSpringvale",7.661328425920888E-2]
["Whanganui District ",{"$f":"VLOOKUP(A509,'TA Substitutes'!$A$1:$B$67,2,FALSE)","v":"Whanganui"},"Tawhero","WhanganuiTawhero",8.4969531846860402E-2]
["Whanganui District ",{"$f":"VLOOKUP(A510,'TA Substitutes'!$A$1:$B$67,2,FALSE)","v":"Whanganui"},"Wanganui","WhanganuiWanganui",9.0193757526118024E-2]
["Whanganui District ",{"$f":"VLOOKUP(A511,'TA Substitutes'!$A$1:$B$67,2,FALSE)","v":"Whanganui"},"Wanganui East","WhanganuiWanganui East",8.7831936436460589E-2]
["Whanganui District ",{"$f":"VLOOKUP(A512,'TA Substitutes'!$A$1:$B$67,2,FALSE)","v":"Whanganui"},"Bastia Hill","WhanganuiBastia Hill",""]
["Whanganui District ",{"$f":"VLOOKUP(A513,'TA Substitutes'!$A$1:$B$67,2,FALSE)","v":"Whanganui"},"College Estate","WhanganuiCollege Estate",""]
["Whanganui District ",{"$f":"VLOOKUP(A514,'TA Substitutes'!$A$1:$B$67,2,FALSE)","v":"Whanganui"},"Putiki","WhanganuiPutiki",""]
["Whanganui District ",{"$f":"VLOOKUP(A515,'TA Substitutes'!$A$1:$B$67,2,FALSE)","v":"Whanganui"},"Westmere",{"$f":"B515&C515","v":"WhanganuiWestmere"},9.626523090439032E-2]
["Manawatu District ",{"$f":"VLOOKUP(A516,'TA Substitutes'!$A$1:$B$67,2,FALSE)","v":"Manawatu"},"Halcombe","ManawatuHalcombe",""]
["Manawatu District ",{"$f":"VLOOKUP(A517,'TA Substitutes'!$A$1:$B$67,2,FALSE)","v":"Manawatu"},"Himatangi Beach","ManawatuHimatangi Beach",""]
["Manawatu District ",{"$f":"VLOOKUP(A518,'TA Substitutes'!$A$1:$B$67,2,FALSE)","v":"Manawatu"},"Rongotea","ManawatuRongotea",""]
["Manawatu District ",{"$f":"VLOOKUP(A519,'TA Substitutes'!$A$1:$B$67,2,FALSE)","v":"Manawatu"},"Sanson","ManawatuSanson",""]
["Manawatu District ",{"$f":"VLOOKUP(A520,'TA Substitutes'!$A$1:$B$67,2,FALSE)","v":"Manawatu"},"Feilding","ManawatuFeilding",8.2628745286918548E-2]
["Marlborough District ",{"$f":"VLOOKUP(A521,'TA Substitutes'!$A$1:$B$67,2,FALSE)","v":"Marlborough"},"Blenheim","MarlboroughBlenheim",7.2284025198545487E-2]
["Marlborough District ",{"$f":"VLOOKUP(A522,'TA Substitutes'!$A$1:$B$67,2,FALSE)","v":"Marlborough"},"Mayfield","MarlboroughMayfield",7.545119772284048E-2]
["Marlborough District ",{"$f":"VLOOKUP(A523,'TA Substitutes'!$A$1:$B$67,2,FALSE)","v":"Marlborough"},"Picton","MarlboroughPicton",7.0367653379119766E-2]
["Marlborough District ",{"$f":"VLOOKUP(A524,'TA Substitutes'!$A$1:$B$67,2,FALSE)","v":"Marlborough"},"Redwoodtown","MarlboroughRedwoodtown",7.0950096506857241E-2]
["Marlborough District ",{"$f":"VLOOKUP(A525,'TA Substitutes'!$A$1:$B$67,2,FALSE)","v":"Marlborough"},"Renwick","MarlboroughRenwick",7.1555878057535396E-2]
["Marlborough District ",{"$f":"VLOOKUP(A526,'TA Substitutes'!$A$1:$B$67,2,FALSE)","v":"Marlborough"},"Riversdale","MarlboroughRiversdale",7.253438552124436E-2]
["Marlborough District ",{"$f":"VLOOKUP(A527,'TA Substitutes'!$A$1:$B$67,2,FALSE)","v":"Marlborough"},"Springlands","MarlboroughSpringlands",6.6478043784142127E-2]
["Marlborough District ",{"$f":"VLOOKUP(A528,'TA Substitutes'!$A$1:$B$67,2,FALSE)","v":"Marlborough"},"Waikawa","MarlboroughWaikawa",6.1344427773099008E-2]
["Marlborough District ",{"$f":"VLOOKUP(A529,'TA Substitutes'!$A$1:$B$67,2,FALSE)","v":"Marlborough"},"Witherlea","MarlboroughWitherlea",6.6433522023344294E-2]
["Marlborough District ",{"$f":"VLOOKUP(A530,'TA Substitutes'!$A$1:$B$67,2,FALSE)","v":"Marlborough"},"Anakiwa","MarlboroughAnakiwa",""]
["Marlborough District ",{"$f":"VLOOKUP(A531,'TA Substitutes'!$A$1:$B$67,2,FALSE)","v":"Marlborough"},"Burleigh","MarlboroughBurleigh",""]
["Marlborough District ",{"$f":"VLOOKUP(A532,'TA Substitutes'!$A$1:$B$67,2,FALSE)","v":"Marlborough"},"Havelock","MarlboroughHavelock",""]
["Marlborough District ",{"$f":"VLOOKUP(A533,'TA Substitutes'!$A$1:$B$67,2,FALSE)","v":"Marlborough"},"Islington","MarlboroughIslington",5.9500154431257002E-2]
["Marlborough District ",{"$f":"VLOOKUP(A534,'TA Substitutes'!$A$1:$B$67,2,FALSE)","v":"Marlborough"},"Okiwi Bay","MarlboroughOkiwi Bay",""]
["Marlborough District ",{"$f":"VLOOKUP(A535,'TA Substitutes'!$A$1:$B$67,2,FALSE)","v":"Marlborough"},"Rarangi","MarlboroughRarangi",""]
["Marlborough District ",{"$f":"VLOOKUP(A536,'TA Substitutes'!$A$1:$B$67,2,FALSE)","v":"Marlborough"},"Spring Creek","MarlboroughSpring Creek",""]
["Marlborough District ",{"$f":"VLOOKUP(A537,'TA Substitutes'!$A$1:$B$67,2,FALSE)","v":"Marlborough"},"Tennyson Inlet","MarlboroughTennyson Inlet",""]
["Marlborough District ",{"$f":"VLOOKUP(A538,'TA Substitutes'!$A$1:$B$67,2,FALSE)","v":"Marlborough"},"Wither Hills","MarlboroughWither Hills",""]
["Nelson City ",{"$f":"VLOOKUP(A539,'TA Substitutes'!$A$1:$B$67,2,FALSE)","v":"Nelson City"},"Atawhai","Nelson CityAtawhai",6.5190204966082632E-2]
["Nelson City ",{"$f":"VLOOKUP(A540,'TA Substitutes'!$A$1:$B$67,2,FALSE)","v":"Nelson City"},"Enner Glynn","Nelson CityEnner Glynn",6.6895738202624067E-2]
["Nelson City ",{"$f":"VLOOKUP(A541,'TA Substitutes'!$A$1:$B$67,2,FALSE)","v":"Nelson City"},"Marybank","Nelson CityMarybank",6.6895103842159243E-2]
["Nelson City ",{"$f":"VLOOKUP(A542,'TA Substitutes'!$A$1:$B$67,2,FALSE)","v":"Nelson City"},"Nelson","Nelson CityNelson",7.5331572471294628E-2]
["Nelson City ",{"$f":"VLOOKUP(A543,'TA Substitutes'!$A$1:$B$67,2,FALSE)","v":"Nelson City"},"Nelson South","Nelson CityNelson South",7.6399847225272488E-2]
["Nelson City ",{"$f":"VLOOKUP(A544,'TA Substitutes'!$A$1:$B$67,2,FALSE)","v":"Nelson City"},"Stoke","Nelson CityStoke",6.8111121605336278E-2]
["Nelson City ",{"$f":"VLOOKUP(A545,'TA Substitutes'!$A$1:$B$67,2,FALSE)","v":"Nelson City"},"Tahunanui","Nelson CityTahunanui",7.1096303635405533E-2]
["Nelson City ",{"$f":"VLOOKUP(A546,'TA Substitutes'!$A$1:$B$67,2,FALSE)","v":"Nelson City"},"The Brook","Nelson CityThe Brook",7.5919418156377816E-2]
["Nelson City ",{"$f":"VLOOKUP(A547,'TA Substitutes'!$A$1:$B$67,2,FALSE)","v":"Nelson City"},"The Wood","Nelson CityThe Wood",7.0622519470757261E-2]
["Nelson City ",{"$f":"VLOOKUP(A548,'TA Substitutes'!$A$1:$B$67,2,FALSE)","v":"Nelson City"},"Toi Toi","Nelson CityToi Toi",8.2186796263052697E-2]
["Nelson City ",{"$f":"VLOOKUP(A549,'TA Substitutes'!$A$1:$B$67,2,FALSE)","v":"Nelson City"},"Wakatu","Nelson CityWakatu",""]
["Nelson City ",{"$f":"VLOOKUP(A550,'TA Substitutes'!$A$1:$B$67,2,FALSE)","v":"Nelson City"},"Washington Valley","Nelson CityWashington Valley",7.798548274945305E-2]
["Nelson City ",{"$f":"VLOOKUP(A551,'TA Substitutes'!$A$1:$B$67,2,FALSE)","v":"Nelson City"},"Annesbrook","Nelson CityAnnesbrook",""]
["Nelson City ",{"$f":"VLOOKUP(A552,'TA Substitutes'!$A$1:$B$67,2,FALSE)","v":"Nelson City"},"Beachville","Nelson CityBeachville",""]
["Nelson City ",{"$f":"VLOOKUP(A553,'TA Substitutes'!$A$1:$B$67,2,FALSE)","v":"Nelson City"},"Bishopdale","Nelson CityBishopdale",5.8956147948170168E-2]
["Nelson City ",{"$f":"VLOOKUP(A554,'TA Substitutes'!$A$1:$B$67,2,FALSE)","v":"Nelson City"},"Britannia Heights","Nelson CityBritannia Heights",""]
["Nelson City ",{"$f":"VLOOKUP(A555,'TA Substitutes'!$A$1:$B$67,2,FALSE)","v":"Nelson City"},"Maitai","Nelson CityMaitai",""]
["Nelson City ",{"$f":"VLOOKUP(A556,'TA Substitutes'!$A$1:$B$67,2,FALSE)","v":"Nelson City"},"Moana","Nelson CityMoana",""]
["Nelson City ",{"$f":"VLOOKUP(A557,'TA Substitutes'!$A$1:$B$67,2,FALSE)","v":"Nelson City"},"Monaco","Nelson CityMonaco",""]
["Nelson City ",{"$f":"VLOOKUP(A558,'TA Substitutes'!$A$1:$B$67,2,FALSE)","v":"Nelson City"},"Stepneyville","Nelson CityStepneyville",""]
["Tasman District ",{"$f":"VLOOKUP(A559,'TA Substitutes'!$A$1:$B$67,2,FALSE)","v":"Tasman"},"Brightwater","TasmanBrightwater",6.8430869545373918E-2]
["Tasman District ",{"$f":"VLOOKUP(A560,'TA Substitutes'!$A$1:$B$67,2,FALSE)","v":"Tasman"},"Mapua","TasmanMapua",7.522459994820796E-2]
["Tasman District ",{"$f":"VLOOKUP(A561,'TA Substitutes'!$A$1:$B$67,2,FALSE)","v":"Tasman"},"Motueka","TasmanMotueka",7.2369722426237848E-2]
["Tasman District ",{"$f":"VLOOKUP(A562,'TA Substitutes'!$A$1:$B$67,2,FALSE)","v":"Tasman"},"Richmond","TasmanRichmond",5.4912433044716602E-2]
["Tasman District ",{"$f":"VLOOKUP(A563,'TA Substitutes'!$A$1:$B$67,2,FALSE)","v":"Tasman"},"Takaka","TasmanTakaka",6.7678141229628119E-2]
["Tasman District ",{"$f":"VLOOKUP(A564,'TA Substitutes'!$A$1:$B$67,2,FALSE)","v":"Tasman"},"Wakefield","TasmanWakefield",7.2836496968150533E-2]
["Tasman District ",{"$f":"VLOOKUP(A565,'TA Substitutes'!$A$1:$B$67,2,FALSE)","v":"Tasman"},"Collingwood","TasmanCollingwood",""]
["Tasman District ",{"$f":"VLOOKUP(A566,'TA Substitutes'!$A$1:$B$67,2,FALSE)","v":"Tasman"},"Hope","TasmanHope",""]
["Tasman District ",{"$f":"VLOOKUP(A567,'TA Substitutes'!$A$1:$B$67,2,FALSE)","v":"Tasman"},"Kaiteriteri","TasmanKaiteriteri",""]
["Tasman District ",{"$f":"VLOOKUP(A568,'TA Substitutes'!$A$1:$B$67,2,FALSE)","v":"Tasman"},"Parapara","TasmanParapara",""]
["Tasman District ",{"$f":"VLOOKUP(A569,'TA Substitutes'!$A$1:$B$67,2,FALSE)","v":"Tasman"},"Pohara","TasmanPohara",""]
["Tasman District ",{"$f":"VLOOKUP(A570,'TA Substitutes'!$A$1:$B$67,2,FALSE)","v":"Tasman"},"Redwood Valley","TasmanRedwood Valley",""]
["Tasman District ",{"$f":"VLOOKUP(A571,'TA Substitutes'!$A$1:$B$67,2,FALSE)","v":"Tasman"},"Riwaka","TasmanRiwaka",""]
["Tasman District ",{"$f":"VLOOKUP(A572,'TA Substitutes'!$A$1:$B$67,2,FALSE)","v":"Tasman"},"Ruby Bay","TasmanRuby Bay",""]
["Tasman District ",{"$f":"VLOOKUP(A573,'TA Substitutes'!$A$1:$B$67,2,FALSE)","v":"Tasman"},"St Arnaud","TasmanSt Arnaud",""]
["Tasman District ",{"$f":"VLOOKUP(A574,'TA Substitutes'!$A$1:$B$67,2,FALSE)","v":"Tasman"},"Tata Beach","TasmanTata Beach",""]
["Far North District ",{"$f":"VLOOKUP(A575,'TA Substitutes'!$A$1:$B$67,2,FALSE)","v":"Far North"},"Ahipara","Far NorthAhipara",5.30874808249302E-2]
["Far North District ",{"$f":"VLOOKUP(A576,'TA Substitutes'!$A$1:$B$67,2,FALSE)","v":"Far North"},"Awanui","Far NorthAwanui",""]
["Far North District ",{"$f":"VLOOKUP(A577,'TA Substitutes'!$A$1:$B$67,2,FALSE)","v":"Far North"},"Cable Bay","Far NorthCable Bay",6.0102227424648103E-2]
["Far North District ",{"$f":"VLOOKUP(A578,'TA Substitutes'!$A$1:$B$67,2,FALSE)","v":"Far North"},"Coopers Beach","Far NorthCoopers Beach",""]
["Far North District ",{"$f":"VLOOKUP(A579,'TA Substitutes'!$A$1:$B$67,2,FALSE)","v":"Far North"},"Haruru",{"$f":"B579&C579","v":"Far NorthHaruru"},""]
["Far North District ",{"$f":"VLOOKUP(A580,'TA Substitutes'!$A$1:$B$67,2,FALSE)","v":"Far North"},"Hihi","Far NorthHihi",""]
["Far North District ",{"$f":"VLOOKUP(A581,'TA Substitutes'!$A$1:$B$67,2,FALSE)","v":"Far North"},"Kaikohe","Far NorthKaikohe",6.555362957434685E-2]
["Far North District ",{"$f":"VLOOKUP(A582,'TA Substitutes'!$A$1:$B$67,2,FALSE)","v":"Far North"},"Kaitaia","Far NorthKaitaia",6.5997407323016288E-2]
["Far North District ",{"$f":"VLOOKUP(A583,'TA Substitutes'!$A$1:$B$67,2,FALSE)","v":"Far North"},"Karikari Peninsula","Far NorthKarikari Peninsula",6.5758704922270761E-2]
["Far North District ",{"$f":"VLOOKUP(A584,'TA Substitutes'!$A$1:$B$67,2,FALSE)","v":"Far North"},"Kawakawa","Far NorthKawakawa",7.6134488331916605E-2]
["Far North District ",{"$f":"VLOOKUP(A585,'TA Substitutes'!$A$1:$B$67,2,FALSE)","v":"Far North"},"Kerikeri","Far NorthKerikeri",6.0472078290262132E-2]
["Far North District ",{"$f":"VLOOKUP(A586,'TA Substitutes'!$A$1:$B$67,2,FALSE)","v":"Far North"},"Mangonui","Far NorthMangonui",""]
["Far North District ",{"$f":"VLOOKUP(A587,'TA Substitutes'!$A$1:$B$67,2,FALSE)","v":"Far North"},"Okaihau","Far NorthOkaihau",""]
["Far North District ",{"$f":"VLOOKUP(A588,'TA Substitutes'!$A$1:$B$67,2,FALSE)","v":"Far North"},"Omapere","Far NorthOmapere",""]
["Far North District ",{"$f":"VLOOKUP(A589,'TA Substitutes'!$A$1:$B$67,2,FALSE)","v":"Far North"},"Opononi","Far NorthOpononi",""]
["Far North District ",{"$f":"VLOOKUP(A590,'TA Substitutes'!$A$1:$B$67,2,FALSE)","v":"Far North"},"Opua","Far NorthOpua",""]
["Far North District ",{"$f":"VLOOKUP(A591,'TA Substitutes'!$A$1:$B$67,2,FALSE)","v":"Far North"},"Paihia","Far NorthPaihia",""]
["Far North District ",{"$f":"VLOOKUP(A592,'TA Substitutes'!$A$1:$B$67,2,FALSE)","v":"Far North"},"Pukenui","Far NorthPukenui",""]
["Far North District ",{"$f":"VLOOKUP(A593,'TA Substitutes'!$A$1:$B$67,2,FALSE)","v":"Far North"},"Rawene","Far NorthRawene",""]
["Far North District ",{"$f":"VLOOKUP(A594,'TA Substitutes'!$A$1:$B$67,2,FALSE)","v":"Far North"},"Waipapa","Far NorthWaipapa",""]
["Whangarei District ",{"$f":"VLOOKUP(A595,'TA Substitutes'!$A$1:$B$67,2,FALSE)","v":"Whangarei"},"Avenues","WhangareiAvenues",6.6450750781089196E-2]
["Whangarei District ",{"$f":"VLOOKUP(A596,'TA Substitutes'!$A$1:$B$67,2,FALSE)","v":"Whangarei"},"Hikurangi","WhangareiHikurangi",8.1607101659662007E-2]
["Whangarei District ",{"$f":"VLOOKUP(A597,'TA Substitutes'!$A$1:$B$67,2,FALSE)","v":"Whangarei"},"Horahora","WhangareiHorahora",""]
["Whangarei District ",{"$f":"VLOOKUP(A598,'TA Substitutes'!$A$1:$B$67,2,FALSE)","v":"Whangarei"},"Kamo","WhangareiKamo",6.5714669920841517E-2]
["Whangarei District ",{"$f":"VLOOKUP(A599,'TA Substitutes'!$A$1:$B$67,2,FALSE)","v":"Whangarei"},"Kensington","WhangareiKensington",0]
["Whangarei District ",{"$f":"VLOOKUP(A600,'TA Substitutes'!$A$1:$B$67,2,FALSE)","v":"Whangarei"},"Matapouri","WhangareiMatapouri",""]
["Whangarei District ",{"$f":"VLOOKUP(A601,'TA Substitutes'!$A$1:$B$67,2,FALSE)","v":"Whangarei"},"Maunu","WhangareiMaunu",5.9269186619355763E-2]
["Whangarei District ",{"$f":"VLOOKUP(A602,'TA Substitutes'!$A$1:$B$67,2,FALSE)","v":"Whangarei"},"Morningside","WhangareiMorningside",8.7827464359930607E-2]
["Whangarei District ",{"$f":"VLOOKUP(A603,'TA Substitutes'!$A$1:$B$67,2,FALSE)","v":"Whangarei"},"Ngunguru","WhangareiNgunguru",6.626270637951448E-2]
["Whangarei District ",{"$f":"VLOOKUP(A604,'TA Substitutes'!$A$1:$B$67,2,FALSE)","v":"Whangarei"},"Oakura","WhangareiOakura",""]
["Whangarei District ",{"$f":"VLOOKUP(A605,'TA Substitutes'!$A$1:$B$67,2,FALSE)","v":"Whangarei"},"One Tree Point","WhangareiOne Tree Point",""]
["Whangarei District ",{"$f":"VLOOKUP(A606,'TA Substitutes'!$A$1:$B$67,2,FALSE)","v":"Whangarei"},"Onerahi","WhangareiOnerahi",6.9150609794424556E-2]
["Whangarei District ",{"$f":"VLOOKUP(A607,'TA Substitutes'!$A$1:$B$67,2,FALSE)","v":"Whangarei"},"Parahaki","WhangareiParahaki",6.748485803733173E-2]
["Whangarei District ",{"$f":"VLOOKUP(A608,'TA Substitutes'!$A$1:$B$67,2,FALSE)","v":"Whangarei"},"Parua Bay","WhangareiParua Bay",""]
["Whangarei District ",{"$f":"VLOOKUP(A609,'TA Substitutes'!$A$1:$B$67,2,FALSE)","v":"Whangarei"},"Raumanga","WhangareiRaumanga",7.0570782926469233E-2]
["Whangarei District ",{"$f":"VLOOKUP(A610,'TA Substitutes'!$A$1:$B$67,2,FALSE)","v":"Whangarei"},"Regent","WhangareiRegent",6.5095275361221061E-2]
["Whangarei District ",{"$f":"VLOOKUP(A611,'TA Substitutes'!$A$1:$B$67,2,FALSE)","v":"Whangarei"},"Riverside","WhangareiRiverside",""]
["Whangarei District ",{"$f":"VLOOKUP(A612,'TA Substitutes'!$A$1:$B$67,2,FALSE)","v":"Whangarei"},"Ruakaka","WhangareiRuakaka",7.1821964771869196E-2]
["Whangarei District ",{"$f":"VLOOKUP(A613,'TA Substitutes'!$A$1:$B$67,2,FALSE)","v":"Whangarei"},"Tikipunga","WhangareiTikipunga",7.0849874778740718E-2]
["Whangarei District ",{"$f":"VLOOKUP(A614,'TA Substitutes'!$A$1:$B$67,2,FALSE)","v":"Whangarei"},"Waipu","WhangareiWaipu",""]
["Whangarei District ",{"$f":"VLOOKUP(A615,'TA Substitutes'!$A$1:$B$67,2,FALSE)","v":"Whangarei"},"Whangarei Heads","WhangareiWhangarei Heads",6.4782924326713953E-2]
["Whangarei District ",{"$f":"VLOOKUP(A616,'TA Substitutes'!$A$1:$B$67,2,FALSE)","v":"Whangarei"},"Whau Valley","WhangareiWhau Valley",6.4857531437064297E-2]
["Whangarei District ",{"$f":"VLOOKUP(A617,'TA Substitutes'!$A$1:$B$67,2,FALSE)","v":"Whangarei"},"Woodhill","WhangareiWoodhill",6.7150842349063655E-2]
["Kaipara District ",{"$f":"VLOOKUP(A618,'TA Substitutes'!$A$1:$B$67,2,FALSE)","v":"Kaipara"},"Baylys Beach","KaiparaBaylys Beach",""]
["Kaipara District ",{"$f":"VLOOKUP(A619,'TA Substitutes'!$A$1:$B$67,2,FALSE)","v":"Kaipara"},"Dargaville","KaiparaDargaville",6.9466333316920981E-2]
["Kaipara District ",{"$f":"VLOOKUP(A620,'TA Substitutes'!$A$1:$B$67,2,FALSE)","v":"Kaipara"},"Kaiwaka","KaiparaKaiwaka",""]
["Kaipara District ",{"$f":"VLOOKUP(A621,'TA Substitutes'!$A$1:$B$67,2,FALSE)","v":"Kaipara"},"Mangawhai","KaiparaMangawhai",""]
["Kaipara District ",{"$f":"VLOOKUP(A622,'TA Substitutes'!$A$1:$B$67,2,FALSE)","v":"Kaipara"},"Mangawhai Heads","KaiparaMangawhai Heads",7.6137955109523592E-2]
["Kaipara District ",{"$f":"VLOOKUP(A623,'TA Substitutes'!$A$1:$B$67,2,FALSE)","v":"Kaipara"},"Maungaturoto","KaiparaMaungaturoto",""]
["Kaipara District ",{"$f":"VLOOKUP(A624,'TA Substitutes'!$A$1:$B$67,2,FALSE)","v":"Kaipara"},"Ruawai","KaiparaRuawai",""]
["Whangarei District ",{"$f":"VLOOKUP(A625,'TA Substitutes'!$A$1:$B$67,2,FALSE)","v":"Whangarei"},"Tamaterau","WhangareiTamaterau",""]
["Kaipara District ",{"$f":"VLOOKUP(A626,'TA Substitutes'!$A$1:$B$67,2,FALSE)","v":"Kaipara"},"Te Kopuru","KaiparaTe Kopuru",""]
["Kaipara District ",{"$f":"VLOOKUP(A627,'TA Substitutes'!$A$1:$B$67,2,FALSE)","v":"Kaipara"},"Tinopai","KaiparaTinopai",""]
["Central Otago District ",{"$f":"VLOOKUP(A628,'TA Substitutes'!$A$1:$B$67,2,FALSE)","v":"Central Otago"},"Alexandra","Central OtagoAlexandra",""]
["Central Otago District ",{"$f":"VLOOKUP(A629,'TA Substitutes'!$A$1:$B$67,2,FALSE)","v":"Central Otago"},"Clyde","Central OtagoClyde",""]
["Central Otago District ",{"$f":"VLOOKUP(A630,'TA Substitutes'!$A$1:$B$67,2,FALSE)","v":"Central Otago"},"Cromwell","Central OtagoCromwell",""]
["Central Otago District ",{"$f":"VLOOKUP(A631,'TA Substitutes'!$A$1:$B$67,2,FALSE)","v":"Central Otago"},"Twizel","Central OtagoTwizel",0]
["Central Otago District ",{"$f":"VLOOKUP(A632,'TA Substitutes'!$A$1:$B$67,2,FALSE)","v":"Central Otago"},"Bannockburn","Central OtagoBannockburn",""]
["Central Otago District ",{"$f":"VLOOKUP(A633,'TA Substitutes'!$A$1:$B$67,2,FALSE)","v":"Central Otago"},"Bridge Hill","Central OtagoBridge Hill",""]
["Central Otago District ",{"$f":"VLOOKUP(A634,'TA Substitutes'!$A$1:$B$67,2,FALSE)","v":"Central Otago"},"Mount Pisa","Central OtagoMount Pisa",""]
["Central Otago District ",{"$f":"VLOOKUP(A635,'TA Substitutes'!$A$1:$B$67,2,FALSE)","v":"Central Otago"},"Naseby","Central OtagoNaseby",""]
["Central Otago District ",{"$f":"VLOOKUP(A636,'TA Substitutes'!$A$1:$B$67,2,FALSE)","v":"Central Otago"},"Ranfurly","Central OtagoRanfurly",""]
["Central Otago District ",{"$f":"VLOOKUP(A637,'TA Substitutes'!$A$1:$B$67,2,FALSE)","v":"Central Otago"},"Roxburgh","Central OtagoRoxburgh",""]
["Waitaki District ",{"$f":"VLOOKUP(A638,'TA Substitutes'!$A$1:$B$67,2,FALSE)","v":"Waitaki"},"Holmes Hill","WaitakiHolmes Hill",""]
["Waitaki District ",{"$f":"VLOOKUP(A639,'TA Substitutes'!$A$1:$B$67,2,FALSE)","v":"Waitaki"},"Oamaru","WaitakiOamaru",""]
["Waitaki District ",{"$f":"VLOOKUP(A640,'TA Substitutes'!$A$1:$B$67,2,FALSE)","v":"Waitaki"},"Oamaru North","WaitakiOamaru North",7.7501737763494782E-2]
["Waitaki District ",{"$f":"VLOOKUP(A641,'TA Substitutes'!$A$1:$B$67,2,FALSE)","v":"Waitaki"},"Otematata","WaitakiOtematata",0.11180782139049272]
["Waitaki District ",{"$f":"VLOOKUP(A642,'TA Substitutes'!$A$1:$B$67,2,FALSE)","v":"Waitaki"},"South Hill","WaitakiSouth Hill",8.0632869392791795E-2]
["Waitaki District ",{"$f":"VLOOKUP(A643,'TA Substitutes'!$A$1:$B$67,2,FALSE)","v":"Waitaki"},"Kakanui",{"$f":"B643&C643","v":"WaitakiKakanui"},""]
["Waitaki District ",{"$f":"VLOOKUP(A644,'TA Substitutes'!$A$1:$B$67,2,FALSE)","v":"Waitaki"},"Kurow","WaitakiKurow",""]
["Waitaki District ",{"$f":"VLOOKUP(A645,'TA Substitutes'!$A$1:$B$67,2,FALSE)","v":"Waitaki"},"Moeraki","WaitakiMoeraki",""]
["Waitaki District ",{"$f":"VLOOKUP(A646,'TA Substitutes'!$A$1:$B$67,2,FALSE)","v":"Waitaki"},"Omarama","WaitakiOmarama",""]
["Waitaki District ",{"$f":"VLOOKUP(A647,'TA Substitutes'!$A$1:$B$67,2,FALSE)","v":"Waitaki"},"Palmerston","WaitakiPalmerston",""]
["Waitaki District ",{"$f":"VLOOKUP(A648,'TA Substitutes'!$A$1:$B$67,2,FALSE)","v":"Waitaki"},"Weston","WaitakiWeston",""]
["Clutha District ",{"$f":"VLOOKUP(A649,'TA Substitutes'!$A$1:$B$67,2,FALSE)","v":"Clutha"},"Balclutha","CluthaBalclutha",6.9222652673389229E-2]
["Clutha District ",{"$f":"VLOOKUP(A650,'TA Substitutes'!$A$1:$B$67,2,FALSE)","v":"Clutha"},"Milton","CluthaMilton",""]
["Clutha District ",{"$f":"VLOOKUP(A651,'TA Substitutes'!$A$1:$B$67,2,FALSE)","v":"Clutha"},"Kaka Point","CluthaKaka Point",""]
["Clutha District ",{"$f":"VLOOKUP(A652,'TA Substitutes'!$A$1:$B$67,2,FALSE)","v":"Clutha"},"Lawrence","CluthaLawrence",""]
["Clutha District ",{"$f":"VLOOKUP(A653,'TA Substitutes'!$A$1:$B$67,2,FALSE)","v":"Clutha"},"Taieri Beach","CluthaTaieri Beach",""]
["Dunedin City ",{"$f":"VLOOKUP(A654,'TA Substitutes'!$A$1:$B$67,2,FALSE)","v":"Dunedin City"},"Abbotsford","Dunedin CityAbbotsford",8.9210796755792465E-2]
["Dunedin City ",{"$f":"VLOOKUP(A655,'TA Substitutes'!$A$1:$B$67,2,FALSE)","v":"Dunedin City"},"Andersons Bay","Dunedin CityAndersons Bay",8.252245027836369E-2]
["Dunedin City ",{"$f":"VLOOKUP(A656,'TA Substitutes'!$A$1:$B$67,2,FALSE)","v":"Dunedin City"},"Belleknowes","Dunedin CityBelleknowes",8.0322935874787449E-2]
["Dunedin City ",{"$f":"VLOOKUP(A657,'TA Substitutes'!$A$1:$B$67,2,FALSE)","v":"Dunedin City"},"Brockville","Dunedin CityBrockville",9.6333832993291457E-2]
["Dunedin City ",{"$f":"VLOOKUP(A658,'TA Substitutes'!$A$1:$B$67,2,FALSE)","v":"Dunedin City"},"Calton Hill","Dunedin CityCalton Hill",9.7252489594261249E-2]
["Dunedin City ",{"$f":"VLOOKUP(A659,'TA Substitutes'!$A$1:$B$67,2,FALSE)","v":"Dunedin City"},"Caversham","Dunedin CityCaversham",8.535825589782764E-2]
["Dunedin City ",{"$f":"VLOOKUP(A660,'TA Substitutes'!$A$1:$B$67,2,FALSE)","v":"Dunedin City"},"Concord","Dunedin CityConcord",9.2347996297346135E-2]
["Dunedin City ",{"$f":"VLOOKUP(A661,'TA Substitutes'!$A$1:$B$67,2,FALSE)","v":"Dunedin City"},"Corstorphine","Dunedin CityCorstorphine",""]
["Dunedin City ",{"$f":"VLOOKUP(A662,'TA Substitutes'!$A$1:$B$67,2,FALSE)","v":"Dunedin City"},"Dunedin Central","Dunedin CityDunedin Central",7.6963796351073199E-2]
["Dunedin City ",{"$f":"VLOOKUP(A663,'TA Substitutes'!$A$1:$B$67,2,FALSE)","v":"Dunedin City"},"Fairfield","Dunedin CityFairfield",7.0420824569853657E-2]
["Dunedin City ",{"$f":"VLOOKUP(A664,'TA Substitutes'!$A$1:$B$67,2,FALSE)","v":"Dunedin City"},"Green Island","Dunedin CityGreen Island",9.0015296612822926E-2]
["Dunedin City ",{"$f":"VLOOKUP(A665,'TA Substitutes'!$A$1:$B$67,2,FALSE)","v":"Dunedin City"},"Halfway Bush","Dunedin CityHalfway Bush",8.8776174569366928E-2]
["Dunedin City ",{"$f":"VLOOKUP(A666,'TA Substitutes'!$A$1:$B$67,2,FALSE)","v":"Dunedin City"},"Kaikorai","Dunedin CityKaikorai",8.6359722527989513E-2]
["Dunedin City ",{"$f":"VLOOKUP(A667,'TA Substitutes'!$A$1:$B$67,2,FALSE)","v":"Dunedin City"},"Kenmure","Dunedin CityKenmure",8.472095753516351E-2]
["Dunedin City ",{"$f":"VLOOKUP(A668,'TA Substitutes'!$A$1:$B$67,2,FALSE)","v":"Dunedin City"},"Liberton","Dunedin CityLiberton",9.0032070251563345E-2]
["Dunedin City ",{"$f":"VLOOKUP(A669,'TA Substitutes'!$A$1:$B$67,2,FALSE)","v":"Dunedin City"},"Macandrew Bay","Dunedin CityMacandrew Bay",7.8105513888936162E-2]
["Dunedin City ",{"$f":"VLOOKUP(A670,'TA Substitutes'!$A$1:$B$67,2,FALSE)","v":"Dunedin City"},"Maori Hill","Dunedin CityMaori Hill",0]
["Dunedin City ",{"$f":"VLOOKUP(A671,'TA Substitutes'!$A$1:$B$67,2,FALSE)","v":"Dunedin City"},"Maryhill","Dunedin CityMaryhill",8.6102078567173113E-2]
["Dunedin City ",{"$f":"VLOOKUP(A672,'TA Substitutes'!$A$1:$B$67,2,FALSE)","v":"Dunedin City"},"Mornington","Dunedin CityMornington",8.6831463934862185E-2]
["Dunedin City ",{"$f":"VLOOKUP(A673,'TA Substitutes'!$A$1:$B$67,2,FALSE)","v":"Dunedin City"},"Mosgiel","Dunedin CityMosgiel",7.9150993141036574E-2]
["Dunedin City ",{"$f":"VLOOKUP(A674,'TA Substitutes'!$A$1:$B$67,2,FALSE)","v":"Dunedin City"},"Musselburgh","Dunedin CityMusselburgh",8.3845352077362767E-2]
["Dunedin City ",{"$f":"VLOOKUP(A675,'TA Substitutes'!$A$1:$B$67,2,FALSE)","v":"Dunedin City"},"North Dunedin","Dunedin CityNorth Dunedin",8.0005378952552553E-2]
["Dunedin City ",{"$f":"VLOOKUP(A676,'TA Substitutes'!$A$1:$B$67,2,FALSE)","v":"Dunedin City"},"North East Valley","Dunedin CityNorth East Valley",8.6940475108501669E-2]
["Dunedin City ",{"$f":"VLOOKUP(A677,'TA Substitutes'!$A$1:$B$67,2,FALSE)","v":"Dunedin City"},"Opoho","Dunedin CityOpoho",8.4000215859337146E-2]
["Dunedin City ",{"$f":"VLOOKUP(A678,'TA Substitutes'!$A$1:$B$67,2,FALSE)","v":"Dunedin City"},"Port Chalmers","Dunedin CityPort Chalmers",9.0277937179958245E-2]
["Dunedin City ",{"$f":"VLOOKUP(A679,'TA Substitutes'!$A$1:$B$67,2,FALSE)","v":"Dunedin City"},"Roslyn","Dunedin CityRoslyn",8.2089270367668998E-2]
["Dunedin City ",{"$f":"VLOOKUP(A680,'TA Substitutes'!$A$1:$B$67,2,FALSE)","v":"Dunedin City"},"Saint Clair","Dunedin CitySaint Clair",7.7986687330779958E-2]
["Dunedin City ",{"$f":"VLOOKUP(A681,'TA Substitutes'!$A$1:$B$67,2,FALSE)","v":"Dunedin City"},"Saint Kilda","Dunedin CitySaint Kilda",8.3223298418065639E-2]
["Dunedin City ",{"$f":"VLOOKUP(A682,'TA Substitutes'!$A$1:$B$67,2,FALSE)","v":"Dunedin City"},"Sawyers Bay","Dunedin CitySawyers Bay",8.3513654367451062E-2]
["Dunedin City ",{"$f":"VLOOKUP(A683,'TA Substitutes'!$A$1:$B$67,2,FALSE)","v":"Dunedin City"},"Shiel Hill","Dunedin CityShiel Hill",""]
["Dunedin City ",{"$f":"VLOOKUP(A684,'TA Substitutes'!$A$1:$B$67,2,FALSE)","v":"Dunedin City"},"South Dunedin","Dunedin CitySouth Dunedin",8.571100430003975E-2]
["Dunedin City ",{"$f":"VLOOKUP(A685,'TA Substitutes'!$A$1:$B$67,2,FALSE)","v":"Dunedin City"},"Tainui","Dunedin CityTainui",8.5638678059483109E-2]
["Dunedin City ",{"$f":"VLOOKUP(A686,'TA Substitutes'!$A$1:$B$67,2,FALSE)","v":"Dunedin City"},"Waikouaiti","Dunedin CityWaikouaiti",7.8250691067267786E-2]
["Dunedin City ",{"$f":"VLOOKUP(A687,'TA Substitutes'!$A$1:$B$67,2,FALSE)","v":"Dunedin City"},"Wakari","Dunedin CityWakari",8.740643667770831E-2]
["Dunedin City ",{"$f":"VLOOKUP(A688,'TA Substitutes'!$A$1:$B$67,2,FALSE)","v":"Dunedin City"},"Waverley","Dunedin CityWaverley",7.753799098184011E-2]
["Dunedin City ",{"$f":"VLOOKUP(A689,'TA Substitutes'!$A$1:$B$67,2,FALSE)","v":"Dunedin City"},"Balaclava","Dunedin CityBalaclava",""]
["Dunedin City ",{"$f":"VLOOKUP(A690,'TA Substitutes'!$A$1:$B$67,2,FALSE)","v":"Dunedin City"},"Bradford","Dunedin CityBradford",""]
["Dunedin City ",{"$f":"VLOOKUP(A691,'TA Substitutes'!$A$1:$B$67,2,FALSE)","v":"Dunedin City"},"Brighton","Dunedin CityBrighton",""]
["Dunedin City ",{"$f":"VLOOKUP(A692,'TA Substitutes'!$A$1:$B$67,2,FALSE)","v":"Dunedin City"},"Broad Bay","Dunedin CityBroad Bay",""]
["Dunedin City ",{"$f":"VLOOKUP(A693,'TA Substitutes'!$A$1:$B$67,2,FALSE)","v":"Dunedin City"},"Clyde Hill","Dunedin CityClyde Hill",""]
["Dunedin City ",{"$f":"VLOOKUP(A694,'TA Substitutes'!$A$1:$B$67,2,FALSE)","v":"Dunedin City"},"Company Bay","Dunedin CityCompany Bay",""]
["Dunedin City ",{"$f":"VLOOKUP(A695,'TA Substitutes'!$A$1:$B$67,2,FALSE)","v":"Dunedin City"},"Dalmore","Dunedin CityDalmore",""]
["Dunedin City ",{"$f":"VLOOKUP(A696,'TA Substitutes'!$A$1:$B$67,2,FALSE)","v":"Dunedin City"},"East Taieri","Dunedin CityEast Taieri",""]
["Dunedin City ",{"$f":"VLOOKUP(A697,'TA Substitutes'!$A$1:$B$67,2,FALSE)","v":"Dunedin City"},"Forbury","Dunedin CityForbury",""]
["Dunedin City ",{"$f":"VLOOKUP(A698,'TA Substitutes'!$A$1:$B$67,2,FALSE)","v":"Dunedin City"},"Glenleith","Dunedin CityGlenleith",""]
["Dunedin City ",{"$f":"VLOOKUP(A699,'TA Substitutes'!$A$1:$B$67,2,FALSE)","v":"Dunedin City"},"Glenross","Dunedin CityGlenross",""]
["Dunedin City ",{"$f":"VLOOKUP(A700,'TA Substitutes'!$A$1:$B$67,2,FALSE)","v":"Dunedin City"},"Helensburgh","Dunedin CityHelensburgh",""]
["Dunedin City ",{"$f":"VLOOKUP(A701,'TA Substitutes'!$A$1:$B$67,2,FALSE)","v":"Dunedin City"},"Karitane","Dunedin CityKaritane",""]
["Dunedin City ",{"$f":"VLOOKUP(A702,'TA Substitutes'!$A$1:$B$67,2,FALSE)","v":"Dunedin City"},"Kew","Dunedin CityKew",""]
["Dunedin City ",{"$f":"VLOOKUP(A703,'TA Substitutes'!$A$1:$B$67,2,FALSE)","v":"Dunedin City"},"Kinmont Park","Dunedin CityKinmont Park",""]
["Dunedin City ",{"$f":"VLOOKUP(A704,'TA Substitutes'!$A$1:$B$67,2,FALSE)","v":"Dunedin City"},"Normanby","Dunedin CityNormanby",""]
["Dunedin City ",{"$f":"VLOOKUP(A705,'TA Substitutes'!$A$1:$B$67,2,FALSE)","v":"Dunedin City"},"Ocean Grove","Dunedin CityOcean Grove",""]
["Dunedin City ",{"$f":"VLOOKUP(A706,'TA Substitutes'!$A$1:$B$67,2,FALSE)","v":"Dunedin City"},"Ocean View","Dunedin CityOcean View",""]
["Dunedin City ",{"$f":"VLOOKUP(A707,'TA Substitutes'!$A$1:$B$67,2,FALSE)","v":"Dunedin City"},"Outram",{"$f":"B707&C707","v":"Dunedin CityOutram"},""]
["Dunedin City ",{"$f":"VLOOKUP(A708,'TA Substitutes'!$A$1:$B$67,2,FALSE)","v":"Dunedin City"},"Pine Hill","Dunedin CityPine Hill",""]
["Dunedin City ",{"$f":"VLOOKUP(A709,'TA Substitutes'!$A$1:$B$67,2,FALSE)","v":"Dunedin City"},"Portobello","Dunedin CityPortobello",""]
["Dunedin City ",{"$f":"VLOOKUP(A710,'TA Substitutes'!$A$1:$B$67,2,FALSE)","v":"Dunedin City"},"Ravensbourne","Dunedin CityRavensbourne",""]
["Dunedin City ",{"$f":"VLOOKUP(A711,'TA Substitutes'!$A$1:$B$67,2,FALSE)","v":"Dunedin City"},"Saint Leonards","Dunedin CitySaint Leonards",8.6369519174808618E-2]
["Dunedin City ",{"$f":"VLOOKUP(A712,'TA Substitutes'!$A$1:$B$67,2,FALSE)","v":"Dunedin City"},"The Glen","Dunedin CityThe Glen",""]
["Dunedin City ",{"$f":"VLOOKUP(A713,'TA Substitutes'!$A$1:$B$67,2,FALSE)","v":"Dunedin City"},"Vauxhall","Dunedin CityVauxhall",""]
["Dunedin City ",{"$f":"VLOOKUP(A714,'TA Substitutes'!$A$1:$B$67,2,FALSE)","v":"Dunedin City"},"Waitati","Dunedin CityWaitati",""]
["Dunedin City ",{"$f":"VLOOKUP(A715,'TA Substitutes'!$A$1:$B$67,2,FALSE)","v":"Dunedin City"},"Waldronville","Dunedin CityWaldronville",""]
["Dunedin City ",{"$f":"VLOOKUP(A716,'TA Substitutes'!$A$1:$B$67,2,FALSE)","v":"Dunedin City"},"Warrington","Dunedin CityWarrington",""]
["Queenstown-Lakes District ",{"$f":"VLOOKUP(A717,'TA Substitutes'!$A$1:$B$67,2,FALSE)","v":"Queenstown-Lakes"},"Albert Town","Queenstown-LakesAlbert Town",""]
["Queenstown-Lakes District ",{"$f":"VLOOKUP(A718,'TA Substitutes'!$A$1:$B$67,2,FALSE)","v":"Queenstown-Lakes"},"Arrowtown","Queenstown-LakesArrowtown",""]
["Queenstown-Lakes District ",{"$f":"VLOOKUP(A719,'TA Substitutes'!$A$1:$B$67,2,FALSE)","v":"Queenstown-Lakes"},"Fernhill","Queenstown-LakesFernhill",""]
["Queenstown-Lakes District ",{"$f":"VLOOKUP(A720,'TA Substitutes'!$A$1:$B$67,2,FALSE)","v":"Queenstown-Lakes"},"Frankton","Queenstown-LakesFrankton",6.9631326189041332E-2]
["Queenstown-Lakes District ",{"$f":"VLOOKUP(A721,'TA Substitutes'!$A$1:$B$67,2,FALSE)","v":"Queenstown-Lakes"},"Lake Hawea","Queenstown-LakesLake Hawea",7.8586141928081776E-2]
["Queenstown-Lakes District ",{"$f":"VLOOKUP(A722,'TA Substitutes'!$A$1:$B$67,2,FALSE)","v":"Queenstown-Lakes"},"Queenstown","Queenstown-LakesQueenstown",7.567271613505322E-2]
["Queenstown-Lakes District ",{"$f":"VLOOKUP(A723,'TA Substitutes'!$A$1:$B$67,2,FALSE)","v":"Queenstown-Lakes"},"Wanaka","Queenstown-LakesWanaka",7.5027904431260062E-2]
["Queenstown-Lakes District ",{"$f":"VLOOKUP(A724,'TA Substitutes'!$A$1:$B$67,2,FALSE)","v":"Queenstown-Lakes"},"Arthurs Point","Queenstown-LakesArthurs Point",""]
["Queenstown-Lakes District ",{"$f":"VLOOKUP(A725,'TA Substitutes'!$A$1:$B$67,2,FALSE)","v":"Queenstown-Lakes"},"Jacks Point","Queenstown-LakesJacks Point",""]
["Queenstown-Lakes District ",{"$f":"VLOOKUP(A726,'TA Substitutes'!$A$1:$B$67,2,FALSE)","v":"Queenstown-Lakes"},"Kelvin Heights","Queenstown-LakesKelvin Heights",""]
["Queenstown-Lakes District ",{"$f":"VLOOKUP(A727,'TA Substitutes'!$A$1:$B$67,2,FALSE)","v":"Queenstown-Lakes"},"Lake Hayes","Queenstown-LakesLake Hayes",""]
["Queenstown-Lakes District ",{"$f":"VLOOKUP(A728,'TA Substitutes'!$A$1:$B$67,2,FALSE)","v":"Queenstown-Lakes"},"Lake Hayes Estate","Queenstown-LakesLake Hayes Estate",""]
["Queenstown-Lakes District ",{"$f":"VLOOKUP(A729,'TA Substitutes'!$A$1:$B$67,2,FALSE)","v":"Queenstown-Lakes"},"Lower Shotover","Queenstown-LakesLower Shotover",""]
["Queenstown-Lakes District ",{"$f":"VLOOKUP(A730,'TA Substitutes'!$A$1:$B$67,2,FALSE)","v":"Queenstown-Lakes"},"Luggate","Queenstown-LakesLuggate",""]
["Queenstown-Lakes District ",{"$f":"VLOOKUP(A731,'TA Substitutes'!$A$1:$B$67,2,FALSE)","v":"Queenstown-Lakes"},"Sunshine Bay","Queenstown-LakesSunshine Bay",""]
["Gore District ",{"$f":"VLOOKUP(A732,'TA Substitutes'!$A$1:$B$67,2,FALSE)","v":"Gore"},"East Gore","GoreEast Gore",""]
["Gore District ",{"$f":"VLOOKUP(A733,'TA Substitutes'!$A$1:$B$67,2,FALSE)","v":"Gore"},"Gore","GoreGore",""]
["Gore District ",{"$f":"VLOOKUP(A734,'TA Substitutes'!$A$1:$B$67,2,FALSE)","v":"Gore"},"Mataura","GoreMataura",""]
["Invercargill City ",{"$f":"VLOOKUP(A735,'TA Substitutes'!$A$1:$B$67,2,FALSE)","v":"Invercargill"},"Appleby","InvercargillAppleby",0.10008774084619931]
["Invercargill City ",{"$f":"VLOOKUP(A736,'TA Substitutes'!$A$1:$B$67,2,FALSE)","v":"Invercargill"},"Georgetown","InvercargillGeorgetown",9.4791629417649403E-2]
["Invercargill City ",{"$f":"VLOOKUP(A737,'TA Substitutes'!$A$1:$B$67,2,FALSE)","v":"Invercargill"},"Gladstone","InvercargillGladstone",7.4094533628426662E-2]
["Invercargill City ",{"$f":"VLOOKUP(A738,'TA Substitutes'!$A$1:$B$67,2,FALSE)","v":"Invercargill"},"Glengarry","InvercargillGlengarry",8.9567532611992018E-2]
["Invercargill City ",{"$f":"VLOOKUP(A739,'TA Substitutes'!$A$1:$B$67,2,FALSE)","v":"Invercargill"},"Grasmere","InvercargillGrasmere",8.9594702394934389E-2]
["Invercargill City ",{"$f":"VLOOKUP(A740,'TA Substitutes'!$A$1:$B$67,2,FALSE)","v":"Invercargill"},"Hawthorndale","InvercargillHawthorndale",8.5514690224674395E-2]
["Invercargill City ",{"$f":"VLOOKUP(A741,'TA Substitutes'!$A$1:$B$67,2,FALSE)","v":"Invercargill"},"Heidelberg","InvercargillHeidelberg",9.2971711721612671E-2]
["Invercargill City ",{"$f":"VLOOKUP(A742,'TA Substitutes'!$A$1:$B$67,2,FALSE)","v":"Invercargill"},"Kingswell","InvercargillKingswell",9.2189535539371148E-2]
["Invercargill City ",{"$f":"VLOOKUP(A743,'TA Substitutes'!$A$1:$B$67,2,FALSE)","v":"Invercargill"},"Newfield","InvercargillNewfield",8.8092908026777383E-2]
["Invercargill City ",{"$f":"VLOOKUP(A744,'TA Substitutes'!$A$1:$B$67,2,FALSE)","v":"Invercargill"},"Otatara","InvercargillOtatara",""]
["Invercargill City ",{"$f":"VLOOKUP(A745,'TA Substitutes'!$A$1:$B$67,2,FALSE)","v":"Invercargill"},"Richmond","InvercargillRichmond",5.4912433044716602E-2]
["Invercargill City ",{"$f":"VLOOKUP(A746,'TA Substitutes'!$A$1:$B$67,2,FALSE)","v":"Invercargill"},"Rosedale","InvercargillRosedale",""]
["Invercargill City ",{"$f":"VLOOKUP(A747,'TA Substitutes'!$A$1:$B$67,2,FALSE)","v":"Invercargill"},"Strathern","InvercargillStrathern",9.6168588454718318E-2]
["Invercargill City ",{"$f":"VLOOKUP(A748,'TA Substitutes'!$A$1:$B$67,2,FALSE)","v":"Invercargill"},"Waikiwi","InvercargillWaikiwi",""]
["Invercargill City ",{"$f":"VLOOKUP(A749,'TA Substitutes'!$A$1:$B$67,2,FALSE)","v":"Invercargill"},"Waverley","InvercargillWaverley",7.753799098184011E-2]
["Invercargill City ",{"$f":"VLOOKUP(A750,'TA Substitutes'!$A$1:$B$67,2,FALSE)","v":"Invercargill"},"Windsor","InvercargillWindsor",8.1364680374838461E-2]
["Invercargill City ",{"$f":"VLOOKUP(A751,'TA Substitutes'!$A$1:$B$67,2,FALSE)","v":"Invercargill"},"Avenal","InvercargillAvenal",""]
["Invercargill City ",{"$f":"VLOOKUP(A752,'TA Substitutes'!$A$1:$B$67,2,FALSE)","v":"Invercargill"},"Bluff","InvercargillBluff",""]
["Invercargill City ",{"$f":"VLOOKUP(A753,'TA Substitutes'!$A$1:$B$67,2,FALSE)","v":"Invercargill"},"Clifton","InvercargillClifton",0]
["Invercargill City ",{"$f":"VLOOKUP(A754,'TA Substitutes'!$A$1:$B$67,2,FALSE)","v":"Invercargill"},"Hargest","InvercargillHargest",""]
["Invercargill City ",{"$f":"VLOOKUP(A755,'TA Substitutes'!$A$1:$B$67,2,FALSE)","v":"Invercargill"},"Invercargill","InvercargillInvercargill",""]
["Invercargill City ",{"$f":"VLOOKUP(A756,'TA Substitutes'!$A$1:$B$67,2,FALSE)","v":"Invercargill"},"Rockdale","InvercargillRockdale",""]
["Invercargill City ",{"$f":"VLOOKUP(A757,'TA Substitutes'!$A$1:$B$67,2,FALSE)","v":"Invercargill"},"Turnbull Thomson Park","InvercargillTurnbull Thomson Park",""]
["Southland District ",{"$f":"VLOOKUP(A758,'TA Substitutes'!$A$1:$B$67,2,FALSE)","v":"Southland"},"Riverton","SouthlandRiverton",""]
["Southland District ",{"$f":"VLOOKUP(A759,'TA Substitutes'!$A$1:$B$67,2,FALSE)","v":"Southland"},"Te Anau","SouthlandTe Anau",""]
["Southland District ",{"$f":"VLOOKUP(A760,'TA Substitutes'!$A$1:$B$67,2,FALSE)","v":"Southland"},"Winton","SouthlandWinton",""]
["Southland District ",{"$f":"VLOOKUP(A761,'TA Substitutes'!$A$1:$B$67,2,FALSE)","v":"Southland"},"Edendale","SouthlandEdendale",""]
["Southland District ",{"$f":"VLOOKUP(A762,'TA Substitutes'!$A$1:$B$67,2,FALSE)","v":"Southland"},"Halfmoon Bay","SouthlandHalfmoon Bay",""]
["Southland District ",{"$f":"VLOOKUP(A763,'TA Substitutes'!$A$1:$B$67,2,FALSE)","v":"Southland"},"Lumsden","SouthlandLumsden",""]
["Southland District ",{"$f":"VLOOKUP(A764,'TA Substitutes'!$A$1:$B$67,2,FALSE)","v":"Southland"},"Manapouri","SouthlandManapouri",""]
["Southland District ",{"$f":"VLOOKUP(A765,'TA Substitutes'!$A$1:$B$67,2,FALSE)","v":"Southland"},"Otautau","SouthlandOtautau",""]
["Southland District ",{"$f":"VLOOKUP(A766,'TA Substitutes'!$A$1:$B$67,2,FALSE)","v":"Southland"},"Riversdale","SouthlandRiversdale",7.253438552124436E-2]
["Southland District ",{"$f":"VLOOKUP(A767,'TA Substitutes'!$A$1:$B$67,2,FALSE)","v":"Southland"},"Tuatapere","SouthlandTuatapere",""]
["Southland District ",{"$f":"VLOOKUP(A768,'TA Substitutes'!$A$1:$B$67,2,FALSE)","v":"Southland"},"Wallacetown","SouthlandWallacetown",""]
["Southland District ",{"$f":"VLOOKUP(A769,'TA Substitutes'!$A$1:$B$67,2,FALSE)","v":"Southland"},"Wyndham","SouthlandWyndham",""]
["New Plymouth District ",{"$f":"VLOOKUP(A770,'TA Substitutes'!$A$1:$B$67,2,FALSE)","v":"New Plymouth"},"Bell Block","New PlymouthBell Block",7.5339825587412035E-2]
["New Plymouth District ",{"$f":"VLOOKUP(A771,'TA Substitutes'!$A$1:$B$67,2,FALSE)","v":"New Plymouth"},"Blagdon",{"$f":"B771&C771","v":"New PlymouthBlagdon"},8.1863660686986028E-2]
["New Plymouth District ",{"$f":"VLOOKUP(A772,'TA Substitutes'!$A$1:$B$67,2,FALSE)","v":"New Plymouth"},"Brooklands","New PlymouthBrooklands",""]
["New Plymouth District ",{"$f":"VLOOKUP(A773,'TA Substitutes'!$A$1:$B$67,2,FALSE)","v":"New Plymouth"},"Ferndale","New PlymouthFerndale",""]
["New Plymouth District ",{"$f":"VLOOKUP(A774,'TA Substitutes'!$A$1:$B$67,2,FALSE)","v":"New Plymouth"},"Fitzroy","New PlymouthFitzroy",7.4879220156677029E-2]
["New Plymouth District ",{"$f":"VLOOKUP(A775,'TA Substitutes'!$A$1:$B$67,2,FALSE)","v":"New Plymouth"},"Frankleigh Park","New PlymouthFrankleigh Park",7.3984882224175319E-2]
["New Plymouth District ",{"$f":"VLOOKUP(A776,'TA Substitutes'!$A$1:$B$67,2,FALSE)","v":"New Plymouth"},"Glen Avon","New PlymouthGlen Avon",""]
["New Plymouth District ",{"$f":"VLOOKUP(A777,'TA Substitutes'!$A$1:$B$67,2,FALSE)","v":"New Plymouth"},"Highlands Park","New PlymouthHighlands Park",""]
["New Plymouth District ",{"$f":"VLOOKUP(A778,'TA Substitutes'!$A$1:$B$67,2,FALSE)","v":"New Plymouth"},"Hurdon","New PlymouthHurdon",""]
["New Plymouth District ",{"$f":"VLOOKUP(A779,'TA Substitutes'!$A$1:$B$67,2,FALSE)","v":"New Plymouth"},"Inglewood","New PlymouthInglewood",8.0561220608940332E-2]
["New Plymouth District ",{"$f":"VLOOKUP(A780,'TA Substitutes'!$A$1:$B$67,2,FALSE)","v":"New Plymouth"},"Lower Vogeltown","New PlymouthLower Vogeltown",7.5758741952652864E-2]
["New Plymouth District ",{"$f":"VLOOKUP(A781,'TA Substitutes'!$A$1:$B$67,2,FALSE)","v":"New Plymouth"},"Lynmouth","New PlymouthLynmouth",7.7934764773152088E-2]
["New Plymouth District ",{"$f":"VLOOKUP(A782,'TA Substitutes'!$A$1:$B$67,2,FALSE)","v":"New Plymouth"},"Marfell","New PlymouthMarfell",""]
["New Plymouth District ",{"$f":"VLOOKUP(A783,'TA Substitutes'!$A$1:$B$67,2,FALSE)","v":"New Plymouth"},"Merrilands","New PlymouthMerrilands",6.7872920030300321E-2]
["New Plymouth District ",{"$f":"VLOOKUP(A784,'TA Substitutes'!$A$1:$B$67,2,FALSE)","v":"New Plymouth"},"Moturoa","New PlymouthMoturoa",7.7446971866038439E-2]
["New Plymouth District ",{"$f":"VLOOKUP(A785,'TA Substitutes'!$A$1:$B$67,2,FALSE)","v":"New Plymouth"},"New Plymouth","New PlymouthNew Plymouth",7.7776165119717744E-2]
["New Plymouth District ",{"$f":"VLOOKUP(A786,'TA Substitutes'!$A$1:$B$67,2,FALSE)","v":"New Plymouth"},"Oakura","New PlymouthOakura",""]
["New Plymouth District ",{"$f":"VLOOKUP(A787,'TA Substitutes'!$A$1:$B$67,2,FALSE)","v":"New Plymouth"},"Okato","New PlymouthOkato",""]
["New Plymouth District ",{"$f":"VLOOKUP(A788,'TA Substitutes'!$A$1:$B$67,2,FALSE)","v":"New Plymouth"},"Spotswood","New PlymouthSpotswood",8.3169488746108522E-2]
["New Plymouth District ",{"$f":"VLOOKUP(A789,'TA Substitutes'!$A$1:$B$67,2,FALSE)","v":"New Plymouth"},"Strandon","New PlymouthStrandon",8.6467771231091506E-2]
["New Plymouth District ",{"$f":"VLOOKUP(A790,'TA Substitutes'!$A$1:$B$67,2,FALSE)","v":"New Plymouth"},"Upper Vogeltown","New PlymouthUpper Vogeltown",7.9107021705227654E-2]
["New Plymouth District ",{"$f":"VLOOKUP(A791,'TA Substitutes'!$A$1:$B$67,2,FALSE)","v":"New Plymouth"},"Urenui","New PlymouthUrenui",""]
["New Plymouth District ",{"$f":"VLOOKUP(A792,'TA Substitutes'!$A$1:$B$67,2,FALSE)","v":"New Plymouth"},"Vogeltown","New PlymouthVogeltown",7.8470796160672096E-2]
["New Plymouth District ",{"$f":"VLOOKUP(A793,'TA Substitutes'!$A$1:$B$67,2,FALSE)","v":"New Plymouth"},"Waitara","New PlymouthWaitara",8.6463106603177575E-2]
["New Plymouth District ",{"$f":"VLOOKUP(A794,'TA Substitutes'!$A$1:$B$67,2,FALSE)","v":"New Plymouth"},"Waiwhakaiho","New PlymouthWaiwhakaiho",""]
["New Plymouth District ",{"$f":"VLOOKUP(A795,'TA Substitutes'!$A$1:$B$67,2,FALSE)","v":"New Plymouth"},"Welbourn","New PlymouthWelbourn",7.5880928152526783E-2]
["New Plymouth District ",{"$f":"VLOOKUP(A796,'TA Substitutes'!$A$1:$B$67,2,FALSE)","v":"New Plymouth"},"Westown","New PlymouthWestown",7.7708383071794396E-2]
["New Plymouth District ",{"$f":"VLOOKUP(A797,'TA Substitutes'!$A$1:$B$67,2,FALSE)","v":"New Plymouth"},"Whalers Gate","New PlymouthWhalers Gate",""]
["Stratford District ",{"$f":"VLOOKUP(A798,'TA Substitutes'!$A$1:$B$67,2,FALSE)","v":"Stratford"},"Stratford","StratfordStratford",7.8156173107687854E-2]
["South Taranaki District ",{"$f":"VLOOKUP(A799,'TA Substitutes'!$A$1:$B$67,2,FALSE)","v":"South Taranaki"},"Eltham","South TaranakiEltham",""]
["South Taranaki District ",{"$f":"VLOOKUP(A800,'TA Substitutes'!$A$1:$B$67,2,FALSE)","v":"South Taranaki"},"Hawera","South TaranakiHawera",6.2856406892018102E-2]
["South Taranaki District ",{"$f":"VLOOKUP(A801,'TA Substitutes'!$A$1:$B$67,2,FALSE)","v":"South Taranaki"},"Manaia","South TaranakiManaia",""]
["South Taranaki District ",{"$f":"VLOOKUP(A802,'TA Substitutes'!$A$1:$B$67,2,FALSE)","v":"South Taranaki"},"Normanby","South TaranakiNormanby",""]
["South Taranaki District ",{"$f":"VLOOKUP(A803,'TA Substitutes'!$A$1:$B$67,2,FALSE)","v":"South Taranaki"},"Opunake","South TaranakiOpunake",7.0757603234366861E-2]
["South Taranaki District ",{"$f":"VLOOKUP(A804,'TA Substitutes'!$A$1:$B$67,2,FALSE)","v":"South Taranaki"},"Patea","South TaranakiPatea",""]
["South Taranaki District ",{"$f":"VLOOKUP(A805,'TA Substitutes'!$A$1:$B$67,2,FALSE)","v":"South Taranaki"},"Waverley","South TaranakiWaverley",7.753799098184011E-2]
["Thames-Coromandel District ",{"$f":"VLOOKUP(A806,'TA Substitutes'!$A$1:$B$67,2,FALSE)","v":"Thames-Coromandel"},"Cooks Beach","Thames-CoromandelCooks Beach",""]
["Thames-Coromandel District ",{"$f":"VLOOKUP(A807,'TA Substitutes'!$A$1:$B$67,2,FALSE)","v":"Thames-Coromandel"},"Coromandel","Thames-CoromandelCoromandel",6.5603390416907548E-2]
["Thames-Coromandel District ",{"$f":"VLOOKUP(A808,'TA Substitutes'!$A$1:$B$67,2,FALSE)","v":"Thames-Coromandel"},"Hahei","Thames-CoromandelHahei",""]
["Thames-Coromandel District ",{"$f":"VLOOKUP(A809,'TA Substitutes'!$A$1:$B$67,2,FALSE)","v":"Thames-Coromandel"},"Matarangi","Thames-CoromandelMatarangi",""]
["Thames-Coromandel District ",{"$f":"VLOOKUP(A810,'TA Substitutes'!$A$1:$B$67,2,FALSE)","v":"Thames-Coromandel"},"Pauanui","Thames-CoromandelPauanui",6.7909331913190485E-2]
["Thames-Coromandel District ",{"$f":"VLOOKUP(A811,'TA Substitutes'!$A$1:$B$67,2,FALSE)","v":"Thames-Coromandel"},"Tairua","Thames-CoromandelTairua",7.0013005218607871E-2]
["Thames-Coromandel District ",{"$f":"VLOOKUP(A812,'TA Substitutes'!$A$1:$B$67,2,FALSE)","v":"Thames-Coromandel"},"Thames","Thames-CoromandelThames",6.6038678375528903E-2]
["Thames-Coromandel District ",{"$f":"VLOOKUP(A813,'TA Substitutes'!$A$1:$B$67,2,FALSE)","v":"Thames-Coromandel"},"Whangamata","Thames-CoromandelWhangamata",8.1637899977526462E-2]
["Thames-Coromandel District ",{"$f":"VLOOKUP(A814,'TA Substitutes'!$A$1:$B$67,2,FALSE)","v":"Thames-Coromandel"},"Whitianga","Thames-CoromandelWhitianga",7.1238437605363414E-2]
["Thames-Coromandel District ",{"$f":"VLOOKUP(A815,'TA Substitutes'!$A$1:$B$67,2,FALSE)","v":"Thames-Coromandel"},"Onemana","Thames-CoromandelOnemana",""]
["Thames-Coromandel District ",{"$f":"VLOOKUP(A816,'TA Substitutes'!$A$1:$B$67,2,FALSE)","v":"Thames-Coromandel"},"Opito Bay","Thames-CoromandelOpito Bay",""]
["Thames-Coromandel District ",{"$f":"VLOOKUP(A817,'TA Substitutes'!$A$1:$B$67,2,FALSE)","v":"Thames-Coromandel"},"Te Puru","Thames-CoromandelTe Puru",""]
["Thames-Coromandel District ",{"$f":"VLOOKUP(A818,'TA Substitutes'!$A$1:$B$67,2,FALSE)","v":"Thames-Coromandel"},"Thornton Bay","Thames-CoromandelThornton Bay",""]
["Thames-Coromandel District ",{"$f":"VLOOKUP(A819,'TA Substitutes'!$A$1:$B$67,2,FALSE)","v":"Thames-Coromandel"},"Wyuna Bay","Thames-CoromandelWyuna Bay",""]
["Hamilton City ",{"$f":"VLOOKUP(A820,'TA Substitutes'!$A$1:$B$67,2,FALSE)","v":"Hamilton City"},"Bader","Hamilton CityBader",7.2836574782803476E-2]
["Hamilton City ",{"$f":"VLOOKUP(A821,'TA Substitutes'!$A$1:$B$67,2,FALSE)","v":"Hamilton City"},"Beerescourt","Hamilton CityBeerescourt",6.7854012657994733E-2]
["Hamilton City ",{"$f":"VLOOKUP(A822,'TA Substitutes'!$A$1:$B$67,2,FALSE)","v":"Hamilton City"},"Chartwell","Hamilton CityChartwell",6.8959815812869696E-2]
["Hamilton City ",{"$f":"VLOOKUP(A823,'TA Substitutes'!$A$1:$B$67,2,FALSE)","v":"Hamilton City"},"Claudelands","Hamilton CityClaudelands",6.8234765583714996E-2]
["Hamilton City ",{"$f":"VLOOKUP(A824,'TA Substitutes'!$A$1:$B$67,2,FALSE)","v":"Hamilton City"},"Dinsdale","Hamilton CityDinsdale",6.8653040433237278E-2]
["Hamilton City ",{"$f":"VLOOKUP(A825,'TA Substitutes'!$A$1:$B$67,2,FALSE)","v":"Hamilton City"},"Enderley","Hamilton CityEnderley",7.3161001059170783E-2]
["Hamilton City ",{"$f":"VLOOKUP(A826,'TA Substitutes'!$A$1:$B$67,2,FALSE)","v":"Hamilton City"},"Fairfield","Hamilton CityFairfield",7.0420824569853657E-2]
["Hamilton City ",{"$f":"VLOOKUP(A827,'TA Substitutes'!$A$1:$B$67,2,FALSE)","v":"Hamilton City"},"Fairview Downs","Hamilton CityFairview Downs",6.9795644884235619E-2]
["Hamilton City ",{"$f":"VLOOKUP(A828,'TA Substitutes'!$A$1:$B$67,2,FALSE)","v":"Hamilton City"},"Fitzroy","Hamilton CityFitzroy",7.4879220156677029E-2]
["Hamilton City ",{"$f":"VLOOKUP(A829,'TA Substitutes'!$A$1:$B$67,2,FALSE)","v":"Hamilton City"},"Flagstaff","Hamilton CityFlagstaff",6.45546949310285E-2]
["Hamilton City ",{"$f":"VLOOKUP(A830,'TA Substitutes'!$A$1:$B$67,2,FALSE)","v":"Hamilton City"},"Forest Lake","Hamilton CityForest Lake",7.0407492768592039E-2]
["Hamilton City ",{"$f":"VLOOKUP(A831,'TA Substitutes'!$A$1:$B$67,2,FALSE)","v":"Hamilton City"},"Frankton","Hamilton CityFrankton",6.9631326189041332E-2]
["Hamilton City ",{"$f":"VLOOKUP(A832,'TA Substitutes'!$A$1:$B$67,2,FALSE)","v":"Hamilton City"},"Glenview","Hamilton CityGlenview",7.0863447382420119E-2]
["Hamilton City ",{"$f":"VLOOKUP(A833,'TA Substitutes'!$A$1:$B$67,2,FALSE)","v":"Hamilton City"},"Grandview Heights","Hamilton CityGrandview Heights",6.0168773158334909E-2]
["Hamilton City ",{"$f":"VLOOKUP(A834,'TA Substitutes'!$A$1:$B$67,2,FALSE)","v":"Hamilton City"},"Hamilton Central","Hamilton CityHamilton Central",6.280287858138367E-2]
["Hamilton City ",{"$f":"VLOOKUP(A835,'TA Substitutes'!$A$1:$B$67,2,FALSE)","v":"Hamilton City"},"Hamilton East",{"$f":"B835&C835","v":"Hamilton CityHamilton East"},6.9255233003087113E-2]
["Hamilton City ",{"$f":"VLOOKUP(A836,'TA Substitutes'!$A$1:$B$67,2,FALSE)","v":"Hamilton City"},"Hamilton Lake","Hamilton CityHamilton Lake",6.5467011588392632E-2]
["Hamilton City ",{"$f":"VLOOKUP(A837,'TA Substitutes'!$A$1:$B$67,2,FALSE)","v":"Hamilton City"},"Hillcrest","Hamilton CityHillcrest",8.1097055043035438E-2]
["Hamilton City ",{"$f":"VLOOKUP(A838,'TA Substitutes'!$A$1:$B$67,2,FALSE)","v":"Hamilton City"},"Huntington","Hamilton CityHuntington",""]
["Hamilton City ",{"$f":"VLOOKUP(A839,'TA Substitutes'!$A$1:$B$67,2,FALSE)","v":"Hamilton City"},"Maeroa","Hamilton CityMaeroa",7.0099323102957634E-2]
["Hamilton City ",{"$f":"VLOOKUP(A840,'TA Substitutes'!$A$1:$B$67,2,FALSE)","v":"Hamilton City"},"Melville","Hamilton CityMelville",7.1678429988517367E-2]
["Hamilton City ",{"$f":"VLOOKUP(A841,'TA Substitutes'!$A$1:$B$67,2,FALSE)","v":"Hamilton City"},"Nawton","Hamilton CityNawton",6.8611666415446582E-2]
["Hamilton City ",{"$f":"VLOOKUP(A842,'TA Substitutes'!$A$1:$B$67,2,FALSE)","v":"Hamilton City"},"Pukete","Hamilton CityPukete",6.6645430524376881E-2]
["Hamilton City ",{"$f":"VLOOKUP(A843,'TA Substitutes'!$A$1:$B$67,2,FALSE)","v":"Hamilton City"},"Queenwood","Hamilton CityQueenwood",6.6126967704211781E-2]
["Hamilton City ",{"$f":"VLOOKUP(A844,'TA Substitutes'!$A$1:$B$67,2,FALSE)","v":"Hamilton City"},"Rototuna","Hamilton CityRototuna",""]
["Hamilton City ",{"$f":"VLOOKUP(A845,'TA Substitutes'!$A$1:$B$67,2,FALSE)","v":"Hamilton City"},"Rototuna North","Hamilton CityRototuna North",""]
["Hamilton City ",{"$f":"VLOOKUP(A846,'TA Substitutes'!$A$1:$B$67,2,FALSE)","v":"Hamilton City"},"Saint Andrews","Hamilton CitySaint Andrews",6.8987082925462406E-2]
["Hamilton City ",{"$f":"VLOOKUP(A847,'TA Substitutes'!$A$1:$B$67,2,FALSE)","v":"Hamilton City"},"Silverdale","Hamilton CitySilverdale",""]
["Hamilton City ",{"$f":"VLOOKUP(A848,'TA Substitutes'!$A$1:$B$67,2,FALSE)","v":"Hamilton City"},"Whitiora","Hamilton CityWhitiora",6.2799999999999995E-2]
["Hamilton City ",{"$f":"VLOOKUP(A849,'TA Substitutes'!$A$1:$B$67,2,FALSE)","v":"Hamilton City"},"Chedworth","Hamilton CityChedworth",6.5100000000000005E-2]
["Hamilton City ",{"$f":"VLOOKUP(A850,'TA Substitutes'!$A$1:$B$67,2,FALSE)","v":"Hamilton City"},"Deanwell","Hamilton CityDeanwell",6.7699999999999996E-2]
["Hamilton City ",{"$f":"VLOOKUP(A851,'TA Substitutes'!$A$1:$B$67,2,FALSE)","v":"Hamilton City"},"Harrowfield","Hamilton CityHarrowfield",6.2700000000000006E-2]
["Hamilton City ",{"$f":"VLOOKUP(A852,'TA Substitutes'!$A$1:$B$67,2,FALSE)","v":"Hamilton City"},"Temple View","Hamilton CityTemple View",""]
["Hamilton City ",{"$f":"VLOOKUP(A853,'TA Substitutes'!$A$1:$B$67,2,FALSE)","v":"Hamilton City"},"Western Heights","Hamilton CityWestern Heights",7.2011361096545601E-2]
["Hauraki District ",{"$f":"VLOOKUP(A854,'TA Substitutes'!$A$1:$B$67,2,FALSE)","v":"Hauraki"},"Ngatea","HaurakiNgatea",""]
["Hauraki District ",{"$f":"VLOOKUP(A855,'TA Substitutes'!$A$1:$B$67,2,FALSE)","v":"Hauraki"},"Paeroa","HaurakiPaeroa",6.6411489802860268E-2]
["Hauraki District ",{"$f":"VLOOKUP(A856,'TA Substitutes'!$A$1:$B$67,2,FALSE)","v":"Hauraki"},"Waihi","HaurakiWaihi",6.7745223517698294E-2]
["Hauraki District ",{"$f":"VLOOKUP(A857,'TA Substitutes'!$A$1:$B$67,2,FALSE)","v":"Hauraki"},"Kerepehi","HaurakiKerepehi",""]
["Hauraki District ",{"$f":"VLOOKUP(A858,'TA Substitutes'!$A$1:$B$67,2,FALSE)","v":"Hauraki"},"Turua","HaurakiTurua",""]
["Taupo District ",{"$f":"VLOOKUP(A859,'TA Substitutes'!$A$1:$B$67,2,FALSE)","v":"Taupo"},"Hilltop","TaupoHilltop",""]
["Taupo District ",{"$f":"VLOOKUP(A860,'TA Substitutes'!$A$1:$B$67,2,FALSE)","v":"Taupo"},"Kinloch","TaupoKinloch",""]
["Taupo District ",{"$f":"VLOOKUP(A861,'TA Substitutes'!$A$1:$B$67,2,FALSE)","v":"Taupo"},"Kuratau","TaupoKuratau",""]
["Taupo District ",{"$f":"VLOOKUP(A862,'TA Substitutes'!$A$1:$B$67,2,FALSE)","v":"Taupo"},"Nukuhau","TaupoNukuhau",""]
["Taupo District ",{"$f":"VLOOKUP(A863,'TA Substitutes'!$A$1:$B$67,2,FALSE)","v":"Taupo"},"Omori","TaupoOmori",5.6032950069665244E-2]
["Taupo District ",{"$f":"VLOOKUP(A864,'TA Substitutes'!$A$1:$B$67,2,FALSE)","v":"Taupo"},"Rangatira Park","TaupoRangatira Park",""]
["Taupo District ",{"$f":"VLOOKUP(A865,'TA Substitutes'!$A$1:$B$67,2,FALSE)","v":"Taupo"},"Richmond Heights","TaupoRichmond Heights",6.8992816371064025E-2]
["Taupo District ",{"$f":"VLOOKUP(A866,'TA Substitutes'!$A$1:$B$67,2,FALSE)","v":"Taupo"},"Tauhara","TaupoTauhara",7.2939985439597121E-2]
["Taupo District ",{"$f":"VLOOKUP(A867,'TA Substitutes'!$A$1:$B$67,2,FALSE)","v":"Taupo"},"Taupo","TaupoTaupo",6.5792770220632457E-2]
["Taupo District ",{"$f":"VLOOKUP(A868,'TA Substitutes'!$A$1:$B$67,2,FALSE)","v":"Taupo"},"Turangi","TaupoTurangi",7.0777205869716919E-2]
["Taupo District ",{"$f":"VLOOKUP(A869,'TA Substitutes'!$A$1:$B$67,2,FALSE)","v":"Taupo"},"Waipahihi","TaupoWaipahihi",""]
["Taupo District ",{"$f":"VLOOKUP(A870,'TA Substitutes'!$A$1:$B$67,2,FALSE)","v":"Taupo"},"Acacia Bay","TaupoAcacia Bay",""]
["Taupo District ",{"$f":"VLOOKUP(A871,'TA Substitutes'!$A$1:$B$67,2,FALSE)","v":"Taupo"},"Mangakino","TaupoMangakino",""]
["Taupo District ",{"$f":"VLOOKUP(A872,'TA Substitutes'!$A$1:$B$67,2,FALSE)","v":"Taupo"},"Motuoapa","TaupoMotuoapa",""]
["Taupo District ",{"$f":"VLOOKUP(A873,'TA Substitutes'!$A$1:$B$67,2,FALSE)","v":"Taupo"},"Tauranga Taupo","TaupoTauranga Taupo",""]
["Taupo District ",{"$f":"VLOOKUP(A874,'TA Substitutes'!$A$1:$B$67,2,FALSE)","v":"Taupo"},"Two Mile Bay","TaupoTwo Mile Bay",""]
["Taupo District ",{"$f":"VLOOKUP(A875,'TA Substitutes'!$A$1:$B$67,2,FALSE)","v":"Taupo"},"Wairakei","TaupoWairakei",""]
["Taupo District ",{"$f":"VLOOKUP(A876,'TA Substitutes'!$A$1:$B$67,2,FALSE)","v":"Taupo"},"Waitahanui","TaupoWaitahanui",""]
["Taupo District ",{"$f":"VLOOKUP(A877,'TA Substitutes'!$A$1:$B$67,2,FALSE)","v":"Taupo"},"Wharewaka","TaupoWharewaka",""]
["Waikato District ",{"$f":"VLOOKUP(A878,'TA Substitutes'!$A$1:$B$67,2,FALSE)","v":"Waikato"},"Huntly","WaikatoHuntly",7.4762716663320683E-2]
["Waikato District ",{"$f":"VLOOKUP(A879,'TA Substitutes'!$A$1:$B$67,2,FALSE)","v":"Waikato"},"Raglan","WaikatoRaglan",8.8198091710126381E-2]
["Waikato District ",{"$f":"VLOOKUP(A880,'TA Substitutes'!$A$1:$B$67,2,FALSE)","v":"Waikato"},"Ngaruawahia","WaikatoNgaruawahia",7.8145963457831868E-2]
["Waikato District ",{"$f":"VLOOKUP(A881,'TA Substitutes'!$A$1:$B$67,2,FALSE)","v":"Waikato"},"Tuakau","WaikatoTuakau",6.9437279689551046E-2]
["Waikato District ",{"$f":"VLOOKUP(A882,'TA Substitutes'!$A$1:$B$67,2,FALSE)","v":"Waikato"},"Buckland","WaikatoBuckland",""]
["Waikato District ",{"$f":"VLOOKUP(A883,'TA Substitutes'!$A$1:$B$67,2,FALSE)","v":"Waikato"},"Horotiu","WaikatoHorotiu",""]
["Waikato District ",{"$f":"VLOOKUP(A884,'TA Substitutes'!$A$1:$B$67,2,FALSE)","v":"Waikato"},"Meremere","WaikatoMeremere",""]
["Waikato District ",{"$f":"VLOOKUP(A885,'TA Substitutes'!$A$1:$B$67,2,FALSE)","v":"Waikato"},"Pokeno","WaikatoPokeno",""]
["Waikato District ",{"$f":"VLOOKUP(A886,'TA Substitutes'!$A$1:$B$67,2,FALSE)","v":"Waikato"},"Port Waikato","WaikatoPort Waikato",""]
["Waikato District ",{"$f":"VLOOKUP(A887,'TA Substitutes'!$A$1:$B$67,2,FALSE)","v":"Waikato"},"Tamahere","WaikatoTamahere",""]
["Waikato District ",{"$f":"VLOOKUP(A888,'TA Substitutes'!$A$1:$B$67,2,FALSE)","v":"Waikato"},"Taupiri","WaikatoTaupiri",""]
["Waikato District ",{"$f":"VLOOKUP(A889,'TA Substitutes'!$A$1:$B$67,2,FALSE)","v":"Waikato"},"Te Kauwhata","WaikatoTe Kauwhata",""]
["Matamata-Piako District ",{"$f":"VLOOKUP(A890,'TA Substitutes'!$A$1:$B$67,2,FALSE)","v":"Matamata-Piako"},"Matamata","Matamata-PiakoMatamata",6.634264937541956E-2]
["Matamata-Piako District ",{"$f":"VLOOKUP(A891,'TA Substitutes'!$A$1:$B$67,2,FALSE)","v":"Matamata-Piako"},"Morrinsville","Matamata-PiakoMorrinsville",6.8347998561711254E-2]
["Matamata-Piako District ",{"$f":"VLOOKUP(A892,'TA Substitutes'!$A$1:$B$67,2,FALSE)","v":"Matamata-Piako"},"Te Aroha","Matamata-PiakoTe Aroha",7.2132923879546285E-2]
["Waitomo District ",{"$f":"VLOOKUP(A893,'TA Substitutes'!$A$1:$B$67,2,FALSE)","v":"Waitomo"},"Te Kuiti","WaitomoTe Kuiti",""]
["South Waikato District ",{"$f":"VLOOKUP(A894,'TA Substitutes'!$A$1:$B$67,2,FALSE)","v":"South Waikato"},"Putaruru","South WaikatoPutaruru",""]
["South Waikato District ",{"$f":"VLOOKUP(A895,'TA Substitutes'!$A$1:$B$67,2,FALSE)","v":"South Waikato"},"Tokoroa","South WaikatoTokoroa",""]
["South Waikato District ",{"$f":"VLOOKUP(A896,'TA Substitutes'!$A$1:$B$67,2,FALSE)","v":"South Waikato"},"Tirau","South WaikatoTirau",""]
["Waipa District ",{"$f":"VLOOKUP(A897,'TA Substitutes'!$A$1:$B$67,2,FALSE)","v":"Waipa"},"Cambridge","WaipaCambridge",7.2593176832688844E-2]
["Waipa District ",{"$f":"VLOOKUP(A898,'TA Substitutes'!$A$1:$B$67,2,FALSE)","v":"Waipa"},"Kihikihi","WaipaKihikihi",8.0957923527120057E-2]
["Waipa District ",{"$f":"VLOOKUP(A899,'TA Substitutes'!$A$1:$B$67,2,FALSE)","v":"Waipa"},"Leamington",{"$f":"B899&C899","v":"WaipaLeamington"},7.11183252342793E-2]
["Waipa District ",{"$f":"VLOOKUP(A900,'TA Substitutes'!$A$1:$B$67,2,FALSE)","v":"Waipa"},"Te Awamutu","WaipaTe Awamutu",6.8720995309294208E-2]
["Waipa District ",{"$f":"VLOOKUP(A901,'TA Substitutes'!$A$1:$B$67,2,FALSE)","v":"Waipa"},"Ohaupo","WaipaOhaupo",""]
["Waipa District ",{"$f":"VLOOKUP(A902,'TA Substitutes'!$A$1:$B$67,2,FALSE)","v":"Waipa"},"Pirongia","WaipaPirongia",""]
["Otorohanga District ",{"$f":"VLOOKUP(A903,'TA Substitutes'!$A$1:$B$67,2,FALSE)","v":"Otorohanga"},"Otorohanga","OtorohangaOtorohanga",""]
["Kapiti Coast District ",{"$f":"VLOOKUP(A904,'TA Substitutes'!$A$1:$B$67,2,FALSE)","v":"Kapiti Coast"},"Otaki","Kapiti CoastOtaki",""]
["Kapiti Coast District ",{"$f":"VLOOKUP(A905,'TA Substitutes'!$A$1:$B$67,2,FALSE)","v":"Kapiti Coast"},"Otaki Beach","Kapiti CoastOtaki Beach",""]
["Kapiti Coast District ",{"$f":"VLOOKUP(A906,'TA Substitutes'!$A$1:$B$67,2,FALSE)","v":"Kapiti Coast"},"Paekakariki","Kapiti CoastPaekakariki",""]
["Kapiti Coast District ",{"$f":"VLOOKUP(A907,'TA Substitutes'!$A$1:$B$67,2,FALSE)","v":"Kapiti Coast"},"Paraparaumu","Kapiti CoastParaparaumu",""]
["Kapiti Coast District ",{"$f":"VLOOKUP(A908,'TA Substitutes'!$A$1:$B$67,2,FALSE)","v":"Kapiti Coast"},"Paraparaumu Beach","Kapiti CoastParaparaumu Beach",""]
["Kapiti Coast District ",{"$f":"VLOOKUP(A909,'TA Substitutes'!$A$1:$B$67,2,FALSE)","v":"Kapiti Coast"},"Raumati Beach","Kapiti CoastRaumati Beach",""]
["Kapiti Coast District ",{"$f":"VLOOKUP(A910,'TA Substitutes'!$A$1:$B$67,2,FALSE)","v":"Kapiti Coast"},"Raumati South","Kapiti CoastRaumati South",""]
["Kapiti Coast District ",{"$f":"VLOOKUP(A911,'TA Substitutes'!$A$1:$B$67,2,FALSE)","v":"Kapiti Coast"},"Waikanae","Kapiti CoastWaikanae",""]
["Kapiti Coast District ",{"$f":"VLOOKUP(A912,'TA Substitutes'!$A$1:$B$67,2,FALSE)","v":"Kapiti Coast"},"Waikanae Beach","Kapiti CoastWaikanae Beach",""]
["Kapiti Coast District ",{"$f":"VLOOKUP(A913,'TA Substitutes'!$A$1:$B$67,2,FALSE)","v":"Kapiti Coast"},"Otaihanga","Kapiti CoastOtaihanga",""]
["Kapiti Coast District ",{"$f":"VLOOKUP(A914,'TA Substitutes'!$A$1:$B$67,2,FALSE)","v":"Kapiti Coast"},"Te Horo Beach","Kapiti CoastTe Horo Beach",""]
["Lower Hutt City ",{"$f":"VLOOKUP(A915,'TA Substitutes'!$A$1:$B$67,2,FALSE)","v":"Hutt City"},"Alicetown","Hutt CityAlicetown",7.5849920073346011E-2]
["Lower Hutt City ",{"$f":"VLOOKUP(A916,'TA Substitutes'!$A$1:$B$67,2,FALSE)","v":"Hutt City"},"Avalon","Hutt CityAvalon",7.2958763877082999E-2]
["Lower Hutt City ",{"$f":"VLOOKUP(A917,'TA Substitutes'!$A$1:$B$67,2,FALSE)","v":"Hutt City"},"Belmont","Hutt CityBelmont",8.0592337412345838E-2]
["Lower Hutt City ",{"$f":"VLOOKUP(A918,'TA Substitutes'!$A$1:$B$67,2,FALSE)","v":"Hutt City"},"Boulcott","Hutt CityBoulcott",6.8628392462795285E-2]
["Lower Hutt City ",{"$f":"VLOOKUP(A919,'TA Substitutes'!$A$1:$B$67,2,FALSE)","v":"Hutt City"},"Eastbourne","Hutt CityEastbourne",6.0392568067259011E-2]
["Lower Hutt City ",{"$f":"VLOOKUP(A920,'TA Substitutes'!$A$1:$B$67,2,FALSE)","v":"Hutt City"},"Epuni","Hutt CityEpuni",7.2545271146877033E-2]
["Lower Hutt City ",{"$f":"VLOOKUP(A921,'TA Substitutes'!$A$1:$B$67,2,FALSE)","v":"Hutt City"},"Fairfield","Hutt CityFairfield",7.0420824569853657E-2]
["Lower Hutt City ",{"$f":"VLOOKUP(A922,'TA Substitutes'!$A$1:$B$67,2,FALSE)","v":"Hutt City"},"Hutt Central","Hutt CityHutt Central",6.2249981942941846E-2]
["Lower Hutt City ",{"$f":"VLOOKUP(A923,'TA Substitutes'!$A$1:$B$67,2,FALSE)","v":"Hutt City"},"Kelson","Hutt CityKelson",7.7876717656631289E-2]
["Lower Hutt City ",{"$f":"VLOOKUP(A924,'TA Substitutes'!$A$1:$B$67,2,FALSE)","v":"Hutt City"},"Korokoro","Hutt CityKorokoro",7.6519632673906157E-2]
["Lower Hutt City ",{"$f":"VLOOKUP(A925,'TA Substitutes'!$A$1:$B$67,2,FALSE)","v":"Hutt City"},"Maungaraki","Hutt CityMaungaraki",7.6081082199021655E-2]
["Lower Hutt City ",{"$f":"VLOOKUP(A926,'TA Substitutes'!$A$1:$B$67,2,FALSE)","v":"Hutt City"},"Moera","Hutt CityMoera",7.3099999999999998E-2]
["Lower Hutt City ",{"$f":"VLOOKUP(A927,'TA Substitutes'!$A$1:$B$67,2,FALSE)","v":"Hutt City"},"Naenae","Hutt CityNaenae",8.7663267224312724E-2]
["Lower Hutt City ",{"$f":"VLOOKUP(A928,'TA Substitutes'!$A$1:$B$67,2,FALSE)","v":"Hutt City"},"Normandale","Hutt CityNormandale",7.4043018551410933E-2]
["Lower Hutt City ",{"$f":"VLOOKUP(A929,'TA Substitutes'!$A$1:$B$67,2,FALSE)","v":"Hutt City"},"Petone","Hutt CityPetone",7.9070760932605566E-2]
["Lower Hutt City ",{"$f":"VLOOKUP(A930,'TA Substitutes'!$A$1:$B$67,2,FALSE)","v":"Hutt City"},"Stokes Valley","Hutt CityStokes Valley",8.3765755904464001E-2]
["Lower Hutt City ",{"$f":"VLOOKUP(A931,'TA Substitutes'!$A$1:$B$67,2,FALSE)","v":"Hutt City"},"Taita","Hutt CityTaita",8.7468473705114125E-2]
["Lower Hutt City ",{"$f":"VLOOKUP(A932,'TA Substitutes'!$A$1:$B$67,2,FALSE)","v":"Hutt City"},"Wainuiomata","Hutt CityWainuiomata",9.518725476880574E-2]
["Lower Hutt City ",{"$f":"VLOOKUP(A933,'TA Substitutes'!$A$1:$B$67,2,FALSE)","v":"Hutt City"},"Waiwhetu","Hutt CityWaiwhetu",7.8908868763668982E-2]
["Lower Hutt City ",{"$f":"VLOOKUP(A934,'TA Substitutes'!$A$1:$B$67,2,FALSE)","v":"Hutt City"},"Waterloo","Hutt CityWaterloo",7.431665482131522E-2]
["Lower Hutt City ",{"$f":"VLOOKUP(A935,'TA Substitutes'!$A$1:$B$67,2,FALSE)","v":"Hutt City"},"Woburn","Hutt CityWoburn",6.4467859835796171E-2]
["Lower Hutt City ",{"$f":"VLOOKUP(A936,'TA Substitutes'!$A$1:$B$67,2,FALSE)","v":"Hutt City"},"Days Bay","Hutt CityDays Bay",7.2300000000000003E-2]
["Lower Hutt City ",{"$f":"VLOOKUP(A937,'TA Substitutes'!$A$1:$B$67,2,FALSE)","v":"Hutt City"},"Harbour View","Hutt CityHarbour View",6.9199999999999998E-2]
["Lower Hutt City ",{"$f":"VLOOKUP(A938,'TA Substitutes'!$A$1:$B$67,2,FALSE)","v":"Hutt City"},"Lowry Bay","Hutt CityLowry Bay",8.0399999999999999E-2]
["Lower Hutt City ",{"$f":"VLOOKUP(A939,'TA Substitutes'!$A$1:$B$67,2,FALSE)","v":"Hutt City"},"Melling","Hutt CityMelling",6.4699999999999994E-2]
["Lower Hutt City ",{"$f":"VLOOKUP(A940,'TA Substitutes'!$A$1:$B$67,2,FALSE)","v":"Hutt City"},"Point Howard","Hutt CityPoint Howard",8.0399999999999999E-2]
["Lower Hutt City ",{"$f":"VLOOKUP(A941,'TA Substitutes'!$A$1:$B$67,2,FALSE)","v":"Hutt City"},"Tirohanga","Hutt CityTirohanga",6.7500000000000004E-2]
["Lower Hutt City ",{"$f":"VLOOKUP(A942,'TA Substitutes'!$A$1:$B$67,2,FALSE)","v":"Hutt City"},"York Bay","Hutt CityYork Bay",8.0399999999999999E-2]
["Porirua City ",{"$f":"VLOOKUP(A943,'TA Substitutes'!$A$1:$B$67,2,FALSE)","v":"Porirua City"},"Ascot Park","Porirua CityAscot Park",8.5769003558151979E-2]
["Porirua City ",{"$f":"VLOOKUP(A944,'TA Substitutes'!$A$1:$B$67,2,FALSE)","v":"Porirua City"},"Camborne","Porirua CityCamborne",6.5660193349070584E-2]
["Porirua City ",{"$f":"VLOOKUP(A945,'TA Substitutes'!$A$1:$B$67,2,FALSE)","v":"Porirua City"},"Cannons Creek","Porirua CityCannons Creek",0.10119096826897045]
["Porirua City ",{"$f":"VLOOKUP(A946,'TA Substitutes'!$A$1:$B$67,2,FALSE)","v":"Porirua City"},"Papakowhai","Porirua CityPapakowhai",7.2254888226392255E-2]
["Porirua City ",{"$f":"VLOOKUP(A947,'TA Substitutes'!$A$1:$B$67,2,FALSE)","v":"Porirua City"},"Paremata","Porirua CityParemata",6.5050041484755017E-2]
["Porirua City ",{"$f":"VLOOKUP(A948,'TA Substitutes'!$A$1:$B$67,2,FALSE)","v":"Porirua City"},"Plimmerton","Porirua CityPlimmerton",6.4259849569632266E-2]
["Porirua City ",{"$f":"VLOOKUP(A949,'TA Substitutes'!$A$1:$B$67,2,FALSE)","v":"Porirua City"},"Pukerua Bay","Porirua CityPukerua Bay",7.4670467830231013E-2]
["Porirua City ",{"$f":"VLOOKUP(A950,'TA Substitutes'!$A$1:$B$67,2,FALSE)","v":"Porirua City"},"Ranui","Porirua CityRanui",7.8645652634654395E-2]
["Porirua City ",{"$f":"VLOOKUP(A951,'TA Substitutes'!$A$1:$B$67,2,FALSE)","v":"Porirua City"},"Titahi Bay","Porirua CityTitahi Bay",8.5940814444160019E-2]
["Porirua City ",{"$f":"VLOOKUP(A952,'TA Substitutes'!$A$1:$B$67,2,FALSE)","v":"Porirua City"},"Waitangirua","Porirua CityWaitangirua",9.9305209423071972E-2]
["Porirua City ",{"$f":"VLOOKUP(A953,'TA Substitutes'!$A$1:$B$67,2,FALSE)","v":"Porirua City"},"Whitby","Porirua CityWhitby",6.5827908912591049E-2]
["Porirua City ",{"$f":"VLOOKUP(A954,'TA Substitutes'!$A$1:$B$67,2,FALSE)","v":"Porirua City"},"Aotea","Porirua CityAotea",8.5800000000000001E-2]
["Porirua City ",{"$f":"VLOOKUP(A955,'TA Substitutes'!$A$1:$B$67,2,FALSE)","v":"Porirua City"},"Takapuwahia","Porirua CityTakapuwahia",8.3000000000000004E-2]
["Upper Hutt City ",{"$f":"VLOOKUP(A956,'TA Substitutes'!$A$1:$B$67,2,FALSE)","v":"Upper Hutt"},"Birchville","Upper HuttBirchville",""]
["Upper Hutt City ",{"$f":"VLOOKUP(A957,'TA Substitutes'!$A$1:$B$67,2,FALSE)","v":"Upper Hutt"},"Brown Owl","Upper HuttBrown Owl",""]
["Upper Hutt City ",{"$f":"VLOOKUP(A958,'TA Substitutes'!$A$1:$B$67,2,FALSE)","v":"Upper Hutt"},"Clouston Park","Upper HuttClouston Park",""]
["Upper Hutt City ",{"$f":"VLOOKUP(A959,'TA Substitutes'!$A$1:$B$67,2,FALSE)","v":"Upper Hutt"},"Ebdentown","Upper HuttEbdentown",""]
["Upper Hutt City ",{"$f":"VLOOKUP(A960,'TA Substitutes'!$A$1:$B$67,2,FALSE)","v":"Upper Hutt"},"Elderslea","Upper HuttElderslea",""]
["Upper Hutt City ",{"$f":"VLOOKUP(A961,'TA Substitutes'!$A$1:$B$67,2,FALSE)","v":"Upper Hutt"},"Pinehaven","Upper HuttPinehaven",""]
["Upper Hutt City ",{"$f":"VLOOKUP(A962,'TA Substitutes'!$A$1:$B$67,2,FALSE)","v":"Upper Hutt"},"Riverstone Terraces","Upper HuttRiverstone Terraces",""]
["Upper Hutt City ",{"$f":"VLOOKUP(A963,'TA Substitutes'!$A$1:$B$67,2,FALSE)","v":"Upper Hutt"},"Silverstream",{"$f":"B963&C963","v":"Upper HuttSilverstream"},""]
["Upper Hutt City ",{"$f":"VLOOKUP(A964,'TA Substitutes'!$A$1:$B$67,2,FALSE)","v":"Upper Hutt"},"Totara Park","Upper HuttTotara Park",""]
["Upper Hutt City ",{"$f":"VLOOKUP(A965,'TA Substitutes'!$A$1:$B$67,2,FALSE)","v":"Upper Hutt"},"Trentham","Upper HuttTrentham",""]
["Upper Hutt City ",{"$f":"VLOOKUP(A966,'TA Substitutes'!$A$1:$B$67,2,FALSE)","v":"Upper Hutt"},"Wallaceville","Upper HuttWallaceville",""]
["Upper Hutt City ",{"$f":"VLOOKUP(A967,'TA Substitutes'!$A$1:$B$67,2,FALSE)","v":"Upper Hutt"},"Heretaunga","Upper HuttHeretaunga",""]
["Upper Hutt City ",{"$f":"VLOOKUP(A968,'TA Substitutes'!$A$1:$B$67,2,FALSE)","v":"Upper Hutt"},"Maoribank","Upper HuttMaoribank",""]
["Upper Hutt City ",{"$f":"VLOOKUP(A969,'TA Substitutes'!$A$1:$B$67,2,FALSE)","v":"Upper Hutt"},"Te Marua","Upper HuttTe Marua",""]
["Upper Hutt City ",{"$f":"VLOOKUP(A970,'TA Substitutes'!$A$1:$B$67,2,FALSE)","v":"Upper Hutt"},"Timberlea","Upper HuttTimberlea",""]
["Carterton District ",{"$f":"VLOOKUP(A971,'TA Substitutes'!$A$1:$B$67,2,FALSE)","v":"Carterton"},"Carterton","CartertonCarterton",""]
["South Wairarapa District ",{"$f":"VLOOKUP(A972,'TA Substitutes'!$A$1:$B$67,2,FALSE)","v":"South Wairarapa"},"Featherston","South WairarapaFeatherston",""]
["South Wairarapa District ",{"$f":"VLOOKUP(A973,'TA Substitutes'!$A$1:$B$67,2,FALSE)","v":"South Wairarapa"},"Greytown","South WairarapaGreytown",""]
["South Wairarapa District ",{"$f":"VLOOKUP(A974,'TA Substitutes'!$A$1:$B$67,2,FALSE)","v":"South Wairarapa"},"Martinborough","South WairarapaMartinborough",""]
["Masterton District ",{"$f":"VLOOKUP(A975,'TA Substitutes'!$A$1:$B$67,2,FALSE)","v":"Masterton"},"Kuripuni","MastertonKuripuni",""]
["Masterton District ",{"$f":"VLOOKUP(A976,'TA Substitutes'!$A$1:$B$67,2,FALSE)","v":"Masterton"},"Lansdowne","MastertonLansdowne",""]
["Masterton District ",{"$f":"VLOOKUP(A977,'TA Substitutes'!$A$1:$B$67,2,FALSE)","v":"Masterton"},"Masterton","MastertonMasterton",""]
["Masterton District ",{"$f":"VLOOKUP(A978,'TA Substitutes'!$A$1:$B$67,2,FALSE)","v":"Masterton"},"Solway","MastertonSolway",""]
["Masterton District ",{"$f":"VLOOKUP(A979,'TA Substitutes'!$A$1:$B$67,2,FALSE)","v":"Masterton"},"Castlepoint","MastertonCastlepoint",""]
["Masterton District ",{"$f":"VLOOKUP(A980,'TA Substitutes'!$A$1:$B$67,2,FALSE)","v":"Masterton"},"Riversdale Beach","MastertonRiversdale Beach",""]
["Wellington City ",{"$f":"VLOOKUP(A981,'TA Substitutes'!$A$1:$B$67,2,FALSE)","v":"Wellington City"},"Aro Valley","Wellington CityAro Valley",6.9386317930552277E-2]
["Wellington City ",{"$f":"VLOOKUP(A982,'TA Substitutes'!$A$1:$B$67,2,FALSE)","v":"Wellington City"},"Berhampore","Wellington CityBerhampore",7.2953801639344507E-2]
["Wellington City ",{"$f":"VLOOKUP(A983,'TA Substitutes'!$A$1:$B$67,2,FALSE)","v":"Wellington City"},"Broadmeadows","Wellington CityBroadmeadows",6.5887417650121183E-2]
["Wellington City ",{"$f":"VLOOKUP(A984,'TA Substitutes'!$A$1:$B$67,2,FALSE)","v":"Wellington City"},"Brooklyn","Wellington CityBrooklyn",6.797888290640608E-2]
["Wellington City ",{"$f":"VLOOKUP(A985,'TA Substitutes'!$A$1:$B$67,2,FALSE)","v":"Wellington City"},"Churton Park","Wellington CityChurton Park",6.3946031682947879E-2]
["Wellington City ",{"$f":"VLOOKUP(A986,'TA Substitutes'!$A$1:$B$67,2,FALSE)","v":"Wellington City"},"Crofton Downs","Wellington CityCrofton Downs",7.1265549906583514E-2]
["Wellington City ",{"$f":"VLOOKUP(A987,'TA Substitutes'!$A$1:$B$67,2,FALSE)","v":"Wellington City"},"Hataitai","Wellington CityHataitai",6.7780155238424067E-2]
["Wellington City ",{"$f":"VLOOKUP(A988,'TA Substitutes'!$A$1:$B$67,2,FALSE)","v":"Wellington City"},"Island Bay","Wellington CityIsland Bay",7.3428566659067274E-2]
["Wellington City ",{"$f":"VLOOKUP(A989,'TA Substitutes'!$A$1:$B$67,2,FALSE)","v":"Wellington City"},"Johnsonville","Wellington CityJohnsonville",7.0669343245769012E-2]
["Wellington City ",{"$f":"VLOOKUP(A990,'TA Substitutes'!$A$1:$B$67,2,FALSE)","v":"Wellington City"},"Karori","Wellington CityKarori",6.9967649962734857E-2]
["Wellington City ",{"$f":"VLOOKUP(A991,'TA Substitutes'!$A$1:$B$67,2,FALSE)","v":"Wellington City"},"Kelburn","Wellington CityKelburn",6.0524875805280542E-2]
["Wellington City ",{"$f":"VLOOKUP(A992,'TA Substitutes'!$A$1:$B$67,2,FALSE)","v":"Wellington City"},"Khandallah","Wellington CityKhandallah",6.3500591440335263E-2]
["Wellington City ",{"$f":"VLOOKUP(A993,'TA Substitutes'!$A$1:$B$67,2,FALSE)","v":"Wellington City"},"Kilbirnie","Wellington CityKilbirnie",7.1923961269123149E-2]
["Wellington City ",{"$f":"VLOOKUP(A994,'TA Substitutes'!$A$1:$B$67,2,FALSE)","v":"Wellington City"},"Lyall Bay","Wellington CityLyall Bay",7.472202416611573E-2]
["Wellington City ",{"$f":"VLOOKUP(A995,'TA Substitutes'!$A$1:$B$67,2,FALSE)","v":"Wellington City"},"Maupuia","Wellington CityMaupuia",6.6275960431377401E-2]
["Wellington City ",{"$f":"VLOOKUP(A996,'TA Substitutes'!$A$1:$B$67,2,FALSE)","v":"Wellington City"},"Miramar","Wellington CityMiramar",6.8490886539385176E-2]
["Wellington City ",{"$f":"VLOOKUP(A997,'TA Substitutes'!$A$1:$B$67,2,FALSE)","v":"Wellington City"},"Mount Cook","Wellington CityMount Cook",6.1499999999999999E-2]
["Wellington City ",{"$f":"VLOOKUP(A998,'TA Substitutes'!$A$1:$B$67,2,FALSE)","v":"Wellington City"},"Mount Victoria","Wellington CityMount Victoria",6.2515080988207572E-2]
["Wellington City ",{"$f":"VLOOKUP(A999,'TA Substitutes'!$A$1:$B$67,2,FALSE)","v":"Wellington City"},"Newlands","Wellington CityNewlands",7.5854226544660008E-2]
["Wellington City ",{"$f":"VLOOKUP(A1000,'TA Substitutes'!$A$1:$B$67,2,FALSE)","v":"Wellington City"},"Newtown","Wellington CityNewtown",7.4071169668396664E-2]
["Wellington City ",{"$f":"VLOOKUP(A1001,'TA Substitutes'!$A$1:$B$67,2,FALSE)","v":"Wellington City"},"Ngaio","Wellington CityNgaio",7.1355812995265389E-2]
["Wellington City ",{"$f":"VLOOKUP(A1002,'TA Substitutes'!$A$1:$B$67,2,FALSE)","v":"Wellington City"},"Northland","Wellington CityNorthland",6.8354155822512697E-2]
["Wellington City ",{"$f":"VLOOKUP(A1003,'TA Substitutes'!$A$1:$B$67,2,FALSE)","v":"Wellington City"},"Paparangi","Wellington CityPaparangi",7.4858593347063795E-2]
["Wellington City ",{"$f":"VLOOKUP(A1004,'TA Substitutes'!$A$1:$B$67,2,FALSE)","v":"Wellington City"},"Roseneath","Wellington CityRoseneath",6.085891186982173E-2]
["Wellington City ",{"$f":"VLOOKUP(A1005,'TA Substitutes'!$A$1:$B$67,2,FALSE)","v":"Wellington City"},"Seatoun","Wellington CitySeatoun",""]
["Wellington City ",{"$f":"VLOOKUP(A1006,'TA Substitutes'!$A$1:$B$67,2,FALSE)","v":"Wellington City"},"Strathmore Park","Wellington CityStrathmore Park",7.2848462337590458E-2]
["Wellington City ",{"$f":"VLOOKUP(A1007,'TA Substitutes'!$A$1:$B$67,2,FALSE)","v":"Wellington City"},"Tawa","Wellington CityTawa",7.3298366549498173E-2]
["Wellington City ",{"$f":"VLOOKUP(A1008,'TA Substitutes'!$A$1:$B$67,2,FALSE)","v":"Wellington City"},"Te Aro","Wellington CityTe Aro",4.8884334546729136E-2]
["Wellington City ",{"$f":"VLOOKUP(A1009,'TA Substitutes'!$A$1:$B$67,2,FALSE)","v":"Wellington City"},"Thorndon","Wellington CityThorndon",5.9750974596020523E-2]
["Wellington City ",{"$f":"VLOOKUP(A1010,'TA Substitutes'!$A$1:$B$67,2,FALSE)","v":"Wellington City"},"Wadestown","Wellington CityWadestown",6.3146467462199984E-2]
["Wellington City ",{"$f":"VLOOKUP(A1011,'TA Substitutes'!$A$1:$B$67,2,FALSE)","v":"Wellington City"},"Wellington Central","Wellington CityWellington Central",4.3313650425790273E-2]
["Wellington City ",{"$f":"VLOOKUP(A1012,'TA Substitutes'!$A$1:$B$67,2,FALSE)","v":"Wellington City"},"Wilton","Wellington CityWilton",7.2567851465574984E-2]
["Wellington City ",{"$f":"VLOOKUP(A1013,'TA Substitutes'!$A$1:$B$67,2,FALSE)","v":"Wellington City"},"Woodridge","Wellington CityWoodridge",7.3499999999999996E-2]
["Wellington City ",{"$f":"VLOOKUP(A1014,'TA Substitutes'!$A$1:$B$67,2,FALSE)","v":"Wellington City"},"Grenada Village","Wellington CityGrenada Village",7.1400000000000005E-2]
["Wellington City ",{"$f":"VLOOKUP(A1015,'TA Substitutes'!$A$1:$B$67,2,FALSE)","v":"Wellington City"},"Highbury","Wellington CityHighbury",7.5802338444215689E-2]
["Wellington City ",{"$f":"VLOOKUP(A1016,'TA Substitutes'!$A$1:$B$67,2,FALSE)","v":"Wellington City"},"Houghton Bay","Wellington CityHoughton Bay",7.0400000000000004E-2]
["Wellington City ",{"$f":"VLOOKUP(A1017,'TA Substitutes'!$A$1:$B$67,2,FALSE)","v":"Wellington City"},"Karaka Bays","Wellington CityKaraka Bays",""]
["Wellington City ",{"$f":"VLOOKUP(A1018,'TA Substitutes'!$A$1:$B$67,2,FALSE)","v":"Wellington City"},"Kingston","Wellington CityKingston",6.6500000000000004E-2]
["Wellington City ",{"$f":"VLOOKUP(A1019,'TA Substitutes'!$A$1:$B$67,2,FALSE)","v":"Wellington City"},"Melrose","Wellington CityMelrose",0]
["Wellington City ",{"$f":"VLOOKUP(A1020,'TA Substitutes'!$A$1:$B$67,2,FALSE)","v":"Wellington City"},"Mornington","Wellington CityMornington",8.6831463934862185E-2]
["Wellington City ",{"$f":"VLOOKUP(A1021,'TA Substitutes'!$A$1:$B$67,2,FALSE)","v":"Wellington City"},"Owhiro Bay","Wellington CityOwhiro Bay",6.7500000000000004E-2]
["Wellington City ",{"$f":"VLOOKUP(A1022,'TA Substitutes'!$A$1:$B$67,2,FALSE)","v":"Wellington City"},"Rongotai","Wellington CityRongotai",6.88E-2]
["Wellington City ",{"$f":"VLOOKUP(A1023,'TA Substitutes'!$A$1:$B$67,2,FALSE)","v":"Wellington City"},"Southgate","Wellington CitySouthgate",7.3499999999999996E-2]
["Wellington City ",{"$f":"VLOOKUP(A1024,'TA Substitutes'!$A$1:$B$67,2,FALSE)","v":"Wellington City"},"Vogeltown","Wellington CityVogeltown",7.8470796160672096E-2]
["Grey District ",{"$f":"VLOOKUP(A1025,'TA Substitutes'!$A$1:$B$67,2,FALSE)","v":"Grey"},"Cobden","GreyCobden",6.0917492882188284E-2]
["Grey District ",{"$f":"VLOOKUP(A1026,'TA Substitutes'!$A$1:$B$67,2,FALSE)","v":"Grey"},"Greymouth","GreyGreymouth",5.1525128510153451E-2]
["Grey District ",{"$f":"VLOOKUP(A1027,'TA Substitutes'!$A$1:$B$67,2,FALSE)","v":"Grey"},"Blaketown",{"$f":"B1027&C1027","v":"GreyBlaketown"},""]
["Grey District ",{"$f":"VLOOKUP(A1028,'TA Substitutes'!$A$1:$B$67,2,FALSE)","v":"Grey"},"Dobson","GreyDobson",""]
["Grey District ",{"$f":"VLOOKUP(A1029,'TA Substitutes'!$A$1:$B$67,2,FALSE)","v":"Grey"},"Karoro","GreyKaroro",""]
["Grey District ",{"$f":"VLOOKUP(A1030,'TA Substitutes'!$A$1:$B$67,2,FALSE)","v":"Grey"},"Moana","GreyMoana",""]
["Grey District ",{"$f":"VLOOKUP(A1031,'TA Substitutes'!$A$1:$B$67,2,FALSE)","v":"Grey"},"Paroa","GreyParoa",""]
["Grey District ",{"$f":"VLOOKUP(A1032,'TA Substitutes'!$A$1:$B$67,2,FALSE)","v":"Grey"},"Runanga","GreyRunanga",""]
["Westland District ",{"$f":"VLOOKUP(A1033,'TA Substitutes'!$A$1:$B$67,2,FALSE)","v":"Westland"},"Hokitika","WestlandHokitika",""]
["Westland District ",{"$f":"VLOOKUP(A1034,'TA Substitutes'!$A$1:$B$67,2,FALSE)","v":"Westland"},"Kaniere","WestlandKaniere",""]
["Buller District ",{"$f":"VLOOKUP(A1035,'TA Substitutes'!$A$1:$B$67,2,FALSE)","v":"Buller"},"Reefton","BullerReefton",""]
["Buller District ",{"$f":"VLOOKUP(A1036,'TA Substitutes'!$A$1:$B$67,2,FALSE)","v":"Buller"},"Westport","BullerWestport",5.8770413801408239E-2]
["Buller District ",{"$f":"VLOOKUP(A1037,'TA Substitutes'!$A$1:$B$67,2,FALSE)","v":"Buller"},"Carters Beach","BullerCarters Beach",""]
["Buller District ",{"$f":"VLOOKUP(A1038,'TA Substitutes'!$A$1:$B$67,2,FALSE)","v":"Buller"},"Granity","BullerGranity",0]

{"sheet":"Capital Growth Rates TA","index":18,"n_rows":67,"n_cols":2,"rows_kept":67,"cut":false,"hidden":true,"merged":[]}
["TA Name","Capital Growth (Jan '00 - Sep '21)"]
["Ashburton",6.3973347753359278E-2]
["Auckland",7.9831105817534942E-2]
["Buller",6.1330305509002869E-2]
["Carterton",8.6238479059996154E-2]
["Central Hawke's Bay",9.4477944186285079E-2]
["Central Otago",9.2476693673527066E-2]
["Christchurch",6.2030760778367222E-2]
["Clutha",0.1045138061531552]
["Dunedin City",8.7939250008228997E-2]
["Far North",6.7733021203902011E-2]
["Gisborne",8.7402344541211319E-2]
["Gore",8.5328738801967452E-2]
["Grey",5.0821701106822825E-2]
["Hamilton City",7.3173352927647262E-2]
["Hastings",8.5915844668668084E-2]
["Hauraki",8.1296251423154553E-2]
["Horowhenua",9.1689841120877302E-2]
["Hurunui",7.1839643083624782E-2]
["Invercargill",9.4125918102209827E-2]
["Kaikoura",6.7790409343088109E-2]
["Kaipara",7.4199737038322278E-2]
["Kapiti Coast",8.0889823884251255E-2]
["Kawerau",0.11003434273750612]
["Hutt City",8.4517741588496342E-2]
["Mackenzie",0.11100168240997044]
["Manawatu",8.6388306694229033E-2]
["Marlborough",7.2716208415826378E-2]
["Masterton",8.8963452698233692E-2]
["Matamata-Piako",7.4572626843360412E-2]
["Napier City",8.3588965295647411E-2]
["Nelson City",7.7936366983480942E-2]
["New Plymouth",8.2956157920155427E-2]
["Opotiki",7.0064190538633886E-2]
["Otorohanga",8.4674426758947652E-2]
["Palmerston North",7.9032050328344816E-2]
["Porirua City",8.1264383962534215E-2]
["Queenstown-Lakes",9.1695136688618062E-2]
["Rangitikei",8.5869337853391237E-2]
["Rotorua",7.5810704406493068E-2]
["Ruapehu",9.3704329104314477E-2]
["Selwyn",6.5139342173254455E-2]
["South Taranaki",7.9323590541664268E-2]
["South Waikato",8.6928728597148064E-2]
["South Wairarapa",0.10142044916820558]
["Southland",8.3205991989775407E-2]
["Stratford",7.9941034017384727E-2]
["Tararua",0.11161912574517063]
["Tasman",8.2534208889701866E-2]
["Taupo",8.2763790321774611E-2]
["Tauranga City",7.4046427875760878E-2]
["Thames-Coromandel",8.4792372299839824E-2]
["Timaru",7.647077431519822E-2]
["Upper Hutt",8.6924603978250081E-2]
["Waikato",7.637365220647041E-2]
["Waimakariri",6.013309385106802E-2]
["Waimate",7.9274629598817814E-2]
["Waipa",7.5286024860655054E-2]
["Wairoa",8.0923334152617654E-2]
["Waitaki",8.6598734076891448E-2]
["Waitomo",7.5881056531189373E-2]
["Wellington City",7.2376104302647182E-2]
["Western Bay of Plenty",7.4271321724713957E-2]
["Westland",7.1337757127774681E-2]
["Whakatane",6.8273595601670234E-2]
["Whanganui",8.8678241235578215E-2]
["Whangarei",6.8568099353158551E-2]